{"text_format":"1","workbook":"xlsx","n_sheets":15,"sheets":["Hlavní stránka","Settings","Stávající stav","Navrhovaný stav","Rozpočet final","Rozpocet-rekapitulace","Rozpočet","balíčky","Navrhovaný stav - pomocný","Rozpočet-scénář","Stávající stav - pomocný","zařizovací předměty","kros seznam","Zařizovací předměty - pomocný","Objemy prací"],"not_rendered":{"charts":0,"images":16,"macros":1,"external_links":0,"defined_names":1,"comments":1,"pivot_tables":0},"unopened":[],"bounds":{"document_bytes":16777216,"sheet_cells":100000,"rows_first":2000,"rows_last":500,"rows_between":2000,"halvings":0,"cell_chars":16384,"cell_head_chars":4096},"cells_cut":0,"cells_raw":0,"read":"whole","date_system":"1900"}

{"sheet":"Hlavní stránka","index":0,"n_rows":42,"n_cols":8,"rows_kept":42,"cut":false,"hidden":false,"merged":[[18,4,18,11],[7,2,8,2],[7,4,9,11],[11,4,11,11],[13,4,13,11],[15,4,15,11]]}
[]
[]
[null,"ReByJ 2.0"]
[null,"  Generace objemů pro rozpočet prací"]
[]
[]
[]
[null,null,"Název",null,"Rekonstrukce bytového jádra VVÚ ETA"]
[]
[]
[]
[null,null,"Ulice",null,"Na výšínách 99"]
[]
[null,null,"Město",null,"Praha 12"]
[]
[null,null,"PSČ",null,"12000"]
[]
[]
[null,null,"Předmět",null,"Celý rozpočet"]
[]
[]
[]
[]
[]
[]
[]
[]
[]
[null,null,"Verze 2.0",null,null,null,null,"ReByJ 2.0"]
[null,null," - zadávání vstupů pro výpočet cen"]
[]
[null,null," - generace položkového rozpočtu podle zadání"]
[]
[null,null,"Verze 1.3",null,null,null,null,"ReByJ 1.3"]
[null,null," - formátování formulářů pro menší rozlišení obrazovky"]
[]
[null,null," - zapojení přihlašovacího formuláře"]
[null,null," - definice uživatelských kont"]
[]
[null,null,"Verze 1.0",null,null,null,null,"ReByJ 1.0"]
[null,null," - založení aplikace"]
[null,null," - definice vnitřní struktury"]

{"sheet":"Settings","index":1,"n_rows":12,"n_cols":2,"rows_kept":12,"cut":false,"hidden":true,"merged":[]}
["Users","Administrator"]
[true,"Ing. D. Čápová, Ph.D."]
[null,"doc. Ing. P. Dlask, Ph.D."]
[null,"Ing. P. Kalčev, Ph.D."]
[null,"Demo"]
[null,"User1"]
[null,"User2"]
[null,"User3"]
[null,"MMR1"]
[null,"MMR2"]
[null,"SFRB1"]
[null,"SFRB2"]

{"sheet":"Stávající stav","index":2,"n_rows":44,"n_cols":12,"rows_kept":44,"cut":false,"hidden":false,"merged":[[8,1,8,2],[10,4,13,4],[10,1,13,1],[10,5,13,5]]}
["Stávající stav"]
[]
[null,"Světlá výška"]
[null,null,3.97]
[]
[null,"Poschodí",null,null,null,null,null,null,null,null,null,2.2999999999999998]
[null,null,1,null,"pozn. přízemí uvažujte jako poschodí 1",null,null,null,null,null,null,2.35]
[null,null,null,null,null,null,null,null,null,null,null,2.4]
[null,"Rozměry stávajícího BJ [m]",null,null,null,null,null,null,null,null,null,2.4500000000000002]
[]
[null,"A   ",null,null,"   D",null,null,null,null,null,null,2.5499999999999998]
[null,null,null,null,null,null,null,null,null,null,null,2.6]
[null,null,"WC","Koupelna",null,null,null,null,null,null,null,2.65]
[null,null,null,null,null,null,null,null,null,null,null,2.7]
[null,null,"B","C"]
[]
[null,null,"A =",1.36]
[null,null,"B =",0.94]
[null,null,"C =",1.6]
[null,null,"D =",2.5299999999999998]
[null,null,"E =",1.6]
[null,null,"F =",0.9]
[]
[null,"Stávající půdorys"]
[]
[]
[]
[]
[]
[]
[]
[]
[]
[]
[]
[]
[]
[]
[null,"Dveře"]
[null,"šířka",60,70,80,90]
[null,"počet",1,1,1,1]
[]
[]
[null,"Zařizovací předměty"]

{"sheet":"Navrhovaný stav","index":3,"n_rows":117,"n_cols":13,"rows_kept":117,"cut":false,"hidden":true,"merged":[[3,11,3,12],[4,11,5,12],[67,1,67,2],[68,2,68,3],[69,2,69,3],[65,3,65,4],[25,1,25,2],[62,2,62,3],[61,2,61,3],[60,1,60,2],[5,1,5,2],[45,7,45,8],[7,4,10,4],[7,1,10,1],[58,3,58,4],[47,6,48,6]]}
["Navrhovaný stav"]
[null,"Materiál"]
[]
[]
[]
[null,"Rozměry navrhovaného BJ  [m] "]
[null,null,"F","E"]
[null,"A  ",null,null,"  D"]
[]
[null,null,"WC","Koupelna"]
[]
[null,null,"B","C"]
[]
[null,null,"A =",1.4]
[null,null,"B=",0.93]
[null,null,"C =",1.66]
[null,null,"D =",1.74]
[null,null,"E =",1.66]
[null,null,"F =",0.93]
[]
[null,"Stávající půdorys"]
[]
[null,"Zvolená varianta:",{"$f":"\"Varianta \" & 'Navrhovaný stav - pomocný'!C2","v":"Varianta 1"}]
[]
[]
[null,"Úroveň standardu rekonstrukce"]
[]
[]
[]
[]
[]
[]
[null,"Výška obkladu [m]"]
[null,null,2]
[null,"Dveře",null,{"$f":"MID(INDEX('Zařizovací předměty - pomocný'!A3:A18,'Rozpočet-scénář'!C9),SEARCH(\" cm\",INDEX('Zařizovací předměty - pomocný'!A3:A18,'Rozpočet-scénář'!C9),1)-2,2)*1","v":70},null,{"$f":"MID(INDEX('Zařizovací předměty - pomocný'!A3:A18,'Rozpočet-scénář'!C17),SEARCH(\" cm\",INDEX('Zařizovací předměty - pomocný'!A3:A18,'Rozpočet-scénář'!C17),1)-2,2)*1","v":60}]
[null,null,null,{"$f":"F48","v":1},null,{"$f":"F49","v":1}]
[]
[null,null,"Počet",{"$f":"IF($D$35=$D$37,$D$36,0)+IF($E$35=$D$37,$E$36,0)+IF($F$35=$D$37,$F$36,0)+IF($G$35=$D$37,$G$36,0)","v":0},{"$f":"IF($D$35=$E$37,$D$36,0)+IF($E$35=$E$37,$E$36,0)+IF($F$35=$E$37,$F$36,0)+IF($G$35=$E$37,$G$36,0)","v":0},{"$f":"IF($D$35=$F$37,$D$36,0)+IF($E$35=$F$37,$E$36,0)+IF($F$35=$F$37,$F$36,0)+IF($G$35=$F$37,$G$36,0)","v":0},{"$f":"IF($D$35=$G$37,$D$36,0)+IF($E$35=$G$37,$E$36,0)+IF($F$35=$G$37,$F$36,0)+IF($G$35=$G$37,$G$36,0)","v":0}]
["zakrývání",610991111,"plocha dveří (pomocné)",{"$f":"D35/100*1.97*D36","v":1.379},{"$f":"F35/100*1.97*F36","v":1.1819999999999999},{"$f":"0.8*1.97*F38","v":0},{"$f":"0.9*1.97*G38","v":0}]
["nátěr",783221112,"nátěr zárubní ocelových",{"$f":"((0.2*2*1.97)+(D35/100*0.1))*D36","v":0.85799999999999998},{"$f":"((0.2*2*1.97)+(F35/100*0.1))*F36","v":0.84800000000000009},{"$f":"((0.2*2*1.97)+(0.8*0.1))","v":0.8680000000000001},{"$f":"((0.2*2*1.97)+(0.9*0.1))","v":0.878}]
[]
[]
[]
[]
[]
[null,{"$f":"'zařizovací předměty'!B1","v":"Dveře"}]
[null,null,null,null,null,"Počet (ks)","Vlastní počet (ks)",null,null,null,"Použitý počet (ks)","Použitá cena (Kč/ks)","Celková cena (Kč)"]
[null,"1.",null,null,null,1,null,null,null,null,{"$f":"IF(G48=\"\",G50,G48)","v":2},{"$f":"L53","v":1500},{"$f":"K48*L48","v":3000}]
[null,"2.",null,null,null,1]
[null,null,null,null,null,null,{"$f":"F48+F49","v":2}]
[null,"Dveřní křídla"]
[null,null,null,null,null,"Počet (ks)","Vlastní počet (ks)","Orientační cena (Kč/ks)","Vlastní cena (Kč/ks)",null,"Použitý počet (ks)","Použitá cena (Kč/ks)","Celková cena (Kč)"]
[null,null,null,null,null,{"$f":"F48","v":1},null,{"$f":"'Navrhovaný stav - pomocný'!F67","v":1500},null,null,{"$f":"IF(G53=\"\",F53,G53)","v":1},{"$f":"IF(I53=\"\",H53,I53)","v":1500},{"$f":"K53*L53+K54*L54","v":3000}]
[null,"Dveřní kování",null,null,null,{"$f":"F49","v":1},null,{"$f":"H53","v":1500},null,null,{"$f":"IF(G54=\"\",F54,G54)","v":1},{"$f":"IF(I54=\"\",H54,I54)","v":1500}]
[null,null,null,null,null,"Počet (ks)","Vlastní počet (ks)","Orientační cena (Kč/ks)","Vlastní cena (Kč/ks)",null,"Použitý počet (ks)","Použitá cena (Kč/ks)","Celková cena (Kč)"]
[null,null,null,null,null,{"$f":"G50","v":2},3,{"$f":"'Navrhovaný stav - pomocný'!F78","v":350},null,null,{"$f":"IF(G56=\"\",F56,G56)","v":3},{"$f":"IF(I56=\"\",H56,I56)","v":350},{"$f":"K56*L56","v":1050}]
[]
[null,{"$f":"'zařizovací předměty'!B5","v":"Obklad"}]
[null,null,null,{"$f":"IF('Navrhovaný stav - pomocný'!D40=1,\"Nevybírat ze seznamu - uvažuje se kámen Technistone Light, cena cca 2 500 Kč/m2\",\"\")","v":""},null,"Počet (m2)","Vlastní počet (m2)","Orientační cena (Kč/m2)","Vlastní cena (Kč/m2)",null,"Použitý počet (m2)","Použitá cena (Kč/m2)","Celková cena (Kč)"]
[null,null,null,true,null,{"$f":"'Navrhovaný stav - pomocný'!E10","v":17.560500000000001},20.170000000000002,{"$f":"'Navrhovaný stav - pomocný'!F68","v":350},300,null,{"$f":"IF(G60=\"\",F60,G60)*IF(D60=TRUE(),1.1,1)","v":22.187000000000005},{"$f":"IF(I60=\"\",H60,I60)","v":300},{"$f":"K60*L60","v":6656.1000000000013}]
[null,"Pomůcka na přepočet pro ks/m2"]
[null,"šířka obkládačky [cm]","délka obkládačky [cm]",null,"ks/m2"]
[null,33,33,null,{"$f":"1/(B63*C63/10000)","v":9.1827364554637292}]
[null,null,null,null,null,null,null,null,null,null,{"$f":"IF(G60=\"\",F60,G60)","v":20.170000000000002}]
[null,{"$f":"'zařizovací předměty'!B9","v":"Dlažba"}]
[null,null,null,{"$f":"IF('Navrhovaný stav - pomocný'!D40=1,\"Nevybírat ze seznamu - uvažuje se kámen Technistone Light, cena cca 2 500 Kč/m2\",\"\")","v":""},null,"Počet (m2)","Vlastní počet (m2)","Orientační cena (Kč/m2)","Vlastní cena (Kč/m2)",null,"Použitý počet (m2)","Použitá cena (Kč/m2)","Celková cena (Kč)"]
[null,null,null,true,null,{"$f":"'Navrhovaný stav - pomocný'!E15","v":2.7318000000000002},null,{"$f":"'Navrhovaný stav - pomocný'!F69","v":350},"330",null,{"$f":"IF(G67=\"\",F67,G67)*IF(D67=TRUE(),1.1,1)","v":3.0049800000000007},{"$f":"IF(I67=\"\",H67,I67)","v":"330"},{"$f":"K67*L67","v":991.64340000000027}]
[null,"Pomůcka na přepočet pro ks/m2"]
[null,"šířka dlaždice [cm]","délka dlaždice [cm]",null,"ks/m2"]
[null,33,33,null,{"$f":"1/(B70*C70/10000)","v":9.1827364554637292}]
[null,null,null,null,null,null,null,null,null,null,{"$f":"IF(G67=\"\",F67,G67)","v":2.7318000000000002}]
[null,"WC"]
[null,null,null,null,null,"Počet (ks)","Vlastní počet (ks)","Orientační cena (Kč/ks)","Vlastní cena (Kč/ks)",null,"Použitý počet (ks)","Použitá cena (Kč/ks)","Celková cena (Kč)"]
[null,null,null,null,null,1,null,{"$f":"'Navrhovaný stav - pomocný'!F70","v":2500},null,null,{"$f":"IF(G74=\"\",F74,G74)","v":1},{"$f":"IF(I74=\"\",H74,I74)","v":2500},{"$f":"K74*L74","v":2500}]
[]
[null,"Bidet",null,false]
[null,null,null,null,null,"Počet (ks)","Vlastní počet (ks)","Orientační cena (Kč/ks)","Vlastní cena (Kč/ks)",null,"Použitý počet (ks)","Použitá cena (Kč/ks)","Celková cena (Kč)"]
[null,null,null,null,null,1,null,{"$f":"'Navrhovaný stav - pomocný'!F71","v":2500},null,null,{"$f":"IF(G78=\"\",F78,G78)","v":1},{"$f":"IF(I78=\"\",H78,I78)","v":2500},{"$f":"K78*L78","v":2500}]
[null,"Baterie bidetová"]
[null,null,null,null,null,"Počet (ks)","Vlastní počet (ks)","Orientační cena (Kč/ks)","Vlastní cena (Kč/ks)",null,"Použitý počet (ks)","Použitá cena (Kč/ks)","Celková cena (Kč)"]
[null,null,null,null,null,1,2,{"$f":"'Navrhovaný stav - pomocný'!F80","v":1500},"4000",null,{"$f":"IF(G81=\"\",F81,G81)","v":2},{"$f":"IF(I81=\"\",H81,I81)","v":"4000"},{"$f":"K81*L81","v":8000}]
[]
[null,"Vana",null,true]
[null,null,false,"Počet (ks)","Vlastní počet (ks)","Délka [m]","Šířka [m]","Orientační cena (Kč/ks)","Vlastní cena (Kč/ks)",null,"Použitý počet (ks)","Použitá cena (Kč/ks)","Celková cena (Kč)"]
[null,null,null,1,null,1.77,0.75,{"$f":"'Navrhovaný stav - pomocný'!F72","v":4000},null,null,{"$f":"IF(E85=\"\",D85,E85)","v":1},{"$f":"IF(I85=\"\",H85,I85)","v":4000},{"$f":"K85*L85","v":4000}]
[null,"Baterie vanová"]
[null,null,null,null,null,"Počet (ks)","Vlastní počet (ks)","Orientační cena (Kč/ks)","Vlastní cena (Kč/ks)",null,"Použitý počet (ks)","Použitá cena (Kč/ks)","Celková cena (Kč)"]
[null,null,null,null,null,1,0,{"$f":"'Navrhovaný stav - pomocný'!F81","v":2000},null,null,{"$f":"IF(G88=\"\",F88,G88)","v":0},{"$f":"IF(I88=\"\",H88,I88)","v":2000},{"$f":"K88*L88","v":0}]
[]
[null,"Sprcha",null,true]
[null,null,null,"Počet (ks)","Vlastní počet (ks)","Délka [m]","Šířka [m]","Orientační cena (Kč/m2)","Vlastní cena (Kč/ks)",null,"Použitý počet (ks)","Použitá cena (Kč/ks)","Celková cena (Kč)"]
[null,null,null,1,null,0.23,0.56999999999999995,{"$f":"'Navrhovaný stav - pomocný'!F73","v":2000},"340",null,{"$f":"IF(E92=\"\",D92,E92)","v":1},{"$f":"IF(I92=\"\",H92,I92)","v":"340"},{"$f":"K92*L92","v":340}]
[null,"Sprchová zástěna"]
[null,null,null,null,null,"Počet (ks)","Vlastní počet (ks)","Orientační cena (Kč/ks)","Vlastní cena (Kč/ks)",null,"Použitý počet (ks)","Použitá cena (Kč/ks)","Celková cena (Kč)"]
[null,null,null,null,null,{"$f":"D92","v":1},null,{"$f":"'Navrhovaný stav - pomocný'!F74","v":5000},null,null,{"$f":"IF(G95=\"\",F95,G95)","v":1},{"$f":"IF(I95=\"\",H95,I95)","v":5000},{"$f":"K95*L95","v":5000}]
[null,"Baterie sprchová"]
[null,null,null,null,null,"Počet (ks)","Vlastní počet (ks)","Orientační cena (Kč/ks)","Vlastní cena (Kč/ks)",null,"Použitý počet (ks)","Použitá cena (Kč/ks)","Celková cena (Kč)"]
[null,null,null,null,null,1,null,{"$f":"'Navrhovaný stav - pomocný'!F82","v":2000},null,null,{"$f":"IF(G98=\"\",F98,G98)","v":1},{"$f":"IF(I98=\"\",H98,I98)","v":2000},{"$f":"K98*L98","v":2000}]
[]
[null,"Umyvadlo"]
[null,null,null,null,null,"Počet (ks)","Vlastní počet (ks)","Orientační cena (Kč/ks)","Vlastní cena (Kč/ks)",null,"Použitý počet (ks)","Použitá cena (Kč/ks)","Celková cena (Kč)"]
[null,null,null,null,null,1,null,{"$f":"'Navrhovaný stav - pomocný'!F75","v":2000},null,null,{"$f":"IF(G102=\"\",F102,G102)","v":1},{"$f":"IF(I102=\"\",H102,I102)","v":2000},{"$f":"K102*L102","v":2000}]
[null,"Baterie umyvadlová"]
[null,null,null,null,null,"Počet (ks)","Vlastní počet (ks)","Orientační cena (Kč/ks)","Vlastní cena (Kč/ks)",null,"Použitý počet (ks)","Použitá cena (Kč/ks)","Celková cena (Kč)"]
[null,null,null,null,null,1,null,{"$f":"'Navrhovaný stav - pomocný'!F83","v":1800},null,null,{"$f":"IF(G105=\"\",F105,G105)","v":1},{"$f":"IF(I105=\"\",H105,I105)","v":1800},{"$f":"K105*L105","v":1800}]
[]
[null,"Otopný žebřík",null,true]
[null,null,null,null,null,"Počet (ks)","Vlastní počet (ks)","Orientační cena (Kč/ks)","Vlastní cena (Kč/ks)",null,"Použitý počet (ks)","Použitá cena (Kč/ks)","Celková cena (Kč)"]
[null,null,null,null,null,1,null,{"$f":"'Navrhovaný stav - pomocný'!F76","v":2000},null,null,{"$f":"IF(G109=\"\",F109,G109)","v":1},{"$f":"IF(I109=\"\",H109,I109)","v":2000},{"$f":"K109*L109","v":2000}]
[]
[null,"SDK podhled",null,true]
[null,null,null,null,null,null,null,null,null,null,"Použitý počet (m2)","Použitá cena (Kč/m2)","Celková cena (Kč)"]
[null,null,null,null,null,null,null,null,null,null,{"$f":"'Navrhovaný stav - pomocný'!E16","v":4.1904000000000003},{"$f":"'kros seznam'!G133+'kros seznam'!G140","v":597.70000000000005},{"$f":"K113*L113","v":2504.6020800000006}]
[]
[null,"Podlahové topení",null,true]
[null,null,null,null,null,null,null,null,null,null,"Použitý počet (m2)","Použitá cena (Kč/m2)","Celková cena (Kč)"]
[null,null,null,null,null,null,null,null,null,null,{"$f":"'Navrhovaný stav - pomocný'!E15","v":2.7318000000000002},{"$f":"'kros seznam'!G125","v":1400},{"$f":"K117*L117","v":3824.5200000000004}]

{"sheet":"Rozpočet final","index":4,"n_rows":85,"n_cols":13,"rows_kept":85,"cut":false,"hidden":false,"merged":[[2,1,2,2],[3,1,3,2],[4,1,4,2]]}
["Položkový rozpočet"]
[]
[null,"Celková cena bez DPH",null,{"$f":"'Rozpocet-rekapitulace'!D29","v":116791.4775810166}]
[null,"DPH 14%",null,{"$f":"0.14*D3","v":16350.806861342326}]
[null,"Celková cena s DPH",null,{"$f":"1.1*D3","v":128470.62533911827}]
[]
[]
[]
["TV","Kód položky","Popis","MJ","Množství","J. cena ","Celková cena","Jednotková hmotnost","Celková hmotnost","Jednotková suť","Suť celkem","Nh ","Nh celkem"]
["D",3,"Svislé a kompletní konstrukce",null,null,null,{"$f":"SUM(G11:G13)","v":20497.373000000003},null,{"$f":"SUM(I11:I13)","v":2.9226672050000002},null,{"$f":"SUM(K11:K13)","v":0},null,{"$f":"SUM(M11:M13)","v":17.3341195}]
["K",346272111,"Přizdívky tl 50 mm z pórobetonových přesných příčkovek Ytong objemové hmotnosti 500 kg/m3","m2",1.1160000000000001,398,444.16800000000006,4.1500000000000002E-2,4.6314000000000008E-2,0,0]
["K","342272423","Příčky tl 125 mm z pórobetonových přesných příčkovek objemové hmotnosti 500 kg/m3","m2",32.136800000000001,610,19603.448,8.7999999999999995E-2,2.8280384000000001,0,null,0.51500000000000001,16.550452]
["K","346244352","Obezdívka koupelnových van ploch rovných tl 50 mm z pórobetonových přesných příčkovek hladkých Ytong","m2",0.97350000000000014,462,449.75700000000006,4.9630000000000001E-2,4.8314805000000009E-2,0,0,0.80500000000000005,0.78366750000000018]
["D",6,"Úpravy povrchů, podlahy a osazování výplní",null,null,null,{"$f":"SUM(G15:G18)","v":10424.580282999999},null,{"$f":"SUM(I15:I18)","v":0.39830229035000003},null,{"$f":"SUM(K15:K18)","v":0},null,{"$f":"SUM(M15:M18)","v":23.875872800000003}]
["K",611471620,"Vyspravení vnitřních prefabrikovaných stěn stěrkovou hmotou do 20 % plochy","m2",10.282299999999999,45.2,464.75995999999998,1.5399999999999999E-3,1.5834741999999999E-2,0,0,7.8E-2,0.80201939999999994]
["K","612471411","Tenkovrstvá úprava vnitřních stěn tl do 3 mm aktivovaným štukem","m2",10.282299999999999,81.010000000000005,832.96912299999997,4.5044999999999998E-3,4.6316620349999997E-2,0,0,0.25,2.5705749999999998]
["K","612474115","Vnitřní omítka pórobetonových stěn tl 8 mm ze suché směsi Ytong","m2",32.136800000000001,180,5784.6239999999998,9.5999999999999992E-3,0.30851328,0,0,0.40799999999999997,13.1118144]
["K","612481113","Potažení vnitřních stěn sklovláknitým pletivem vypnutým včetně přibití strun","m2",32.136800000000001,104,3342.2272000000003,8.5999999999999998E-4,2.7637648000000001E-2,0,0,0.23,7.3914640000000009]
["D",9,"Ostatní konstrukce a práce-bourání",null,null,null,{"$f":"SUM(G20:G24)","v":3349.4233374600003},null,{"$f":"SUM(I20:I24)","v":0},null,{"$f":"SUM(K20:K24)","v":0},null,{"$f":"SUM(M20:M24)","v":0.27880929197159998}]
["K","979081111","Odvoz suti a vybouraných hmot na skládku do 1 km","t",1.8517906500000001,365,675.90358724999999,0,0,0,0,5.0959999999999998E-2,8.9251067287199989E-2]
["K","979081121","Odvoz suti a vybouraných hmot na skládku ZKD 1 km přes 1 km","t",1.8517906500000001,13.8,25.554710970000002,0,0,0,0,0,0]
["K","979082111","Vnitrostaveništní vodorovná doprava suti a vybouraných hmot do 10 m","t",1.84218145,217,399.75337465000001,0,0,0,0,9.7968E-2,0.17054808753840001]
["K","979082121","Vnitrostaveništní vodorovná doprava suti a vybouraných hmot ZKD 5 m přes 10 m","t",1.84218145,24.2,44.580791089999998,0,0,0,0,1.0919999999999999E-2,1.9010137145999997E-2]
["K","979098231","Poplatek za uložení stavebního směsného odpadu na skládce (skládkovné)","t",1.8517906500000001,1190,2203.6308735000002,0,0,0,0,0,0]
["D",99,"Přesun hmot",null,null,null,{"$f":"SUM(G26:G28)","v":1274.9431491630003},null,{"$f":"SUM(I26:I28)","v":0},null,{"$f":"SUM(K26:K28)","v":0},null,{"$f":"SUM(M26:M28)","v":1.8521568000000002}]
["K","949121111","Lešení lehké pomocné kozové dílcové o výšce lešeňové podlahy do 1,2 m","m2",4.1904000000000003,89.7,375.87888000000004,0,0,0,0,0.13400000000000001,0.56151360000000006]
["K","952901111","Vyčištění budov bytové a občanské výstavby při výšce podlaží do 4 m","m2",4.1904000000000003,71.900000000000006,301.28976000000006,0,0,0,0,0.308,1.2906432000000001]
["K","998011031"," Přesun hmot pro budovy z bloků výšky do 6 m","t",{"$f":"'Rozpočet final'!I10+'Rozpočet final'!I14","v":3.3209694953500004},180,597.77450916300006,0,0,0,0,0,0]
["D",711,"Izolace proti vodě, vlhkosti a plynům",null,null,null,{"$f":"SUM(G30:G32)","v":4539.2874375000001},null,{"$f":"SUM(I30:I32)","v":6.7744499999999999E-2},null,{"$f":"SUM(K30:K32)","v":0},null,{"$f":"SUM(M30:M32)","v":3.8960714006835002}]
["K","711493112","Izolace proti podpovrchové a tlakové vodě vodorovná SCHOMBURG těsnicí stěrkou AQUAFIN-1K","m2",3.8778000000000006,295,1143.9510000000002,4.4999999999999997E-3,1.74501E-2,0,0,0.22,0.8531160000000001]
["K","711493122","Izolace proti podpovrchové a tlakové vodě svislá SCHOMBURG těsnicí stěrkou AQUAFIN-1K","m2",10.14,329,3336.0600000000004,4.96E-3,5.0294400000000003E-2,0,0,0.3,3.0420000000000003]
["K","998711101","Přesun hmot pro izolace proti vodě, vlhkosti a plynům v objektech výšky do 6 m","t",6.7744499999999999E-2,875,59.2764375,0,0,0,0,1.4102999999999999E-2,9.5540068349999989E-4]
["D",721,"Zdravotechnika - vnitřní kanalizace",null,null,null,6000,0,0,0,null,0,{"$error":"#REF!"}]
["K","721X","Potrubí kanalizační plastové D+M","soubor",1,6000,6000,0,0,0,0,0,{"$error":"#REF!"}]
["D",722,"Zdravotechnika - vnitřní vodovod",null,null,null,6000,0,0,0,null,0,{"$error":"#REF!"}]
["K","722X","Potrubí vodovodní plastové D+M","soubor",1,6000,6000,0,0,0,0,0,{"$error":"#REF!"}]
["D",725,"Zdravotechnika - zařizovací předměty",null,null,null,{"$f":"SUM(G38:G48)","v":17747.901465999999},null,{"$f":"SUM(I38:I48)","v":0.10699},null,{"$f":"SUM(K38:K48)","v":9.6092E-3},null,{"$f":"SUM(M38:M48)","v":17.364148775976957}]
["K",725820802,"Demontáž baterie stojánkové","soubor",1,62,62,0,0,8.5999999999999998E-4,8.5999999999999998E-4,0.222,0.222]
["K","725112X","Geberit D+M","soubor",1,2500,2500,2.52E-2,2.52E-2,0,0,2.5,2.5]
["K","725211602","Umyvadlo keramické D+M","soubor",1,2300,2300,1.5520000000000001E-2,1.5520000000000001E-2,0,0,1.1000000000000001,1.1000000000000001]
["K","725220832","Demontáž van litinová volná","soubor",1,112,112,0,0,8.7492000000000004E-3,8.7492000000000004E-3,3.7075999999999998E-2,3.7075999999999998E-2]
["K","725222116","Vana bez armatur výtokových akrylátová se zápachovou uzávěrkou D+M","soubor",1,4750,4750,1.9099999999999999E-2,1.9099999999999999E-2,0,0,2.4620000000000002,2.4620000000000002]
["K","725243111","Box sprchový masážní a parní D+M","soubor",1,1340,1340,4.1169999999999998E-2,4.1169999999999998E-2,0,0,11.04,11.04]
["K","725590811","Přemístění vnitrostaveništní demontovaných pro zařizovací předměty v objektech výšky do 6 m","t",9.6092E-3,1080,10.377936,0,0,0,0,0.29154799999999997,3.0727759769599997E-3]
["K","725822654","Baterie umyvadlová termostatická D+M","soubor",1,2115,2115,2E-3,2E-3,0,0]
["K","725831315","Baterie vanová páková D+M","soubor",1,2250,2250,2E-3,2E-3,null,0]
["K","725841333","Baterie sprchová zápustná s přepínačem a pevnou sprchou D+M","soubor",1,2250,2250,2E-3,2E-3,null,0]
["K","998725101","Přesun hmot pro zařizovací předměty v objektech v do 6 m","t",0.10699,547,58.523530000000001,null,0,null,0]
["D",735,"Ústřední vytápění - otopná tělesa",null,null,null,{"$f":"SUM(G50:G51)","v":4000},null,{"$f":"SUM(I50:I51)","v":1.2999999999999999E-2},null,{"$f":"SUM(K50:K51)","v":0},null,{"$f":"SUM(M50:M51)","v":{"$error":"#REF!"}}]
["K","735152112","Otopné těleso panelové D+M","kus",1,2600,2600,1.2999999999999999E-2,1.2999999999999999E-2,0,0,0,{"$error":"#REF!"}]
["K","735X","Podlahové vytápění - topné rohože D+M","m2",1,1400,1400,0,0,0,0,0,0]
["D",763,"Konstrukce montované z desek, dílců a panelů",null,null,null,{"$f":"SUM(G53:G61)","v":12803.548051391999},null,{"$f":"SUM(I53:I61)","v":9.2061855999999997E-2},null,{"$f":"SUM(K53:K61)","v":1.74085505},null,{"$f":"SUM(M53:M61)","v":19.058547599999997}]
["M","553316110","pouzdro stavební STANDARD S700-070 700 mm","kus",1,5970,5970,3.6999999999999998E-2,3.6999999999999998E-2,0,null,0,0]
["K","763111811","Demontáž SDK příčky s jednoduchou ocelovou nosnou konstrukcí opláštění jednoduché","m2",45.655000000000001,55.2,2520.1560000000004,0,0,3.175E-2,1.44954625,0.19800000000000001,9.0396900000000002]
["K","763131451","SDK podhled deska 1xH2 12,5 bez TI dvouvrstvá spodní kce profil CD+UD","m2",4.1904000000000003,574,2405.2896000000001,1.3140000000000001E-2,5.5061856000000006E-2,0,0,0.96799999999999997,4.0563072]
["K","763131714","SDK podhled základní penetrační nátěr","m2",4.1904000000000003,23.7,99.312480000000008,0,0,0,0,0.04,0.16761600000000001]
["K","763131831","Demontáž SDK podhledu s jednovrstvou nosnou kcí z ocelových profilů opláštění jednoduché","m2",5.3263999999999996,61.6,328.10623999999996,0,0,1.7250000000000001E-2,9.1880400000000001E-2,0.221,1.1771343999999999]
["K","763151811","Demontáž jedné vrstvy desek SDK podlaha","m2",5.3263999999999996,34.9,185.89135999999999,0,0,2.4750000000000001E-2,0.13182839999999998,0.125,0.66579999999999995]
["K","763181811","Demontáž jednokřídlové kovové zárubně v do 2,75 m SDK příčka","kus",4,83.7,334.8,0,0,1.6899999999999998E-2,6.7599999999999993E-2,0.3,1.2]
["K","763183111","Montáž pouzdra posuvných dveří s jednou kapsou pro jedno křídlo šířky do 800 mm do SDK příčky","kus",1,888,888,0,0,0,0,2.7519999999999998,2.7519999999999998]
["K","998763301","Přesun hmot pro sádrokartonové konstrukce v objektech v do 6 m","t",9.2061855999999997E-2,782,71.992371391999995,null,0,null,0]
["D",766,"Konstrukce truhlářské",null,null,null,{"$f":"SUM(G63:G69)","v":6306.5530499999995},null,{"$f":"SUM(I63:I69)","v":3.0449999999999998E-2},null,{"$f":"SUM(K63:K69)","v":9.6000000000000002E-2},null,{"$f":"SUM(M63:M69)","v":4.93}]
["M","611617170","dveře vnitřní 1křídlové 70x197 cm","kus",1,1500,1500,1.4E-2,1.4E-2,0,null,0,0]
["M","611822580"," zárubeň obložková pro dveře 1křídlové 60,70,80,90x197 cm, tl. 8 - 17 cm","kus",1,2870,2870,1.6E-2,1.6E-2,0,null,0,0]
["K","766660171","Montáž dveřních křídel otvíravých 1křídlových š do 0,8 m do obložkové zárubně","kus",1,538,538,0,0,0,0,1.8049999999999999,1.8049999999999999]
["K","766682111","Montáž zárubní obložkových pro dveře jednokřídlové tl stěny do 170 mm","kus",1,945,945,4.4999999999999999E-4,4.4999999999999999E-4,0,0,2.9249999999999998,2.9249999999999998]
["K","766691914","Vyvěšení nebo zavěšení dřevěných křídel dveří pl do 2 m2","kus",4,21.1,84.4,0,0,2.4E-2,9.6000000000000002E-2,0.05,0.2]
["K","766X","Dveřního kování D+M","kus",1,350,350,0,0,0,0,0,0]
["K","998766101","Přesun hmot pro konstrukce truhlářské v objektech v do 6 m","t",3.0449999999999998E-2,629,19.15305,null,0,null,0]
["D",771,"Podlahy z dlaždic",null,null,null,{"$f":"SUM(G71:G74)","v":1815.3763086936003},null,{"$f":"SUM(I71:I74)","v":4.988813160000001E-2},null,{"$f":"SUM(K71:K74)","v":0},null,{"$f":"SUM(M71:M74)","v":1.7565474000000001}]
["M","597610690","dlaždice keramické do 25 ks/m2","m2",3.0049800000000007,"330",991.64340000000027,1.342E-2,4.0326831600000008E-2,0,null,0,0]
["K","771574116","Montáž podlah keramických režných hladkých lepených flexibilním lepidlem do 25 ks/m2","m2",2.7318000000000002,284,775.83120000000008,3.5000000000000001E-3,9.5613000000000017E-3,0,0,0.61299999999999999,1.6745934]
["K","771579191","Příplatek k montáž podlah keramických za plochu do 5 m2","m2",2.7318000000000002,9.39,25.651602000000004,0,0,0,0,0.03,8.1953999999999999E-2]
["K","998771101","Přesun hmot pro podlahy z dlaždic v objektech v do 6 m","t",4.988813160000001E-2,446,22.250106693600003,null,0,null,0]
["D",776,"Podlahy povlakové",null,null,null,378.70703999999995,0,0,1E-3,5.3263999999999994E-3,0.255,1.3582319999999999]
["K","776511820","Demontáž povlakových podlah lepených s podložkou","m2",5.3263999999999996,71.099999999999994,378.70703999999995,0,0,1E-3,5.3263999999999994E-3,0.255,1.3582319999999999]
["D",781,"Dokončovací práce - obklady keramické",null,null,null,{"$f":"SUM(G78:G81)","v":13885.758807808003},null,{"$f":"SUM(I78:I81)","v":0.35124844800000005},null,{"$f":"SUM(K78:K81)","v":0},null,{"$f":"SUM(M78:M81)","v":15.670220000000002}]
["M","597610350","obkládačky keramické do 22 ks/m2","m2",22.187000000000005,300,6656.1000000000013,1.3103999999999999E-2,0.29073844800000004,0,null,0,0]
["K","781474114","Montáž obkladů vnitřních keramických hladkých do 22 ks/m2 lepených flexibilním lepidlem","m2",20.170000000000002,298,6010.6600000000008,3.0000000000000001E-3,6.0510000000000008E-2,0,0,0.68600000000000005,13.836620000000002]
["K","781494511","Plastové profily ukončovací lepené flexibilním lepidlem","m",11.46,92.7,1062.3420000000001,0,0,0,0,0.16,1.8336000000000001]
["K","998781101","Přesun hmot pro obklady keramické v objektech v do 6 m","t",0.35124844800000005,446,156.65680780800002,null,0,null,0]
["D",784,"Dokončovací práce - malby",null,null,null,{"$f":"SUM(G83:G83)","v":768.02565000000004},null,{"$f":"SUM(I83:I83)","v":7.7285600000000006E-3},null,{"$f":"SUM(K83:K83)","v":0},null,{"$f":"SUM(M83:M83)","v":0.17180640000000003}]
["K","784453601","Malby směsi PRIMALEX tekuté hlinkové bílé dvojnásobné v místnostech v do 3,8 m","m2",48.3035,15.9,768.02565000000004,1.6000000000000001E-4,7.7285600000000006E-3,0,0,4.1000000000000002E-2,0.17180640000000003]
["D","21-M","Elektromontáže",null,null,null,7000,0,0,0,null,0,0]
["K","2100X","Elektro D+M","soubor",1,7000,7000,0,0,0,0,0]

{"sheet":"Rozpocet-rekapitulace","index":5,"n_rows":29,"n_cols":4,"rows_kept":29,"cut":false,"hidden":false,"merged":[]}
["Rekapitulace"]
[]
[]
[]
[]
[]
[]
[]
[null,null,"HSV",{"$f":"SUM(D10:D13)","v":35546.319769623005}]
[null,3,"Svislé a kompletní konstrukce",{"$f":"'Rozpočet final'!G10","v":20497.373000000003}]
[null,6,"Úpravy povrchů, podlahy a osazování výplní",{"$f":"'Rozpočet final'!G14","v":10424.580282999999}]
[null,9,"Ostatní konstrukce a práce-bourání",{"$f":"'Rozpočet final'!G19","v":3349.4233374600003}]
[null,99,"Přesun hmot",{"$f":"'Rozpočet final'!G25","v":1274.9431491630003}]
[null,null,"PSV",{"$f":"SUM(D15:D25)","v":74245.157811393598}]
[null,711,"Izolace proti vodě, vlhkosti a plynům",{"$f":"'Rozpočet final'!G29","v":4539.2874375000001}]
[null,721,"Zdravotechnika - vnitřní kanalizace",{"$f":"'Rozpočet final'!G33","v":6000}]
[null,722,"Zdravotechnika - vnitřní vodovod",{"$f":"'Rozpočet final'!G35","v":6000}]
[null,725,"Zdravotechnika - zařizovací předměty",{"$f":"'Rozpočet final'!G37","v":17747.901465999999}]
[null,735,"Ústřední vytápění - otopná tělesa",{"$f":"'Rozpočet final'!G49","v":4000}]
[null,763,"Konstrukce montované z desek, dílců a panelů",{"$f":"'Rozpočet final'!G52","v":12803.548051391999}]
[null,766,"Konstrukce truhlářské",{"$f":"'Rozpočet final'!G62","v":6306.5530499999995}]
[null,771,"Podlahy z dlaždic",{"$f":"'Rozpočet final'!G70","v":1815.3763086936003}]
[null,776,"Podlahy povlakové",{"$f":"'Rozpočet final'!G75","v":378.70703999999995}]
[null,781,"Dokončovací práce - obklady keramické",{"$f":"'Rozpočet final'!G77","v":13885.758807808003}]
[null,784,"Dokončovací práce - malby",{"$f":"'Rozpočet final'!G82","v":768.02565000000004}]
[null,null,"MONTÁŽ",{"$f":"D27","v":7000}]
[null,"21-M","Elektromontáže",{"$f":"'Rozpočet final'!G84","v":7000}]
[]
[null,null,"ZRN",{"$f":"D26+D9+D14","v":116791.4775810166}]

{"sheet":"Rozpočet","index":6,"n_rows":143,"n_cols":13,"rows_kept":143,"cut":false,"hidden":true,"merged":[]}
["Pomocný rozpočet"]
[]
[]
[]
[]
[]
[]
["TV","Kód položky","Popis","MJ","Množství","J. cena ","Celková cena","Jednotková hmotnost","Celková hmotnost","Jednotková suť","Suť celkem","Nh ","Nh celkem"]
[]
["DLAŽBA DO 25ks/m2"]
["D","771","Podlahy z dlaždic",null,null,null,{"$f":"SUM(G12:G14)","v":1793.1262020000004},{"$f":"SUM(H12:H14)","v":1.6920000000000001E-2},{"$f":"SUM(I12:I14)","v":4.988813160000001E-2},{"$f":"SUM(J12:J14)","v":0},null,{"$f":"SUM(L12:L14)","v":0.64300000000000002},{"$f":"SUM(M12:M14)","v":1.7565474000000001}]
["K","771574116","Montáž podlah keramických režných hladkých lepených flexibilním lepidlem do 25 ks/m2","m2",2.7318000000000002,284,775.83120000000008,3.5000000000000001E-3,9.5613000000000017E-3,0,null,0.61299999999999999,1.6745934]
["M","597610690","dlaždice keramické do 25 ks/m2","m2",3.0049800000000007,"330",991.64340000000027,1.342E-2,4.0326831600000008E-2,0,null,0,0]
["K","771579191","Příplatek k montáž podlah keramických za plochu do 5 m2","m2",2.7318000000000002,9.39,25.651602000000004,0,0,0,null,0.03,8.1953999999999999E-2]
["OBKLAD DO 22ks/m2"]
["D","781","Dokončovací práce - obklady keramické",null,null,null,{"$f":"SUM(G17:G19)","v":13729.102000000003},{"$f":"SUM(H17:H19)","v":1.6104E-2},{"$f":"SUM(I17:I19)","v":0.35124844800000005},{"$f":"SUM(J17:J19)","v":0},null,{"$f":"SUM(L17:L19)","v":0.84600000000000009},{"$f":"SUM(M17:M19)","v":15.670220000000002}]
["K","781474114","Montáž obkladů vnitřních keramických hladkých do 22 ks/m2 lepených flexibilním lepidlem","m2",20.170000000000002,298,6010.6600000000008,3.0000000000000001E-3,6.0510000000000008E-2,0,null,0.68600000000000005,13.836620000000002]
["M","597610350","obkládačky keramické do 22 ks/m2","m2",22.187000000000005,300,6656.1000000000013,1.3103999999999999E-2,0.29073844800000004,0,null,0,0]
["K","781494511","Plastové profily ukončovací lepené flexibilním lepidlem","m",11.46,92.7,1062.3420000000001,0,0,0,null,0.16,1.8336000000000001]
["DVEŘE POUZDROVÉ 70 cm SDK"]
["D","763","Konstrukce montované z desek, dílců a panelů",null,null,null,{"$f":"SUM(G22:G23)","v":6858},{"$f":"SUM(H22:H23)","v":3.6999999999999998E-2},{"$f":"SUM(I22:I23)","v":3.6999999999999998E-2},{"$f":"SUM(J22:J23)","v":0},null,{"$f":"SUM(L22:L23)","v":2.7519999999999998},{"$f":"SUM(M22:M23)","v":2.7519999999999998}]
["K","763183111","Montáž pouzdra posuvných dveří s jednou kapsou pro jedno křídlo šířky do 800 mm do SDK příčky","kus",1,888,888,0,0,0,null,2.7519999999999998,2.7519999999999998]
["M","553316110","pouzdro stavební STANDARD S700-070 700 mm","kus",1,5970,5970,3.6999999999999998E-2,3.6999999999999998E-2,0,null,0,0]
["D","766","Konstrukce truhlářské",null,null,null,{"$f":"SUM(G25:G29)","v":6203},{"$f":"SUM(H25:H29)","v":3.0450000000000001E-2},{"$f":"SUM(I25:I29)","v":3.0450000000000001E-2},{"$f":"SUM(J25:J29)","v":0},null,{"$f":"SUM(L25:L29)","v":4.7299999999999995},{"$f":"SUM(M25:M29)","v":4.7299999999999995}]
["K","766X","Dveřního kování D+M","kus",1,350,350,0,0,0,null,0,0]
["K","766660171","Montáž dveřních křídel otvíravých 1křídlových š do 0,8 m do obložkové zárubně","kus",1,538,538,0,0,0,null,1.8049999999999999,1.8049999999999999]
["M","611617170","dveře vnitřní 1křídlové 70x197 cm","kus",1,1500,1500,1.4E-2,1.4E-2,0,null,0,0]
["K","766682111","Montáž zárubní obložkových pro dveře jednokřídlové tl stěny do 170 mm","kus",1,945,945,4.4999999999999999E-4,4.4999999999999999E-4,0,null,2.9249999999999998,2.9249999999999998]
["M","611822580"," zárubeň obložková pro dveře 1křídlové 60,70,80,90x197 cm, tl. 8 - 17 cm","kus",1,2870,2870,1.6E-2,1.6E-2,0,null,0,0]
["VANA ROVNÁ PODEZDĚNÁ"]
["D","3","Svislé a kompletní konstrukce",null,null,null,{"$f":"SUM(G32:G32)","v":449.75700000000006},{"$f":"SUM(H32:H32)","v":4.9630000000000001E-2},{"$f":"SUM(I32:I32)","v":4.8314805000000009E-2},{"$f":"SUM(J32:J32)","v":0},null,{"$f":"SUM(L32:L32)","v":0.80500000000000005},{"$f":"SUM(M32:M32)","v":0.78366750000000018}]
["K","346244352","Obezdívka koupelnových van ploch rovných tl 50 mm z pórobetonových přesných příčkovek hladkých Ytong","m2",0.97350000000000014,462,449.75700000000006,4.9630000000000001E-2,4.8314805000000009E-2,0,null,0.80500000000000005,0.78366750000000018]
["D","725","Zdravotechnika - zařizovací předměty",null,null,null,{"$f":"SUM(G34:G34)","v":4750},{"$f":"SUM(H34:H34)","v":1.9099999999999999E-2},{"$f":"SUM(I34:I34)","v":1.9099999999999999E-2},{"$f":"SUM(J34:J34)","v":0},null,{"$f":"SUM(L34:L34)","v":2.4620000000000002},{"$f":"SUM(M34:M34)","v":2.4620000000000002}]
["K","725222116","Vana bez armatur výtokových akrylátová se zápachovou uzávěrkou D+M","soubor",1,4750,4750,1.9099999999999999E-2,1.9099999999999999E-2,0,null,2.4620000000000002,2.4620000000000002]
["UMYVADLO"]
["D","725","Zdravotechnika - zařizovací předměty",null,null,null,{"$f":"SUM(G37:G37)","v":2300},{"$f":"SUM(H37:H37)","v":1.5520000000000001E-2},{"$f":"SUM(I37:I37)","v":1.5520000000000001E-2},{"$f":"SUM(J37:J37)","v":0},null,{"$f":"SUM(L37:L37)","v":1.1000000000000001},{"$f":"SUM(M37:M37)","v":1.1000000000000001}]
["K","725211602","Umyvadlo keramické D+M","soubor",1,2300,2300,1.5520000000000001E-2,1.5520000000000001E-2,0,null,1.1000000000000001,1.1000000000000001]
["WC GEBERIT"]
["D","725","Zdravotechnika - zařizovací předměty",null,null,null,{"$f":"SUM(G40:G40)","v":2500},{"$f":"SUM(H40:H40)","v":2.52E-2},{"$f":"SUM(I40:I40)","v":2.52E-2},{"$f":"SUM(J40:J40)","v":0},null,{"$f":"SUM(L40:L40)","v":2.5},{"$f":"SUM(M40:M40)","v":2.5}]
["K","725112X","Geberit D+M","soubor",1,2500,2500,2.52E-2,2.52E-2,0,null,2.5,2.5]
["D","3","Svislé a kompletní konstrukce",null,null,null,{"$f":"SUM(G42:G42)","v":444.16800000000006},{"$f":"SUM(H42:H42)","v":4.1500000000000002E-2},{"$f":"SUM(I42:I42)","v":4.6314000000000008E-2},{"$f":"SUM(J42:J42)","v":0},null,{"$f":"SUM(L42:L42)","v":0},{"$f":"SUM(M42:M42)","v":0}]
["K",346272111,"Přizdívky tl 50 mm z pórobetonových přesných příčkovek Ytong objemové hmotnosti 500 kg/m3","m2",1.1160000000000001,398,444.16800000000006,4.1500000000000002E-2,4.6314000000000008E-2,0]
["SPRCHA SPRCHOVÝ BOX"]
["D","725","Zdravotechnika - zařizovací předměty",null,null,null,{"$f":"SUM(G45:G45)","v":1340},{"$f":"SUM(H45:H45)","v":4.1169999999999998E-2},{"$f":"SUM(I45:I45)","v":4.1169999999999998E-2},{"$f":"SUM(J45:J45)","v":0},null,{"$f":"SUM(L45:L45)","v":11.04},{"$f":"SUM(M45:M45)","v":11.04}]
["K","725243111","Box sprchový masážní a parní D+M","soubor",1,1340,1340,4.1169999999999998E-2,4.1169999999999998E-2,0,null,11.04,11.04]
["IZOLACE"]
["D","711","Izolace proti vodě, vlhkosti a plynům",null,null,null,{"$f":"SUM(G48:G49)","v":4480.0110000000004},{"$f":"SUM(H48:H49)","v":9.4599999999999997E-3},{"$f":"SUM(I48:I49)","v":6.7744499999999999E-2},{"$f":"SUM(J48:J49)","v":0},null,{"$f":"SUM(L48:L49)","v":0.52},{"$f":"SUM(M48:M49)","v":3.8951160000000002}]
["K","711493112","Izolace proti podpovrchové a tlakové vodě vodorovná SCHOMBURG těsnicí stěrkou AQUAFIN-1K","m2",3.8778000000000006,295,1143.9510000000002,4.4999999999999997E-3,1.74501E-2,0,null,0.22,0.8531160000000001]
["K","711493122","Izolace proti podpovrchové a tlakové vodě svislá SCHOMBURG těsnicí stěrkou AQUAFIN-1K","m2",10.14,329,3336.0600000000004,4.96E-3,5.0294400000000003E-2,0,null,0.3,3.0420000000000003]
["DEMONTÁŽ BJ"]
["D","763","Konstrukce montované z desek, dílců a panelů",null,null,null,{"$f":"SUM(G52:G55)","v":3368.9536000000007},{"$f":"SUM(H52:H55)","v":0},{"$f":"SUM(I52:I55)","v":0},{"$f":"SUM(J52:J55)","v":9.0650000000000008E-2},1.74085505,{"$f":"SUM(L52:L55)","v":0.84400000000000008},{"$f":"SUM(M52:M55)","v":12.0826244}]
["K","763111811","Demontáž SDK příčky s jednoduchou ocelovou nosnou konstrukcí opláštění jednoduché","m2",45.655000000000001,55.2,2520.1560000000004,0,0,3.175E-2,1.44954625,0.19800000000000001,9.0396900000000002]
["K","763131831","Demontáž SDK podhledu s jednovrstvou nosnou kcí z ocelových profilů opláštění jednoduché","m2",5.3263999999999996,61.6,328.10623999999996,0,0,1.7250000000000001E-2,9.1880400000000001E-2,0.221,1.1771343999999999]
["K","763151811","Demontáž jedné vrstvy desek SDK podlaha","m2",5.3263999999999996,34.9,185.89135999999999,0,0,2.4750000000000001E-2,0.13182839999999998,0.125,0.66579999999999995]
["K","763181811","Demontáž jednokřídlové kovové zárubně v do 2,75 m SDK příčka","kus",4,83.7,334.8,0,0,1.6899999999999998E-2,6.7599999999999993E-2,0.3,1.2]
["D","766","Konstrukce truhlářské",null,null,null,{"$f":"SUM(G57:G57)","v":84.4},{"$f":"SUM(H57:H57)","v":0},{"$f":"SUM(I57:I57)","v":0},{"$f":"SUM(J57:J57)","v":2.4E-2},9.6000000000000002E-2,{"$f":"SUM(L57:L57)","v":0.05},{"$f":"SUM(M57:M57)","v":0.2}]
["K","766691914","Vyvěšení nebo zavěšení dřevěných křídel dveří pl do 2 m2","kus",4,21.1,84.4,0,0,2.4E-2,9.6000000000000002E-2,0.05,0.2]
["D","776","Podlahy povlakové",null,null,null,{"$f":"SUM(G59:G59)","v":378.70703999999995},{"$f":"SUM(H59:H59)","v":0},{"$f":"SUM(I59:I59)","v":0},{"$f":"SUM(J59:J59)","v":1E-3},5.3263999999999994E-3,{"$f":"SUM(L59:L59)","v":0.255},{"$f":"SUM(M59:M59)","v":1.3582319999999999}]
["K","776511820","Demontáž povlakových podlah lepených s podložkou","m2",5.3263999999999996,71.099999999999994,378.70703999999995,0,0,1E-3,5.3263999999999994E-3,0.255,1.3582319999999999]
["DEMONTÁŽ VANA"]
["D","725","Zdravotechnika - zařizovací předměty",null,null,null,{"$f":"SUM(G62:G63)","v":174},{"$f":"SUM(H62:H63)","v":0},{"$f":"SUM(I62:I63)","v":0},{"$f":"SUM(J62:J63)","v":9.6092E-3},8.7492000000000004E-3,{"$f":"SUM(L62:L63)","v":0.25907599999999997},{"$f":"SUM(M62:M63)","v":0.25907599999999997}]
["K","725220832","Demontáž van litinová volná","soubor",1,112,112,0,0,8.7492000000000004E-3,8.7492000000000004E-3,3.7075999999999998E-2,3.7075999999999998E-2]
["K",725820802,"Demontáž baterie stojánkové","soubor",1,62,62,0,0,8.5999999999999998E-4,8.5999999999999998E-4,0.222,0.222]
["ELEKTRO"]
["D","21-M","Elektromontáže",null,null,null,{"$f":"SUM(G66:G66)","v":7000},{"$f":"SUM(H66:H66)","v":0},{"$f":"SUM(I66:I66)","v":0},{"$f":"SUM(J66:J66)","v":0},null,{"$f":"SUM(L66:L66)","v":0},{"$f":"SUM(M66:M66)","v":0}]
["K","2100X","Elektro D+M","soubor",1,7000,7000,0,0,0,null,0]
["KANALIZACE"]
["D","721","Zdravotechnika - vnitřní kanalizace",null,null,null,{"$f":"SUM(G69:G69)","v":6000},{"$f":"SUM(H69:H69)","v":0},{"$f":"SUM(I69:I69)","v":0},{"$f":"SUM(J69:J69)","v":0},null,{"$f":"SUM(L69:L69)","v":0},{"$f":"SUM(M69:M69)","v":{"$error":"#REF!"}}]
["K","721X","Potrubí kanalizační plastové D+M","soubor",1,6000,6000,0,0,0,0,0,{"$error":"#REF!"}]
["VODOVOD"]
["D","722","Zdravotechnika - vnitřní vodovod",null,null,null,{"$f":"SUM(G72:G72)","v":6000},{"$f":"SUM(H72:H72)","v":0},{"$f":"SUM(I72:I72)","v":0},{"$f":"SUM(J72:J72)","v":0},null,{"$f":"SUM(L72:L72)","v":0},{"$f":"SUM(M72:M72)","v":{"$error":"#REF!"}}]
["K","722X","Potrubí vodovodní plastové D+M","soubor",1,6000,6000,0,0,0,0,0,{"$error":"#REF!"}]
["MATERIÁL YTONG"]
["D","3","Svislé a kompletní konstrukce",null,null,null,{"$f":"SUM(G75:G75)","v":19603.448},{"$f":"SUM(H75:H75)","v":8.7999999999999995E-2},{"$f":"SUM(I75:I75)","v":2.8280384000000001},{"$f":"SUM(J75:J75)","v":0},null,{"$f":"SUM(L75:L75)","v":0.51500000000000001},{"$f":"SUM(M75:M75)","v":16.550452}]
["K","342272423","Příčky tl 125 mm z pórobetonových přesných příčkovek objemové hmotnosti 500 kg/m3","m2",32.136800000000001,610,19603.448,8.7999999999999995E-2,2.8280384000000001,0,null,0.51500000000000001,16.550452]
["D","6","Úpravy povrchů, podlahy a osazování výplní",null,null,null,{"$f":"SUM(G77:G80)","v":466.6},{"$f":"SUM(H77:H80)","v":1.6504499999999998E-2},{"$f":"SUM(I77:I80)","v":0.39830229035000003},{"$f":"SUM(J77:J80)","v":0},null,{"$f":"SUM(L77:L80)","v":0.96599999999999997},{"$f":"SUM(M77:M80)","v":23.875872799999996}]
["K","612474115","Vnitřní omítka pórobetonových stěn tl 8 mm ze suché směsi Ytong","m2",32.136800000000001,180,180,9.5999999999999992E-3,0.30851328,0,null,0.40799999999999997,13.1118144]
["K","612481113","Potažení vnitřních stěn sklovláknitým pletivem vypnutým včetně přibití strun","m2",32.136800000000001,104,104,8.5999999999999998E-4,2.7637648000000001E-2,0,null,0.23,7.3914640000000009]
["K",611471620,"Vyspravení vnitřních prefabrikovaných stěn stěrkovou hmotou do 20 % plochy","m2",10.282299999999999,45.2,161,1.5399999999999999E-3,1.5834741999999999E-2,0,null,7.8E-2,0.80201939999999994]
["K","612471411","Tenkovrstvá úprava vnitřních stěn tl do 3 mm aktivovaným štukem","m2",10.282299999999999,81.010000000000005,21.6,4.5044999999999998E-3,4.6316620349999997E-2,0,null,0.25,2.5705749999999998]
["D",784,"Dokončovací práce - malby",null,null,null,{"$f":"SUM(G82:G82)","v":15.9},{"$f":"SUM(H82:H82)","v":1.6000000000000001E-4},{"$f":"SUM(I82:I82)","v":7.0580960000000007E-3},{"$f":"SUM(J82:J82)","v":0},null,{"$f":"SUM(L82:L82)","v":4.1000000000000002E-2},{"$f":"SUM(M82:M82)","v":1.8086371000000001}]
["K","784453601","Malby směsi PRIMALEX tekuté hlinkové bílé dvojnásobné v místnostech v do 3,8 m","m2",44.113100000000003,15.9,15.9,1.6000000000000001E-4,7.0580960000000007E-3,0,null,4.1000000000000002E-2,1.8086371000000001]
["PŘEKLAD YTONG"]
["D","3","Svislé a kompletní konstrukce",null,null,null,{"$f":"SUM(G85:G85)","v":0},{"$f":"SUM(H85:H85)","v":3.304E-2},{"$f":"SUM(I85:I85)","v":0},{"$f":"SUM(J85:J85)","v":0},null,{"$f":"SUM(L85:L85)","v":0.23200000000000001},{"$f":"SUM(M85:M85)","v":0}]
["K","317142321","Překlady nenosné přímé z pórobetonu Ytong v příčkách tl 125 mm pro světlost otvoru do 1010 mm","kus",0,414,0,3.304E-2,0,0,null,0.23200000000000001,0]
["SDK PODHLED ANO"]
["D","763","Konstrukce montované z desek, dílců a panelů",null,null,null,{"$f":"SUM(G88:G89)","v":2504.6020800000001},{"$f":"SUM(H88:H89)","v":1.3140000000000001E-2},{"$f":"SUM(I88:I89)","v":5.5061856000000006E-2},{"$f":"SUM(J88:J89)","v":0},null,{"$f":"SUM(L88:L89)","v":1.008},{"$f":"SUM(M88:M89)","v":4.2239231999999998}]
["K","763131451","SDK podhled deska 1xH2 12,5 bez TI dvouvrstvá spodní kce profil CD+UD","m2",4.1904000000000003,574,2405.2896000000001,1.3140000000000001E-2,5.5061856000000006E-2,0,null,0.96799999999999997,4.0563072]
["K","763131714","SDK podhled základní penetrační nátěr","m2",4.1904000000000003,23.7,99.312480000000008,0,0,0,null,0.04,0.16761600000000001]
["D","784","Dokončovací práce - malby",null,null,null,{"$f":"SUM(G91:G91)","v":66.62736000000001},{"$f":"SUM(H91:H91)","v":1.6000000000000001E-4},{"$f":"SUM(I91:I91)","v":6.7046400000000006E-4},{"$f":"SUM(J91:J91)","v":0},null,{"$f":"SUM(L91:L91)","v":4.1000000000000002E-2},{"$f":"SUM(M91:M91)","v":0.17180640000000003}]
["K","784453601","Malby směsi PRIMALEX tekuté hlinkové bílé dvojnásobné v místnostech v do 3,8 m","m2",4.1904000000000003,15.9,66.62736000000001,1.6000000000000001E-4,6.7046400000000006E-4,0,null,4.1000000000000002E-2,0.17180640000000003]
["PODLAHOVÉ TOPENÍ"]
["D","735","Ústřední vytápění - otopná tělesa",null,null,null,{"$f":"SUM(G94:G94)","v":1400},{"$f":"SUM(H94:H94)","v":0},{"$f":"SUM(I94:I94)","v":0},{"$f":"SUM(J94:J94)","v":0},null,{"$f":"SUM(L94:L94)","v":0},{"$f":"SUM(M94:M94)","v":0}]
["K","735X","Podlahové vytápění - topné rohože D+M","m2",1,1400,1400,0,0,0,null,0,0]
["OTOPNÝ ŽEBŘÍK"]
["D","735","Ústřední vytápění - otopná tělesa",null,null,null,{"$f":"SUM(G97:G97)","v":2600},{"$f":"SUM(H97:H97)","v":1.2999999999999999E-2},{"$f":"SUM(I97:I97)","v":1.2999999999999999E-2},{"$f":"SUM(J97:J97)","v":0},null,{"$f":"SUM(L97:L97)","v":0},{"$f":"SUM(M97:M97)","v":{"$error":"#REF!"}}]
["K","735152112","Otopné těleso panelové D+M","kus",1,2600,2600,1.2999999999999999E-2,1.2999999999999999E-2,0,null,0,{"$error":"#REF!"}]
["BATERIE VANOVÁ PÁKOVÁ"]
["D","725","Zdravotechnika - zařizovací předměty",null,null,null,{"$f":"SUM(G100:G100)","v":2250},{"$f":"SUM(H100:H100)","v":2E-3},{"$f":"SUM(I100:I100)","v":2E-3},{"$f":"SUM(J100:J100)","v":0},null,{"$f":"SUM(L100:L100)","v":0},{"$f":"SUM(M100:M100)","v":0}]
["K","725831315","Baterie vanová páková D+M","soubor",1,2250,2250,2E-3,2E-3]
["BATERIE SPRCHOVÁ ZÁPUSTNÁ S PEVNOU SPRCHOU"]
["D","725","Zdravotechnika - zařizovací předměty",null,null,null,{"$f":"SUM(G103:G103)","v":2250},{"$f":"SUM(H103:H103)","v":2E-3},{"$f":"SUM(I103:I103)","v":4.5},{"$f":"SUM(J103:J103)","v":0},null,{"$f":"SUM(L103:L103)","v":0},{"$f":"SUM(M103:M103)","v":0}]
["K","725841333","Baterie sprchová zápustná s přepínačem a pevnou sprchou D+M","soubor",1,2250,2250,2E-3,4.5]
["BATERIE UMYVADLOVÁ TERMOSTATICKÁ"]
["D","725","Zdravotechnika - zařizovací předměty",null,null,null,{"$f":"SUM(G106:G106)","v":2115},{"$f":"SUM(H106:H106)","v":2E-3},{"$f":"SUM(I106:I106)","v":2E-3},{"$f":"SUM(J106:J106)","v":0},null,{"$f":"SUM(L106:L106)","v":0},{"$f":"SUM(M106:M106)","v":0}]
["K","725822654","Baterie umyvadlová termostatická D+M","soubor",1,2115,2115,2E-3,2E-3,0,0]
["PŘESUN HMOT DEMONTÁŽ"]
["D","9","Ostatní konstrukce a práce-bourání",null,null,null,3819.0008195159999,0,0,0,0,0.15984799999999999,{"$error":"#REF!"}]
["K","979011111","Svislá doprava suti a vybouraných hmot za prvé podlaží","t",1.75139457,260,{"$f":"SUM(G110:G116)","v":3363.6382313160002},{"$f":"SUM(H110:H116)","v":0},{"$f":"SUM(I110:I116)","v":0},{"$f":"SUM(J110:J116)","v":0},null,{"$f":"SUM(L110:L116)","v":0.15984799999999999},{"$f":"SUM(M110:M116)","v":{"$error":"#REF!"}}]
["K","979011121","Svislá doprava suti a vybouraných hmot ZKD podlaží","t",1.75139457,112,196.15619183999999,0,0,0,null,0,{"$error":"#REF!"}]
["K","979081111","Odvoz suti a vybouraných hmot na skládku do 1 km","t",1.75139457,365,639.25901805000001,0,0,0,null,5.0959999999999998E-2,8.9251067287199989E-2]
["K","979081121","Odvoz suti a vybouraných hmot na skládku ZKD 1 km přes 1 km","t",1.75139457,13.8,24.169245066000002,0,0,0,null,0,0]
["K","979082111","Vnitrostaveništní vodorovná doprava suti a vybouraných hmot do 10 m","t",1.74085505,217,377.76554584999997,0,0,0,null,9.7968E-2,0.17054808753840001]
["K","979082121","Vnitrostaveništní vodorovná doprava suti a vybouraných hmot ZKD 5 m přes 10 m","t",1.74085505,24.2,42.128692209999997,0,0,0,null,1.0919999999999999E-2,1.9010137145999997E-2]
["K","979098231","Poplatek za uložení stavebního směsného odpadu na skládce (skládkovné)","t",1.75139457,1190,2084.1595382999999,0,0,0,null,0,0]
["PŘESUN HMOT HSV"]
["D","99","Přesun hmot",null,{"$f":"SUM(E118:E118)","v":8.2015290754799999},180,1476.2752335864,0,0,0,null,{"$f":"SUM(L118:L118)","v":0},{"$f":"SUM(M118:M118)","v":0}]
["K","998011031"," Přesun hmot pro budovy z bloků výšky do 6 m","t",8.2015290754799999,180,1476.2752335864,0,0,0,null,0,0]
["PŘESUN HMOT PSV 771 PODLAHY Z DLAŽDIC"]
["D","771","Podlahy z dlaždic",null,{"$f":"SUM(E121:E121)","v":0.63486485640000012},{"$f":"SUM(F121:F121)","v":446},{"$f":"SUM(G121:G121)","v":283.14972595440008}]
["K","998771101","Přesun hmot pro podlahy z dlaždic v objektech v do 6 m","t",0.63486485640000012,446,283.14972595440008]
["PŘESUN HMOT PSV 781 OBKLADY KERAMICKÉ"]
["D","781","Dokončovací práce - obklady keramické",null,{"$f":"SUM(E124:E124)","v":4.0979292184000009},{"$f":"SUM(F124:F124)","v":446},{"$f":"SUM(G124:G124)","v":1827.6764314064003}]
["K","998781101","Přesun hmot pro obklady keramické v objektech v do 6 m","t",4.0979292184000009,446,1827.6764314064003]
["PŘESUN HMOT PSV 763 KONSTRUKCE MONTOVANÉ Z DESEK"]
["D","763","Konstrukce montované z desek, dílců a panelů",null,{"$f":"SUM(E127:E127)","v":4.9643482719999996},{"$f":"SUM(F127:F127)","v":782},{"$f":"SUM(G127:G127)","v":3882.1203487039998}]
["K","998763301","Přesun hmot pro sádrokartonové konstrukce v objektech v do 6 m","t",4.9643482719999996,782,3882.1203487039998]
["PŘESUN HMOT PSV 766 KONSTRUKCE TRUHLÁŘSKÉ"]
["D","766","Konstrukce truhlářské",null,{"$f":"SUM(E130:E130)","v":19.559899999999999},{"$f":"SUM(F130:F130)","v":629},{"$f":"SUM(G130:G130)","v":12303.177099999999}]
["K","998766101","Přesun hmot pro konstrukce truhlářské v objektech v do 6 m","t",19.559899999999999,629,12303.177099999999]
["PŘESUN HMOT DEMONTÁŽ ZDRAVOTECHNIKA"]
["D","725","Zdravotechnika - zařizovací předměty",null,{"$f":"SUM(E133:E133)","v":1.053952E-2},{"$f":"SUM(F133:F133)","v":1080},{"$f":"SUM(G133:G133)","v":11.3826816},0,0,0,null,0.29154799999999997,3.0727759769599997E-3]
["K","725590811","Přemístění vnitrostaveništní demontovaných pro zařizovací předměty v objektech výšky do 6 m","t",1.053952E-2,1080,11.3826816,0,0,0,null,0.29154799999999997,3.0727759769599997E-3]
["PŘESUN HMOT PSV 725 ZDRAVOTECHNIKA"]
["D","725","Zdravotechnika - zařizovací předměty",null,{"$f":"SUM(E136:E136)","v":0.29832000000000003},{"$f":"SUM(F136:F136)","v":547},{"$f":"SUM(G136:G136)","v":163.18104000000002}]
["K","998725101","Přesun hmot pro zařizovací předměty v objektech v do 6 m","t",0.29832000000000003,547,163.18104000000002]
["PŘESUN HMOT PSV 711 IZOLACE PROTI VODĚ"]
["D","711","Izolace proti vodě, vlhkosti a plynům",null,{"$f":"SUM(E139:E139)","v":6.7744499999999999E-2},{"$f":"SUM(F139:F139)","v":875},{"$f":"SUM(G139:G139)","v":59.2764375},0,0,0,null,1.4102999999999999E-2,9.5540068349999989E-4]
["K","998711101","Přesun hmot pro izolace proti vodě, vlhkosti a plynům v objektech výšky do 6 m","t",6.7744499999999999E-2,875,59.2764375,0,0,0,null,1.4102999999999999E-2,9.5540068349999989E-4]
["OSTATNÍ"]
["D","99","Přesun hmot",null,{"$f":"SUM(E142:E143)","v":8.3808000000000007},{"$f":"SUM(F142:F143)","v":161.60000000000002},{"$f":"SUM(G142:G143)","v":677.1686400000001}]
["K","949121111","Lešení lehké pomocné kozové dílcové o výšce lešeňové podlahy do 1,2 m","m2",4.1904000000000003,89.7,375.87888000000004,0,0,0,null,0.13400000000000001,0.56151360000000006]
["K","952901111","Vyčištění budov bytové a občanské výstavby při výšce podlaží do 4 m","m2",4.1904000000000003,71.900000000000006,301.28976000000006,0,4.0000000000000003E-5,0,null,0.308,1.2906432000000001]

{"sheet":"balíčky","index":7,"n_rows":690,"n_cols":16383,"rows_kept":690,"cut":false,"hidden":true,"merged":[]}
[]
["TV","Kód položky","Popis","MJ","Množství","J. cena ","Celková cena","Jednotková hmotnost","Celková hmotnost","Jednotková suť","Suť celkem","Nh ","Nh celkem"]
["MATERIÁL POROTHERM"]
[{"$f":"'kros seznam'!B3","v":"D"},{"$f":"'kros seznam'!C3","v":"3"},{"$f":"'kros seznam'!D3","v":"Svislé a kompletní konstrukce"},null,null,null,{"$f":"SUM(G5)","v":17353.871999999999},0.127,4.0813736,0,null,0.61599999999999999,19.7962688]
[{"$f":"'kros seznam'!B10","v":"K"},{"$f":"'kros seznam'!C10","v":"342248112"},{"$f":"'kros seznam'!D10","v":"Příčky POROTHERM tl 115 mm pevnosti P 10 na MVC"},{"$f":"'kros seznam'!E10","v":"m2"},{"$f":"'Navrhovaný stav - pomocný'!E9","v":32.136800000000001},{"$f":"'kros seznam'!G10","v":540},{"$f":"E5*F5","v":17353.871999999999},0.127,{"$f":"E5*H5","v":4.0813736},{"$f":"'kros seznam'!K10","v":0},null,{"$f":"'kros seznam'!L10","v":0.61599999999999999},{"$f":"E5*L5","v":19.7962688}]
[{"$f":"'kros seznam'!B16","v":"D"},{"$f":"'kros seznam'!C16","v":"6"},{"$f":"'kros seznam'!D16","v":"Úpravy povrchů, podlahy a osazování výplní"},null,null,null,{"$f":"SUM(G7)","v":334},1.6969999999999999E-2,0.54536149599999995,0,null,0.51300000000000001,16.4861784]
[{"$f":"'kros seznam'!B23","v":"K"},{"$f":"'kros seznam'!C23","v":"612478111"},{"$f":"'kros seznam'!D23","v":"Vnitřní omítka stěn tl 10 mm ze suché směsi POROTHERM UNIVERSAL"},{"$f":"'kros seznam'!E23","v":"m2"},{"$f":"'Navrhovaný stav - pomocný'!E9","v":32.136800000000001},{"$f":"'kros seznam'!G23","v":334},{"$f":"'kros seznam'!I23","v":334},{"$f":"'kros seznam'!J23","v":1.6969999999999999E-2},{"$f":"H7*E7","v":0.54536149599999995},{"$f":"'kros seznam'!K23","v":0},null,{"$f":"'kros seznam'!L23","v":0.51300000000000001},{"$f":"L7*E7","v":16.4861784}]
[{"$f":"'kros seznam'!B18","v":"K"},{"$f":"'kros seznam'!C18","v":611471620},{"$f":"'kros seznam'!D18","v":"Vyspravení vnitřních prefabrikovaných stěn stěrkovou hmotou do 20 % plochy"},{"$f":"'kros seznam'!E18","v":"m2"},{"$f":"'Navrhovaný stav - pomocný'!E8","v":10.282299999999999},{"$f":"'kros seznam'!G18","v":45.2},{"$f":"'kros seznam'!I24","v":104},{"$f":"'kros seznam'!J18","v":1.5399999999999999E-3},{"$f":"H8*E8","v":1.5834741999999999E-2},{"$f":"'kros seznam'!K18","v":0},null,{"$f":"'kros seznam'!L18","v":7.8E-2},{"$f":"L8*E8","v":0.80201939999999994}]
[{"$f":"'kros seznam'!B20","v":"K"},{"$f":"'kros seznam'!C20","v":"612471411"},{"$f":"'kros seznam'!D20","v":"Tenkovrstvá úprava vnitřních stěn tl do 3 mm aktivovaným štukem"},{"$f":"'kros seznam'!E20","v":"m2"},{"$f":"'Navrhovaný stav - pomocný'!E8","v":10.282299999999999},{"$f":"'kros seznam'!G20","v":81.010000000000005},{"$f":"'kros seznam'!I25","v":161},{"$f":"'kros seznam'!J20","v":4.5044999999999998E-3},{"$f":"H9*E9","v":4.6316620349999997E-2},{"$f":"'kros seznam'!K20","v":0},null,{"$f":"'kros seznam'!L20","v":0.25},{"$f":"L9*E9","v":2.5705749999999998}]
[{"$f":"'kros seznam'!B269","v":"D"},{"$f":"'kros seznam'!C269","v":"784"},{"$f":"'kros seznam'!D269","v":"Dokončovací práce - malby"},null,null,null,{"$f":"SUM(G11)","v":15.9},{"$f":"SUM(H11)","v":1.6000000000000001E-4},1.2483456000000002E-2,0,null,4.1000000000000002E-2,3.1988856000000006]
[{"$f":"'kros seznam'!B270","v":"K"},{"$f":"'kros seznam'!C270","v":"784453601"},{"$f":"'kros seznam'!D270","v":"Malby směsi PRIMALEX tekuté hlinkové bílé dvojnásobné v místnostech v do 3,8 m"},{"$f":"'kros seznam'!E270","v":"m2"},{"$f":"'Navrhovaný stav - pomocný'!E13+'Navrhovaný stav - pomocný'!E14+'Navrhovaný stav - pomocný'!E13+'Navrhovaný stav - pomocný'!E14","v":78.021600000000007},{"$f":"'kros seznam'!G270","v":15.9},{"$f":"'kros seznam'!I270","v":15.9},{"$f":"'kros seznam'!J270","v":1.6000000000000001E-4},{"$f":"H11*E11","v":1.2483456000000002E-2},{"$f":"'kros seznam'!K270","v":0},null,{"$f":"'kros seznam'!L270","v":4.1000000000000002E-2},{"$f":"L11*E11","v":3.1988856000000006}]
[]
["MATERIÁL YTONG"]
[{"$f":"'kros seznam'!B3","v":"D"},{"$f":"'kros seznam'!C3","v":"3"},{"$f":"'kros seznam'!D3","v":"Svislé a kompletní konstrukce"},null,null,null,{"$f":"SUM(G15)","v":19603.448},8.7999999999999995E-2,2.8280384000000001,0,null,0.51500000000000001,16.550452]
[{"$f":"'kros seznam'!B12","v":"K"},{"$f":"'kros seznam'!C12","v":"342272423"},{"$f":"'kros seznam'!D12","v":"Příčky tl 125 mm z pórobetonových přesných příčkovek objemové hmotnosti 500 kg/m3"},{"$f":"'kros seznam'!E12","v":"m2"},{"$f":"'Navrhovaný stav - pomocný'!E9","v":32.136800000000001},{"$f":"'kros seznam'!G12","v":610},{"$f":"E15*F15","v":19603.448},8.7999999999999995E-2,{"$f":"H15*E15","v":2.8280384000000001},{"$f":"'kros seznam'!K12","v":0},null,0.51500000000000001,{"$f":"L15*E15","v":16.550452}]
[{"$f":"'kros seznam'!B16","v":"D"},{"$f":"'kros seznam'!C16","v":"6"},{"$f":"'kros seznam'!D16","v":"Úpravy povrchů, podlahy a osazování výplní"},null,null,null,{"$f":"SUM(G17:G18)","v":284},1.0459999999999999E-2,0.33615092800000002,0,null,0.63800000000000001,20.503278399999999]
[{"$f":"'kros seznam'!B22","v":"K"},{"$f":"'kros seznam'!C22","v":"612474115"},{"$f":"'kros seznam'!D22","v":"Vnitřní omítka pórobetonových stěn tl 8 mm ze suché směsi Ytong"},{"$f":"'kros seznam'!E22","v":"m2"},{"$f":"'Navrhovaný stav - pomocný'!E9","v":32.136800000000001},{"$f":"'kros seznam'!G22","v":180},{"$f":"'kros seznam'!I22","v":180},{"$f":"'kros seznam'!J22","v":9.5999999999999992E-3},{"$f":"H17*E17","v":0.30851328},{"$f":"'kros seznam'!K22","v":0},null,{"$f":"'kros seznam'!L22","v":0.40799999999999997},{"$f":"L17*E17","v":13.1118144}]
[{"$f":"'kros seznam'!B24","v":"K"},{"$f":"'kros seznam'!C24","v":"612481113"},{"$f":"'kros seznam'!D24","v":"Potažení vnitřních stěn sklovláknitým pletivem vypnutým včetně přibití strun"},{"$f":"'kros seznam'!E24","v":"m2"},{"$f":"'Navrhovaný stav - pomocný'!E9","v":32.136800000000001},{"$f":"'kros seznam'!G24","v":104},{"$f":"'kros seznam'!I24","v":104},{"$f":"'kros seznam'!J24","v":8.5999999999999998E-4},{"$f":"E18*H18","v":2.7637648000000001E-2},{"$f":"'kros seznam'!K24","v":0},null,{"$f":"'kros seznam'!L24","v":0.23},{"$f":"L18*E18","v":7.3914640000000009}]
[{"$f":"'kros seznam'!B18","v":"K"},{"$f":"'kros seznam'!C18","v":611471620},{"$f":"'kros seznam'!D18","v":"Vyspravení vnitřních prefabrikovaných stěn stěrkovou hmotou do 20 % plochy"},{"$f":"'kros seznam'!E18","v":"m2"},{"$f":"'Navrhovaný stav - pomocný'!E8","v":10.282299999999999},{"$f":"'kros seznam'!G18","v":45.2},{"$f":"'kros seznam'!I25","v":161},{"$f":"'kros seznam'!J18","v":1.5399999999999999E-3},{"$f":"E19*H19","v":1.5834741999999999E-2},{"$f":"'kros seznam'!K18","v":0},null,{"$f":"'kros seznam'!L18","v":7.8E-2},{"$f":"L19*E19","v":0.80201939999999994}]
[{"$f":"'kros seznam'!B20","v":"K"},{"$f":"'kros seznam'!C20","v":"612471411"},{"$f":"'kros seznam'!D20","v":"Tenkovrstvá úprava vnitřních stěn tl do 3 mm aktivovaným štukem"},{"$f":"'kros seznam'!E20","v":"m2"},{"$f":"'Navrhovaný stav - pomocný'!E8","v":10.282299999999999},{"$f":"'kros seznam'!G20","v":81.010000000000005},{"$f":"'kros seznam'!I26","v":21.6},{"$f":"'kros seznam'!J20","v":4.5044999999999998E-3},{"$f":"E20*H20","v":4.6316620349999997E-2},{"$f":"'kros seznam'!K20","v":0},null,{"$f":"'kros seznam'!L20","v":0.25},{"$f":"L20*E20","v":2.5705749999999998}]
[{"$f":"'kros seznam'!B269","v":"D"},784,{"$f":"'kros seznam'!D269","v":"Dokončovací práce - malby"},null,null,null,{"$f":"SUM(G22)","v":15.9},1.6000000000000001E-4,7.0580960000000007E-3,0,null,4.1000000000000002E-2,1.8086371000000001]
[{"$f":"'kros seznam'!B270","v":"K"},{"$f":"'kros seznam'!C270","v":"784453601"},{"$f":"'kros seznam'!D270","v":"Malby směsi PRIMALEX tekuté hlinkové bílé dvojnásobné v místnostech v do 3,8 m"},{"$f":"'kros seznam'!E270","v":"m2"},{"$f":"'Navrhovaný stav - pomocný'!E13+'Navrhovaný stav - pomocný'!E14+'Navrhovaný stav - pomocný'!E11","v":44.113100000000003},{"$f":"'kros seznam'!G270","v":15.9},{"$f":"'kros seznam'!I270","v":15.9},{"$f":"'kros seznam'!J270","v":1.6000000000000001E-4},{"$f":"E22*H22","v":7.0580960000000007E-3},{"$f":"'kros seznam'!K270","v":0},null,{"$f":"'kros seznam'!L270","v":4.1000000000000002E-2},{"$f":"L22*E22","v":1.8086371000000001}]
[]
["MATERIÁL SÁDROKARTON"]
[{"$f":"'kros seznam'!B132","v":"D"},{"$f":"'kros seznam'!C132","v":"763"},{"$f":"'kros seznam'!D132","v":"Konstrukce montované z desek, dílců a panelů"},null,null,null,{"$f":"SUM(G26:G27)","v":39230.707440000006},4.7620000000000003E-2,1.5303544160000002,0,null,1.36,44.145984000000006]
[{"$f":"'kros seznam'!B139","v":"K"},{"$f":"'kros seznam'!C139","v":"763111434"},{"$f":"'kros seznam'!D139","v":"SDK příčka tl 125 mm profil CW+UW 75 desky 2xH2 12,5 TI 75 mm EI 60 Rw 53 dB"},{"$f":"'kros seznam'!E139","v":"m2"},{"$f":"'Navrhovaný stav - pomocný'!E9","v":32.136800000000001},{"$f":"'kros seznam'!G139","v":1170},{"$f":"E26*F26","v":37600.056000000004},{"$f":"'kros seznam'!J139","v":4.7620000000000003E-2},{"$f":"E26*H26","v":1.5303544160000002},{"$f":"'kros seznam'!K139","v":0},null,{"$f":"'kros seznam'!L139","v":1.296},{"$f":"E26*L26","v":41.649292800000005}]
[{"$f":"'kros seznam'!B134","v":"K"},{"$f":"'kros seznam'!C134","v":"763111717"},{"$f":"'kros seznam'!D134","v":"SDK příčka základní penetrační nátěr"},{"$f":"'kros seznam'!E134","v":"m2"},{"$f":"'Navrhovaný stav - pomocný'!E13+'Navrhovaný stav - pomocný'!E14","v":39.010800000000003},{"$f":"'kros seznam'!G134","v":41.8},{"$f":"E27*F27","v":1630.6514400000001},0,{"$f":"E27*H27","v":0},0,null,6.4000000000000001E-2,{"$f":"E27*L27","v":2.4966912000000003}]
[{"$f":"'kros seznam'!B16","v":"D"},{"$f":"'kros seznam'!C16","v":"6"},{"$f":"'kros seznam'!D16","v":"Úpravy povrchů, podlahy a osazování výplní"},null,null,null,{"$f":"SUM(G29:G30)","v":1297.7290829999999},{"$f":"SUM(H29:H30)","v":6.0444999999999995E-3},6.2151362349999996E-2,0,null,0.32800000000000001,3.3725943999999997]
[{"$f":"'kros seznam'!B18","v":"K"},{"$f":"'kros seznam'!C18","v":611471620},{"$f":"'kros seznam'!D18","v":"Vyspravení vnitřních prefabrikovaných stěn stěrkovou hmotou do 20 % plochy"},{"$f":"'kros seznam'!E18","v":"m2"},{"$f":"'Navrhovaný stav - pomocný'!E8","v":10.282299999999999},{"$f":"'kros seznam'!G18","v":45.2},{"$f":"E29*F29","v":464.75995999999998},{"$f":"'kros seznam'!J18","v":1.5399999999999999E-3},{"$f":"E29*H29","v":1.5834741999999999E-2},{"$f":"'kros seznam'!K18","v":0},null,{"$f":"'kros seznam'!L18","v":7.8E-2},{"$f":"E29*L29","v":0.80201939999999994}]
[{"$f":"'kros seznam'!B20","v":"K"},{"$f":"'kros seznam'!C20","v":"612471411"},{"$f":"'kros seznam'!D20","v":"Tenkovrstvá úprava vnitřních stěn tl do 3 mm aktivovaným štukem"},{"$f":"'kros seznam'!E20","v":"m2"},{"$f":"'Navrhovaný stav - pomocný'!E8","v":10.282299999999999},{"$f":"'kros seznam'!G20","v":81.010000000000005},{"$f":"E30*F30","v":832.96912299999997},{"$f":"'kros seznam'!J20","v":4.5044999999999998E-3},{"$f":"E30*H30","v":4.6316620349999997E-2},{"$f":"'kros seznam'!K20","v":0},null,{"$f":"'kros seznam'!L20","v":0.25},{"$f":"E30*L30","v":2.5705749999999998}]
[{"$f":"'kros seznam'!B269","v":"D"},{"$f":"'kros seznam'!C269","v":"784"},{"$f":"'kros seznam'!D269","v":"Dokončovací práce - malby"},null,null,null,{"$f":"SUM(G32)","v":701.39829000000009},1.6000000000000001E-4,7.0580960000000007E-3,0,null,4.1000000000000002E-2,1.8086371000000001]
[{"$f":"'kros seznam'!B270","v":"K"},{"$f":"'kros seznam'!C270","v":"784453601"},{"$f":"'kros seznam'!D270","v":"Malby směsi PRIMALEX tekuté hlinkové bílé dvojnásobné v místnostech v do 3,8 m"},{"$f":"'kros seznam'!E270","v":"m2"},{"$f":"'Navrhovaný stav - pomocný'!E13+'Navrhovaný stav - pomocný'!E14+'Navrhovaný stav - pomocný'!E11","v":44.113100000000003},{"$f":"'kros seznam'!G270","v":15.9},{"$f":"F32*E32","v":701.39829000000009},{"$f":"'kros seznam'!J270","v":1.6000000000000001E-4},{"$f":"E32*H32","v":7.0580960000000007E-3},{"$f":"'kros seznam'!K270","v":0},null,{"$f":"'kros seznam'!L270","v":4.1000000000000002E-2},{"$f":"E32*L32","v":1.8086371000000001}]
[]
["MATERIÁL TECHNISTONE LIGHT"]
[{"$f":"'kros seznam'!B147","v":0},{"$f":"'kros seznam'!C132","v":"763"},{"$f":"'kros seznam'!D132","v":"Konstrukce montované z desek, dílců a panelů"},null,null,null,{"$f":"SUM(G36:G38)","v":39288.678980000004},{"$f":"SUM(H36:H38)","v":0.24000000000000002},3.3419319999999999,0,null,6.4000000000000001E-2,2.8232384000000001]
[{"$f":"'kros seznam'!B148","v":"K"},{"$f":"'kros seznam'!C148","v":"763111X1"},{"$f":"'kros seznam'!D148","v":"Technistone předstěna - rastr, PUR, montáž"},{"$f":"'kros seznam'!E148","v":"m2"},{"$f":"'Navrhovaný stav - pomocný'!E8","v":10.282299999999999},{"$f":"'kros seznam'!G148","v":710},{"$f":"F36*E36","v":7300.4329999999991},{"$f":"'kros seznam'!J148","v":0.2},{"$f":"E36*H36","v":2.05646},{"$f":"'kros seznam'!K148","v":0},null,{"$f":"'kros seznam'!L148","v":0},{"$f":"L36*E36","v":0}]
[{"$f":"'kros seznam'!B150","v":"K"},{"$f":"'kros seznam'!C150","v":"763111X3"},{"$f":"'kros seznam'!D150","v":"Technistone stěna - rastr, PUR, montáž"},{"$f":"'kros seznam'!E150","v":"m2"},{"$f":"'Navrhovaný stav - pomocný'!E9","v":32.136800000000001},{"$f":"'kros seznam'!G150","v":938},{"$f":"F37*E37","v":30144.3184},{"$f":"'kros seznam'!J150","v":0.04},{"$f":"H37*E37","v":1.2854720000000002},{"$f":"'kros seznam'!K150","v":0},null,{"$f":"'kros seznam'!L150","v":0},{"$f":"L37*E37","v":0}]
[{"$f":"'kros seznam'!B134","v":"K"},{"$f":"'kros seznam'!C134","v":"763111717"},{"$f":"'kros seznam'!D134","v":"SDK příčka základní penetrační nátěr"},{"$f":"'kros seznam'!E134","v":"m2"},{"$f":"'Navrhovaný stav - pomocný'!E11+'Navrhovaný stav - pomocný'!E13+'Navrhovaný stav - pomocný'!E14","v":44.113100000000003},{"$f":"'kros seznam'!G134","v":41.8},{"$f":"F38*E38","v":1843.92758},0,{"$f":"E38*H38","v":0},0,null,6.4000000000000001E-2,{"$f":"E38*L38","v":2.8232384000000001}]
[{"$f":"'kros seznam'!B269","v":"D"},{"$f":"'kros seznam'!C269","v":"784"},{"$f":"'kros seznam'!D269","v":"Dokončovací práce - malby"},null,null,null,{"$f":"SUM(G40)","v":701.39829000000009},0,0,0,null,0,0]
[{"$f":"'kros seznam'!B270","v":"K"},{"$f":"'kros seznam'!C270","v":"784453601"},{"$f":"'kros seznam'!D270","v":"Malby směsi PRIMALEX tekuté hlinkové bílé dvojnásobné v místnostech v do 3,8 m"},{"$f":"'kros seznam'!E270","v":"m2"},{"$f":"'Navrhovaný stav - pomocný'!E11+'Navrhovaný stav - pomocný'!E13+'Navrhovaný stav - pomocný'!E14","v":44.113100000000003},{"$f":"'kros seznam'!G270","v":15.9},{"$f":"F40*E40","v":701.39829000000009},{"$f":"'kros seznam'!J277","v":0},{"$f":"E40*H40","v":0},{"$f":"'kros seznam'!K277","v":0},null,{"$f":"'kros seznam'!L277","v":0},{"$f":"E40*L40","v":0}]
[]
["TECHNISTONE LIGHT OBKLAD"]
[{"$f":"'kros seznam'!B261","v":"D"},{"$f":"'kros seznam'!C261","v":"782"},{"$f":"'kros seznam'!D261","v":"Dokončovací práce - obklady z kamene"},null,null,null,{"$f":"SUM(G44:G45)","v":31065.195000000003},{"$f":"SUM(H44:H45)","v":3.7000000000000005E-2},8.6681500000000009E-2,0,null,0.38200000000000001,6.7081110000000006]
[{"$f":"'kros seznam'!B262","v":"K"},{"$f":"'kros seznam'!C262","v":"782111120"},{"$f":"'kros seznam'!D262","v":"Montáž obkladu kámen měkký stěn řemínky tloušťky do 25 mm se zednickou výpomocí"},{"$f":"'kros seznam'!E262","v":"m2"},{"$f":"'Navrhovaný stav - pomocný'!E10","v":17.560500000000001},{"$f":"'kros seznam'!G262","v":1390},{"$f":"F44*E44","v":24409.095000000001},3.0000000000000001E-3,{"$f":"E44*H44","v":5.2681500000000006E-2},{"$f":"'kros seznam'!K262","v":0},null,0.38200000000000001,{"$f":"L44*E44","v":6.7081110000000006}]
[{"$f":"'kros seznam'!B263","v":"M"},{"$f":"'kros seznam'!C263","v":"583X2"},{"$f":"'kros seznam'!D263","v":"Technistone Light - obklad"},{"$f":"'kros seznam'!E263","v":"m2"},{"$f":"'Navrhovaný stav'!K60","v":22.187000000000005},{"$f":"'Navrhovaný stav'!L60","v":300},{"$f":"F45*E45","v":6656.1000000000013},3.4000000000000002E-2,{"$f":"'kros seznam'!J263","v":3.4000000000000002E-2},{"$f":"'kros seznam'!K263","v":0},null,0,{"$f":"L45*E45","v":0}]
[]
["TECHNISTONE LIGHT DLAŽBA"]
[{"$f":"'kros seznam'!B215","v":"D"},{"$f":"'kros seznam'!C215","v":"772"},{"$f":"'kros seznam'!D215","v":"Podlahy z kamene"},null,null,null,{"$f":"SUM(G49:G50)","v":2671.7004000000006},0.04,0.11856012000000003,0,0.89300000000000002,0.89300000000000002,2.4394974]
[{"$f":"'kros seznam'!B216","v":"K"},{"$f":"'kros seznam'!C216","v":"772521140"},{"$f":"'kros seznam'!D216","v":"Kladení dlažby z kamene pravoúhlých desek a dlaždic tl do 30 mm"},{"$f":"'kros seznam'!E216","v":"m2"},{"$f":"'Navrhovaný stav - pomocný'!E15","v":2.7318000000000002},{"$f":"'kros seznam'!G216","v":615},{"$f":"F49*E49","v":1680.0570000000002},6.0000000000000001E-3,{"$f":"H49*E49","v":1.6390800000000001E-2},{"$f":"'kros seznam'!K216","v":0},{"$f":"'kros seznam'!L216","v":0.89300000000000002},0.89300000000000002,{"$f":"L49*E49","v":2.4394974}]
[{"$f":"'kros seznam'!B217","v":"M"},{"$f":"'kros seznam'!C217","v":"583X1"},{"$f":"'kros seznam'!D217","v":"Technistone Light - dlažba"},{"$f":"'kros seznam'!E217","v":"m2"},{"$f":"'Navrhovaný stav'!K67","v":3.0049800000000007},{"$f":"'Navrhovaný stav'!L67","v":"330"},{"$f":"F50*E50","v":991.64340000000027},3.4000000000000002E-2,{"$f":"H50*E50","v":0.10216932000000004},{"$f":"'kros seznam'!K217","v":0},{"$f":"'kros seznam'!L217","v":0},0,{"$f":"L50*E50","v":0}]
[]
["PODLAHY"]
[{"$f":"'kros seznam'!B16","v":"D"},{"$f":"'kros seznam'!C16","v":"6"},{"$f":"'kros seznam'!D16","v":"Úpravy povrchů, podlahy a osazování výplní"},null,null,null,{"$f":"SUM(G54:G56)","v":1237.7785800000001},{"$f":"SUM(H54:H56)","v":3.3094000000000001},0.33696097368,0,null,19.263999999999999,0.96694792800000007]
[{"$f":"'kros seznam'!B40","v":"K"},{"$f":"'kros seznam'!C40","v":"631311114"},{"$f":"'kros seznam'!D40","v":" Mazanina tl do 80 mm z betonu prostého tř. C 16/20"},{"$f":"'kros seznam'!E40","v":"m3"},{"$f":"0.05*'Navrhovaný stav - pomocný'!E15","v":0.13659000000000002},{"$f":"'kros seznam'!G40","v":3230},{"$f":"F54*E54","v":441.18570000000005},{"$f":"'kros seznam'!J40","v":2.2563399999999998},{"$f":"E54*H54","v":0.30819348060000001},{"$f":"'kros seznam'!K40","v":0},null,{"$f":"'kros seznam'!L40","v":3.2130000000000001},{"$f":"L54*E54","v":0.43886367000000004}]
[{"$f":"'kros seznam'!B41","v":"K"},{"$f":"'kros seznam'!C41","v":"631319171"},{"$f":"'kros seznam'!D41","v":" Příplatek k mazanině tl do 80 mm za stržení povrchu spodní vrstvy před vložením výztuže"},{"$f":"'kros seznam'!E41","v":"m3"},{"$f":"0.05*'Navrhovaný stav - pomocný'!E15","v":0.13659000000000002},{"$f":"'kros seznam'!G41","v":212},{"$f":"F55*E55","v":28.957080000000005},{"$f":"'kros seznam'!J41","v":0},{"$f":"E55*H55","v":0},{"$f":"'kros seznam'!K41","v":0},null,{"$f":"'kros seznam'!L41","v":0.82},{"$f":"L55*E55","v":0.1120038}]
[{"$f":"'kros seznam'!B42","v":"K"},{"$f":"'kros seznam'!C42","v":"631362021"},{"$f":"'kros seznam'!D42","v":" Výztuž mazanin svařovanými sítěmi Kari"},{"$f":"'kros seznam'!E42","v":"t"},{"$f":"0.01*'Navrhovaný stav - pomocný'!E15","v":2.7318000000000002E-2},{"$f":"'kros seznam'!G42","v":28100},{"$f":"F56*E56","v":767.63580000000002},{"$f":"'kros seznam'!J42","v":1.0530600000000001},{"$f":"E56*H56","v":2.8767493080000005E-2},{"$f":"'kros seznam'!K42","v":0},null,{"$f":"'kros seznam'!L42","v":15.231},{"$f":"L56*E56","v":0.41608045800000004}]
[{"$f":"'kros seznam'!B66","v":"D"},{"$f":"'kros seznam'!C66","v":"713"},{"$f":"'kros seznam'!D66","v":"Izolace tepelné"},null,null,null,{"$f":"SUM(G58:G62)","v":390.1466216},6.0039215686274517E-4,1.5635688235294122E-3,0,0,8.4999999999999992E-2,0.2349348]
[{"$f":"'kros seznam'!B67","v":"K"},{"$f":"'kros seznam'!C67","v":"713121211"},{"$f":"'kros seznam'!D67","v":"Montáž izolace tepelné podlah volně kladenými okrajovými pásky"},{"$f":"'kros seznam'!E67","v":"m"},{"$f":"'Navrhovaný stav - pomocný'!C10","v":11.46},{"$f":"'kros seznam'!G67","v":12.5},{"$f":"F58*E58","v":143.25},0,{"$f":"H58*E58","v":0},0,null,0,{"$f":"L58*E58","v":0}]
[{"$f":"'kros seznam'!B68","v":"M"},{"$f":"'kros seznam'!C68","v":"631402730"},{"$f":"'kros seznam'!D68","v":"pásek okrajový ROCKWOOL STEPROCK š 80 mm tl.12 mm"},{"$f":"'kros seznam'!E68","v":"m"},{"$f":"'Navrhovaný stav - pomocný'!C11","v":2.59},{"$f":"'kros seznam'!G68","v":12.2},{"$f":"F59*E59","v":31.597999999999995},0,{"$f":"H59*E59","v":0},0,null,0,{"$f":"L59*E59","v":0}]
[{"$f":"'kros seznam'!B69","v":"K"},{"$f":"'kros seznam'!C69","v":"713121111"},{"$f":"'kros seznam'!D69","v":"Montáž izolace tepelné podlah volně kladenými rohožemi, pásy, dílci, deskami 1 vrstva"},{"$f":"'kros seznam'!E69","v":"m2"},{"$f":"'Navrhovaný stav - pomocný'!E15","v":2.7318000000000002},{"$f":"'kros seznam'!G69","v":16.7},{"$f":"F60*E60","v":45.62106},0,{"$f":"E60*H60","v":0},{"$f":"'kros seznam'!K69","v":0},null,0.06,{"$f":"L60*E60","v":0.163908}]
[{"$f":"'kros seznam'!B70","v":"M"},{"$f":"'kros seznam'!C70","v":"283766310"},{"$f":"'kros seznam'!D70","v":"deska polystyrénová pro snížení kročejového hluku POLYFON-EPS T 3500 1000x500x20mm"},{"$f":"'kros seznam'!E70","v":"m2"},{"$f":"1.1*'Navrhovaný stav - pomocný'!E15","v":3.0049800000000007},{"$f":"'kros seznam'!G70","v":42},{"$f":"F61*E61","v":126.20916000000003},{"$f":"0.049/102","v":4.8039215686274513E-4},{"$f":"E61*H61","v":1.4435688235294121E-3},{"$f":"'kros seznam'!K70","v":0},null,0,{"$f":"L61*E61","v":0}]
[{"$f":"'kros seznam'!B71","v":"K"},{"$f":"'kros seznam'!C71","v":"713191132"},{"$f":"'kros seznam'!D71","v":"Překrytí izolace tepelné separační fólií tl 0,2 mm u podlah, střech nebo vrchem stropů"},{"$f":"'kros seznam'!E71","v":"m2"},{"$f":"1.04*'Navrhovaný stav - pomocný'!E15","v":2.8410720000000005},{"$f":"'kros seznam'!G71","v":15.3},{"$f":"F62*E62","v":43.468401600000007},1.2E-4,{"$f":"'kros seznam'!J71","v":1.2E-4},{"$f":"'kros seznam'!K71","v":0},null,2.5000000000000001E-2,{"$f":"L62*E62","v":7.1026800000000015E-2}]
[]
["IZOLACE"]
[{"$f":"'kros seznam'!B60","v":"D"},{"$f":"'kros seznam'!C60","v":"711"},{"$f":"'kros seznam'!D60","v":"Izolace proti vodě, vlhkosti a plynům"},null,null,null,{"$f":"SUM(G66:G67)","v":4480.0110000000004},{"$f":"SUM(H66:H67)","v":9.4599999999999997E-3},6.7744499999999999E-2,0,null,0.52,3.8951160000000002]
[{"$f":"'kros seznam'!B61","v":"K"},{"$f":"'kros seznam'!C61","v":"711493112"},{"$f":"'kros seznam'!D61","v":"Izolace proti podpovrchové a tlakové vodě vodorovná SCHOMBURG těsnicí stěrkou AQUAFIN-1K"},{"$f":"'kros seznam'!E61","v":"m2"},{"$f":"'Navrhovaný stav - pomocný'!E22","v":3.8778000000000006},{"$f":"'kros seznam'!G61","v":295},{"$f":"F66*E66","v":1143.9510000000002},{"$f":"'kros seznam'!J61","v":4.4999999999999997E-3},{"$f":"E66*H66","v":1.74501E-2},{"$f":"'kros seznam'!K61","v":0},null,{"$f":"'kros seznam'!L61","v":0.22},{"$f":"L66*E66","v":0.8531160000000001}]
[{"$f":"'kros seznam'!B62","v":"K"},{"$f":"'kros seznam'!C62","v":"711493122"},{"$f":"'kros seznam'!D62","v":"Izolace proti podpovrchové a tlakové vodě svislá SCHOMBURG těsnicí stěrkou AQUAFIN-1K"},{"$f":"'kros seznam'!E62","v":"m2"},{"$f":"'Navrhovaný stav - pomocný'!E23","v":10.14},{"$f":"'kros seznam'!G62","v":329},{"$f":"F67*E67","v":3336.0600000000004},{"$f":"'kros seznam'!J62","v":4.96E-3},{"$f":"E67*H67","v":5.0294400000000003E-2},{"$f":"'kros seznam'!K62","v":0},null,{"$f":"'kros seznam'!L62","v":0.3},{"$f":"L67*E67","v":3.0420000000000003}]
[]
["DVEŘE OCELOVÉ ZÁRUBNĚ 60 cm"]
[{"$f":"'kros seznam'!B16","v":"D"},{"$f":"'kros seznam'!C16","v":"6"},{"$f":"'kros seznam'!D16","v":"Úpravy povrchů, podlahy a osazování výplní"},null,null,null,{"$f":"SUM(G71:G73)","v":0},2.7269999999999999E-2,0,0,null,0.83199999999999996,0]
[{"$f":"'kros seznam'!B17","v":"K"},{"$f":"'kros seznam'!C17","v":"610991111"},{"$f":"'kros seznam'!D17","v":"Zakrývání vnitřních a vnějších výplní otvorů, předmětů a konstrukcí folií a páskou"},{"$f":"'kros seznam'!E17","v":"m2"},{"$f":"IF(A69='Navrhovaný stav - pomocný'!$C$51,'Navrhovaný stav'!D39,0)+IF(A69='Navrhovaný stav - pomocný'!$C$52,'Navrhovaný stav'!E39,0)","v":0},{"$f":"'kros seznam'!G17","v":30.6},{"$f":"F71*E71","v":0},{"$f":"'kros seznam'!J17","v":9.0000000000000006E-5},0,{"$f":"'kros seznam'!K17","v":0},null,{"$f":"'kros seznam'!L17","v":7.8E-2},{"$f":"L71*E71","v":0}]
[{"$f":"'kros seznam'!B29","v":"K"},{"$f":"'kros seznam'!C29","v":"642942111"},{"$f":"'kros seznam'!D29","v":"Osazování zárubní nebo rámů dveřních kovových do 2,5 m2 na MC"},{"$f":"'kros seznam'!E29","v":"kus"},{"$f":"IF(A69='Navrhovaný stav - pomocný'!$C$51,'Navrhovaný stav - pomocný'!$E$51,0)+IF(A69='Navrhovaný stav - pomocný'!$C$52,'Navrhovaný stav - pomocný'!$E$52,0)","v":0},{"$f":"'kros seznam'!G29","v":211},0,{"$f":"'kros seznam'!J29","v":1.6979999999999999E-2},0,{"$f":"'kros seznam'!K29","v":0},null,{"$f":"'kros seznam'!L29","v":0.754},0]
[{"$f":"'kros seznam'!B30","v":"M"},{"$f":"'kros seznam'!C30","v":"553311000"},{"$f":"'kros seznam'!D30","v":"zárubeň ocelová pro běžné zdění H 95 600 L/P"},{"$f":"'kros seznam'!E30","v":"kus"},{"$f":"+E72","v":0},{"$f":"'kros seznam'!G30","v":577},0,{"$f":"'kros seznam'!J30","v":1.0200000000000001E-2},0,{"$f":"'kros seznam'!K30","v":0},null,{"$f":"'kros seznam'!L30","v":0},0]
[{"$f":"'kros seznam'!B159","v":"D"},{"$f":"'kros seznam'!C159","v":"766"},{"$f":"'kros seznam'!D159","v":"Konstrukce truhlářské"},null,null,null,{"$f":"SUM(G75:G77)","v":0},1.2999999999999999E-2,0,0,null,1.6819999999999999,0]
[{"$f":"'kros seznam'!B160","v":"K"},{"$f":"'kros seznam'!C160","v":"766X"},{"$f":"'kros seznam'!D160","v":"Dveřního kování D+M"},{"$f":"'kros seznam'!E160","v":"kus"},{"$f":"+E73","v":0},{"$f":"'kros seznam'!G160","v":350},0,0,0,0,null,0,0]
[{"$f":"'kros seznam'!B162","v":"K"},{"$f":"'kros seznam'!C162","v":"766660001"},{"$f":"'kros seznam'!D162","v":"Montáž dveřních křídel otvíravých 1křídlových š do 0,8 m do ocelové zárubně"},{"$f":"'kros seznam'!E162","v":"kus"},{"$f":"+E75","v":0},{"$f":"'kros seznam'!G162","v":526},0,{"$f":"'kros seznam'!J162","v":0},0,{"$f":"'kros seznam'!K162","v":0},null,{"$f":"'kros seznam'!L162","v":1.6819999999999999},0]
[{"$f":"'kros seznam'!B163","v":"M"},{"$f":"'kros seznam'!C163","v":"611617130"},{"$f":"'kros seznam'!D163","v":"dveře vnitřní 1křídlové 60x197 cm"},{"$f":"'kros seznam'!E163","v":"kus"},{"$f":"+E76","v":0},{"$f":"'kros seznam'!G163","v":2200},0,1.2999999999999999E-2,{"$f":"H77*E77","v":0},{"$f":"'kros seznam'!K163","v":0},null,0,0]
[{"$f":"'kros seznam'!B267","v":"D"},{"$f":"'kros seznam'!C267","v":"783"},{"$f":"'kros seznam'!D267","v":"Dokončovací práce - nátěry"},null,null,null,{"$f":"SUM(G79)","v":0},7.5000000000000002E-4,0,0,null,0.42399999999999999,0]
[{"$f":"'kros seznam'!B268","v":"K"},{"$f":"'kros seznam'!C268","v":783221112},{"$f":"'kros seznam'!D268","v":"Nátěry syntetické KDK barva dražší lesklý povrch 1x antikorozní, 1x základní, 2x email"},{"$f":"'kros seznam'!E268","v":"m2"},{"$f":"IF(A69='Navrhovaný stav - pomocný'!$C$51,'Navrhovaný stav'!D40,0)+IF(A69='Navrhovaný stav - pomocný'!$C$52,'Navrhovaný stav'!E40,0)","v":0},{"$f":"'kros seznam'!G268","v":249},{"$f":"F79*E79","v":0},{"$f":"'kros seznam'!J268","v":7.5000000000000002E-4},0,{"$f":"'kros seznam'!K268","v":0},null,{"$f":"'kros seznam'!L268","v":0.42399999999999999},0]
[]
["DVEŘE OCELOVÉ ZÁRUBNĚ 70 cm"]
[{"$f":"'kros seznam'!B16","v":"D"},{"$f":"'kros seznam'!C16","v":"6"},{"$f":"'kros seznam'!D16","v":"Úpravy povrchů, podlahy a osazování výplní"},null,null,null,{"$f":"SUM(G83:G85)","v":0},{"$f":"SUM(H83:H85)","v":2.7379999999999998E-2},{"$f":"SUM(I83:I85)","v":0},{"$f":"SUM(J83:J85)","v":0},null,{"$f":"SUM(L83:L85)","v":0.83199999999999996},{"$f":"SUM(M83:M85)","v":0}]
[{"$f":"'kros seznam'!B17","v":"K"},{"$f":"'kros seznam'!C17","v":"610991111"},{"$f":"'kros seznam'!D17","v":"Zakrývání vnitřních a vnějších výplní otvorů, předmětů a konstrukcí folií a páskou"},{"$f":"'kros seznam'!E17","v":"m2"},{"$f":"IF(A81='Navrhovaný stav - pomocný'!$C$51,'Navrhovaný stav'!D39,0)+IF(A81='Navrhovaný stav - pomocný'!$C$52,'Navrhovaný stav'!E39,0)","v":0},{"$f":"'kros seznam'!G17","v":30.6},{"$f":"F83*E83","v":0},0,0,{"$f":"'kros seznam'!K17","v":0},null,7.8E-2,{"$f":"L83*E83","v":0}]
[{"$f":"'kros seznam'!B29","v":"K"},{"$f":"'kros seznam'!C29","v":"642942111"},{"$f":"'kros seznam'!D29","v":"Osazování zárubní nebo rámů dveřních kovových do 2,5 m2 na MC"},{"$f":"'kros seznam'!E29","v":"kus"},{"$f":"IF(A81='Navrhovaný stav - pomocný'!$C$51,'Navrhovaný stav - pomocný'!$E$51,0)+IF(A81='Navrhovaný stav - pomocný'!$C$52,'Navrhovaný stav - pomocný'!$E$52,0)","v":0},{"$f":"'kros seznam'!G29","v":211},0,{"$f":"'kros seznam'!J29","v":1.6979999999999999E-2},0,{"$f":"'kros seznam'!K29","v":0},null,{"$f":"'kros seznam'!L29","v":0.754},0]
[{"$f":"'kros seznam'!B31","v":"M"},{"$f":"'kros seznam'!C31","v":"553311020"},{"$f":"'kros seznam'!D31","v":"zárubeň ocelová pro běžné zdění H 95 700 L/P"},{"$f":"'kros seznam'!E31","v":"kus"},{"$f":"+E84","v":0},{"$f":"'kros seznam'!G31","v":588},0,{"$f":"'kros seznam'!J31","v":1.04E-2},0,{"$f":"'kros seznam'!K31","v":0},null,{"$f":"'kros seznam'!L31","v":0},0]
[{"$f":"'kros seznam'!B159","v":"D"},{"$f":"'kros seznam'!C159","v":"766"},{"$f":"'kros seznam'!D159","v":"Konstrukce truhlářské"},null,null,null,{"$f":"SUM(G87:G89)","v":0},{"$f":"SUM(H87:H89)","v":1.4E-2},0,0,null,1.6819999999999999,0]
[{"$f":"'kros seznam'!B160","v":"K"},{"$f":"'kros seznam'!C160","v":"766X"},{"$f":"'kros seznam'!D160","v":"Dveřního kování D+M"},{"$f":"'kros seznam'!E160","v":"kus"},{"$f":"+E85","v":0},{"$f":"'kros seznam'!G160","v":350},0,0,0,0,null,0,0]
[{"$f":"'kros seznam'!B162","v":"K"},{"$f":"'kros seznam'!C162","v":"766660001"},{"$f":"'kros seznam'!D162","v":"Montáž dveřních křídel otvíravých 1křídlových š do 0,8 m do ocelové zárubně"},{"$f":"'kros seznam'!E162","v":"kus"},{"$f":"+E87","v":0},{"$f":"'kros seznam'!G162","v":526},0,{"$f":"'kros seznam'!J162","v":0},0,{"$f":"'kros seznam'!K162","v":0},null,{"$f":"'kros seznam'!L162","v":1.6819999999999999},0]
[{"$f":"'kros seznam'!B164","v":"M"},{"$f":"'kros seznam'!C164","v":"611617170"},{"$f":"'kros seznam'!D164","v":"dveře vnitřní 1křídlové 70x197 cm"},{"$f":"'kros seznam'!E164","v":"kus"},{"$f":"+E88","v":0},{"$f":"'Navrhovaný stav'!L48","v":1500},0,{"$f":"'kros seznam'!J164","v":1.4E-2},0,{"$f":"'kros seznam'!K164","v":0},null,{"$f":"'kros seznam'!L164","v":0},0]
[{"$f":"'kros seznam'!B267","v":"D"},{"$f":"'kros seznam'!C267","v":"783"},{"$f":"'kros seznam'!D267","v":"Dokončovací práce - nátěry"},null,null,null,{"$f":"SUM(G91)","v":0},7.5000000000000002E-4,0,0,null,0.42399999999999999,0]
[{"$f":"'kros seznam'!B268","v":"K"},{"$f":"'kros seznam'!C268","v":783221112},{"$f":"'kros seznam'!D268","v":"Nátěry syntetické KDK barva dražší lesklý povrch 1x antikorozní, 1x základní, 2x email"},{"$f":"'kros seznam'!E268","v":"m2"},{"$f":"IF(A81='Navrhovaný stav - pomocný'!$C$51,'Navrhovaný stav'!D40,0)+IF(A81='Navrhovaný stav - pomocný'!$C$52,'Navrhovaný stav'!E40,0)","v":0},{"$f":"'kros seznam'!G268","v":249},0,{"$f":"'kros seznam'!J268","v":7.5000000000000002E-4},0,{"$f":"'kros seznam'!K268","v":0},null,{"$f":"'kros seznam'!L268","v":0.42399999999999999},0]
[]
["DVEŘE OCELOVÉ ZÁRUBNĚ 80 cm"]
[{"$f":"'kros seznam'!B16","v":"D"},{"$f":"'kros seznam'!C16","v":"6"},{"$f":"'kros seznam'!D16","v":"Úpravy povrchů, podlahy a osazování výplní"},null,null,null,{"$f":"SUM(G95:G97)","v":0},2.758E-2,0,0,null,0.83199999999999996,0]
[{"$f":"'kros seznam'!B17","v":"K"},{"$f":"'kros seznam'!C17","v":"610991111"},{"$f":"'kros seznam'!D17","v":"Zakrývání vnitřních a vnějších výplní otvorů, předmětů a konstrukcí folií a páskou"},{"$f":"'kros seznam'!E17","v":"m2"},{"$f":"IF(A93='Navrhovaný stav - pomocný'!$C$51,'Navrhovaný stav'!D39,0)+IF(A93='Navrhovaný stav - pomocný'!$C$52,'Navrhovaný stav'!E39,0)","v":0},30.6,{"$f":"F95*E95","v":0},0,0,{"$f":"'kros seznam'!K17","v":0},null,7.8E-2,{"$f":"'kros seznam'!N17","v":0}]
[{"$f":"'kros seznam'!B29","v":"K"},{"$f":"'kros seznam'!C29","v":"642942111"},{"$f":"'kros seznam'!D29","v":"Osazování zárubní nebo rámů dveřních kovových do 2,5 m2 na MC"},{"$f":"'kros seznam'!E29","v":"kus"},{"$f":"IF(A93='Navrhovaný stav - pomocný'!$C$51,'Navrhovaný stav - pomocný'!$E$51,0)+IF(A93='Navrhovaný stav - pomocný'!$C$52,'Navrhovaný stav - pomocný'!$E$52,0)","v":0},{"$f":"'kros seznam'!G29","v":211},0,{"$f":"'kros seznam'!J29","v":1.6979999999999999E-2},0,{"$f":"'kros seznam'!K29","v":0},null,{"$f":"'kros seznam'!L29","v":0.754},0]
[{"$f":"'kros seznam'!B32","v":"M"},{"$f":"'kros seznam'!C32","v":"553311040"},{"$f":"'kros seznam'!D32","v":"zárubeň ocelová pro běžné zdění H 95 800 L/P"},{"$f":"'kros seznam'!E32","v":"kus"},{"$f":"+E96","v":0},{"$f":"'kros seznam'!G32","v":600},0,{"$f":"'kros seznam'!J32","v":1.06E-2},0,{"$f":"'kros seznam'!K32","v":0},null,{"$f":"'kros seznam'!L32","v":0},0]
[{"$f":"'kros seznam'!B159","v":"D"},{"$f":"'kros seznam'!C159","v":"766"},{"$f":"'kros seznam'!D159","v":"Konstrukce truhlářské"},null,null,null,{"$f":"SUM(G99:G101)","v":0},1.6E-2,0,0,null,1.6819999999999999,0]
[{"$f":"'kros seznam'!B160","v":"K"},{"$f":"'kros seznam'!C160","v":"766X"},{"$f":"'kros seznam'!D160","v":"Dveřního kování D+M"},{"$f":"'kros seznam'!E160","v":"kus"},{"$f":"+E97","v":0},{"$f":"'kros seznam'!G160","v":350},0,0,0,0,null,0,0]
[{"$f":"'kros seznam'!B162","v":"K"},{"$f":"'kros seznam'!C162","v":"766660001"},{"$f":"'kros seznam'!D162","v":"Montáž dveřních křídel otvíravých 1křídlových š do 0,8 m do ocelové zárubně"},{"$f":"'kros seznam'!E162","v":"kus"},{"$f":"+E99","v":0},{"$f":"'kros seznam'!G162","v":526},0,{"$f":"'kros seznam'!J162","v":0},0,{"$f":"'kros seznam'!K162","v":0},null,{"$f":"'kros seznam'!L162","v":1.6819999999999999},0]
[{"$f":"'kros seznam'!B165","v":"M"},{"$f":"'kros seznam'!C165","v":"611617210"},{"$f":"'kros seznam'!D165","v":"dveře vnitřní 1křídlové 80x197 cm "},{"$f":"'kros seznam'!E165","v":"kus"},{"$f":"+E100","v":0},{"$f":"'Navrhovaný stav'!L48","v":1500},0,{"$f":"'kros seznam'!J165","v":1.6E-2},0,{"$f":"'kros seznam'!K165","v":0},null,{"$f":"'kros seznam'!L165","v":0},0]
[{"$f":"'kros seznam'!B267","v":"D"},{"$f":"'kros seznam'!C267","v":"783"},{"$f":"'kros seznam'!D267","v":"Dokončovací práce - nátěry"},null,null,null,{"$f":"SUM(G103)","v":0},1E-3,0,0,null,0.42399999999999999,0]
[{"$f":"'kros seznam'!B268","v":"K"},{"$f":"'kros seznam'!C268","v":783221112},{"$f":"'kros seznam'!D268","v":"Nátěry syntetické KDK barva dražší lesklý povrch 1x antikorozní, 1x základní, 2x email"},{"$f":"'kros seznam'!E268","v":"m2"},{"$f":"IF(A93='Navrhovaný stav - pomocný'!$C$51,'Navrhovaný stav'!D40,0)+IF(A93='Navrhovaný stav - pomocný'!$C$52,'Navrhovaný stav'!E40,0)","v":0},{"$f":"'kros seznam'!G268","v":249},0,1E-3,0,{"$f":"'kros seznam'!K268","v":0},null,0.42399999999999999,0]
[]
["DVEŘE OCELOVÉ ZÁRUBNĚ 90 cm"]
[{"$f":"'kros seznam'!B16","v":"D"},{"$f":"'kros seznam'!C16","v":"6"},{"$f":"'kros seznam'!D16","v":"Úpravy povrchů, podlahy a osazování výplní"},null,null,null,{"$f":"SUM(G107:G109)","v":0},{"$f":"SUM(H107:H109)","v":2.7869999999999999E-2},0,0,null,0.83199999999999996,0]
[{"$f":"'kros seznam'!B17","v":"K"},{"$f":"'kros seznam'!C17","v":"610991111"},{"$f":"'kros seznam'!D17","v":"Zakrývání vnitřních a vnějších výplní otvorů, předmětů a konstrukcí folií a páskou"},{"$f":"'kros seznam'!E17","v":"m2"},{"$f":"IF(A105='Navrhovaný stav - pomocný'!$C$51,'Navrhovaný stav'!D39,0)+IF(A105='Navrhovaný stav - pomocný'!$C$52,'Navrhovaný stav'!E39,0)","v":0},{"$f":"'kros seznam'!G17","v":30.6},0,{"$f":"'kros seznam'!J17","v":9.0000000000000006E-5},0,{"$f":"'kros seznam'!K17","v":0},null,{"$f":"'kros seznam'!L17","v":7.8E-2},0]
[{"$f":"'kros seznam'!B29","v":"K"},{"$f":"'kros seznam'!C29","v":"642942111"},{"$f":"'kros seznam'!D29","v":"Osazování zárubní nebo rámů dveřních kovových do 2,5 m2 na MC"},{"$f":"'kros seznam'!E29","v":"kus"},{"$f":"IF(A105='Navrhovaný stav - pomocný'!$C$51,'Navrhovaný stav - pomocný'!$E$51,0)+IF(A105='Navrhovaný stav - pomocný'!$C$52,'Navrhovaný stav - pomocný'!$E$52,0)","v":0},{"$f":"'kros seznam'!G29","v":211},0,{"$f":"'kros seznam'!J29","v":1.6979999999999999E-2},0,{"$f":"'kros seznam'!K29","v":0},null,{"$f":"'kros seznam'!L29","v":0.754},0]
[{"$f":"'kros seznam'!B33","v":"M"},{"$f":"'kros seznam'!C33","v":"553311060"},{"$f":"'kros seznam'!D33","v":" zárubeň ocelová pro běžné zdění H 95 900 L/P"},{"$f":"'kros seznam'!E33","v":"kus"},{"$f":"+E108","v":0},{"$f":"'kros seznam'!G33","v":614},0,{"$f":"'kros seznam'!J33","v":1.0800000000000001E-2},0,{"$f":"'kros seznam'!K33","v":0},null,{"$f":"'kros seznam'!L33","v":0},0]
[{"$f":"'kros seznam'!B159","v":"D"},{"$f":"'kros seznam'!C159","v":"766"},{"$f":"'kros seznam'!D159","v":"Konstrukce truhlářské"},null,null,null,{"$f":"SUM(G111:G113)","v":0},1.9E-2,0,0,null,1.825,0]
[{"$f":"'kros seznam'!B160","v":"K"},{"$f":"'kros seznam'!C160","v":"766X"},{"$f":"'kros seznam'!D160","v":"Dveřního kování D+M"},{"$f":"'kros seznam'!E160","v":"kus"},{"$f":"+E109","v":0},{"$f":"'kros seznam'!G160","v":350},0,0,0,0,null,0,0]
[{"$f":"'kros seznam'!B166","v":"K"},{"$f":"'kros seznam'!C166","v":"766660002"},{"$f":"'kros seznam'!D166","v":"Montáž dveřních křídel otvíravých 1křídlových š přes 0,8 m do ocelové zárubně"},{"$f":"'kros seznam'!E166","v":"kus"},{"$f":"+E111","v":0},{"$f":"'kros seznam'!G166","v":571},0,{"$f":"'kros seznam'!J166","v":0},0,{"$f":"'kros seznam'!K166","v":0},null,{"$f":"'kros seznam'!L166","v":1.825},0]
[{"$f":"'kros seznam'!B167","v":"M"},{"$f":"'kros seznam'!C167","v":"611617250"},{"$f":"'kros seznam'!D167","v":"dveře vnitřní 90x197 cm"},{"$f":"'kros seznam'!E167","v":"kus"},{"$f":"+E112","v":0},{"$f":"'Navrhovaný stav'!L48","v":1500},0,{"$f":"'kros seznam'!J167","v":1.9E-2},0,{"$f":"'kros seznam'!K167","v":0},null,{"$f":"'kros seznam'!L167","v":0},0]
[{"$f":"'kros seznam'!B267","v":"D"},{"$f":"'kros seznam'!C267","v":"783"},{"$f":"'kros seznam'!D267","v":"Dokončovací práce - nátěry"},null,null,null,{"$f":"SUM(G115)","v":0},7.5000000000000002E-4,0,0,null,0.42399999999999999,0]
[{"$f":"'kros seznam'!B268","v":"K"},{"$f":"'kros seznam'!C268","v":783221112},{"$f":"'kros seznam'!D268","v":"Nátěry syntetické KDK barva dražší lesklý povrch 1x antikorozní, 1x základní, 2x email"},{"$f":"'kros seznam'!E268","v":"m2"},{"$f":"IF(A105='Navrhovaný stav - pomocný'!$C$51,'Navrhovaný stav'!D40,0)+IF(A105='Navrhovaný stav - pomocný'!$C$52,'Navrhovaný stav'!E40,0)","v":0},{"$f":"'kros seznam'!G268","v":249},0,{"$f":"'kros seznam'!J268","v":7.5000000000000002E-4},0,{"$f":"'kros seznam'!K268","v":0},null,{"$f":"'kros seznam'!L268","v":0.42399999999999999},0]
[]
["DVEŘE OBLOŽKOVÉ ZÁRUBNĚ 60 cm"]
[{"$f":"'kros seznam'!B159","v":"D"},{"$f":"'kros seznam'!C159","v":"766"},{"$f":"'kros seznam'!D159","v":"Konstrukce truhlářské"},null,null,{"$f":"SUM(F119:F123)","v":6203},6203,2.945E-2,2.945E-2,0,null,4.7750000000000004,2.9249999999999998]
[{"$f":"'kros seznam'!B160","v":"K"},{"$f":"'kros seznam'!C160","v":"766X"},{"$f":"'kros seznam'!D160","v":"Dveřního kování D+M"},{"$f":"'kros seznam'!E160","v":"kus"},{"$f":"IF(A117='Navrhovaný stav - pomocný'!$C$51,'Navrhovaný stav - pomocný'!$E$51,0)+IF(A117='Navrhovaný stav - pomocný'!$C$52,'Navrhovaný stav - pomocný'!$E$52,0)","v":1},{"$f":"'kros seznam'!G160","v":350},350,0,0,0,null,0,0]
[{"$f":"'kros seznam'!B168","v":"K"},{"$f":"'kros seznam'!C168","v":"766660171"},{"$f":"'kros seznam'!D168","v":"Montáž dveřních křídel otvíravých 1křídlových š do 0,8 m do obložkové zárubně"},{"$f":"'kros seznam'!E168","v":"kus"},{"$f":"E119","v":1},{"$f":"'kros seznam'!G168","v":538},538,0,0,{"$f":"'kros seznam'!K168","v":0},null,1.85,{"$f":"'kros seznam'!N168","v":0}]
[{"$f":"'kros seznam'!B169","v":"M"},{"$f":"'kros seznam'!C169","v":"611617130"},{"$f":"'kros seznam'!D169","v":"dveře vnitřní 1křídlové 60x197 cm"},{"$f":"'kros seznam'!E169","v":"kus"},{"$f":"E120","v":1},{"$f":"'Navrhovaný stav'!L48","v":1500},1500,{"$f":"'kros seznam'!J169","v":1.2999999999999999E-2},1.2999999999999999E-2,{"$f":"'kros seznam'!K169","v":0},null,{"$f":"'kros seznam'!L169","v":0},0]
[{"$f":"'kros seznam'!B174","v":"K"},{"$f":"'kros seznam'!C174","v":"766682111"},{"$f":"'kros seznam'!D174","v":"Montáž zárubní obložkových pro dveře jednokřídlové tl stěny do 170 mm"},{"$f":"'kros seznam'!E174","v":"kus"},{"$f":"E121","v":1},{"$f":"'kros seznam'!G174","v":945},945,{"$f":"'kros seznam'!J174","v":4.4999999999999999E-4},4.4999999999999999E-4,{"$f":"'kros seznam'!K174","v":0},null,{"$f":"'kros seznam'!L174","v":2.9249999999999998},2.9249999999999998]
[{"$f":"'kros seznam'!B175","v":"M"},{"$f":"'kros seznam'!C175","v":"611822580"},{"$f":"'kros seznam'!D175","v":" zárubeň obložková pro dveře 1křídlové 60,70,80,90x197 cm, tl. 8 - 17 cm"},{"$f":"'kros seznam'!E175","v":"kus"},{"$f":"E122","v":1},{"$f":"'kros seznam'!G175","v":2870},2870,1.6E-2,1.6E-2,{"$f":"'kros seznam'!K175","v":0},null,{"$f":"'kros seznam'!M175","v":0},{"$f":"'kros seznam'!N175","v":0}]
[]
["DVEŘE OBLOŽKOVÉ ZÁRUBNĚ 70 cm"]
[{"$f":"'kros seznam'!B159","v":"D"},{"$f":"'kros seznam'!C159","v":"766"},{"$f":"'kros seznam'!D159","v":"Konstrukce truhlářské"},null,null,{"$f":"SUM(F127:F131)","v":6203},0,2.945E-2,19.5,0,null,4.7299999999999995,0]
[{"$f":"'kros seznam'!B160","v":"K"},{"$f":"'kros seznam'!C160","v":"766X"},{"$f":"'kros seznam'!D160","v":"Dveřního kování D+M"},{"$f":"'kros seznam'!E160","v":"kus"},{"$f":"IF(A125='Navrhovaný stav - pomocný'!$C$51,'Navrhovaný stav - pomocný'!$E$51,0)+IF(A125='Navrhovaný stav - pomocný'!$C$52,'Navrhovaný stav - pomocný'!$E$52,0)","v":0},{"$f":"'kros seznam'!G160","v":350},0,0,0,0,null,0,0]
[{"$f":"'kros seznam'!B168","v":"K"},{"$f":"'kros seznam'!C168","v":"766660171"},{"$f":"'kros seznam'!D168","v":"Montáž dveřních křídel otvíravých 1křídlových š do 0,8 m do obložkové zárubně"},{"$f":"'kros seznam'!E168","v":"kus"},{"$f":"E127","v":0},{"$f":"'kros seznam'!G168","v":538},0,{"$f":"'kros seznam'!J168","v":0},0,{"$f":"'kros seznam'!K168","v":0},null,{"$f":"'kros seznam'!L168","v":1.8049999999999999},0]
[{"$f":"'kros seznam'!B170","v":"M"},{"$f":"'kros seznam'!C170","v":"611617170"},{"$f":"'kros seznam'!D170","v":"dveře vnitřní 1křídlové 70x197 cm"},{"$f":"'kros seznam'!E170","v":"kus"},{"$f":"E128","v":0},{"$f":"'Navrhovaný stav'!L48","v":1500},0,1.2999999999999999E-2,{"$f":"H129*F129","v":19.5},0,null,0,0]
[{"$f":"'kros seznam'!B174","v":"K"},{"$f":"'kros seznam'!C174","v":"766682111"},{"$f":"'kros seznam'!D174","v":"Montáž zárubní obložkových pro dveře jednokřídlové tl stěny do 170 mm"},{"$f":"'kros seznam'!E174","v":"kus"},{"$f":"E129","v":0},{"$f":"'kros seznam'!G174","v":945},0,{"$f":"'kros seznam'!J174","v":4.4999999999999999E-4},0,{"$f":"'kros seznam'!K174","v":0},null,{"$f":"'kros seznam'!L174","v":2.9249999999999998},0]
[{"$f":"'kros seznam'!B175","v":"M"},{"$f":"'kros seznam'!C175","v":"611822580"},{"$f":"'kros seznam'!D175","v":" zárubeň obložková pro dveře 1křídlové 60,70,80,90x197 cm, tl. 8 - 17 cm"},{"$f":"'kros seznam'!E175","v":"kus"},{"$f":"E130","v":0},{"$f":"'kros seznam'!G175","v":2870},0,{"$f":"'kros seznam'!J175","v":1.6E-2},0,{"$f":"'kros seznam'!K175","v":0},null,{"$f":"'kros seznam'!L175","v":0},0]
[]
["DVEŘE OBLOŽKOVÉ ZÁRUBNĚ 80 cm"]
[{"$f":"'kros seznam'!B159","v":"D"},{"$f":"'kros seznam'!C159","v":"766"},{"$f":"'kros seznam'!D159","v":"Konstrukce truhlářské"},null,null,null,{"$f":"SUM(G135:G139)","v":0},3.2000000000000001E-2,0,0,null,4.7299999999999995,0]
[{"$f":"'kros seznam'!B160","v":"K"},{"$f":"'kros seznam'!C160","v":"766X"},{"$f":"'kros seznam'!D160","v":"Dveřního kování D+M"},{"$f":"'kros seznam'!E160","v":"kus"},{"$f":"IF(A133='Navrhovaný stav - pomocný'!$C$51,'Navrhovaný stav - pomocný'!$E$51,0)+IF(A133='Navrhovaný stav - pomocný'!$C$52,'Navrhovaný stav - pomocný'!$E$52,0)","v":0},{"$f":"'kros seznam'!G160","v":350},{"$f":"E135*F135","v":0},0,{"$f":"H135*E135","v":0},0,null,{"$f":"'kros seznam'!M160","v":0},{"$f":"L135*E135","v":0}]
[{"$f":"'kros seznam'!B168","v":"K"},{"$f":"'kros seznam'!C168","v":"766660171"},{"$f":"'kros seznam'!D168","v":"Montáž dveřních křídel otvíravých 1křídlových š do 0,8 m do obložkové zárubně"},{"$f":"'kros seznam'!E168","v":"kus"},{"$f":"E135","v":0},{"$f":"'kros seznam'!G168","v":538},{"$f":"E136*F136","v":0},0,{"$f":"H136*E136","v":0},{"$f":"'kros seznam'!K168","v":0},null,{"$f":"'kros seznam'!L168","v":1.8049999999999999},{"$f":"L136*E136","v":0}]
[{"$f":"'kros seznam'!B171","v":"M"},{"$f":"'kros seznam'!C171","v":"611617210"},{"$f":"'kros seznam'!D171","v":"dveře vnitřní 1křídlové 80x197 cm"},{"$f":"'kros seznam'!E171","v":"kus"},{"$f":"E136","v":0},{"$f":"'Navrhovaný stav'!L48","v":1500},{"$f":"E137*F137","v":0},{"$f":"'kros seznam'!J171","v":1.6E-2},{"$f":"H137*E137","v":0},{"$f":"'kros seznam'!K171","v":0},null,{"$f":"'kros seznam'!L171","v":0},{"$f":"L137*E137","v":0}]
[{"$f":"'kros seznam'!B174","v":"K"},{"$f":"'kros seznam'!C174","v":"766682111"},{"$f":"'kros seznam'!D174","v":"Montáž zárubní obložkových pro dveře jednokřídlové tl stěny do 170 mm"},{"$f":"'kros seznam'!E174","v":"kus"},{"$f":"E137","v":0},{"$f":"'kros seznam'!G174","v":945},{"$f":"E138*F138","v":0},0,{"$f":"H138*E138","v":0},{"$f":"'kros seznam'!K172","v":0},null,2.9249999999999998,{"$f":"L138*E138","v":0}]
[{"$f":"'kros seznam'!B175","v":"M"},{"$f":"'kros seznam'!C175","v":"611822580"},{"$f":"'kros seznam'!D175","v":" zárubeň obložková pro dveře 1křídlové 60,70,80,90x197 cm, tl. 8 - 17 cm"},{"$f":"'kros seznam'!E175","v":"kus"},{"$f":"E138","v":0},{"$f":"'kros seznam'!G175","v":2870},{"$f":"E139*F139","v":0},{"$f":"'kros seznam'!J175","v":1.6E-2},{"$f":"H139*E139","v":0},{"$f":"'kros seznam'!K175","v":0},null,{"$f":"'kros seznam'!L175","v":0},{"$f":"L139*E139","v":0}]
[]
["DVEŘE OBLOŽKOVÉ ZÁRUBNĚ 90 cm"]
[{"$f":"'kros seznam'!B159","v":"D"},{"$f":"'kros seznam'!C159","v":"766"},{"$f":"'kros seznam'!D159","v":"Konstrukce truhlářské"},null,null,null,{"$f":"SUM(G143:G147)","v":0},3.5449999999999995E-2,0,0,null,4.8810000000000002,0]
[{"$f":"'kros seznam'!B160","v":"K"},{"$f":"'kros seznam'!C160","v":"766X"},{"$f":"'kros seznam'!D160","v":"Dveřního kování D+M"},{"$f":"'kros seznam'!E160","v":"kus"},{"$f":"IF(A141='Navrhovaný stav - pomocný'!$C$51,'Navrhovaný stav - pomocný'!$E$51,0)+IF(A141='Navrhovaný stav - pomocný'!$C$52,'Navrhovaný stav - pomocný'!$E$52,0)","v":0},{"$f":"'kros seznam'!G160","v":350},{"$f":"F143*E143","v":0},0,{"$f":"'kros seznam'!J160","v":0},0,null,0,{"$f":"L143*E143","v":0}]
[{"$f":"'kros seznam'!B172","v":"K"},{"$f":"'kros seznam'!C172","v":"766660172"},{"$f":"'kros seznam'!D172","v":"Montáž dveřních křídel otvíravých 1křídlových š přes 0,8 m do obložkové zárubně"},{"$f":"'kros seznam'!E172","v":"kus"},{"$f":"+E143","v":0},{"$f":"'kros seznam'!G172","v":574},{"$f":"F144*E144","v":0},{"$f":"'kros seznam'!J172","v":0},{"$f":"E144*H144","v":0},{"$f":"'kros seznam'!K172","v":0},null,{"$f":"'kros seznam'!L172","v":1.956},{"$f":"L144*E144","v":0}]
[{"$f":"'kros seznam'!B173","v":"M"},{"$f":"'kros seznam'!C173","v":"611617250"},{"$f":"'kros seznam'!D173","v":"dveře vnitřní 1křídlové 90x197 cm"},{"$f":"'kros seznam'!E173","v":"kus"},{"$f":"+E144","v":0},{"$f":"'Navrhovaný stav'!L48","v":1500},{"$f":"F145*E145","v":0},{"$f":"'kros seznam'!J173","v":1.9E-2},{"$f":"E145*H145","v":0},{"$f":"'kros seznam'!K173","v":0},null,{"$f":"'kros seznam'!L173","v":0},{"$f":"L145*E145","v":0}]
[{"$f":"'kros seznam'!B174","v":"K"},{"$f":"'kros seznam'!C174","v":"766682111"},{"$f":"'kros seznam'!D174","v":"Montáž zárubní obložkových pro dveře jednokřídlové tl stěny do 170 mm"},{"$f":"'kros seznam'!E174","v":"kus"},{"$f":"+E145","v":0},{"$f":"'kros seznam'!G174","v":945},{"$f":"F146*E146","v":0},{"$f":"'kros seznam'!J174","v":4.4999999999999999E-4},{"$f":"E146*H146","v":0},{"$f":"'kros seznam'!K174","v":0},null,{"$f":"'kros seznam'!L174","v":2.9249999999999998},{"$f":"L146*E146","v":0}]
[{"$f":"'kros seznam'!B175","v":"M"},{"$f":"'kros seznam'!C175","v":"611822580"},{"$f":"'kros seznam'!D175","v":" zárubeň obložková pro dveře 1křídlové 60,70,80,90x197 cm, tl. 8 - 17 cm"},{"$f":"'kros seznam'!E175","v":"kus"},{"$f":"+E146","v":0},{"$f":"'kros seznam'!G175","v":2870},{"$f":"F147*E147","v":0},{"$f":"'kros seznam'!J175","v":1.6E-2},{"$f":"E147*H147","v":0},{"$f":"'kros seznam'!K175","v":0},null,{"$f":"'kros seznam'!L175","v":0},{"$f":"L147*E147","v":0}]
[]
["PŘEKLAD YTONG"]
[{"$f":"'kros seznam'!B3","v":"D"},{"$f":"'kros seznam'!C3","v":"3"},{"$f":"'kros seznam'!D3","v":"Svislé a kompletní konstrukce"},null,null,null,{"$f":"SUM(G151)","v":0},3.304E-2,0,0,null,0.23200000000000001,0]
[{"$f":"'kros seznam'!B8","v":"K"},{"$f":"'kros seznam'!C8","v":"317142321"},{"$f":"'kros seznam'!D8","v":"Překlady nenosné přímé z pórobetonu Ytong v příčkách tl 125 mm pro světlost otvoru do 1010 mm"},{"$f":"'kros seznam'!E8","v":"kus"},{"$f":"'Navrhovaný stav'!D38+'Navrhovaný stav'!E38+'Navrhovaný stav'!F38+'Navrhovaný stav'!G38","v":0},{"$f":"'kros seznam'!G8","v":414},{"$f":"F151*E151","v":0},{"$f":"'kros seznam'!J8","v":3.304E-2},{"$f":"E151*H151","v":0},{"$f":"'kros seznam'!K8","v":0},null,{"$f":"'kros seznam'!L8","v":0.23200000000000001},{"$f":"L151*E151","v":0}]
[]
["PŘEKLAD POROTHERM"]
[{"$f":"'kros seznam'!B3","v":"D"},{"$f":"'kros seznam'!C3","v":"3"},{"$f":"'kros seznam'!D3","v":"Svislé a kompletní konstrukce"},null,null,null,{"$f":"SUM(G155)","v":0},1.7260000000000001E-2,0,0,null,0.23799999999999999,0]
[{"$f":"'kros seznam'!B9","v":"K"},{"$f":"'kros seznam'!C9","v":"317168111"},{"$f":"'kros seznam'!D9","v":"Překlad keramický plochý š 11,5 cm dl 100 cm"},{"$f":"'kros seznam'!E9","v":"kus"},{"$f":"'Navrhovaný stav'!D38+'Navrhovaný stav'!E38+'Navrhovaný stav'!F38+'Navrhovaný stav'!G38","v":0},{"$f":"'kros seznam'!G9","v":206},{"$f":"F155*E155","v":0},{"$f":"'kros seznam'!J9","v":1.7260000000000001E-2},{"$f":"E155*H155","v":0},{"$f":"'kros seznam'!K9","v":0},null,{"$f":"'kros seznam'!L9","v":0.23799999999999999},{"$f":"L155*E155","v":0}]
[]
["SDK PODHLED ANO"]
[{"$f":"'kros seznam'!B132","v":"D"},{"$f":"'kros seznam'!C132","v":"763"},{"$f":"'kros seznam'!D132","v":"Konstrukce montované z desek, dílců a panelů"},null,null,null,{"$f":"SUM(G159:G160)","v":2504.6020800000001},{"$f":"SUM(H159:H160)","v":1.3140000000000001E-2},5.5061856000000006E-2,0,null,1.008,4.2239231999999998]
[{"$f":"'kros seznam'!B140","v":"K"},{"$f":"'kros seznam'!C140","v":"763131451"},{"$f":"'kros seznam'!D140","v":"SDK podhled deska 1xH2 12,5 bez TI dvouvrstvá spodní kce profil CD+UD"},{"$f":"'kros seznam'!E140","v":"m2"},{"$f":"'Navrhovaný stav - pomocný'!E16","v":4.1904000000000003},{"$f":"'kros seznam'!G140","v":574},{"$f":"F159*E159","v":2405.2896000000001},{"$f":"'kros seznam'!J140","v":1.3140000000000001E-2},{"$f":"E159*H159","v":5.5061856000000006E-2},{"$f":"'kros seznam'!K140","v":0},null,{"$f":"'kros seznam'!L140","v":0.96799999999999997},{"$f":"L159*E159","v":4.0563072}]
[{"$f":"'kros seznam'!B133","v":"K"},{"$f":"'kros seznam'!C133","v":"763131714"},{"$f":"'kros seznam'!D133","v":"SDK podhled základní penetrační nátěr"},{"$f":"'kros seznam'!E133","v":"m2"},{"$f":"'Navrhovaný stav - pomocný'!E16","v":4.1904000000000003},{"$f":"'kros seznam'!G133","v":23.7},{"$f":"F160*E160","v":99.312480000000008},0,0,{"$f":"'kros seznam'!K141","v":0},null,0.04,{"$f":"L160*E160","v":0.16761600000000001}]
[{"$f":"'kros seznam'!B269","v":"D"},{"$f":"'kros seznam'!C269","v":"784"},{"$f":"'kros seznam'!D269","v":"Dokončovací práce - malby"},null,null,null,{"$f":"SUM(G162)","v":66.62736000000001},1.6000000000000001E-4,6.7046400000000006E-4,0,null,4.1000000000000002E-2,0.17180640000000003]
[{"$f":"'kros seznam'!B270","v":"K"},{"$f":"'kros seznam'!C270","v":"784453601"},{"$f":"'kros seznam'!D270","v":"Malby směsi PRIMALEX tekuté hlinkové bílé dvojnásobné v místnostech v do 3,8 m"},{"$f":"'kros seznam'!E270","v":"m2"},{"$f":"'Navrhovaný stav - pomocný'!E16","v":4.1904000000000003},{"$f":"'kros seznam'!G270","v":15.9},{"$f":"F162*E162","v":66.62736000000001},{"$f":"'kros seznam'!J270","v":1.6000000000000001E-4},{"$f":"E162*H162","v":6.7046400000000006E-4},{"$f":"'kros seznam'!K270","v":0},null,{"$f":"'kros seznam'!L270","v":4.1000000000000002E-2},{"$f":"L162*E162","v":0.17180640000000003}]
[]
["SDK PODHLED NE"]
[{"$f":"'kros seznam'!B16","v":"D"},{"$f":"'kros seznam'!C16","v":"6"},{"$f":"'kros seznam'!D16","v":"Úpravy povrchů, podlahy a osazování výplní"},null,null,null,{"$f":"SUM(G166:G167)","v":528.87038400000006},6.0444999999999995E-3,2.5328872800000003E-2,0,null,0.32800000000000001,1.3744512000000002]
[{"$f":"'kros seznam'!B19","v":"K"},{"$f":"'kros seznam'!C19","v":611471621},{"$f":"'kros seznam'!D19","v":"Vyspravení vnitřních prefabrikovaných stropů stěrkovou hmotou do 20 % plochy"},{"$f":"'kros seznam'!E19","v":"m2"},{"$f":"'Navrhovaný stav - pomocný'!E16","v":4.1904000000000003},{"$f":"'kros seznam'!G19","v":45.2},{"$f":"F166*E166","v":189.40608000000003},{"$f":"'kros seznam'!J19","v":1.5399999999999999E-3},{"$f":"E166*H166","v":6.4532160000000003E-3},{"$f":"'kros seznam'!K19","v":0},null,{"$f":"'kros seznam'!L19","v":7.8E-2},{"$f":"L166*E166","v":0.32685120000000001}]
[{"$f":"'kros seznam'!B21","v":"K"},{"$f":"'kros seznam'!C21","v":614471412},{"$f":"'kros seznam'!D21","v":"Tenkovrstvá úprava vnitřních panelů tl do 3 mm aktivovaným štukem (strop)"},{"$f":"'kros seznam'!E21","v":"m2"},{"$f":"'Navrhovaný stav - pomocný'!E16","v":4.1904000000000003},{"$f":"'kros seznam'!G21","v":81.010000000000005},{"$f":"F167*E167","v":339.46430400000003},{"$f":"'kros seznam'!J21","v":4.5044999999999998E-3},{"$f":"E167*H167","v":1.8875656800000001E-2},{"$f":"'kros seznam'!K21","v":0},null,{"$f":"'kros seznam'!L21","v":0.25},{"$f":"L167*E167","v":1.0476000000000001}]
[{"$f":"'kros seznam'!B269","v":"D"},{"$f":"'kros seznam'!C269","v":"784"},{"$f":"'kros seznam'!D269","v":"Dokončovací práce - malby"},null,null,null,{"$f":"SUM(G169)","v":66.62736000000001},1.6000000000000001E-4,6.7046400000000006E-4,0,null,4.1000000000000002E-2,0.17180640000000003]
[{"$f":"'kros seznam'!B270","v":"K"},{"$f":"'kros seznam'!C270","v":"784453601"},{"$f":"'kros seznam'!D270","v":"Malby směsi PRIMALEX tekuté hlinkové bílé dvojnásobné v místnostech v do 3,8 m"},{"$f":"'kros seznam'!E270","v":"m2"},{"$f":"'Navrhovaný stav - pomocný'!E16","v":4.1904000000000003},{"$f":"'kros seznam'!G270","v":15.9},{"$f":"F169*E169","v":66.62736000000001},{"$f":"'kros seznam'!J270","v":1.6000000000000001E-4},{"$f":"E169*H169","v":6.7046400000000006E-4},{"$f":"'kros seznam'!K270","v":0},null,{"$f":"'kros seznam'!L270","v":4.1000000000000002E-2},{"$f":"L169*E169","v":0.17180640000000003}]
[]
["DEMONTÁŽ BJ"]
[{"$f":"'kros seznam'!B132","v":"D"},{"$f":"'kros seznam'!C132","v":"763"},{"$f":"'kros seznam'!D132","v":"Konstrukce montované z desek, dílců a panelů"},null,null,null,{"$f":"SUM(G173:G176)","v":3368.9536000000007},0,0,9.0650000000000008E-2,1.74085505,0.84400000000000008,12.0826244]
[{"$f":"'kros seznam'!B135","v":"K"},{"$f":"'kros seznam'!C135","v":"763111811"},{"$f":"'kros seznam'!D135","v":"Demontáž SDK příčky s jednoduchou ocelovou nosnou konstrukcí opláštění jednoduché"},{"$f":"'kros seznam'!E135","v":"m2"},{"$f":"'Stávající stav - pomocný'!F17","v":45.655000000000001},{"$f":"'kros seznam'!G135","v":55.2},{"$f":"F173*E173","v":2520.1560000000004},{"$f":"'kros seznam'!J135","v":0},{"$f":"E173*H173","v":0},{"$f":"'kros seznam'!K135","v":3.175E-2},{"$f":"J173*E173","v":1.44954625},{"$f":"'kros seznam'!L135","v":0.19800000000000001},{"$f":"L173*E173","v":9.0396900000000002}]
[{"$f":"'kros seznam'!B136","v":"K"},{"$f":"'kros seznam'!C136","v":"763131831"},{"$f":"'kros seznam'!D136","v":"Demontáž SDK podhledu s jednovrstvou nosnou kcí z ocelových profilů opláštění jednoduché"},{"$f":"'kros seznam'!E136","v":"m2"},{"$f":"'Stávající stav - pomocný'!F18","v":5.3263999999999996},{"$f":"'kros seznam'!G136","v":61.6},{"$f":"F174*E174","v":328.10623999999996},{"$f":"'kros seznam'!J136","v":0},{"$f":"E174*H174","v":0},{"$f":"'kros seznam'!K136","v":1.7250000000000001E-2},{"$f":"J174*E174","v":9.1880400000000001E-2},{"$f":"'kros seznam'!L136","v":0.221},{"$f":"L174*E174","v":1.1771343999999999}]
[{"$f":"'kros seznam'!B137","v":"K"},{"$f":"'kros seznam'!C137","v":"763151811"},{"$f":"'kros seznam'!D137","v":"Demontáž jedné vrstvy desek SDK podlaha"},{"$f":"'kros seznam'!E137","v":"m2"},{"$f":"'Stávající stav - pomocný'!F18","v":5.3263999999999996},{"$f":"'kros seznam'!G137","v":34.9},{"$f":"F175*E175","v":185.89135999999999},{"$f":"'kros seznam'!J137","v":0},{"$f":"E175*H175","v":0},{"$f":"'kros seznam'!K137","v":2.4750000000000001E-2},0.13182839999999998,{"$f":"'kros seznam'!L137","v":0.125},{"$f":"L175*E175","v":0.66579999999999995}]
[{"$f":"'kros seznam'!B138","v":"K"},{"$f":"'kros seznam'!C138","v":"763181811"},{"$f":"'kros seznam'!D138","v":"Demontáž jednokřídlové kovové zárubně v do 2,75 m SDK příčka"},{"$f":"'kros seznam'!E138","v":"kus"},{"$f":"'Stávající stav - pomocný'!E19","v":4},{"$f":"'kros seznam'!G138","v":83.7},{"$f":"F176*E176","v":334.8},{"$f":"'kros seznam'!J138","v":0},{"$f":"E176*H176","v":0},{"$f":"'kros seznam'!K138","v":1.6899999999999998E-2},6.7599999999999993E-2,{"$f":"'kros seznam'!L138","v":0.3},{"$f":"L176*E176","v":1.2}]
[{"$f":"'kros seznam'!B159","v":"D"},{"$f":"'kros seznam'!C159","v":"766"},{"$f":"'kros seznam'!D159","v":"Konstrukce truhlářské"},null,null,null,{"$f":"SUM(G178)","v":84.4},0,0,2.4E-2,9.6000000000000002E-2,0.05,0.2]
[{"$f":"'kros seznam'!B161","v":"K"},{"$f":"'kros seznam'!C161","v":"766691914"},{"$f":"'kros seznam'!D161","v":"Vyvěšení nebo zavěšení dřevěných křídel dveří pl do 2 m2"},{"$f":"'kros seznam'!E161","v":"kus"},{"$f":"'Stávající stav - pomocný'!E19","v":4},{"$f":"'kros seznam'!G161","v":21.1},{"$f":"F178*E178","v":84.4},{"$f":"'kros seznam'!J161","v":0},{"$f":"E178*H178","v":0},{"$f":"'kros seznam'!K161","v":2.4E-2},9.6000000000000002E-2,{"$f":"'kros seznam'!L161","v":0.05},{"$f":"L178*E178","v":0.2}]
[{"$f":"'kros seznam'!B157","v":"D"},{"$f":"'kros seznam'!C157","v":"776"},{"$f":"'kros seznam'!D157","v":"Podlahy povlakové"},null,null,null,{"$f":"SUM(G180)","v":378.70703999999995},0,0,1E-3,5.3263999999999994E-3,0.255,1.3582319999999999]
[{"$f":"'kros seznam'!B158","v":"K"},{"$f":"'kros seznam'!C158","v":"776511820"},{"$f":"'kros seznam'!D158","v":"Demontáž povlakových podlah lepených s podložkou"},{"$f":"'kros seznam'!E158","v":"m2"},{"$f":"'Stávající stav - pomocný'!F18","v":5.3263999999999996},{"$f":"'kros seznam'!G158","v":71.099999999999994},{"$f":"F180*E180","v":378.70703999999995},{"$f":"'kros seznam'!J158","v":0},{"$f":"E180*H180","v":0},{"$f":"'kros seznam'!K158","v":1E-3},5.3263999999999994E-3,{"$f":"'kros seznam'!L158","v":0.255},{"$f":"L180*E180","v":1.3582319999999999}]
[]
["DEMONTÁŽ VANA"]
[{"$f":"'kros seznam'!B82","v":"D"},{"$f":"'kros seznam'!C82","v":"725"},{"$f":"'kros seznam'!D82","v":"Zdravotechnika - zařizovací předměty"},null,null,null,{"$f":"SUM(G184)","v":112},0,0,8.7492000000000004E-3,8.7492000000000004E-3,3.7075999999999998E-2,3.7075999999999998E-2]
[{"$f":"'kros seznam'!B115","v":"K"},{"$f":"'kros seznam'!C115","v":"725220832"},{"$f":"'kros seznam'!D115","v":"Demontáž van litinová volná"},{"$f":"'kros seznam'!E115","v":"soubor"},{"$f":"'Stávající stav - pomocný'!E5","v":1},{"$f":"'kros seznam'!G115","v":112},{"$f":"F184*E184","v":112},{"$f":"'kros seznam'!J115","v":0},{"$f":"E184*H184","v":0},{"$f":"'kros seznam'!K115","v":8.7492000000000004E-3},{"$f":"J184*E184","v":8.7492000000000004E-3},{"$f":"'kros seznam'!L115","v":3.7075999999999998E-2},{"$f":"L184*E184","v":3.7075999999999998E-2}]
["K",725820802,"Demontáž baterie stojánkové","soubor",{"$f":"'Stávající stav - pomocný'!E5","v":1},62,{"$f":"F185*E185","v":62},0,{"$f":"E185*H185","v":0},8.5999999999999998E-4,{"$f":"J185*E185","v":8.5999999999999998E-4},0.222,{"$f":"L185*E185","v":0.222}]
[]
["DEMONTÁŽ UMYVADLO"]
[{"$f":"'kros seznam'!B82","v":"D"},{"$f":"'kros seznam'!C82","v":"725"},{"$f":"'kros seznam'!D82","v":"Zdravotechnika - zařizovací předměty"},null,null,null,{"$f":"SUM(G189)","v":101},0,0,1.79032E-3,1.79032E-3,3.3304E-2,3.3304E-2]
[{"$f":"'kros seznam'!B114","v":"K"},{"$f":"'kros seznam'!C114","v":"725210821"},{"$f":"'kros seznam'!D114","v":"Demontáž umyvadel bez výtokových armatur"},{"$f":"'kros seznam'!E114","v":"soubor"},{"$f":"'Stávající stav - pomocný'!E8","v":1},{"$f":"'kros seznam'!G114","v":101},{"$f":"F189*E189","v":101},{"$f":"'kros seznam'!J114","v":0},{"$f":"E189*H189","v":0},{"$f":"'kros seznam'!K114","v":1.79032E-3},{"$f":"J189*E189","v":1.79032E-3},{"$f":"'kros seznam'!L114","v":3.3304E-2},{"$f":"L189*E189","v":3.3304E-2}]
["K",725820802,"Demontáž baterie stojánkové","soubor",{"$f":"'Stávající stav - pomocný'!E8","v":1},62,{"$f":"F190*E190","v":62},0,{"$f":"E190*H190","v":0},8.5999999999999998E-4,{"$f":"J190*E190","v":8.5999999999999998E-4},0.222,{"$f":"L190*E190","v":0.222}]
[]
["DEMONTÁŽ WC"]
[{"$f":"'kros seznam'!B82","v":"D"},{"$f":"'kros seznam'!C82","v":"725"},{"$f":"'kros seznam'!D82","v":"Zdravotechnika - zařizovací předměty"},null,null,null,{"$f":"SUM(G194)","v":0},0,0,1.7783600000000001E-3,0,5.0416000000000002E-2,0]
[{"$f":"'kros seznam'!B113","v":"K"},{"$f":"'kros seznam'!C113","v":"725110811"},{"$f":"'kros seznam'!D113","v":"Demontáž klozetů splachovací s nádrží"},{"$f":"'kros seznam'!E113","v":"soubor"},{"$f":"'Stávající stav - pomocný'!E7","v":0},{"$f":"'kros seznam'!G113","v":153},{"$f":"F194*E194","v":0},{"$f":"'kros seznam'!J113","v":0},{"$f":"E194*H194","v":0},{"$f":"'kros seznam'!K113","v":1.7783600000000001E-3},{"$f":"J194*E194","v":0},{"$f":"'kros seznam'!L113","v":5.0416000000000002E-2},{"$f":"L194*E194","v":0}]
[]
["DEMONTÁŽ SPRCHA"]
[{"$f":"'kros seznam'!B82","v":"D"},{"$f":"'kros seznam'!C82","v":"725"},{"$f":"'kros seznam'!D82","v":"Zdravotechnika - zařizovací předměty"},null,null,null,{"$f":"SUM(G198)","v":0},0,0,2.5000000000000001E-2,0,0.38300000000000001,0,{"$f":"'kros seznam'!N103","v":0},{"$f":"'kros seznam'!O103","v":0},{"$f":"'kros seznam'!P103","v":0},{"$f":"'kros seznam'!Q103","v":0},{"$f":"'kros seznam'!R103","v":0},{"$f":"'kros seznam'!S103","v":0},{"$f":"'kros seznam'!T103","v":0},{"$f":"'kros seznam'!U103","v":0},{"$f":"'kros seznam'!V103","v":0},{"$f":"'kros seznam'!W103","v":0},{"$f":"'kros seznam'!X103","v":0},{"$f":"'kros seznam'!Y103","v":0},{"$f":"'kros seznam'!Z103","v":0},{"$f":"'kros seznam'!AA103","v":0},{"$f":"'kros seznam'!AB103","v":0},{"$f":"'kros seznam'!AC103","v":0},{"$f":"'kros seznam'!AD103","v":0},{"$f":"'kros seznam'!AE103","v":0},{"$f":"'kros seznam'!AF103","v":0},{"$f":"'kros seznam'!AG103","v":0},{"$f":"'kros seznam'!AH103","v":0},{"$f":"'kros seznam'!AI103","v":0},{"$f":"'kros seznam'!AJ103","v":0},{"$f":"'kros seznam'!AK103","v":0},{"$f":"'kros seznam'!AL103","v":0},{"$f":"'kros seznam'!AM103","v":0},{"$f":"'kros seznam'!AN103","v":0},{"$f":"'kros seznam'!AO103","v":0},{"$f":"'kros seznam'!AP103","v":0},{"$f":"'kros seznam'!AQ103","v":0},{"$f":"'kros seznam'!AR103","v":0},{"$f":"'kros seznam'!AS103","v":0},{"$f":"'kros seznam'!AT103","v":0},{"$f":"'kros seznam'!AU103","v":0},{"$f":"'kros seznam'!AV103","v":0},{"$f":"'kros seznam'!AW103","v":0},{"$f":"'kros seznam'!AX103","v":0},{"$f":"'kros seznam'!AY103","v":0},{"$f":"'kros seznam'!AZ103","v":0},{"$f":"'kros seznam'!BA103","v":0},{"$f":"'kros seznam'!BB103","v":0},{"$f":"'kros seznam'!BC103","v":0},{"$f":"'kros seznam'!BD103","v":0},{"$f":"'kros seznam'!BE103","v":0},{"$f":"'kros seznam'!BF103","v":0},{"$f":"'kros seznam'!BG103","v":0},{"$f":"'kros seznam'!BH103","v":0},{"$f":"'kros seznam'!BI103","v":0},{"$f":"'kros seznam'!BJ103","v":0},{"$f":"'kros seznam'!BK103","v":0},{"$f":"'kros seznam'!BL103","v":0},{"$f":"'kros seznam'!BM103","v":0},{"$f":"'kros seznam'!BN103","v":0},{"$f":"'kros seznam'!BO103","v":0},{"$f":"'kros seznam'!BP103","v":0},{"$f":"'kros seznam'!BQ103","v":0},{"$f":"'kros seznam'!BR103","v":0},{"$f":"'kros seznam'!BS103","v":0},{"$f":"'kros seznam'!BT103","v":0},{"$f":"'kros seznam'!BU103","v":0},{"$f":"'kros seznam'!BV103","v":0},{"$f":"'kros seznam'!BW103","v":0},{"$f":"'kros seznam'!BX103","v":0},{"$f":"'kros seznam'!BY103","v":0},{"$f":"'kros seznam'!BZ103","v":0},{"$f":"'kros seznam'!CA103","v":0},{"$f":"'kros seznam'!CB103","v":0},{"$f":"'kros seznam'!CC103","v":0},{"$f":"'kros seznam'!CD103","v":0},{"$f":"'kros seznam'!CE103","v":0},{"$f":"'kros seznam'!CF103","v":0},{"$f":"'kros seznam'!CG103","v":0},{"$f":"'kros seznam'!CH103","v":0},{"$f":"'kros seznam'!CI103","v":0},{"$f":"'kros seznam'!CJ103","v":0},{"$f":"'kros seznam'!CK103","v":0},{"$f":"'kros seznam'!CL103","v":0},{"$f":"'kros seznam'!CM103","v":0},{"$f":"'kros seznam'!CN103","v":0},{"$f":"'kros seznam'!CO103","v":0},{"$f":"'kros seznam'!CP103","v":0},{"$f":"'kros seznam'!CQ103","v":0},{"$f":"'kros seznam'!CR103","v":0},{"$f":"'kros seznam'!CS103","v":0},{"$f":"'kros seznam'!CT103","v":0},{"$f":"'kros seznam'!CU103","v":0},{"$f":"'kros seznam'!CV103","v":0},{"$f":"'kros seznam'!CW103","v":0},{"$f":"'kros seznam'!CX103","v":0},{"$f":"'kros seznam'!CY103","v":0},{"$f":"'kros seznam'!CZ103","v":0},{"$f":"'kros seznam'!DA103","v":0},{"$f":"'kros seznam'!DB103","v":0},{"$f":"'kros seznam'!DC103","v":0},{"$f":"'kros seznam'!DD103","v":0},{"$f":"'kros seznam'!DE103","v":0},{"$f":"'kros seznam'!DF103","v":0},{"$f":"'kros seznam'!DG103","v":0},{"$f":"'kros seznam'!DH103","v":0},{"$f":"'kros seznam'!DI103","v":0},{"$f":"'kros seznam'!DJ103","v":0},{"$f":"'kros seznam'!DK103","v":0},{"$f":"'kros seznam'!DL103","v":0},{"$f":"'kros seznam'!DM103","v":0},{"$f":"'kros seznam'!DN103","v":0},{"$f":"'kros seznam'!DO103","v":0},{"$f":"'kros seznam'!DP103","v":0},{"$f":"'kros seznam'!DQ103","v":0},{"$f":"'kros seznam'!DR103","v":0},{"$f":"'kros seznam'!DS103","v":0},{"$f":"'kros seznam'!DT103","v":0},{"$f":"'kros seznam'!DU103","v":0},{"$f":"'kros seznam'!DV103","v":0},{"$f":"'kros seznam'!DW103","v":0},{"$f":"'kros seznam'!DX103","v":0},{"$f":"'kros seznam'!DY103","v":0},{"$f":"'kros seznam'!DZ103","v":0},{"$f":"'kros seznam'!EA103","v":0},{"$f":"'kros seznam'!EB103","v":0},{"$f":"'kros seznam'!EC103","v":0},{"$f":"'kros seznam'!ED103","v":0},{"$f":"'kros seznam'!EE103","v":0},{"$f":"'kros seznam'!EF103","v":0},{"$f":"'kros seznam'!EG103","v":0},{"$f":"'kros seznam'!EH103","v":0},{"$f":"'kros seznam'!EI103","v":0},{"$f":"'kros seznam'!EJ103","v":0},{"$f":"'kros seznam'!EK103","v":0},{"$f":"'kros seznam'!EL103","v":0},{"$f":"'kros seznam'!EM103","v":0},{"$f":"'kros seznam'!EN103","v":0},{"$f":"'kros seznam'!EO103","v":0},{"$f":"'kros seznam'!EP103","v":0},{"$f":"'kros seznam'!EQ103","v":0},{"$f":"'kros seznam'!ER103","v":0},{"$f":"'kros seznam'!ES103","v":0},{"$f":"'kros seznam'!ET103","v":0},{"$f":"'kros seznam'!EU103","v":0},{"$f":"'kros seznam'!EV103","v":0},{"$f":"'kros seznam'!EW103","v":0},{"$f":"'kros seznam'!EX103","v":0},{"$f":"'kros seznam'!EY103","v":0},{"$f":"'kros seznam'!EZ103","v":0},{"$f":"'kros seznam'!FA103","v":0},{"$f":"'kros seznam'!FB103","v":0},{"$f":"'kros seznam'!FC103","v":0},{"$f":"'kros seznam'!FD103","v":0},{"$f":"'kros seznam'!FE103","v":0},{"$f":"'kros seznam'!FF103","v":0},{"$f":"'kros seznam'!FG103","v":0},{"$f":"'kros seznam'!FH103","v":0},{"$f":"'kros seznam'!FI103","v":0},{"$f":"'kros seznam'!FJ103","v":0},{"$f":"'kros seznam'!FK103","v":0},{"$f":"'kros seznam'!FL103","v":0},{"$f":"'kros seznam'!FM103","v":0},{"$f":"'kros seznam'!FN103","v":0},{"$f":"'kros seznam'!FO103","v":0},{"$f":"'kros seznam'!FP103","v":0},{"$f":"'kros seznam'!FQ103","v":0},{"$f":"'kros seznam'!FR103","v":0},{"$f":"'kros seznam'!FS103","v":0},{"$f":"'kros seznam'!FT103","v":0},{"$f":"'kros seznam'!FU103","v":0},{"$f":"'kros seznam'!FV103","v":0},{"$f":"'kros seznam'!FW103","v":0},{"$f":"'kros seznam'!FX103","v":0},{"$f":"'kros seznam'!FY103","v":0},{"$f":"'kros seznam'!FZ103","v":0},{"$f":"'kros seznam'!GA103","v":0},{"$f":"'kros seznam'!GB103","v":0},{"$f":"'kros seznam'!GC103","v":0},{"$f":"'kros seznam'!GD103","v":0},{"$f":"'kros seznam'!GE103","v":0},{"$f":"'kros seznam'!GF103","v":0},{"$f":"'kros seznam'!GG103","v":0},{"$f":"'kros seznam'!GH103","v":0},{"$f":"'kros seznam'!GI103","v":0},{"$f":"'kros seznam'!GJ103","v":0},{"$f":"'kros seznam'!GK103","v":0},{"$f":"'kros seznam'!GL103","v":0},{"$f":"'kros seznam'!GM103","v":0},{"$f":"'kros seznam'!GN103","v":0},{"$f":"'kros seznam'!GO103","v":0},{"$f":"'kros seznam'!GP103","v":0},{"$f":"'kros seznam'!GQ103","v":0},{"$f":"'kros seznam'!GR103","v":0},{"$f":"'kros seznam'!GS103","v":0},{"$f":"'kros seznam'!GT103","v":0},{"$f":"'kros seznam'!GU103","v":0},{"$f":"'kros seznam'!GV103","v":0},{"$f":"'kros seznam'!GW103","v":0},{"$f":"'kros seznam'!GX103","v":0},{"$f":"'kros seznam'!GY103","v":0},{"$f":"'kros seznam'!GZ103","v":0},{"$f":"'kros seznam'!HA103","v":0},{"$f":"'kros seznam'!HB103","v":0},{"$f":"'kros seznam'!HC103","v":0},{"$f":"'kros seznam'!HD103","v":0},{"$f":"'kros seznam'!HE103","v":0},{"$f":"'kros seznam'!HF103","v":0},{"$f":"'kros seznam'!HG103","v":0},{"$f":"'kros seznam'!HH103","v":0},{"$f":"'kros seznam'!HI103","v":0},{"$f":"'kros seznam'!HJ103","v":0},{"$f":"'kros seznam'!HK103","v":0},{"$f":"'kros seznam'!HL103","v":0},{"$f":"'kros seznam'!HM103","v":0},{"$f":"'kros seznam'!HN103","v":0},{"$f":"'kros seznam'!HO103","v":0},{"$f":"'kros seznam'!HP103","v":0},{"$f":"'kros seznam'!HQ103","v":0},{"$f":"'kros seznam'!HR103","v":0},{"$f":"'kros seznam'!HS103","v":0},{"$f":"'kros seznam'!HT103","v":0},{"$f":"'kros seznam'!HU103","v":0},{"$f":"'kros seznam'!HV103","v":0},{"$f":"'kros seznam'!HW103","v":0},{"$f":"'kros seznam'!HX103","v":0},{"$f":"'kros seznam'!HY103","v":0},{"$f":"'kros seznam'!HZ103","v":0},{"$f":"'kros seznam'!IA103","v":0},{"$f":"'kros seznam'!IB103","v":0},{"$f":"'kros seznam'!IC103","v":0},{"$f":"'kros seznam'!ID103","v":0},{"$f":"'kros seznam'!IE103","v":0},{"$f":"'kros seznam'!IF103","v":0},{"$f":"'kros seznam'!IG103","v":0},{"$f":"'kros seznam'!IH103","v":0},{"$f":"'kros seznam'!II103","v":0},{"$f":"'kros seznam'!IJ103","v":0},{"$f":"'kros seznam'!IK103","v":0},{"$f":"'kros seznam'!IL103","v":0},{"$f":"'kros seznam'!IM103","v":0},{"$f":"'kros seznam'!IN103","v":0},{"$f":"'kros seznam'!IO103","v":0},{"$f":"'kros seznam'!IP103","v":0},{"$f":"'kros seznam'!IQ103","v":0},{"$f":"'kros seznam'!IR103","v":0},{"$f":"'kros seznam'!IS103","v":0},{"$f":"'kros seznam'!IT103","v":0},{"$f":"'kros seznam'!IU103","v":0},{"$f":"'kros seznam'!IV103","v":0},{"$f":"'kros seznam'!IW103","v":0},{"$f":"'kros seznam'!IX103","v":0},{"$f":"'kros seznam'!IY103","v":0},{"$f":"'kros seznam'!IZ103","v":0},{"$f":"'kros seznam'!JA103","v":0},{"$f":"'kros seznam'!JB103","v":0},{"$f":"'kros seznam'!JC103","v":0},{"$f":"'kros seznam'!JD103","v":0},{"$f":"'kros seznam'!JE103","v":0},{"$f":"'kros seznam'!JF103","v":0},{"$f":"'kros seznam'!JG103","v":0},{"$f":"'kros seznam'!JH103","v":0},{"$f":"'kros seznam'!JI103","v":0},{"$f":"'kros seznam'!JJ103","v":0},{"$f":"'kros seznam'!JK103","v":0},{"$f":"'kros seznam'!JL103","v":0},{"$f":"'kros seznam'!JM103","v":0},{"$f":"'kros seznam'!JN103","v":0},{"$f":"'kros seznam'!JO103","v":0},{"$f":"'kros seznam'!JP103","v":0},{"$f":"'kros seznam'!JQ103","v":0},{"$f":"'kros seznam'!JR103","v":0},{"$f":"'kros seznam'!JS103","v":0},{"$f":"'kros seznam'!JT103","v":0},{"$f":"'kros seznam'!JU103","v":0},{"$f":"'kros seznam'!JV103","v":0},{"$f":"'kros seznam'!JW103","v":0},{"$f":"'kros seznam'!JX103","v":0},{"$f":"'kros seznam'!JY103","v":0},{"$f":"'kros seznam'!JZ103","v":0},{"$f":"'kros seznam'!KA103","v":0},{"$f":"'kros seznam'!KB103","v":0},{"$f":"'kros seznam'!KC103","v":0},{"$f":"'kros seznam'!KD103","v":0},{"$f":"'kros seznam'!KE103","v":0},{"$f":"'kros seznam'!KF103","v":0},{"$f":"'kros seznam'!KG103","v":0},{"$f":"'kros seznam'!KH103","v":0},{"$f":"'kros seznam'!KI103","v":0},{"$f":"'kros seznam'!KJ103","v":0},{"$f":"'kros seznam'!KK103","v":0},{"$f":"'kros seznam'!KL103","v":0},{"$f":"'kros seznam'!KM103","v":0},{"$f":"'kros seznam'!KN103","v":0},{"$f":"'kros seznam'!KO103","v":0},{"$f":"'kros seznam'!KP103","v":0},{"$f":"'kros seznam'!KQ103","v":0},{"$f":"'kros seznam'!KR103","v":0},{"$f":"'kros seznam'!KS103","v":0},{"$f":"'kros seznam'!KT103","v":0},{"$f":"'kros seznam'!KU103","v":0},{"$f":"'kros seznam'!KV103","v":0},{"$f":"'kros seznam'!KW103","v":0},{"$f":"'kros seznam'!KX103","v":0},{"$f":"'kros seznam'!KY103","v":0},{"$f":"'kros seznam'!KZ103","v":0},{"$f":"'kros seznam'!LA103","v":0},{"$f":"'kros seznam'!LB103","v":0},{"$f":"'kros seznam'!LC103","v":0},{"$f":"'kros seznam'!LD103","v":0},{"$f":"'kros seznam'!LE103","v":0},{"$f":"'kros seznam'!LF103","v":0},{"$f":"'kros seznam'!LG103","v":0},{"$f":"'kros seznam'!LH103","v":0},{"$f":"'kros seznam'!LI103","v":0},{"$f":"'kros seznam'!LJ103","v":0},{"$f":"'kros seznam'!LK103","v":0},{"$f":"'kros seznam'!LL103","v":0},{"$f":"'kros seznam'!LM103","v":0},{"$f":"'kros seznam'!LN103","v":0},{"$f":"'kros seznam'!LO103","v":0},{"$f":"'kros seznam'!LP103","v":0},{"$f":"'kros seznam'!LQ103","v":0},{"$f":"'kros seznam'!LR103","v":0},{"$f":"'kros seznam'!LS103","v":0},{"$f":"'kros seznam'!LT103","v":0},{"$f":"'kros seznam'!LU103","v":0},{"$f":"'kros seznam'!LV103","v":0},{"$f":"'kros seznam'!LW103","v":0},{"$f":"'kros seznam'!LX103","v":0},{"$f":"'kros seznam'!LY103","v":0},{"$f":"'kros seznam'!LZ103","v":0},{"$f":"'kros seznam'!MA103","v":0},{"$f":"'kros seznam'!MB103","v":0},{"$f":"'kros seznam'!MC103","v":0},{"$f":"'kros seznam'!MD103","v":0},{"$f":"'kros seznam'!ME103","v":0},{"$f":"'kros seznam'!MF103","v":0},{"$f":"'kros seznam'!MG103","v":0},{"$f":"'kros seznam'!MH103","v":0},{"$f":"'kros seznam'!MI103","v":0},{"$f":"'kros seznam'!MJ103","v":0},{"$f":"'kros seznam'!MK103","v":0},{"$f":"'kros seznam'!ML103","v":0},{"$f":"'kros seznam'!MM103","v":0},{"$f":"'kros seznam'!MN103","v":0},{"$f":"'kros seznam'!MO103","v":0},{"$f":"'kros seznam'!MP103","v":0},{"$f":"'kros seznam'!MQ103","v":0},{"$f":"'kros seznam'!MR103","v":0},{"$f":"'kros seznam'!MS103","v":0},{"$f":"'kros seznam'!MT103","v":0},{"$f":"'kros seznam'!MU103","v":0},{"$f":"'kros seznam'!MV103","v":0},{"$f":"'kros seznam'!MW103","v":0},{"$f":"'kros seznam'!MX103","v":0},{"$f":"'kros seznam'!MY103","v":0},{"$f":"'kros seznam'!MZ103","v":0},{"$f":"'kros seznam'!NA103","v":0},{"$f":"'kros seznam'!NB103","v":0},{"$f":"'kros seznam'!NC103","v":0},{"$f":"'kros seznam'!ND103","v":0},{"$f":"'kros seznam'!NE103","v":0},{"$f":"'kros seznam'!NF103","v":0},{"$f":"'kros seznam'!NG103","v":0},{"$f":"'kros seznam'!NH103","v":0},{"$f":"'kros seznam'!NI103","v":0},{"$f":"'kros seznam'!NJ103","v":0},{"$f":"'kros seznam'!NK103","v":0},{"$f":"'kros seznam'!NL103","v":0},{"$f":"'kros seznam'!NM103","v":0},{"$f":"'kros seznam'!NN103","v":0},{"$f":"'kros seznam'!NO103","v":0},{"$f":"'kros seznam'!NP103","v":0},{"$f":"'kros seznam'!NQ103","v":0},{"$f":"'kros seznam'!NR103","v":0},{"$f":"'kros seznam'!NS103","v":0},{"$f":"'kros seznam'!NT103","v":0},{"$f":"'kros seznam'!NU103","v":0},{"$f":"'kros seznam'!NV103","v":0},{"$f":"'kros seznam'!NW103","v":0},{"$f":"'kros seznam'!NX103","v":0},{"$f":"'kros seznam'!NY103","v":0},{"$f":"'kros seznam'!NZ103","v":0},{"$f":"'kros seznam'!OA103","v":0},{"$f":"'kros seznam'!OB103","v":0},{"$f":"'kros seznam'!OC103","v":0},{"$f":"'kros seznam'!OD103","v":0},{"$f":"'kros seznam'!OE103","v":0},{"$f":"'kros seznam'!OF103","v":0},{"$f":"'kros seznam'!OG103","v":0},{"$f":"'kros seznam'!OH103","v":0},{"$f":"'kros seznam'!OI103","v":0},{"$f":"'kros seznam'!OJ103","v":0},{"$f":"'kros seznam'!OK103","v":0},{"$f":"'kros seznam'!OL103","v":0},{"$f":"'kros seznam'!OM103","v":0},{"$f":"'kros seznam'!ON103","v":0},{"$f":"'kros seznam'!OO103","v":0},{"$f":"'kros seznam'!OP103","v":0},{"$f":"'kros seznam'!OQ103","v":0},{"$f":"'kros seznam'!OR103","v":0},{"$f":"'kros seznam'!OS103","v":0},{"$f":"'kros seznam'!OT103","v":0},{"$f":"'kros seznam'!OU103","v":0},{"$f":"'kros seznam'!OV103","v":0},{"$f":"'kros seznam'!OW103","v":0},{"$f":"'kros seznam'!OX103","v":0},{"$f":"'kros seznam'!OY103","v":0},{"$f":"'kros seznam'!OZ103","v":0},{"$f":"'kros seznam'!PA103","v":0},{"$f":"'kros seznam'!PB103","v":0},{"$f":"'kros seznam'!PC103","v":0},{"$f":"'kros seznam'!PD103","v":0},{"$f":"'kros seznam'!PE103","v":0},{"$f":"'kros seznam'!PF103","v":0},{"$f":"'kros seznam'!PG103","v":0},{"$f":"'kros seznam'!PH103","v":0},{"$f":"'kros seznam'!PI103","v":0},{"$f":"'kros seznam'!PJ103","v":0},{"$f":"'kros seznam'!PK103","v":0},{"$f":"'kros seznam'!PL103","v":0},{"$f":"'kros seznam'!PM103","v":0},{"$f":"'kros seznam'!PN103","v":0},{"$f":"'kros seznam'!PO103","v":0},{"$f":"'kros seznam'!PP103","v":0},{"$f":"'kros seznam'!PQ103","v":0},{"$f":"'kros seznam'!PR103","v":0},{"$f":"'kros seznam'!PS103","v":0},{"$f":"'kros seznam'!PT103","v":0},{"$f":"'kros seznam'!PU103","v":0},{"$f":"'kros seznam'!PV103","v":0},{"$f":"'kros seznam'!PW103","v":0},{"$f":"'kros seznam'!PX103","v":0},{"$f":"'kros seznam'!PY103","v":0},{"$f":"'kros seznam'!PZ103","v":0},{"$f":"'kros seznam'!QA103","v":0},{"$f":"'kros seznam'!QB103","v":0},{"$f":"'kros seznam'!QC103","v":0},{"$f":"'kros seznam'!QD103","v":0},{"$f":"'kros seznam'!QE103","v":0},{"$f":"'kros seznam'!QF103","v":0},{"$f":"'kros seznam'!QG103","v":0},{"$f":"'kros seznam'!QH103","v":0},{"$f":"'kros seznam'!QI103","v":0},{"$f":"'kros seznam'!QJ103","v":0},{"$f":"'kros seznam'!QK103","v":0},{"$f":"'kros seznam'!QL103","v":0},{"$f":"'kros seznam'!QM103","v":0},{"$f":"'kros seznam'!QN103","v":0},{"$f":"'kros seznam'!QO103","v":0},{"$f":"'kros seznam'!QP103","v":0},{"$f":"'kros seznam'!QQ103","v":0},{"$f":"'kros seznam'!QR103","v":0},{"$f":"'kros seznam'!QS103","v":0},{"$f":"'kros seznam'!QT103","v":0},{"$f":"'kros seznam'!QU103","v":0},{"$f":"'kros seznam'!QV103","v":0},{"$f":"'kros seznam'!QW103","v":0},{"$f":"'kros seznam'!QX103","v":0},{"$f":"'kros seznam'!QY103","v":0},{"$f":"'kros seznam'!QZ103","v":0},{"$f":"'kros seznam'!RA103","v":0},{"$f":"'kros seznam'!RB103","v":0},{"$f":"'kros seznam'!RC103","v":0},{"$f":"'kros seznam'!RD103","v":0},{"$f":"'kros seznam'!RE103","v":0},{"$f":"'kros seznam'!RF103","v":0},{"$f":"'kros seznam'!RG103","v":0},{"$f":"'kros seznam'!RH103","v":0},{"$f":"'kros seznam'!RI103","v":0},{"$f":"'kros seznam'!RJ103","v":0},{"$f":"'kros seznam'!RK103","v":0},{"$f":"'kros seznam'!RL103","v":0},{"$f":"'kros seznam'!RM103","v":0},{"$f":"'kros seznam'!RN103","v":0},{"$f":"'kros seznam'!RO103","v":0},{"$f":"'kros seznam'!RP103","v":0},{"$f":"'kros seznam'!RQ103","v":0},{"$f":"'kros seznam'!RR103","v":0},{"$f":"'kros seznam'!RS103","v":0},{"$f":"'kros seznam'!RT103","v":0},{"$f":"'kros seznam'!RU103","v":0},{"$f":"'kros seznam'!RV103","v":0},{"$f":"'kros seznam'!RW103","v":0},{"$f":"'kros seznam'!RX103","v":0},{"$f":"'kros seznam'!RY103","v":0},{"$f":"'kros seznam'!RZ103","v":0},{"$f":"'kros seznam'!SA103","v":0},{"$f":"'kros seznam'!SB103","v":0},{"$f":"'kros seznam'!SC103","v":0},{"$f":"'kros seznam'!SD103","v":0},{"$f":"'kros seznam'!SE103","v":0},{"$f":"'kros seznam'!SF103","v":0},{"$f":"'kros seznam'!SG103","v":0},{"$f":"'kros seznam'!SH103","v":0},{"$f":"'kros seznam'!SI103","v":0},{"$f":"'kros seznam'!SJ103","v":0},{"$f":"'kros seznam'!SK103","v":0},{"$f":"'kros seznam'!SL103","v":0},{"$f":"'kros seznam'!SM103","v":0},{"$f":"'kros seznam'!SN103","v":0},{"$f":"'kros seznam'!SO103","v":0},{"$f":"'kros seznam'!SP103","v":0},{"$f":"'kros seznam'!SQ103","v":0},{"$f":"'kros seznam'!SR103","v":0},{"$f":"'kros seznam'!SS103","v":0},{"$f":"'kros seznam'!ST103","v":0},{"$f":"'kros seznam'!SU103","v":0},{"$f":"'kros seznam'!SV103","v":0},{"$f":"'kros seznam'!SW103","v":0},{"$f":"'kros seznam'!SX103","v":0},{"$f":"'kros seznam'!SY103","v":0},{"$f":"'kros seznam'!SZ103","v":0},{"$f":"'kros seznam'!TA103","v":0},{"$f":"'kros seznam'!TB103","v":0},{"$f":"'kros seznam'!TC103","v":0},{"$f":"'kros seznam'!TD103","v":0},{"$f":"'kros seznam'!TE103","v":0},{"$f":"'kros seznam'!TF103","v":0},{"$f":"'kros seznam'!TG103","v":0},{"$f":"'kros seznam'!TH103","v":0},{"$f":"'kros seznam'!TI103","v":0},{"$f":"'kros seznam'!TJ103","v":0},{"$f":"'kros seznam'!TK103","v":0},{"$f":"'kros seznam'!TL103","v":0},{"$f":"'kros seznam'!TM103","v":0},{"$f":"'kros seznam'!TN103","v":0},{"$f":"'kros seznam'!TO103","v":0},{"$f":"'kros seznam'!TP103","v":0},{"$f":"'kros seznam'!TQ103","v":0},{"$f":"'kros seznam'!TR103","v":0},{"$f":"'kros seznam'!TS103","v":0},{"$f":"'kros seznam'!TT103","v":0},{"$f":"'kros seznam'!TU103","v":0},{"$f":"'kros seznam'!TV103","v":0},{"$f":"'kros seznam'!TW103","v":0},{"$f":"'kros seznam'!TX103","v":0},{"$f":"'kros seznam'!TY103","v":0},{"$f":"'kros seznam'!TZ103","v":0},{"$f":"'kros seznam'!UA103","v":0},{"$f":"'kros seznam'!UB103","v":0},{"$f":"'kros seznam'!UC103","v":0},{"$f":"'kros seznam'!UD103","v":0},{"$f":"'kros seznam'!UE103","v":0},{"$f":"'kros seznam'!UF103","v":0},{"$f":"'kros seznam'!UG103","v":0},{"$f":"'kros seznam'!UH103","v":0},{"$f":"'kros seznam'!UI103","v":0},{"$f":"'kros seznam'!UJ103","v":0},{"$f":"'kros seznam'!UK103","v":0},{"$f":"'kros seznam'!UL103","v":0},{"$f":"'kros seznam'!UM103","v":0},{"$f":"'kros seznam'!UN103","v":0},{"$f":"'kros seznam'!UO103","v":0},{"$f":"'kros seznam'!UP103","v":0},{"$f":"'kros seznam'!UQ103","v":0},{"$f":"'kros seznam'!UR103","v":0},{"$f":"'kros seznam'!US103","v":0},{"$f":"'kros seznam'!UT103","v":0},{"$f":"'kros seznam'!UU103","v":0},{"$f":"'kros seznam'!UV103","v":0},{"$f":"'kros seznam'!UW103","v":0},{"$f":"'kros seznam'!UX103","v":0},{"$f":"'kros seznam'!UY103","v":0},{"$f":"'kros seznam'!UZ103","v":0},{"$f":"'kros seznam'!VA103","v":0},{"$f":"'kros seznam'!VB103","v":0},{"$f":"'kros seznam'!VC103","v":0},{"$f":"'kros seznam'!VD103","v":0},{"$f":"'kros seznam'!VE103","v":0},{"$f":"'kros seznam'!VF103","v":0},{"$f":"'kros seznam'!VG103","v":0},{"$f":"'kros seznam'!VH103","v":0},{"$f":"'kros seznam'!VI103","v":0},{"$f":"'kros seznam'!VJ103","v":0},{"$f":"'kros seznam'!VK103","v":0},{"$f":"'kros seznam'!VL103","v":0},{"$f":"'kros seznam'!VM103","v":0},{"$f":"'kros seznam'!VN103","v":0},{"$f":"'kros seznam'!VO103","v":0},{"$f":"'kros seznam'!VP103","v":0},{"$f":"'kros seznam'!VQ103","v":0},{"$f":"'kros seznam'!VR103","v":0},{"$f":"'kros seznam'!VS103","v":0},{"$f":"'kros seznam'!VT103","v":0},{"$f":"'kros seznam'!VU103","v":0},{"$f":"'kros seznam'!VV103","v":0},{"$f":"'kros seznam'!VW103","v":0},{"$f":"'kros seznam'!VX103","v":0},{"$f":"'kros seznam'!VY103","v":0},{"$f":"'kros seznam'!VZ103","v":0},{"$f":"'kros seznam'!WA103","v":0},{"$f":"'kros seznam'!WB103","v":0},{"$f":"'kros seznam'!WC103","v":0},{"$f":"'kros seznam'!WD103","v":0},{"$f":"'kros seznam'!WE103","v":0},{"$f":"'kros seznam'!WF103","v":0},{"$f":"'kros seznam'!WG103","v":0},{"$f":"'kros seznam'!WH103","v":0},{"$f":"'kros seznam'!WI103","v":0},{"$f":"'kros seznam'!WJ103","v":0},{"$f":"'kros seznam'!WK103","v":0},{"$f":"'kros seznam'!WL103","v":0},{"$f":"'kros seznam'!WM103","v":0},{"$f":"'kros seznam'!WN103","v":0},{"$f":"'kros seznam'!WO103","v":0},{"$f":"'kros seznam'!WP103","v":0},{"$f":"'kros seznam'!WQ103","v":0},{"$f":"'kros seznam'!WR103","v":0},{"$f":"'kros seznam'!WS103","v":0},{"$f":"'kros seznam'!WT103","v":0},{"$f":"'kros seznam'!WU103","v":0},{"$f":"'kros seznam'!WV103","v":0},{"$f":"'kros seznam'!WW103","v":0},{"$f":"'kros seznam'!WX103","v":0},{"$f":"'kros seznam'!WY103","v":0},{"$f":"'kros seznam'!WZ103","v":0},{"$f":"'kros seznam'!XA103","v":0},{"$f":"'kros seznam'!XB103","v":0},{"$f":"'kros seznam'!XC103","v":0},{"$f":"'kros seznam'!XD103","v":0},{"$f":"'kros seznam'!XE103","v":0},{"$f":"'kros seznam'!XF103","v":0},{"$f":"'kros seznam'!XG103","v":0},{"$f":"'kros seznam'!XH103","v":0},{"$f":"'kros seznam'!XI103","v":0},{"$f":"'kros seznam'!XJ103","v":0},{"$f":"'kros seznam'!XK103","v":0},{"$f":"'kros seznam'!XL103","v":0},{"$f":"'kros seznam'!XM103","v":0},{"$f":"'kros seznam'!XN103","v":0},{"$f":"'kros seznam'!XO103","v":0},{"$f":"'kros seznam'!XP103","v":0},{"$f":"'kros seznam'!XQ103","v":0},{"$f":"'kros seznam'!XR103","v":0},{"$f":"'kros seznam'!XS103","v":0},{"$f":"'kros seznam'!XT103","v":0},{"$f":"'kros seznam'!XU103","v":0},{"$f":"'kros seznam'!XV103","v":0},{"$f":"'kros seznam'!XW103","v":0},{"$f":"'kros seznam'!XX103","v":0},{"$f":"'kros seznam'!XY103","v":0},{"$f":"'kros seznam'!XZ103","v":0},{"$f":"'kros seznam'!YA103","v":0},{"$f":"'kros seznam'!YB103","v":0},{"$f":"'kros seznam'!YC103","v":0},{"$f":"'kros seznam'!YD103","v":0},{"$f":"'kros seznam'!YE103","v":0},{"$f":"'kros seznam'!YF103","v":0},{"$f":"'kros seznam'!YG103","v":0},{"$f":"'kros seznam'!YH103","v":0},{"$f":"'kros seznam'!YI103","v":0},{"$f":"'kros seznam'!YJ103","v":0},{"$f":"'kros seznam'!YK103","v":0},{"$f":"'kros seznam'!YL103","v":0},{"$f":"'kros seznam'!YM103","v":0},{"$f":"'kros seznam'!YN103","v":0},{"$f":"'kros seznam'!YO103","v":0},{"$f":"'kros seznam'!YP103","v":0},{"$f":"'kros seznam'!YQ103","v":0},{"$f":"'kros seznam'!YR103","v":0},{"$f":"'kros seznam'!YS103","v":0},{"$f":"'kros seznam'!YT103","v":0},{"$f":"'kros seznam'!YU103","v":0},{"$f":"'kros seznam'!YV103","v":0},{"$f":"'kros seznam'!YW103","v":0},{"$f":"'kros seznam'!YX103","v":0},{"$f":"'kros seznam'!YY103","v":0},{"$f":"'kros seznam'!YZ103","v":0},{"$f":"'kros seznam'!ZA103","v":0},{"$f":"'kros seznam'!ZB103","v":0},{"$f":"'kros seznam'!ZC103","v":0},{"$f":"'kros seznam'!ZD103","v":0},{"$f":"'kros seznam'!ZE103","v":0},{"$f":"'kros seznam'!ZF103","v":0},{"$f":"'kros seznam'!ZG103","v":0},{"$f":"'kros seznam'!ZH103","v":0},{"$f":"'kros seznam'!ZI103","v":0},{"$f":"'kros seznam'!ZJ103","v":0},{"$f":"'kros seznam'!ZK103","v":0},{"$f":"'kros seznam'!ZL103","v":0},{"$f":"'kros seznam'!ZM103","v":0},{"$f":"'kros seznam'!ZN103","v":0},{"$f":"'kros seznam'!ZO103","v":0},{"$f":"'kros seznam'!ZP103","v":0},{"$f":"'kros seznam'!ZQ103","v":0},{"$f":"'kros seznam'!ZR103","v":0},{"$f":"'kros seznam'!ZS103","v":0},{"$f":"'kros seznam'!ZT103","v":0},{"$f":"'kros seznam'!ZU103","v":0},{"$f":"'kros seznam'!ZV103","v":0},{"$f":"'kros seznam'!ZW103","v":0},{"$f":"'kros seznam'!ZX103","v":0},{"$f":"'kros seznam'!ZY103","v":0},{"$f":"'kros seznam'!ZZ103","v":0},{"$f":"'kros seznam'!AAA103","v":0},{"$f":"'kros seznam'!AAB103","v":0},{"$f":"'kros seznam'!AAC103","v":0},{"$f":"'kros seznam'!AAD103","v":0},{"$f":"'kros seznam'!AAE103","v":0},{"$f":"'kros seznam'!AAF103","v":0},{"$f":"'kros seznam'!AAG103","v":0},{"$f":"'kros seznam'!AAH103","v":0},{"$f":"'kros seznam'!AAI103","v":0},{"$f":"'kros seznam'!AAJ103","v":0},{"$f":"'kros seznam'!AAK103","v":0},{"$f":"'kros seznam'!AAL103","v":0},{"$f":"'kros seznam'!AAM103","v":0},{"$f":"'kros seznam'!AAN103","v":0},{"$f":"'kros seznam'!AAO103","v":0},{"$f":"'kros seznam'!AAP103","v":0},{"$f":"'kros seznam'!AAQ103","v":0},{"$f":"'kros seznam'!AAR103","v":0},{"$f":"'kros seznam'!AAS103","v":0},{"$f":"'kros seznam'!AAT103","v":0},{"$f":"'kros seznam'!AAU103","v":0},{"$f":"'kros seznam'!AAV103","v":0},{"$f":"'kros seznam'!AAW103","v":0},{"$f":"'kros seznam'!AAX103","v":0},{"$f":"'kros seznam'!AAY103","v":0},{"$f":"'kros seznam'!AAZ103","v":0},{"$f":"'kros seznam'!ABA103","v":0},{"$f":"'kros seznam'!ABB103","v":0},{"$f":"'kros seznam'!ABC103","v":0},{"$f":"'kros seznam'!ABD103","v":0},{"$f":"'kros seznam'!ABE103","v":0},{"$f":"'kros seznam'!ABF103","v":0},{"$f":"'kros seznam'!ABG103","v":0},{"$f":"'kros seznam'!ABH103","v":0},{"$f":"'kros seznam'!ABI103","v":0},{"$f":"'kros seznam'!ABJ103","v":0},{"$f":"'kros seznam'!ABK103","v":0},{"$f":"'kros seznam'!ABL103","v":0},{"$f":"'kros seznam'!ABM103","v":0},{"$f":"'kros seznam'!ABN103","v":0},{"$f":"'kros seznam'!ABO103","v":0},{"$f":"'kros seznam'!ABP103","v":0},{"$f":"'kros seznam'!ABQ103","v":0},{"$f":"'kros seznam'!ABR103","v":0},{"$f":"'kros seznam'!ABS103","v":0},{"$f":"'kros seznam'!ABT103","v":0},{"$f":"'kros seznam'!ABU103","v":0},{"$f":"'kros seznam'!ABV103","v":0},{"$f":"'kros seznam'!ABW103","v":0},{"$f":"'kros seznam'!ABX103","v":0},{"$f":"'kros seznam'!ABY103","v":0},{"$f":"'kros seznam'!ABZ103","v":0},{"$f":"'kros seznam'!ACA103","v":0},{"$f":"'kros seznam'!ACB103","v":0},{"$f":"'kros seznam'!ACC103","v":0},{"$f":"'kros seznam'!ACD103","v":0},{"$f":"'kros seznam'!ACE103","v":0},{"$f":"'kros seznam'!ACF103","v":0},{"$f":"'kros seznam'!ACG103","v":0},{"$f":"'kros seznam'!ACH103","v":0},{"$f":"'kros seznam'!ACI103","v":0},{"$f":"'kros seznam'!ACJ103","v":0},{"$f":"'kros seznam'!ACK103","v":0},{"$f":"'kros seznam'!ACL103","v":0},{"$f":"'kros seznam'!ACM103","v":0},{"$f":"'kros seznam'!ACN103","v":0},{"$f":"'kros seznam'!ACO103","v":0},{"$f":"'kros seznam'!ACP103","v":0},{"$f":"'kros seznam'!ACQ103","v":0},{"$f":"'kros seznam'!ACR103","v":0},{"$f":"'kros seznam'!ACS103","v":0},{"$f":"'kros seznam'!ACT103","v":0},{"$f":"'kros seznam'!ACU103","v":0},{"$f":"'kros seznam'!ACV103","v":0},{"$f":"'kros seznam'!ACW103","v":0},{"$f":"'kros seznam'!ACX103","v":0},{"$f":"'kros seznam'!ACY103","v":0},{"$f":"'kros seznam'!ACZ103","v":0},{"$f":"'kros seznam'!ADA103","v":0},{"$f":"'kros seznam'!ADB103","v":0},{"$f":"'kros seznam'!ADC103","v":0},{"$f":"'kros seznam'!ADD103","v":0},{"$f":"'kros seznam'!ADE103","v":0},{"$f":"'kros seznam'!ADF103","v":0},{"$f":"'kros seznam'!ADG103","v":0},{"$f":"'kros seznam'!ADH103","v":0},{"$f":"'kros seznam'!ADI103","v":0},{"$f":"'kros seznam'!ADJ103","v":0},{"$f":"'kros seznam'!ADK103","v":0},{"$f":"'kros seznam'!ADL103","v":0},{"$f":"'kros seznam'!ADM103","v":0},{"$f":"'kros seznam'!ADN103","v":0},{"$f":"'kros seznam'!ADO103","v":0},{"$f":"'kros seznam'!ADP103","v":0},{"$f":"'kros seznam'!ADQ103","v":0},{"$f":"'kros seznam'!ADR103","v":0},{"$f":"'kros seznam'!ADS103","v":0},{"$f":"'kros seznam'!ADT103","v":0},{"$f":"'kros seznam'!ADU103","v":0},{"$f":"'kros seznam'!ADV103","v":0},{"$f":"'kros seznam'!ADW103","v":0},{"$f":"'kros seznam'!ADX103","v":0},{"$f":"'kros seznam'!ADY103","v":0},{"$f":"'kros seznam'!ADZ103","v":0},{"$f":"'kros seznam'!AEA103","v":0},{"$f":"'kros seznam'!AEB103","v":0},{"$f":"'kros seznam'!AEC103","v":0},{"$f":"'kros seznam'!AED103","v":0},{"$f":"'kros seznam'!AEE103","v":0},{"$f":"'kros seznam'!AEF103","v":0},{"$f":"'kros seznam'!AEG103","v":0},{"$f":"'kros seznam'!AEH103","v":0},{"$f":"'kros seznam'!AEI103","v":0},{"$f":"'kros seznam'!AEJ103","v":0},{"$f":"'kros seznam'!AEK103","v":0},{"$f":"'kros seznam'!AEL103","v":0},{"$f":"'kros seznam'!AEM103","v":0},{"$f":"'kros seznam'!AEN103","v":0},{"$f":"'kros seznam'!AEO103","v":0},{"$f":"'kros seznam'!AEP103","v":0},{"$f":"'kros seznam'!AEQ103","v":0},{"$f":"'kros seznam'!AER103","v":0},{"$f":"'kros seznam'!AES103","v":0},{"$f":"'kros seznam'!AET103","v":0},{"$f":"'kros seznam'!AEU103","v":0},{"$f":"'kros seznam'!AEV103","v":0},{"$f":"'kros seznam'!AEW103","v":0},{"$f":"'kros seznam'!AEX103","v":0},{"$f":"'kros seznam'!AEY103","v":0},{"$f":"'kros seznam'!AEZ103","v":0},{"$f":"'kros seznam'!AFA103","v":0},{"$f":"'kros seznam'!AFB103","v":0},{"$f":"'kros seznam'!AFC103","v":0},{"$f":"'kros seznam'!AFD103","v":0},{"$f":"'kros seznam'!AFE103","v":0},{"$f":"'kros seznam'!AFF103","v":0},{"$f":"'kros seznam'!AFG103","v":0},{"$f":"'kros seznam'!AFH103","v":0},{"$f":"'kros seznam'!AFI103","v":0},{"$f":"'kros seznam'!AFJ103","v":0},{"$f":"'kros seznam'!AFK103","v":0},{"$f":"'kros seznam'!AFL103","v":0},{"$f":"'kros seznam'!AFM103","v":0},{"$f":"'kros seznam'!AFN103","v":0},{"$f":"'kros seznam'!AFO103","v":0},{"$f":"'kros seznam'!AFP103","v":0},{"$f":"'kros seznam'!AFQ103","v":0},{"$f":"'kros seznam'!AFR103","v":0},{"$f":"'kros seznam'!AFS103","v":0},{"$f":"'kros seznam'!AFT103","v":0},{"$f":"'kros seznam'!AFU103","v":0},{"$f":"'kros seznam'!AFV103","v":0},{"$f":"'kros seznam'!AFW103","v":0},{"$f":"'kros seznam'!AFX103","v":0},{"$f":"'kros seznam'!AFY103","v":0},{"$f":"'kros seznam'!AFZ103","v":0},{"$f":"'kros seznam'!AGA103","v":0},{"$f":"'kros seznam'!AGB103","v":0},{"$f":"'kros seznam'!AGC103","v":0},{"$f":"'kros seznam'!AGD103","v":0},{"$f":"'kros seznam'!AGE103","v":0},{"$f":"'kros seznam'!AGF103","v":0},{"$f":"'kros seznam'!AGG103","v":0},{"$f":"'kros seznam'!AGH103","v":0},{"$f":"'kros seznam'!AGI103","v":0},{"$f":"'kros seznam'!AGJ103","v":0},{"$f":"'kros seznam'!AGK103","v":0},{"$f":"'kros seznam'!AGL103","v":0},{"$f":"'kros seznam'!AGM103","v":0},{"$f":"'kros seznam'!AGN103","v":0},{"$f":"'kros seznam'!AGO103","v":0},{"$f":"'kros seznam'!AGP103","v":0},{"$f":"'kros seznam'!AGQ103","v":0},{"$f":"'kros seznam'!AGR103","v":0},{"$f":"'kros seznam'!AGS103","v":0},{"$f":"'kros seznam'!AGT103","v":0},{"$f":"'kros seznam'!AGU103","v":0},{"$f":"'kros seznam'!AGV103","v":0},{"$f":"'kros seznam'!AGW103","v":0},{"$f":"'kros seznam'!AGX103","v":0},{"$f":"'kros seznam'!AGY103","v":0},{"$f":"'kros seznam'!AGZ103","v":0},{"$f":"'kros seznam'!AHA103","v":0},{"$f":"'kros seznam'!AHB103","v":0},{"$f":"'kros seznam'!AHC103","v":0},{"$f":"'kros seznam'!AHD103","v":0},{"$f":"'kros seznam'!AHE103","v":0},{"$f":"'kros seznam'!AHF103","v":0},{"$f":"'kros seznam'!AHG103","v":0},{"$f":"'kros seznam'!AHH103","v":0},{"$f":"'kros seznam'!AHI103","v":0},{"$f":"'kros seznam'!AHJ103","v":0},{"$f":"'kros seznam'!AHK103","v":0},{"$f":"'kros seznam'!AHL103","v":0},{"$f":"'kros seznam'!AHM103","v":0},{"$f":"'kros seznam'!AHN103","v":0},{"$f":"'kros seznam'!AHO103","v":0},{"$f":"'kros seznam'!AHP103","v":0},{"$f":"'kros seznam'!AHQ103","v":0},{"$f":"'kros seznam'!AHR103","v":0},{"$f":"'kros seznam'!AHS103","v":0},{"$f":"'kros seznam'!AHT103","v":0},{"$f":"'kros seznam'!AHU103","v":0},{"$f":"'kros seznam'!AHV103","v":0},{"$f":"'kros seznam'!AHW103","v":0},{"$f":"'kros seznam'!AHX103","v":0},{"$f":"'kros seznam'!AHY103","v":0},{"$f":"'kros seznam'!AHZ103","v":0},{"$f":"'kros seznam'!AIA103","v":0},{"$f":"'kros seznam'!AIB103","v":0},{"$f":"'kros seznam'!AIC103","v":0},{"$f":"'kros seznam'!AID103","v":0},{"$f":"'kros seznam'!AIE103","v":0},{"$f":"'kros seznam'!AIF103","v":0},{"$f":"'kros seznam'!AIG103","v":0},{"$f":"'kros seznam'!AIH103","v":0},{"$f":"'kros seznam'!AII103","v":0},{"$f":"'kros seznam'!AIJ103","v":0},{"$f":"'kros seznam'!AIK103","v":0},{"$f":"'kros seznam'!AIL103","v":0},{"$f":"'kros seznam'!AIM103","v":0},{"$f":"'kros seznam'!AIN103","v":0},{"$f":"'kros seznam'!AIO103","v":0},{"$f":"'kros seznam'!AIP103","v":0},{"$f":"'kros seznam'!AIQ103","v":0},{"$f":"'kros seznam'!AIR103","v":0},{"$f":"'kros seznam'!AIS103","v":0},{"$f":"'kros seznam'!AIT103","v":0},{"$f":"'kros seznam'!AIU103","v":0},{"$f":"'kros seznam'!AIV103","v":0},{"$f":"'kros seznam'!AIW103","v":0},{"$f":"'kros seznam'!AIX103","v":0},{"$f":"'kros seznam'!AIY103","v":0},{"$f":"'kros seznam'!AIZ103","v":0},{"$f":"'kros seznam'!AJA103","v":0},{"$f":"'kros seznam'!AJB103","v":0},{"$f":"'kros seznam'!AJC103","v":0},{"$f":"'kros seznam'!AJD103","v":0},{"$f":"'kros seznam'!AJE103","v":0},{"$f":"'kros seznam'!AJF103","v":0},{"$f":"'kros seznam'!AJG103","v":0},{"$f":"'kros seznam'!AJH103","v":0},{"$f":"'kros seznam'!AJI103","v":0},{"$f":"'kros seznam'!AJJ103","v":0},{"$f":"'kros seznam'!AJK103","v":0},{"$f":"'kros seznam'!AJL103","v":0},{"$f":"'kros seznam'!AJM103","v":0},{"$f":"'kros seznam'!AJN103","v":0},{"$f":"'kros seznam'!AJO103","v":0},{"$f":"'kros seznam'!AJP103","v":0},{"$f":"'kros seznam'!AJQ103","v":0},{"$f":"'kros seznam'!AJR103","v":0},{"$f":"'kros seznam'!AJS103","v":0},{"$f":"'kros seznam'!AJT103","v":0},{"$f":"'kros seznam'!AJU103","v":0},{"$f":"'kros seznam'!AJV103","v":0},{"$f":"'kros seznam'!AJW103","v":0},{"$f":"'kros seznam'!AJX103","v":0},{"$f":"'kros seznam'!AJY103","v":0},{"$f":"'kros seznam'!AJZ103","v":0},{"$f":"'kros seznam'!AKA103","v":0},{"$f":"'kros seznam'!AKB103","v":0},{"$f":"'kros seznam'!AKC103","v":0},{"$f":"'kros seznam'!AKD103","v":0},{"$f":"'kros seznam'!AKE103","v":0},{"$f":"'kros seznam'!AKF103","v":0},{"$f":"'kros seznam'!AKG103","v":0},{"$f":"'kros seznam'!AKH103","v":0},{"$f":"'kros seznam'!AKI103","v":0},{"$f":"'kros seznam'!AKJ103","v":0},{"$f":"'kros seznam'!AKK103","v":0},{"$f":"'kros seznam'!AKL103","v":0},{"$f":"'kros seznam'!AKM103","v":0},{"$f":"'kros seznam'!AKN103","v":0},{"$f":"'kros seznam'!AKO103","v":0},{"$f":"'kros seznam'!AKP103","v":0},{"$f":"'kros seznam'!AKQ103","v":0},{"$f":"'kros seznam'!AKR103","v":0},{"$f":"'kros seznam'!AKS103","v":0},{"$f":"'kros seznam'!AKT103","v":0},{"$f":"'kros seznam'!AKU103","v":0},{"$f":"'kros seznam'!AKV103","v":0},{"$f":"'kros seznam'!AKW103","v":0},{"$f":"'kros seznam'!AKX103","v":0},{"$f":"'kros seznam'!AKY103","v":0},{"$f":"'kros seznam'!AKZ103","v":0},{"$f":"'kros seznam'!ALA103","v":0},{"$f":"'kros seznam'!ALB103","v":0},{"$f":"'kros seznam'!ALC103","v":0},{"$f":"'kros seznam'!ALD103","v":0},{"$f":"'kros seznam'!ALE103","v":0},{"$f":"'kros seznam'!ALF103","v":0},{"$f":"'kros seznam'!ALG103","v":0},{"$f":"'kros seznam'!ALH103","v":0},{"$f":"'kros seznam'!ALI103","v":0},{"$f":"'kros seznam'!ALJ103","v":0},{"$f":"'kros seznam'!ALK103","v":0},{"$f":"'kros seznam'!ALL103","v":0},{"$f":"'kros seznam'!ALM103","v":0},{"$f":"'kros seznam'!ALN103","v":0},{"$f":"'kros seznam'!ALO103","v":0},{"$f":"'kros seznam'!ALP103","v":0},{"$f":"'kros seznam'!ALQ103","v":0},{"$f":"'kros seznam'!ALR103","v":0},{"$f":"'kros seznam'!ALS103","v":0},{"$f":"'kros seznam'!ALT103","v":0},{"$f":"'kros seznam'!ALU103","v":0},{"$f":"'kros seznam'!ALV103","v":0},{"$f":"'kros seznam'!ALW103","v":0},{"$f":"'kros seznam'!ALX103","v":0},{"$f":"'kros seznam'!ALY103","v":0},{"$f":"'kros seznam'!ALZ103","v":0},{"$f":"'kros seznam'!AMA103","v":0},{"$f":"'kros seznam'!AMB103","v":0},{"$f":"'kros seznam'!AMC103","v":0},{"$f":"'kros seznam'!AMD103","v":0},{"$f":"'kros seznam'!AME103","v":0},{"$f":"'kros seznam'!AMF103","v":0},{"$f":"'kros seznam'!AMG103","v":0},{"$f":"'kros seznam'!AMH103","v":0},{"$f":"'kros seznam'!AMI103","v":0},{"$f":"'kros seznam'!AMJ103","v":0},{"$f":"'kros seznam'!AMK103","v":0},{"$f":"'kros seznam'!AML103","v":0},{"$f":"'kros seznam'!AMM103","v":0},{"$f":"'kros seznam'!AMN103","v":0},{"$f":"'kros seznam'!AMO103","v":0},{"$f":"'kros seznam'!AMP103","v":0},{"$f":"'kros seznam'!AMQ103","v":0},{"$f":"'kros seznam'!AMR103","v":0},{"$f":"'kros seznam'!AMS103","v":0},{"$f":"'kros seznam'!AMT103","v":0},{"$f":"'kros seznam'!AMU103","v":0},{"$f":"'kros seznam'!AMV103","v":0},{"$f":"'kros seznam'!AMW103","v":0},{"$f":"'kros seznam'!AMX103","v":0},{"$f":"'kros seznam'!AMY103","v":0},{"$f":"'kros seznam'!AMZ103","v":0},{"$f":"'kros seznam'!ANA103","v":0},{"$f":"'kros seznam'!ANB103","v":0},{"$f":"'kros seznam'!ANC103","v":0},{"$f":"'kros seznam'!AND103","v":0},{"$f":"'kros seznam'!ANE103","v":0},{"$f":"'kros seznam'!ANF103","v":0},{"$f":"'kros seznam'!ANG103","v":0},{"$f":"'kros seznam'!ANH103","v":0},{"$f":"'kros seznam'!ANI103","v":0},{"$f":"'kros seznam'!ANJ103","v":0},{"$f":"'kros seznam'!ANK103","v":0},{"$f":"'kros seznam'!ANL103","v":0},{"$f":"'kros seznam'!ANM103","v":0},{"$f":"'kros seznam'!ANN103","v":0},{"$f":"'kros seznam'!ANO103","v":0},{"$f":"'kros seznam'!ANP103","v":0},{"$f":"'kros seznam'!ANQ103","v":0},{"$f":"'kros seznam'!ANR103","v":0},{"$f":"'kros seznam'!ANS103","v":0},{"$f":"'kros seznam'!ANT103","v":0},{"$f":"'kros seznam'!ANU103","v":0},{"$f":"'kros seznam'!ANV103","v":0},{"$f":"'kros seznam'!ANW103","v":0},{"$f":"'kros seznam'!ANX103","v":0},{"$f":"'kros seznam'!ANY103","v":0},{"$f":"'kros seznam'!ANZ103","v":0},{"$f":"'kros seznam'!AOA103","v":0},{"$f":"'kros seznam'!AOB103","v":0},{"$f":"'kros seznam'!AOC103","v":0},{"$f":"'kros seznam'!AOD103","v":0},{"$f":"'kros seznam'!AOE103","v":0},{"$f":"'kros seznam'!AOF103","v":0},{"$f":"'kros seznam'!AOG103","v":0},{"$f":"'kros seznam'!AOH103","v":0},{"$f":"'kros seznam'!AOI103","v":0},{"$f":"'kros seznam'!AOJ103","v":0},{"$f":"'kros seznam'!AOK103","v":0},{"$f":"'kros seznam'!AOL103","v":0},{"$f":"'kros seznam'!AOM103","v":0},{"$f":"'kros seznam'!AON103","v":0},{"$f":"'kros seznam'!AOO103","v":0},{"$f":"'kros seznam'!AOP103","v":0},{"$f":"'kros seznam'!AOQ103","v":0},{"$f":"'kros seznam'!AOR103","v":0},{"$f":"'kros seznam'!AOS103","v":0},{"$f":"'kros seznam'!AOT103","v":0},{"$f":"'kros seznam'!AOU103","v":0},{"$f":"'kros seznam'!AOV103","v":0},{"$f":"'kros seznam'!AOW103","v":0},{"$f":"'kros seznam'!AOX103","v":0},{"$f":"'kros seznam'!AOY103","v":0},{"$f":"'kros seznam'!AOZ103","v":0},{"$f":"'kros seznam'!APA103","v":0},{"$f":"'kros seznam'!APB103","v":0},{"$f":"'kros seznam'!APC103","v":0},{"$f":"'kros seznam'!APD103","v":0},{"$f":"'kros seznam'!APE103","v":0},{"$f":"'kros seznam'!APF103","v":0},{"$f":"'kros seznam'!APG103","v":0},{"$f":"'kros seznam'!APH103","v":0},{"$f":"'kros seznam'!API103","v":0},{"$f":"'kros seznam'!APJ103","v":0},{"$f":"'kros seznam'!APK103","v":0},{"$f":"'kros seznam'!APL103","v":0},{"$f":"'kros seznam'!APM103","v":0},{"$f":"'kros seznam'!APN103","v":0},{"$f":"'kros seznam'!APO103","v":0},{"$f":"'kros seznam'!APP103","v":0},{"$f":"'kros seznam'!APQ103","v":0},{"$f":"'kros seznam'!APR103","v":0},{"$f":"'kros seznam'!APS103","v":0},{"$f":"'kros seznam'!APT103","v":0},{"$f":"'kros seznam'!APU103","v":0},{"$f":"'kros seznam'!APV103","v":0},{"$f":"'kros seznam'!APW103","v":0},{"$f":"'kros seznam'!APX103","v":0},{"$f":"'kros seznam'!APY103","v":0},{"$f":"'kros seznam'!APZ103","v":0},{"$f":"'kros seznam'!AQA103","v":0},{"$f":"'kros seznam'!AQB103","v":0},{"$f":"'kros seznam'!AQC103","v":0},{"$f":"'kros seznam'!AQD103","v":0},{"$f":"'kros seznam'!AQE103","v":0},{"$f":"'kros seznam'!AQF103","v":0},{"$f":"'kros seznam'!AQG103","v":0},{"$f":"'kros seznam'!AQH103","v":0},{"$f":"'kros seznam'!AQI103","v":0},{"$f":"'kros seznam'!AQJ103","v":0},{"$f":"'kros seznam'!AQK103","v":0},{"$f":"'kros seznam'!AQL103","v":0},{"$f":"'kros seznam'!AQM103","v":0},{"$f":"'kros seznam'!AQN103","v":0},{"$f":"'kros seznam'!AQO103","v":0},{"$f":"'kros seznam'!AQP103","v":0},{"$f":"'kros seznam'!AQQ103","v":0},{"$f":"'kros seznam'!AQR103","v":0},{"$f":"'kros seznam'!AQS103","v":0},{"$f":"'kros seznam'!AQT103","v":0},{"$f":"'kros seznam'!AQU103","v":0},{"$f":"'kros seznam'!AQV103","v":0},{"$f":"'kros seznam'!AQW103","v":0},{"$f":"'kros seznam'!AQX103","v":0},{"$f":"'kros seznam'!AQY103","v":0},{"$f":"'kros seznam'!AQZ103","v":0},{"$f":"'kros seznam'!ARA103","v":0},{"$f":"'kros seznam'!ARB103","v":0},{"$f":"'kros seznam'!ARC103","v":0},{"$f":"'kros seznam'!ARD103","v":0},{"$f":"'kros seznam'!ARE103","v":0},{"$f":"'kros seznam'!ARF103","v":0},{"$f":"'kros seznam'!ARG103","v":0},{"$f":"'kros seznam'!ARH103","v":0},{"$f":"'kros seznam'!ARI103","v":0},{"$f":"'kros seznam'!ARJ103","v":0},{"$f":"'kros seznam'!ARK103","v":0},{"$f":"'kros seznam'!ARL103","v":0},{"$f":"'kros seznam'!ARM103","v":0},{"$f":"'kros seznam'!ARN103","v":0},{"$f":"'kros seznam'!ARO103","v":0},{"$f":"'kros seznam'!ARP103","v":0},{"$f":"'kros seznam'!ARQ103","v":0},{"$f":"'kros seznam'!ARR103","v":0},{"$f":"'kros seznam'!ARS103","v":0},{"$f":"'kros seznam'!ART103","v":0},{"$f":"'kros seznam'!ARU103","v":0},{"$f":"'kros seznam'!ARV103","v":0},{"$f":"'kros seznam'!ARW103","v":0},{"$f":"'kros seznam'!ARX103","v":0},{"$f":"'kros seznam'!ARY103","v":0},{"$f":"'kros seznam'!ARZ103","v":0},{"$f":"'kros seznam'!ASA103","v":0},{"$f":"'kros seznam'!ASB103","v":0},{"$f":"'kros seznam'!ASC103","v":0},{"$f":"'kros seznam'!ASD103","v":0},{"$f":"'kros seznam'!ASE103","v":0},{"$f":"'kros seznam'!ASF103","v":0},{"$f":"'kros seznam'!ASG103","v":0},{"$f":"'kros seznam'!ASH103","v":0},{"$f":"'kros seznam'!ASI103","v":0},{"$f":"'kros seznam'!ASJ103","v":0},{"$f":"'kros seznam'!ASK103","v":0},{"$f":"'kros seznam'!ASL103","v":0},{"$f":"'kros seznam'!ASM103","v":0},{"$f":"'kros seznam'!ASN103","v":0},{"$f":"'kros seznam'!ASO103","v":0},{"$f":"'kros seznam'!ASP103","v":0},{"$f":"'kros seznam'!ASQ103","v":0},{"$f":"'kros seznam'!ASR103","v":0},{"$f":"'kros seznam'!ASS103","v":0},{"$f":"'kros seznam'!AST103","v":0},{"$f":"'kros seznam'!ASU103","v":0},{"$f":"'kros seznam'!ASV103","v":0},{"$f":"'kros seznam'!ASW103","v":0},{"$f":"'kros seznam'!ASX103","v":0},{"$f":"'kros seznam'!ASY103","v":0},{"$f":"'kros seznam'!ASZ103","v":0},{"$f":"'kros seznam'!ATA103","v":0},{"$f":"'kros seznam'!ATB103","v":0},{"$f":"'kros seznam'!ATC103","v":0},{"$f":"'kros seznam'!ATD103","v":0},{"$f":"'kros seznam'!ATE103","v":0},{"$f":"'kros seznam'!ATF103","v":0},{"$f":"'kros seznam'!ATG103","v":0},{"$f":"'kros seznam'!ATH103","v":0},{"$f":"'kros seznam'!ATI103","v":0},{"$f":"'kros seznam'!ATJ103","v":0},{"$f":"'kros seznam'!ATK103","v":0},{"$f":"'kros seznam'!ATL103","v":0},{"$f":"'kros seznam'!ATM103","v":0},{"$f":"'kros seznam'!ATN103","v":0},{"$f":"'kros seznam'!ATO103","v":0},{"$f":"'kros seznam'!ATP103","v":0},{"$f":"'kros seznam'!ATQ103","v":0},{"$f":"'kros seznam'!ATR103","v":0},{"$f":"'kros seznam'!ATS103","v":0},{"$f":"'kros seznam'!ATT103","v":0},{"$f":"'kros seznam'!ATU103","v":0},{"$f":"'kros seznam'!ATV103","v":0},{"$f":"'kros seznam'!ATW103","v":0},{"$f":"'kros seznam'!ATX103","v":0},{"$f":"'kros seznam'!ATY103","v":0},{"$f":"'kros seznam'!ATZ103","v":0},{"$f":"'kros seznam'!AUA103","v":0},{"$f":"'kros seznam'!AUB103","v":0},{"$f":"'kros seznam'!AUC103","v":0},{"$f":"'kros seznam'!AUD103","v":0},{"$f":"'kros seznam'!AUE103","v":0},{"$f":"'kros seznam'!AUF103","v":0},{"$f":"'kros seznam'!AUG103","v":0},{"$f":"'kros seznam'!AUH103","v":0},{"$f":"'kros seznam'!AUI103","v":0},{"$f":"'kros seznam'!AUJ103","v":0},{"$f":"'kros seznam'!AUK103","v":0},{"$f":"'kros seznam'!AUL103","v":0},{"$f":"'kros seznam'!AUM103","v":0},{"$f":"'kros seznam'!AUN103","v":0},{"$f":"'kros seznam'!AUO103","v":0},{"$f":"'kros seznam'!AUP103","v":0},{"$f":"'kros seznam'!AUQ103","v":0},{"$f":"'kros seznam'!AUR103","v":0},{"$f":"'kros seznam'!AUS103","v":0},{"$f":"'kros seznam'!AUT103","v":0},{"$f":"'kros seznam'!AUU103","v":0},{"$f":"'kros seznam'!AUV103","v":0},{"$f":"'kros seznam'!AUW103","v":0},{"$f":"'kros seznam'!AUX103","v":0},{"$f":"'kros seznam'!AUY103","v":0},{"$f":"'kros seznam'!AUZ103","v":0},{"$f":"'kros seznam'!AVA103","v":0},{"$f":"'kros seznam'!AVB103","v":0},{"$f":"'kros seznam'!AVC103","v":0},{"$f":"'kros seznam'!AVD103","v":0},{"$f":"'kros seznam'!AVE103","v":0},{"$f":"'kros seznam'!AVF103","v":0},{"$f":"'kros seznam'!AVG103","v":0},{"$f":"'kros seznam'!AVH103","v":0},{"$f":"'kros seznam'!AVI103","v":0},{"$f":"'kros seznam'!AVJ103","v":0},{"$f":"'kros seznam'!AVK103","v":0},{"$f":"'kros seznam'!AVL103","v":0},{"$f":"'kros seznam'!AVM103","v":0},{"$f":"'kros seznam'!AVN103","v":0},{"$f":"'kros seznam'!AVO103","v":0},{"$f":"'kros seznam'!AVP103","v":0},{"$f":"'kros seznam'!AVQ103","v":0},{"$f":"'kros seznam'!AVR103","v":0},{"$f":"'kros seznam'!AVS103","v":0},{"$f":"'kros seznam'!AVT103","v":0},{"$f":"'kros seznam'!AVU103","v":0},{"$f":"'kros seznam'!AVV103","v":0},{"$f":"'kros seznam'!AVW103","v":0},{"$f":"'kros seznam'!AVX103","v":0},{"$f":"'kros seznam'!AVY103","v":0},{"$f":"'kros seznam'!AVZ103","v":0},{"$f":"'kros seznam'!AWA103","v":0},{"$f":"'kros seznam'!AWB103","v":0},{"$f":"'kros seznam'!AWC103","v":0},{"$f":"'kros seznam'!AWD103","v":0},{"$f":"'kros seznam'!AWE103","v":0},{"$f":"'kros seznam'!AWF103","v":0},{"$f":"'kros seznam'!AWG103","v":0},{"$f":"'kros seznam'!AWH103","v":0},{"$f":"'kros seznam'!AWI103","v":0},{"$f":"'kros seznam'!AWJ103","v":0},{"$f":"'kros seznam'!AWK103","v":0},{"$f":"'kros seznam'!AWL103","v":0},{"$f":"'kros seznam'!AWM103","v":0},{"$f":"'kros seznam'!AWN103","v":0},{"$f":"'kros seznam'!AWO103","v":0},{"$f":"'kros seznam'!AWP103","v":0},{"$f":"'kros seznam'!AWQ103","v":0},{"$f":"'kros seznam'!AWR103","v":0},{"$f":"'kros seznam'!AWS103","v":0},{"$f":"'kros seznam'!AWT103","v":0},{"$f":"'kros seznam'!AWU103","v":0},{"$f":"'kros seznam'!AWV103","v":0},{"$f":"'kros seznam'!AWW103","v":0},{"$f":"'kros seznam'!AWX103","v":0},{"$f":"'kros seznam'!AWY103","v":0},{"$f":"'kros seznam'!AWZ103","v":0},{"$f":"'kros seznam'!AXA103","v":0},{"$f":"'kros seznam'!AXB103","v":0},{"$f":"'kros seznam'!AXC103","v":0},{"$f":"'kros seznam'!AXD103","v":0},{"$f":"'kros seznam'!AXE103","v":0},{"$f":"'kros seznam'!AXF103","v":0},{"$f":"'kros seznam'!AXG103","v":0},{"$f":"'kros seznam'!AXH103","v":0},{"$f":"'kros seznam'!AXI103","v":0},{"$f":"'kros seznam'!AXJ103","v":0},{"$f":"'kros seznam'!AXK103","v":0},{"$f":"'kros seznam'!AXL103","v":0},{"$f":"'kros seznam'!AXM103","v":0},{"$f":"'kros seznam'!AXN103","v":0},{"$f":"'kros seznam'!AXO103","v":0},{"$f":"'kros seznam'!AXP103","v":0},{"$f":"'kros seznam'!AXQ103","v":0},{"$f":"'kros seznam'!AXR103","v":0},{"$f":"'kros seznam'!AXS103","v":0},{"$f":"'kros seznam'!AXT103","v":0},{"$f":"'kros seznam'!AXU103","v":0},{"$f":"'kros seznam'!AXV103","v":0},{"$f":"'kros seznam'!AXW103","v":0},{"$f":"'kros seznam'!AXX103","v":0},{"$f":"'kros seznam'!AXY103","v":0},{"$f":"'kros seznam'!AXZ103","v":0},{"$f":"'kros seznam'!AYA103","v":0},{"$f":"'kros seznam'!AYB103","v":0},{"$f":"'kros seznam'!AYC103","v":0},{"$f":"'kros seznam'!AYD103","v":0},{"$f":"'kros seznam'!AYE103","v":0},{"$f":"'kros seznam'!AYF103","v":0},{"$f":"'kros seznam'!AYG103","v":0},{"$f":"'kros seznam'!AYH103","v":0},{"$f":"'kros seznam'!AYI103","v":0},{"$f":"'kros seznam'!AYJ103","v":0},{"$f":"'kros seznam'!AYK103","v":0},{"$f":"'kros seznam'!AYL103","v":0},{"$f":"'kros seznam'!AYM103","v":0},{"$f":"'kros seznam'!AYN103","v":0},{"$f":"'kros seznam'!AYO103","v":0},{"$f":"'kros seznam'!AYP103","v":0},{"$f":"'kros seznam'!AYQ103","v":0},{"$f":"'kros seznam'!AYR103","v":0},{"$f":"'kros seznam'!AYS103","v":0},{"$f":"'kros seznam'!AYT103","v":0},{"$f":"'kros seznam'!AYU103","v":0},{"$f":"'kros seznam'!AYV103","v":0},{"$f":"'kros seznam'!AYW103","v":0},{"$f":"'kros seznam'!AYX103","v":0},{"$f":"'kros seznam'!AYY103","v":0},{"$f":"'kros seznam'!AYZ103","v":0},{"$f":"'kros seznam'!AZA103","v":0},{"$f":"'kros seznam'!AZB103","v":0},{"$f":"'kros seznam'!AZC103","v":0},{"$f":"'kros seznam'!AZD103","v":0},{"$f":"'kros seznam'!AZE103","v":0},{"$f":"'kros seznam'!AZF103","v":0},{"$f":"'kros seznam'!AZG103","v":0},{"$f":"'kros seznam'!AZH103","v":0},{"$f":"'kros seznam'!AZI103","v":0},{"$f":"'kros seznam'!AZJ103","v":0},{"$f":"'kros seznam'!AZK103","v":0},{"$f":"'kros seznam'!AZL103","v":0},{"$f":"'kros seznam'!AZM103","v":0},{"$f":"'kros seznam'!AZN103","v":0},{"$f":"'kros seznam'!AZO103","v":0},{"$f":"'kros seznam'!AZP103","v":0},{"$f":"'kros seznam'!AZQ103","v":0},{"$f":"'kros seznam'!AZR103","v":0},{"$f":"'kros seznam'!AZS103","v":0},{"$f":"'kros seznam'!AZT103","v":0},{"$f":"'kros seznam'!AZU103","v":0},{"$f":"'kros seznam'!AZV103","v":0},{"$f":"'kros seznam'!AZW103","v":0},{"$f":"'kros seznam'!AZX103","v":0},{"$f":"'kros seznam'!AZY103","v":0},{"$f":"'kros seznam'!AZZ103","v":0},{"$f":"'kros seznam'!BAA103","v":0},{"$f":"'kros seznam'!BAB103","v":0},{"$f":"'kros seznam'!BAC103","v":0},{"$f":"'kros seznam'!BAD103","v":0},{"$f":"'kros seznam'!BAE103","v":0},{"$f":"'kros seznam'!BAF103","v":0},{"$f":"'kros seznam'!BAG103","v":0},{"$f":"'kros seznam'!BAH103","v":0},{"$f":"'kros seznam'!BAI103","v":0},{"$f":"'kros seznam'!BAJ103","v":0},{"$f":"'kros seznam'!BAK103","v":0},{"$f":"'kros seznam'!BAL103","v":0},{"$f":"'kros seznam'!BAM103","v":0},{"$f":"'kros seznam'!BAN103","v":0},{"$f":"'kros seznam'!BAO103","v":0},{"$f":"'kros seznam'!BAP103","v":0},{"$f":"'kros seznam'!BAQ103","v":0},{"$f":"'kros seznam'!BAR103","v":0},{"$f":"'kros seznam'!BAS103","v":0},{"$f":"'kros seznam'!BAT103","v":0},{"$f":"'kros seznam'!BAU103","v":0},{"$f":"'kros seznam'!BAV103","v":0},{"$f":"'kros seznam'!BAW103","v":0},{"$f":"'kros seznam'!BAX103","v":0},{"$f":"'kros seznam'!BAY103","v":0},{"$f":"'kros seznam'!BAZ103","v":0},{"$f":"'kros seznam'!BBA103","v":0},{"$f":"'kros seznam'!BBB103","v":0},{"$f":"'kros seznam'!BBC103","v":0},{"$f":"'kros seznam'!BBD103","v":0},{"$f":"'kros seznam'!BBE103","v":0},{"$f":"'kros seznam'!BBF103","v":0},{"$f":"'kros seznam'!BBG103","v":0},{"$f":"'kros seznam'!BBH103","v":0},{"$f":"'kros seznam'!BBI103","v":0},{"$f":"'kros seznam'!BBJ103","v":0},{"$f":"'kros seznam'!BBK103","v":0},{"$f":"'kros seznam'!BBL103","v":0},{"$f":"'kros seznam'!BBM103","v":0},{"$f":"'kros seznam'!BBN103","v":0},{"$f":"'kros seznam'!BBO103","v":0},{"$f":"'kros seznam'!BBP103","v":0},{"$f":"'kros seznam'!BBQ103","v":0},{"$f":"'kros seznam'!BBR103","v":0},{"$f":"'kros seznam'!BBS103","v":0},{"$f":"'kros seznam'!BBT103","v":0},{"$f":"'kros seznam'!BBU103","v":0},{"$f":"'kros seznam'!BBV103","v":0},{"$f":"'kros seznam'!BBW103","v":0},{"$f":"'kros seznam'!BBX103","v":0},{"$f":"'kros seznam'!BBY103","v":0},{"$f":"'kros seznam'!BBZ103","v":0},{"$f":"'kros seznam'!BCA103","v":0},{"$f":"'kros seznam'!BCB103","v":0},{"$f":"'kros seznam'!BCC103","v":0},{"$f":"'kros seznam'!BCD103","v":0},{"$f":"'kros seznam'!BCE103","v":0},{"$f":"'kros seznam'!BCF103","v":0},{"$f":"'kros seznam'!BCG103","v":0},{"$f":"'kros seznam'!BCH103","v":0},{"$f":"'kros seznam'!BCI103","v":0},{"$f":"'kros seznam'!BCJ103","v":0},{"$f":"'kros seznam'!BCK103","v":0},{"$f":"'kros seznam'!BCL103","v":0},{"$f":"'kros seznam'!BCM103","v":0},{"$f":"'kros seznam'!BCN103","v":0},{"$f":"'kros seznam'!BCO103","v":0},{"$f":"'kros seznam'!BCP103","v":0},{"$f":"'kros seznam'!BCQ103","v":0},{"$f":"'kros seznam'!BCR103","v":0},{"$f":"'kros seznam'!BCS103","v":0},{"$f":"'kros seznam'!BCT103","v":0},{"$f":"'kros seznam'!BCU103","v":0},{"$f":"'kros seznam'!BCV103","v":0},{"$f":"'kros seznam'!BCW103","v":0},{"$f":"'kros seznam'!BCX103","v":0},{"$f":"'kros seznam'!BCY103","v":0},{"$f":"'kros seznam'!BCZ103","v":0},{"$f":"'kros seznam'!BDA103","v":0},{"$f":"'kros seznam'!BDB103","v":0},{"$f":"'kros seznam'!BDC103","v":0},{"$f":"'kros seznam'!BDD103","v":0},{"$f":"'kros seznam'!BDE103","v":0},{"$f":"'kros seznam'!BDF103","v":0},{"$f":"'kros seznam'!BDG103","v":0},{"$f":"'kros seznam'!BDH103","v":0},{"$f":"'kros seznam'!BDI103","v":0},{"$f":"'kros seznam'!BDJ103","v":0},{"$f":"'kros seznam'!BDK103","v":0},{"$f":"'kros seznam'!BDL103","v":0},{"$f":"'kros seznam'!BDM103","v":0},{"$f":"'kros seznam'!BDN103","v":0},{"$f":"'kros seznam'!BDO103","v":0},{"$f":"'kros seznam'!BDP103","v":0},{"$f":"'kros seznam'!BDQ103","v":0},{"$f":"'kros seznam'!BDR103","v":0},{"$f":"'kros seznam'!BDS103","v":0},{"$f":"'kros seznam'!BDT103","v":0},{"$f":"'kros seznam'!BDU103","v":0},{"$f":"'kros seznam'!BDV103","v":0},{"$f":"'kros seznam'!BDW103","v":0},{"$f":"'kros seznam'!BDX103","v":0},{"$f":"'kros seznam'!BDY103","v":0},{"$f":"'kros seznam'!BDZ103","v":0},{"$f":"'kros seznam'!BEA103","v":0},{"$f":"'kros seznam'!BEB103","v":0},{"$f":"'kros seznam'!BEC103","v":0},{"$f":"'kros seznam'!BED103","v":0},{"$f":"'kros seznam'!BEE103","v":0},{"$f":"'kros seznam'!BEF103","v":0},{"$f":"'kros seznam'!BEG103","v":0},{"$f":"'kros seznam'!BEH103","v":0},{"$f":"'kros seznam'!BEI103","v":0},{"$f":"'kros seznam'!BEJ103","v":0},{"$f":"'kros seznam'!BEK103","v":0},{"$f":"'kros seznam'!BEL103","v":0},{"$f":"'kros seznam'!BEM103","v":0},{"$f":"'kros seznam'!BEN103","v":0},{"$f":"'kros seznam'!BEO103","v":0},{"$f":"'kros seznam'!BEP103","v":0},{"$f":"'kros seznam'!BEQ103","v":0},{"$f":"'kros seznam'!BER103","v":0},{"$f":"'kros seznam'!BES103","v":0},{"$f":"'kros seznam'!BET103","v":0},{"$f":"'kros seznam'!BEU103","v":0},{"$f":"'kros seznam'!BEV103","v":0},{"$f":"'kros seznam'!BEW103","v":0},{"$f":"'kros seznam'!BEX103","v":0},{"$f":"'kros seznam'!BEY103","v":0},{"$f":"'kros seznam'!BEZ103","v":0},{"$f":"'kros seznam'!BFA103","v":0},{"$f":"'kros seznam'!BFB103","v":0},{"$f":"'kros seznam'!BFC103","v":0},{"$f":"'kros seznam'!BFD103","v":0},{"$f":"'kros seznam'!BFE103","v":0},{"$f":"'kros seznam'!BFF103","v":0},{"$f":"'kros seznam'!BFG103","v":0},{"$f":"'kros seznam'!BFH103","v":0},{"$f":"'kros seznam'!BFI103","v":0},{"$f":"'kros seznam'!BFJ103","v":0},{"$f":"'kros seznam'!BFK103","v":0},{"$f":"'kros seznam'!BFL103","v":0},{"$f":"'kros seznam'!BFM103","v":0},{"$f":"'kros seznam'!BFN103","v":0},{"$f":"'kros seznam'!BFO103","v":0},{"$f":"'kros seznam'!BFP103","v":0},{"$f":"'kros seznam'!BFQ103","v":0},{"$f":"'kros seznam'!BFR103","v":0},{"$f":"'kros seznam'!BFS103","v":0},{"$f":"'kros seznam'!BFT103","v":0},{"$f":"'kros seznam'!BFU103","v":0},{"$f":"'kros seznam'!BFV103","v":0},{"$f":"'kros seznam'!BFW103","v":0},{"$f":"'kros seznam'!BFX103","v":0},{"$f":"'kros seznam'!BFY103","v":0},{"$f":"'kros seznam'!BFZ103","v":0},{"$f":"'kros seznam'!BGA103","v":0},{"$f":"'kros seznam'!BGB103","v":0},{"$f":"'kros seznam'!BGC103","v":0},{"$f":"'kros seznam'!BGD103","v":0},{"$f":"'kros seznam'!BGE103","v":0},{"$f":"'kros seznam'!BGF103","v":0},{"$f":"'kros seznam'!BGG103","v":0},{"$f":"'kros seznam'!BGH103","v":0},{"$f":"'kros seznam'!BGI103","v":0},{"$f":"'kros seznam'!BGJ103","v":0},{"$f":"'kros seznam'!BGK103","v":0},{"$f":"'kros seznam'!BGL103","v":0},{"$f":"'kros seznam'!BGM103","v":0},{"$f":"'kros seznam'!BGN103","v":0},{"$f":"'kros seznam'!BGO103","v":0},{"$f":"'kros seznam'!BGP103","v":0},{"$f":"'kros seznam'!BGQ103","v":0},{"$f":"'kros seznam'!BGR103","v":0},{"$f":"'kros seznam'!BGS103","v":0},{"$f":"'kros seznam'!BGT103","v":0},{"$f":"'kros seznam'!BGU103","v":0},{"$f":"'kros seznam'!BGV103","v":0},{"$f":"'kros seznam'!BGW103","v":0},{"$f":"'kros seznam'!BGX103","v":0},{"$f":"'kros seznam'!BGY103","v":0},{"$f":"'kros seznam'!BGZ103","v":0},{"$f":"'kros seznam'!BHA103","v":0},{"$f":"'kros seznam'!BHB103","v":0},{"$f":"'kros seznam'!BHC103","v":0},{"$f":"'kros seznam'!BHD103","v":0},{"$f":"'kros seznam'!BHE103","v":0},{"$f":"'kros seznam'!BHF103","v":0},{"$f":"'kros seznam'!BHG103","v":0},{"$f":"'kros seznam'!BHH103","v":0},{"$f":"'kros seznam'!BHI103","v":0},{"$f":"'kros seznam'!BHJ103","v":0},{"$f":"'kros seznam'!BHK103","v":0},{"$f":"'kros seznam'!BHL103","v":0},{"$f":"'kros seznam'!BHM103","v":0},{"$f":"'kros seznam'!BHN103","v":0},{"$f":"'kros seznam'!BHO103","v":0},{"$f":"'kros seznam'!BHP103","v":0},{"$f":"'kros seznam'!BHQ103","v":0},{"$f":"'kros seznam'!BHR103","v":0},{"$f":"'kros seznam'!BHS103","v":0},{"$f":"'kros seznam'!BHT103","v":0},{"$f":"'kros seznam'!BHU103","v":0},{"$f":"'kros seznam'!BHV103","v":0},{"$f":"'kros seznam'!BHW103","v":0},{"$f":"'kros seznam'!BHX103","v":0},{"$f":"'kros seznam'!BHY103","v":0},{"$f":"'kros seznam'!BHZ103","v":0},{"$f":"'kros seznam'!BIA103","v":0},{"$f":"'kros seznam'!BIB103","v":0},{"$f":"'kros seznam'!BIC103","v":0},{"$f":"'kros seznam'!BID103","v":0},{"$f":"'kros seznam'!BIE103","v":0},{"$f":"'kros seznam'!BIF103","v":0},{"$f":"'kros seznam'!BIG103","v":0},{"$f":"'kros seznam'!BIH103","v":0},{"$f":"'kros seznam'!BII103","v":0},{"$f":"'kros seznam'!BIJ103","v":0},{"$f":"'kros seznam'!BIK103","v":0},{"$f":"'kros seznam'!BIL103","v":0},{"$f":"'kros seznam'!BIM103","v":0},{"$f":"'kros seznam'!BIN103","v":0},{"$f":"'kros seznam'!BIO103","v":0},{"$f":"'kros seznam'!BIP103","v":0},{"$f":"'kros seznam'!BIQ103","v":0},{"$f":"'kros seznam'!BIR103","v":0},{"$f":"'kros seznam'!BIS103","v":0},{"$f":"'kros seznam'!BIT103","v":0},{"$f":"'kros seznam'!BIU103","v":0},{"$f":"'kros seznam'!BIV103","v":0},{"$f":"'kros seznam'!BIW103","v":0},{"$f":"'kros seznam'!BIX103","v":0},{"$f":"'kros seznam'!BIY103","v":0},{"$f":"'kros seznam'!BIZ103","v":0},{"$f":"'kros seznam'!BJA103","v":0},{"$f":"'kros seznam'!BJB103","v":0},{"$f":"'kros seznam'!BJC103","v":0},{"$f":"'kros seznam'!BJD103","v":0},{"$f":"'kros seznam'!BJE103","v":0},{"$f":"'kros seznam'!BJF103","v":0},{"$f":"'kros seznam'!BJG103","v":0},{"$f":"'kros seznam'!BJH103","v":0},{"$f":"'kros seznam'!BJI103","v":0},{"$f":"'kros seznam'!BJJ103","v":0},{"$f":"'kros seznam'!BJK103","v":0},{"$f":"'kros seznam'!BJL103","v":0},{"$f":"'kros seznam'!BJM103","v":0},{"$f":"'kros seznam'!BJN103","v":0},{"$f":"'kros seznam'!BJO103","v":0},{"$f":"'kros seznam'!BJP103","v":0},{"$f":"'kros seznam'!BJQ103","v":0},{"$f":"'kros seznam'!BJR103","v":0},{"$f":"'kros seznam'!BJS103","v":0},{"$f":"'kros seznam'!BJT103","v":0},{"$f":"'kros seznam'!BJU103","v":0},{"$f":"'kros seznam'!BJV103","v":0},{"$f":"'kros seznam'!BJW103","v":0},{"$f":"'kros seznam'!BJX103","v":0},{"$f":"'kros seznam'!BJY103","v":0},{"$f":"'kros seznam'!BJZ103","v":0},{"$f":"'kros seznam'!BKA103","v":0},{"$f":"'kros seznam'!BKB103","v":0},{"$f":"'kros seznam'!BKC103","v":0},{"$f":"'kros seznam'!BKD103","v":0},{"$f":"'kros seznam'!BKE103","v":0},{"$f":"'kros seznam'!BKF103","v":0},{"$f":"'kros seznam'!BKG103","v":0},{"$f":"'kros seznam'!BKH103","v":0},{"$f":"'kros seznam'!BKI103","v":0},{"$f":"'kros seznam'!BKJ103","v":0},{"$f":"'kros seznam'!BKK103","v":0},{"$f":"'kros seznam'!BKL103","v":0},{"$f":"'kros seznam'!BKM103","v":0},{"$f":"'kros seznam'!BKN103","v":0},{"$f":"'kros seznam'!BKO103","v":0},{"$f":"'kros seznam'!BKP103","v":0},{"$f":"'kros seznam'!BKQ103","v":0},{"$f":"'kros seznam'!BKR103","v":0},{"$f":"'kros seznam'!BKS103","v":0},{"$f":"'kros seznam'!BKT103","v":0},{"$f":"'kros seznam'!BKU103","v":0},{"$f":"'kros seznam'!BKV103","v":0},{"$f":"'kros seznam'!BKW103","v":0},{"$f":"'kros seznam'!BKX103","v":0},{"$f":"'kros seznam'!BKY103","v":0},{"$f":"'kros seznam'!BKZ103","v":0},{"$f":"'kros seznam'!BLA103","v":0},{"$f":"'kros seznam'!BLB103","v":0},{"$f":"'kros seznam'!BLC103","v":0},{"$f":"'kros seznam'!BLD103","v":0},{"$f":"'kros seznam'!BLE103","v":0},{"$f":"'kros seznam'!BLF103","v":0},{"$f":"'kros seznam'!BLG103","v":0},{"$f":"'kros seznam'!BLH103","v":0},{"$f":"'kros seznam'!BLI103","v":0},{"$f":"'kros seznam'!BLJ103","v":0},{"$f":"'kros seznam'!BLK103","v":0},{"$f":"'kros seznam'!BLL103","v":0},{"$f":"'kros seznam'!BLM103","v":0},{"$f":"'kros seznam'!BLN103","v":0},{"$f":"'kros seznam'!BLO103","v":0},{"$f":"'kros seznam'!BLP103","v":0},{"$f":"'kros seznam'!BLQ103","v":0},{"$f":"'kros seznam'!BLR103","v":0},{"$f":"'kros seznam'!BLS103","v":0},{"$f":"'kros seznam'!BLT103","v":0},{"$f":"'kros seznam'!BLU103","v":0},{"$f":"'kros seznam'!BLV103","v":0},{"$f":"'kros seznam'!BLW103","v":0},{"$f":"'kros seznam'!BLX103","v":0},{"$f":"'kros seznam'!BLY103","v":0},{"$f":"'kros seznam'!BLZ103","v":0},{"$f":"'kros seznam'!BMA103","v":0},{"$f":"'kros seznam'!BMB103","v":0},{"$f":"'kros seznam'!BMC103","v":0},{"$f":"'kros seznam'!BMD103","v":0},{"$f":"'kros seznam'!BME103","v":0},{"$f":"'kros seznam'!BMF103","v":0},{"$f":"'kros seznam'!BMG103","v":0},{"$f":"'kros seznam'!BMH103","v":0},{"$f":"'kros seznam'!BMI103","v":0},{"$f":"'kros seznam'!BMJ103","v":0},{"$f":"'kros seznam'!BMK103","v":0},{"$f":"'kros seznam'!BML103","v":0},{"$f":"'kros seznam'!BMM103","v":0},{"$f":"'kros seznam'!BMN103","v":0},{"$f":"'kros seznam'!BMO103","v":0},{"$f":"'kros seznam'!BMP103","v":0},{"$f":"'kros seznam'!BMQ103","v":0},{"$f":"'kros seznam'!BMR103","v":0},{"$f":"'kros seznam'!BMS103","v":0},{"$f":"'kros seznam'!BMT103","v":0},{"$f":"'kros seznam'!BMU103","v":0},{"$f":"'kros seznam'!BMV103","v":0},{"$f":"'kros seznam'!BMW103","v":0},{"$f":"'kros seznam'!BMX103","v":0},{"$f":"'kros seznam'!BMY103","v":0},{"$f":"'kros seznam'!BMZ103","v":0},{"$f":"'kros seznam'!BNA103","v":0},{"$f":"'kros seznam'!BNB103","v":0},{"$f":"'kros seznam'!BNC103","v":0},{"$f":"'kros seznam'!BND103","v":0},{"$f":"'kros seznam'!BNE103","v":0},{"$f":"'kros seznam'!BNF103","v":0},{"$f":"'kros seznam'!BNG103","v":0},{"$f":"'kros seznam'!BNH103","v":0},{"$f":"'kros seznam'!BNI103","v":0},{"$f":"'kros seznam'!BNJ103","v":0},{"$f":"'kros seznam'!BNK103","v":0},{"$f":"'kros seznam'!BNL103","v":0},{"$f":"'kros seznam'!BNM103","v":0},{"$f":"'kros seznam'!BNN103","v":0},{"$f":"'kros seznam'!BNO103","v":0},{"$f":"'kros seznam'!BNP103","v":0},{"$f":"'kros seznam'!BNQ103","v":0},{"$f":"'kros seznam'!BNR103","v":0},{"$f":"'kros seznam'!BNS103","v":0},{"$f":"'kros seznam'!BNT103","v":0},{"$f":"'kros seznam'!BNU103","v":0},{"$f":"'kros seznam'!BNV103","v":0},{"$f":"'kros seznam'!BNW103","v":0},{"$f":"'kros seznam'!BNX103","v":0},{"$f":"'kros seznam'!BNY103","v":0},{"$f":"'kros seznam'!BNZ103","v":0},{"$f":"'kros seznam'!BOA103","v":0},{"$f":"'kros seznam'!BOB103","v":0},{"$f":"'kros seznam'!BOC103","v":0},{"$f":"'kros seznam'!BOD103","v":0},{"$f":"'kros seznam'!BOE103","v":0},{"$f":"'kros seznam'!BOF103","v":0},{"$f":"'kros seznam'!BOG103","v":0},{"$f":"'kros seznam'!BOH103","v":0},{"$f":"'kros seznam'!BOI103","v":0},{"$f":"'kros seznam'!BOJ103","v":0},{"$f":"'kros seznam'!BOK103","v":0},{"$f":"'kros seznam'!BOL103","v":0},{"$f":"'kros seznam'!BOM103","v":0},{"$f":"'kros seznam'!BON103","v":0},{"$f":"'kros seznam'!BOO103","v":0},{"$f":"'kros seznam'!BOP103","v":0},{"$f":"'kros seznam'!BOQ103","v":0},{"$f":"'kros seznam'!BOR103","v":0},{"$f":"'kros seznam'!BOS103","v":0},{"$f":"'kros seznam'!BOT103","v":0},{"$f":"'kros seznam'!BOU103","v":0},{"$f":"'kros seznam'!BOV103","v":0},{"$f":"'kros seznam'!BOW103","v":0},{"$f":"'kros seznam'!BOX103","v":0},{"$f":"'kros seznam'!BOY103","v":0},{"$f":"'kros seznam'!BOZ103","v":0},{"$f":"'kros seznam'!BPA103","v":0},{"$f":"'kros seznam'!BPB103","v":0},{"$f":"'kros seznam'!BPC103","v":0},{"$f":"'kros seznam'!BPD103","v":0},{"$f":"'kros seznam'!BPE103","v":0},{"$f":"'kros seznam'!BPF103","v":0},{"$f":"'kros seznam'!BPG103","v":0},{"$f":"'kros seznam'!BPH103","v":0},{"$f":"'kros seznam'!BPI103","v":0},{"$f":"'kros seznam'!BPJ103","v":0},{"$f":"'kros seznam'!BPK103","v":0},{"$f":"'kros seznam'!BPL103","v":0},{"$f":"'kros seznam'!BPM103","v":0},{"$f":"'kros seznam'!BPN103","v":0},{"$f":"'kros seznam'!BPO103","v":0},{"$f":"'kros seznam'!BPP103","v":0},{"$f":"'kros seznam'!BPQ103","v":0},{"$f":"'kros seznam'!BPR103","v":0},{"$f":"'kros seznam'!BPS103","v":0},{"$f":"'kros seznam'!BPT103","v":0},{"$f":"'kros seznam'!BPU103","v":0},{"$f":"'kros seznam'!BPV103","v":0},{"$f":"'kros seznam'!BPW103","v":0},{"$f":"'kros seznam'!BPX103","v":0},{"$f":"'kros seznam'!BPY103","v":0},{"$f":"'kros seznam'!BPZ103","v":0},{"$f":"'kros seznam'!BQA103","v":0},{"$f":"'kros seznam'!BQB103","v":0},{"$f":"'kros seznam'!BQC103","v":0},{"$f":"'kros seznam'!BQD103","v":0},{"$f":"'kros seznam'!BQE103","v":0},{"$f":"'kros seznam'!BQF103","v":0},{"$f":"'kros seznam'!BQG103","v":0},{"$f":"'kros seznam'!BQH103","v":0},{"$f":"'kros seznam'!BQI103","v":0},{"$f":"'kros seznam'!BQJ103","v":0},{"$f":"'kros seznam'!BQK103","v":0},{"$f":"'kros seznam'!BQL103","v":0},{"$f":"'kros seznam'!BQM103","v":0},{"$f":"'kros seznam'!BQN103","v":0},{"$f":"'kros seznam'!BQO103","v":0},{"$f":"'kros seznam'!BQP103","v":0},{"$f":"'kros seznam'!BQQ103","v":0},{"$f":"'kros seznam'!BQR103","v":0},{"$f":"'kros seznam'!BQS103","v":0},{"$f":"'kros seznam'!BQT103","v":0},{"$f":"'kros seznam'!BQU103","v":0},{"$f":"'kros seznam'!BQV103","v":0},{"$f":"'kros seznam'!BQW103","v":0},{"$f":"'kros seznam'!BQX103","v":0},{"$f":"'kros seznam'!BQY103","v":0},{"$f":"'kros seznam'!BQZ103","v":0},{"$f":"'kros seznam'!BRA103","v":0},{"$f":"'kros seznam'!BRB103","v":0},{"$f":"'kros seznam'!BRC103","v":0},{"$f":"'kros seznam'!BRD103","v":0},{"$f":"'kros seznam'!BRE103","v":0},{"$f":"'kros seznam'!BRF103","v":0},{"$f":"'kros seznam'!BRG103","v":0},{"$f":"'kros seznam'!BRH103","v":0},{"$f":"'kros seznam'!BRI103","v":0},{"$f":"'kros seznam'!BRJ103","v":0},{"$f":"'kros seznam'!BRK103","v":0},{"$f":"'kros seznam'!BRL103","v":0},{"$f":"'kros seznam'!BRM103","v":0},{"$f":"'kros seznam'!BRN103","v":0},{"$f":"'kros seznam'!BRO103","v":0},{"$f":"'kros seznam'!BRP103","v":0},{"$f":"'kros seznam'!BRQ103","v":0},{"$f":"'kros seznam'!BRR103","v":0},{"$f":"'kros seznam'!BRS103","v":0},{"$f":"'kros seznam'!BRT103","v":0},{"$f":"'kros seznam'!BRU103","v":0},{"$f":"'kros seznam'!BRV103","v":0},{"$f":"'kros seznam'!BRW103","v":0},{"$f":"'kros seznam'!BRX103","v":0},{"$f":"'kros seznam'!BRY103","v":0},{"$f":"'kros seznam'!BRZ103","v":0},{"$f":"'kros seznam'!BSA103","v":0},{"$f":"'kros seznam'!BSB103","v":0},{"$f":"'kros seznam'!BSC103","v":0},{"$f":"'kros seznam'!BSD103","v":0},{"$f":"'kros seznam'!BSE103","v":0},{"$f":"'kros seznam'!BSF103","v":0},{"$f":"'kros seznam'!BSG103","v":0},{"$f":"'kros seznam'!BSH103","v":0},{"$f":"'kros seznam'!BSI103","v":0},{"$f":"'kros seznam'!BSJ103","v":0},{"$f":"'kros seznam'!BSK103","v":0},{"$f":"'kros seznam'!BSL103","v":0},{"$f":"'kros seznam'!BSM103","v":0},{"$f":"'kros seznam'!BSN103","v":0},{"$f":"'kros seznam'!BSO103","v":0},{"$f":"'kros seznam'!BSP103","v":0},{"$f":"'kros seznam'!BSQ103","v":0},{"$f":"'kros seznam'!BSR103","v":0},{"$f":"'kros seznam'!BSS103","v":0},{"$f":"'kros seznam'!BST103","v":0},{"$f":"'kros seznam'!BSU103","v":0},{"$f":"'kros seznam'!BSV103","v":0},{"$f":"'kros seznam'!BSW103","v":0},{"$f":"'kros seznam'!BSX103","v":0},{"$f":"'kros seznam'!BSY103","v":0},{"$f":"'kros seznam'!BSZ103","v":0},{"$f":"'kros seznam'!BTA103","v":0},{"$f":"'kros seznam'!BTB103","v":0},{"$f":"'kros seznam'!BTC103","v":0},{"$f":"'kros seznam'!BTD103","v":0},{"$f":"'kros seznam'!BTE103","v":0},{"$f":"'kros seznam'!BTF103","v":0},{"$f":"'kros seznam'!BTG103","v":0},{"$f":"'kros seznam'!BTH103","v":0},{"$f":"'kros seznam'!BTI103","v":0},{"$f":"'kros seznam'!BTJ103","v":0},{"$f":"'kros seznam'!BTK103","v":0},{"$f":"'kros seznam'!BTL103","v":0},{"$f":"'kros seznam'!BTM103","v":0},{"$f":"'kros seznam'!BTN103","v":0},{"$f":"'kros seznam'!BTO103","v":0},{"$f":"'kros seznam'!BTP103","v":0},{"$f":"'kros seznam'!BTQ103","v":0},{"$f":"'kros seznam'!BTR103","v":0},{"$f":"'kros seznam'!BTS103","v":0},{"$f":"'kros seznam'!BTT103","v":0},{"$f":"'kros seznam'!BTU103","v":0},{"$f":"'kros seznam'!BTV103","v":0},{"$f":"'kros seznam'!BTW103","v":0},{"$f":"'kros seznam'!BTX103","v":0},{"$f":"'kros seznam'!BTY103","v":0},{"$f":"'kros seznam'!BTZ103","v":0},{"$f":"'kros seznam'!BUA103","v":0},{"$f":"'kros seznam'!BUB103","v":0},{"$f":"'kros seznam'!BUC103","v":0},{"$f":"'kros seznam'!BUD103","v":0},{"$f":"'kros seznam'!BUE103","v":0},{"$f":"'kros seznam'!BUF103","v":0},{"$f":"'kros seznam'!BUG103","v":0},{"$f":"'kros seznam'!BUH103","v":0},{"$f":"'kros seznam'!BUI103","v":0},{"$f":"'kros seznam'!BUJ103","v":0},{"$f":"'kros seznam'!BUK103","v":0},{"$f":"'kros seznam'!BUL103","v":0},{"$f":"'kros seznam'!BUM103","v":0},{"$f":"'kros seznam'!BUN103","v":0},{"$f":"'kros seznam'!BUO103","v":0},{"$f":"'kros seznam'!BUP103","v":0},{"$f":"'kros seznam'!BUQ103","v":0},{"$f":"'kros seznam'!BUR103","v":0},{"$f":"'kros seznam'!BUS103","v":0},{"$f":"'kros seznam'!BUT103","v":0},{"$f":"'kros seznam'!BUU103","v":0},{"$f":"'kros seznam'!BUV103","v":0},{"$f":"'kros seznam'!BUW103","v":0},{"$f":"'kros seznam'!BUX103","v":0},{"$f":"'kros seznam'!BUY103","v":0},{"$f":"'kros seznam'!BUZ103","v":0},{"$f":"'kros seznam'!BVA103","v":0},{"$f":"'kros seznam'!BVB103","v":0},{"$f":"'kros seznam'!BVC103","v":0},{"$f":"'kros seznam'!BVD103","v":0},{"$f":"'kros seznam'!BVE103","v":0},{"$f":"'kros seznam'!BVF103","v":0},{"$f":"'kros seznam'!BVG103","v":0},{"$f":"'kros seznam'!BVH103","v":0},{"$f":"'kros seznam'!BVI103","v":0},{"$f":"'kros seznam'!BVJ103","v":0},{"$f":"'kros seznam'!BVK103","v":0},{"$f":"'kros seznam'!BVL103","v":0},{"$f":"'kros seznam'!BVM103","v":0},{"$f":"'kros seznam'!BVN103","v":0},{"$f":"'kros seznam'!BVO103","v":0},{"$f":"'kros seznam'!BVP103","v":0},{"$f":"'kros seznam'!BVQ103","v":0},{"$f":"'kros seznam'!BVR103","v":0},{"$f":"'kros seznam'!BVS103","v":0},{"$f":"'kros seznam'!BVT103","v":0},{"$f":"'kros seznam'!BVU103","v":0},{"$f":"'kros seznam'!BVV103","v":0},{"$f":"'kros seznam'!BVW103","v":0},{"$f":"'kros seznam'!BVX103","v":0},{"$f":"'kros seznam'!BVY103","v":0},{"$f":"'kros seznam'!BVZ103","v":0},{"$f":"'kros seznam'!BWA103","v":0},{"$f":"'kros seznam'!BWB103","v":0},{"$f":"'kros seznam'!BWC103","v":0},{"$f":"'kros seznam'!BWD103","v":0},{"$f":"'kros seznam'!BWE103","v":0},{"$f":"'kros seznam'!BWF103","v":0},{"$f":"'kros seznam'!BWG103","v":0},{"$f":"'kros seznam'!BWH103","v":0},{"$f":"'kros seznam'!BWI103","v":0},{"$f":"'kros seznam'!BWJ103","v":0},{"$f":"'kros seznam'!BWK103","v":0},{"$f":"'kros seznam'!BWL103","v":0},{"$f":"'kros seznam'!BWM103","v":0},{"$f":"'kros seznam'!BWN103","v":0},{"$f":"'kros seznam'!BWO103","v":0},{"$f":"'kros seznam'!BWP103","v":0},{"$f":"'kros seznam'!BWQ103","v":0},{"$f":"'kros seznam'!BWR103","v":0},{"$f":"'kros seznam'!BWS103","v":0},{"$f":"'kros seznam'!BWT103","v":0},{"$f":"'kros seznam'!BWU103","v":0},{"$f":"'kros seznam'!BWV103","v":0},{"$f":"'kros seznam'!BWW103","v":0},{"$f":"'kros seznam'!BWX103","v":0},{"$f":"'kros seznam'!BWY103","v":0},{"$f":"'kros seznam'!BWZ103","v":0},{"$f":"'kros seznam'!BXA103","v":0},{"$f":"'kros seznam'!BXB103","v":0},{"$f":"'kros seznam'!BXC103","v":0},{"$f":"'kros seznam'!BXD103","v":0},{"$f":"'kros seznam'!BXE103","v":0},{"$f":"'kros seznam'!BXF103","v":0},{"$f":"'kros seznam'!BXG103","v":0},{"$f":"'kros seznam'!BXH103","v":0},{"$f":"'kros seznam'!BXI103","v":0},{"$f":"'kros seznam'!BXJ103","v":0},{"$f":"'kros seznam'!BXK103","v":0},{"$f":"'kros seznam'!BXL103","v":0},{"$f":"'kros seznam'!BXM103","v":0},{"$f":"'kros seznam'!BXN103","v":0},{"$f":"'kros seznam'!BXO103","v":0},{"$f":"'kros seznam'!BXP103","v":0},{"$f":"'kros seznam'!BXQ103","v":0},{"$f":"'kros seznam'!BXR103","v":0},{"$f":"'kros seznam'!BXS103","v":0},{"$f":"'kros seznam'!BXT103","v":0},{"$f":"'kros seznam'!BXU103","v":0},{"$f":"'kros seznam'!BXV103","v":0},{"$f":"'kros seznam'!BXW103","v":0},{"$f":"'kros seznam'!BXX103","v":0},{"$f":"'kros seznam'!BXY103","v":0},{"$f":"'kros seznam'!BXZ103","v":0},{"$f":"'kros seznam'!BYA103","v":0},{"$f":"'kros seznam'!BYB103","v":0},{"$f":"'kros seznam'!BYC103","v":0},{"$f":"'kros seznam'!BYD103","v":0},{"$f":"'kros seznam'!BYE103","v":0},{"$f":"'kros seznam'!BYF103","v":0},{"$f":"'kros seznam'!BYG103","v":0},{"$f":"'kros seznam'!BYH103","v":0},{"$f":"'kros seznam'!BYI103","v":0},{"$f":"'kros seznam'!BYJ103","v":0},{"$f":"'kros seznam'!BYK103","v":0},{"$f":"'kros seznam'!BYL103","v":0},{"$f":"'kros seznam'!BYM103","v":0},{"$f":"'kros seznam'!BYN103","v":0},{"$f":"'kros seznam'!BYO103","v":0},{"$f":"'kros seznam'!BYP103","v":0},{"$f":"'kros seznam'!BYQ103","v":0},{"$f":"'kros seznam'!BYR103","v":0},{"$f":"'kros seznam'!BYS103","v":0},{"$f":"'kros seznam'!BYT103","v":0},{"$f":"'kros seznam'!BYU103","v":0},{"$f":"'kros seznam'!BYV103","v":0},{"$f":"'kros seznam'!BYW103","v":0},{"$f":"'kros seznam'!BYX103","v":0},{"$f":"'kros seznam'!BYY103","v":0},{"$f":"'kros seznam'!BYZ103","v":0},{"$f":"'kros seznam'!BZA103","v":0},{"$f":"'kros seznam'!BZB103","v":0},{"$f":"'kros seznam'!BZC103","v":0},{"$f":"'kros seznam'!BZD103","v":0},{"$f":"'kros seznam'!BZE103","v":0},{"$f":"'kros seznam'!BZF103","v":0},{"$f":"'kros seznam'!BZG103","v":0},{"$f":"'kros seznam'!BZH103","v":0},{"$f":"'kros seznam'!BZI103","v":0},{"$f":"'kros seznam'!BZJ103","v":0},{"$f":"'kros seznam'!BZK103","v":0},{"$f":"'kros seznam'!BZL103","v":0},{"$f":"'kros seznam'!BZM103","v":0},{"$f":"'kros seznam'!BZN103","v":0},{"$f":"'kros seznam'!BZO103","v":0},{"$f":"'kros seznam'!BZP103","v":0},{"$f":"'kros seznam'!BZQ103","v":0},{"$f":"'kros seznam'!BZR103","v":0},{"$f":"'kros seznam'!BZS103","v":0},{"$f":"'kros seznam'!BZT103","v":0},{"$f":"'kros seznam'!BZU103","v":0},{"$f":"'kros seznam'!BZV103","v":0},{"$f":"'kros seznam'!BZW103","v":0},{"$f":"'kros seznam'!BZX103","v":0},{"$f":"'kros seznam'!BZY103","v":0},{"$f":"'kros seznam'!BZZ103","v":0},{"$f":"'kros seznam'!CAA103","v":0},{"$f":"'kros seznam'!CAB103","v":0},{"$f":"'kros seznam'!CAC103","v":0},{"$f":"'kros seznam'!CAD103","v":0},{"$f":"'kros seznam'!CAE103","v":0},{"$f":"'kros seznam'!CAF103","v":0},{"$f":"'kros seznam'!CAG103","v":0},{"$f":"'kros seznam'!CAH103","v":0},{"$f":"'kros seznam'!CAI103","v":0},{"$f":"'kros seznam'!CAJ103","v":0},{"$f":"'kros seznam'!CAK103","v":0},{"$f":"'kros seznam'!CAL103","v":0},{"$f":"'kros seznam'!CAM103","v":0},{"$f":"'kros seznam'!CAN103","v":0},{"$f":"'kros seznam'!CAO103","v":0},{"$f":"'kros seznam'!CAP103","v":0},{"$f":"'kros seznam'!CAQ103","v":0},{"$f":"'kros seznam'!CAR103","v":0},{"$f":"'kros seznam'!CAS103","v":0},{"$f":"'kros seznam'!CAT103","v":0},{"$f":"'kros seznam'!CAU103","v":0},{"$f":"'kros seznam'!CAV103","v":0},{"$f":"'kros seznam'!CAW103","v":0},{"$f":"'kros seznam'!CAX103","v":0},{"$f":"'kros seznam'!CAY103","v":0},{"$f":"'kros seznam'!CAZ103","v":0},{"$f":"'kros seznam'!CBA103","v":0},{"$f":"'kros seznam'!CBB103","v":0},{"$f":"'kros seznam'!CBC103","v":0},{"$f":"'kros seznam'!CBD103","v":0},{"$f":"'kros seznam'!CBE103","v":0},{"$f":"'kros seznam'!CBF103","v":0},{"$f":"'kros seznam'!CBG103","v":0},{"$f":"'kros seznam'!CBH103","v":0},{"$f":"'kros seznam'!CBI103","v":0},{"$f":"'kros seznam'!CBJ103","v":0},{"$f":"'kros seznam'!CBK103","v":0},{"$f":"'kros seznam'!CBL103","v":0},{"$f":"'kros seznam'!CBM103","v":0},{"$f":"'kros seznam'!CBN103","v":0},{"$f":"'kros seznam'!CBO103","v":0},{"$f":"'kros seznam'!CBP103","v":0},{"$f":"'kros seznam'!CBQ103","v":0},{"$f":"'kros seznam'!CBR103","v":0},{"$f":"'kros seznam'!CBS103","v":0},{"$f":"'kros seznam'!CBT103","v":0},{"$f":"'kros seznam'!CBU103","v":0},{"$f":"'kros seznam'!CBV103","v":0},{"$f":"'kros seznam'!CBW103","v":0},{"$f":"'kros seznam'!CBX103","v":0},{"$f":"'kros seznam'!CBY103","v":0},{"$f":"'kros seznam'!CBZ103","v":0},{"$f":"'kros seznam'!CCA103","v":0},{"$f":"'kros seznam'!CCB103","v":0},{"$f":"'kros seznam'!CCC103","v":0},{"$f":"'kros seznam'!CCD103","v":0},{"$f":"'kros seznam'!CCE103","v":0},{"$f":"'kros seznam'!CCF103","v":0},{"$f":"'kros seznam'!CCG103","v":0},{"$f":"'kros seznam'!CCH103","v":0},{"$f":"'kros seznam'!CCI103","v":0},{"$f":"'kros seznam'!CCJ103","v":0},{"$f":"'kros seznam'!CCK103","v":0},{"$f":"'kros seznam'!CCL103","v":0},{"$f":"'kros seznam'!CCM103","v":0},{"$f":"'kros seznam'!CCN103","v":0},{"$f":"'kros seznam'!CCO103","v":0},{"$f":"'kros seznam'!CCP103","v":0},{"$f":"'kros seznam'!CCQ103","v":0},{"$f":"'kros seznam'!CCR103","v":0},{"$f":"'kros seznam'!CCS103","v":0},{"$f":"'kros seznam'!CCT103","v":0},{"$f":"'kros seznam'!CCU103","v":0},{"$f":"'kros seznam'!CCV103","v":0},{"$f":"'kros seznam'!CCW103","v":0},{"$f":"'kros seznam'!CCX103","v":0},{"$f":"'kros seznam'!CCY103","v":0},{"$f":"'kros seznam'!CCZ103","v":0},{"$f":"'kros seznam'!CDA103","v":0},{"$f":"'kros seznam'!CDB103","v":0},{"$f":"'kros seznam'!CDC103","v":0},{"$f":"'kros seznam'!CDD103","v":0},{"$f":"'kros seznam'!CDE103","v":0},{"$f":"'kros seznam'!CDF103","v":0},{"$f":"'kros seznam'!CDG103","v":0},{"$f":"'kros seznam'!CDH103","v":0},{"$f":"'kros seznam'!CDI103","v":0},{"$f":"'kros seznam'!CDJ103","v":0},{"$f":"'kros seznam'!CDK103","v":0},{"$f":"'kros seznam'!CDL103","v":0},{"$f":"'kros seznam'!CDM103","v":0},{"$f":"'kros seznam'!CDN103","v":0},{"$f":"'kros seznam'!CDO103","v":0},{"$f":"'kros seznam'!CDP103","v":0},{"$f":"'kros seznam'!CDQ103","v":0},{"$f":"'kros seznam'!CDR103","v":0},{"$f":"'kros seznam'!CDS103","v":0},{"$f":"'kros seznam'!CDT103","v":0},{"$f":"'kros seznam'!CDU103","v":0},{"$f":"'kros seznam'!CDV103","v":0},{"$f":"'kros seznam'!CDW103","v":0},{"$f":"'kros seznam'!CDX103","v":0},{"$f":"'kros seznam'!CDY103","v":0},{"$f":"'kros seznam'!CDZ103","v":0},{"$f":"'kros seznam'!CEA103","v":0},{"$f":"'kros seznam'!CEB103","v":0},{"$f":"'kros seznam'!CEC103","v":0},{"$f":"'kros seznam'!CED103","v":0},{"$f":"'kros seznam'!CEE103","v":0},{"$f":"'kros seznam'!CEF103","v":0},{"$f":"'kros seznam'!CEG103","v":0},{"$f":"'kros seznam'!CEH103","v":0},{"$f":"'kros seznam'!CEI103","v":0},{"$f":"'kros seznam'!CEJ103","v":0},{"$f":"'kros seznam'!CEK103","v":0},{"$f":"'kros seznam'!CEL103","v":0},{"$f":"'kros seznam'!CEM103","v":0},{"$f":"'kros seznam'!CEN103","v":0},{"$f":"'kros seznam'!CEO103","v":0},{"$f":"'kros seznam'!CEP103","v":0},{"$f":"'kros seznam'!CEQ103","v":0},{"$f":"'kros seznam'!CER103","v":0},{"$f":"'kros seznam'!CES103","v":0},{"$f":"'kros seznam'!CET103","v":0},{"$f":"'kros seznam'!CEU103","v":0},{"$f":"'kros seznam'!CEV103","v":0},{"$f":"'kros seznam'!CEW103","v":0},{"$f":"'kros seznam'!CEX103","v":0},{"$f":"'kros seznam'!CEY103","v":0},{"$f":"'kros seznam'!CEZ103","v":0},{"$f":"'kros seznam'!CFA103","v":0},{"$f":"'kros seznam'!CFB103","v":0},{"$f":"'kros seznam'!CFC103","v":0},{"$f":"'kros seznam'!CFD103","v":0},{"$f":"'kros seznam'!CFE103","v":0},{"$f":"'kros seznam'!CFF103","v":0},{"$f":"'kros seznam'!CFG103","v":0},{"$f":"'kros seznam'!CFH103","v":0},{"$f":"'kros seznam'!CFI103","v":0},{"$f":"'kros seznam'!CFJ103","v":0},{"$f":"'kros seznam'!CFK103","v":0},{"$f":"'kros seznam'!CFL103","v":0},{"$f":"'kros seznam'!CFM103","v":0},{"$f":"'kros seznam'!CFN103","v":0},{"$f":"'kros seznam'!CFO103","v":0},{"$f":"'kros seznam'!CFP103","v":0},{"$f":"'kros seznam'!CFQ103","v":0},{"$f":"'kros seznam'!CFR103","v":0},{"$f":"'kros seznam'!CFS103","v":0},{"$f":"'kros seznam'!CFT103","v":0},{"$f":"'kros seznam'!CFU103","v":0},{"$f":"'kros seznam'!CFV103","v":0},{"$f":"'kros seznam'!CFW103","v":0},{"$f":"'kros seznam'!CFX103","v":0},{"$f":"'kros seznam'!CFY103","v":0},{"$f":"'kros seznam'!CFZ103","v":0},{"$f":"'kros seznam'!CGA103","v":0},{"$f":"'kros seznam'!CGB103","v":0},{"$f":"'kros seznam'!CGC103","v":0},{"$f":"'kros seznam'!CGD103","v":0},{"$f":"'kros seznam'!CGE103","v":0},{"$f":"'kros seznam'!CGF103","v":0},{"$f":"'kros seznam'!CGG103","v":0},{"$f":"'kros seznam'!CGH103","v":0},{"$f":"'kros seznam'!CGI103","v":0},{"$f":"'kros seznam'!CGJ103","v":0},{"$f":"'kros seznam'!CGK103","v":0},{"$f":"'kros seznam'!CGL103","v":0},{"$f":"'kros seznam'!CGM103","v":0},{"$f":"'kros seznam'!CGN103","v":0},{"$f":"'kros seznam'!CGO103","v":0},{"$f":"'kros seznam'!CGP103","v":0},{"$f":"'kros seznam'!CGQ103","v":0},{"$f":"'kros seznam'!CGR103","v":0},{"$f":"'kros seznam'!CGS103","v":0},{"$f":"'kros seznam'!CGT103","v":0},{"$f":"'kros seznam'!CGU103","v":0},{"$f":"'kros seznam'!CGV103","v":0},{"$f":"'kros seznam'!CGW103","v":0},{"$f":"'kros seznam'!CGX103","v":0},{"$f":"'kros seznam'!CGY103","v":0},{"$f":"'kros seznam'!CGZ103","v":0},{"$f":"'kros seznam'!CHA103","v":0},{"$f":"'kros seznam'!CHB103","v":0},{"$f":"'kros seznam'!CHC103","v":0},{"$f":"'kros seznam'!CHD103","v":0},{"$f":"'kros seznam'!CHE103","v":0},{"$f":"'kros seznam'!CHF103","v":0},{"$f":"'kros seznam'!CHG103","v":0},{"$f":"'kros seznam'!CHH103","v":0},{"$f":"'kros seznam'!CHI103","v":0},{"$f":"'kros seznam'!CHJ103","v":0},{"$f":"'kros seznam'!CHK103","v":0},{"$f":"'kros seznam'!CHL103","v":0},{"$f":"'kros seznam'!CHM103","v":0},{"$f":"'kros seznam'!CHN103","v":0},{"$f":"'kros seznam'!CHO103","v":0},{"$f":"'kros seznam'!CHP103","v":0},{"$f":"'kros seznam'!CHQ103","v":0},{"$f":"'kros seznam'!CHR103","v":0},{"$f":"'kros seznam'!CHS103","v":0},{"$f":"'kros seznam'!CHT103","v":0},{"$f":"'kros seznam'!CHU103","v":0},{"$f":"'kros seznam'!CHV103","v":0},{"$f":"'kros seznam'!CHW103","v":0},{"$f":"'kros seznam'!CHX103","v":0},{"$f":"'kros seznam'!CHY103","v":0},{"$f":"'kros seznam'!CHZ103","v":0},{"$f":"'kros seznam'!CIA103","v":0},{"$f":"'kros seznam'!CIB103","v":0},{"$f":"'kros seznam'!CIC103","v":0},{"$f":"'kros seznam'!CID103","v":0},{"$f":"'kros seznam'!CIE103","v":0},{"$f":"'kros seznam'!CIF103","v":0},{"$f":"'kros seznam'!CIG103","v":0},{"$f":"'kros seznam'!CIH103","v":0},{"$f":"'kros seznam'!CII103","v":0},{"$f":"'kros seznam'!CIJ103","v":0},{"$f":"'kros seznam'!CIK103","v":0},{"$f":"'kros seznam'!CIL103","v":0},{"$f":"'kros seznam'!CIM103","v":0},{"$f":"'kros seznam'!CIN103","v":0},{"$f":"'kros seznam'!CIO103","v":0},{"$f":"'kros seznam'!CIP103","v":0},{"$f":"'kros seznam'!CIQ103","v":0},{"$f":"'kros seznam'!CIR103","v":0},{"$f":"'kros seznam'!CIS103","v":0},{"$f":"'kros seznam'!CIT103","v":0},{"$f":"'kros seznam'!CIU103","v":0},{"$f":"'kros seznam'!CIV103","v":0},{"$f":"'kros seznam'!CIW103","v":0},{"$f":"'kros seznam'!CIX103","v":0},{"$f":"'kros seznam'!CIY103","v":0},{"$f":"'kros seznam'!CIZ103","v":0},{"$f":"'kros seznam'!CJA103","v":0},{"$f":"'kros seznam'!CJB103","v":0},{"$f":"'kros seznam'!CJC103","v":0},{"$f":"'kros seznam'!CJD103","v":0},{"$f":"'kros seznam'!CJE103","v":0},{"$f":"'kros seznam'!CJF103","v":0},{"$f":"'kros seznam'!CJG103","v":0},{"$f":"'kros seznam'!CJH103","v":0},{"$f":"'kros seznam'!CJI103","v":0},{"$f":"'kros seznam'!CJJ103","v":0},{"$f":"'kros seznam'!CJK103","v":0},{"$f":"'kros seznam'!CJL103","v":0},{"$f":"'kros seznam'!CJM103","v":0},{"$f":"'kros seznam'!CJN103","v":0},{"$f":"'kros seznam'!CJO103","v":0},{"$f":"'kros seznam'!CJP103","v":0},{"$f":"'kros seznam'!CJQ103","v":0},{"$f":"'kros seznam'!CJR103","v":0},{"$f":"'kros seznam'!CJS103","v":0},{"$f":"'kros seznam'!CJT103","v":0},{"$f":"'kros seznam'!CJU103","v":0},{"$f":"'kros seznam'!CJV103","v":0},{"$f":"'kros seznam'!CJW103","v":0},{"$f":"'kros seznam'!CJX103","v":0},{"$f":"'kros seznam'!CJY103","v":0},{"$f":"'kros seznam'!CJZ103","v":0},{"$f":"'kros seznam'!CKA103","v":0},{"$f":"'kros seznam'!CKB103","v":0},{"$f":"'kros seznam'!CKC103","v":0},{"$f":"'kros seznam'!CKD103","v":0},{"$f":"'kros seznam'!CKE103","v":0},{"$f":"'kros seznam'!CKF103","v":0},{"$f":"'kros seznam'!CKG103","v":0},{"$f":"'kros seznam'!CKH103","v":0},{"$f":"'kros seznam'!CKI103","v":0},{"$f":"'kros seznam'!CKJ103","v":0},{"$f":"'kros seznam'!CKK103","v":0},{"$f":"'kros seznam'!CKL103","v":0},{"$f":"'kros seznam'!CKM103","v":0},{"$f":"'kros seznam'!CKN103","v":0},{"$f":"'kros seznam'!CKO103","v":0},{"$f":"'kros seznam'!CKP103","v":0},{"$f":"'kros seznam'!CKQ103","v":0},{"$f":"'kros seznam'!CKR103","v":0},{"$f":"'kros seznam'!CKS103","v":0},{"$f":"'kros seznam'!CKT103","v":0},{"$f":"'kros seznam'!CKU103","v":0},{"$f":"'kros seznam'!CKV103","v":0},{"$f":"'kros seznam'!CKW103","v":0},{"$f":"'kros seznam'!CKX103","v":0},{"$f":"'kros seznam'!CKY103","v":0},{"$f":"'kros seznam'!CKZ103","v":0},{"$f":"'kros seznam'!CLA103","v":0},{"$f":"'kros seznam'!CLB103","v":0},{"$f":"'kros seznam'!CLC103","v":0},{"$f":"'kros seznam'!CLD103","v":0},{"$f":"'kros seznam'!CLE103","v":0},{"$f":"'kros seznam'!CLF103","v":0},{"$f":"'kros seznam'!CLG103","v":0},{"$f":"'kros seznam'!CLH103","v":0},{"$f":"'kros seznam'!CLI103","v":0},{"$f":"'kros seznam'!CLJ103","v":0},{"$f":"'kros seznam'!CLK103","v":0},{"$f":"'kros seznam'!CLL103","v":0},{"$f":"'kros seznam'!CLM103","v":0},{"$f":"'kros seznam'!CLN103","v":0},{"$f":"'kros seznam'!CLO103","v":0},{"$f":"'kros seznam'!CLP103","v":0},{"$f":"'kros seznam'!CLQ103","v":0},{"$f":"'kros seznam'!CLR103","v":0},{"$f":"'kros seznam'!CLS103","v":0},{"$f":"'kros seznam'!CLT103","v":0},{"$f":"'kros seznam'!CLU103","v":0},{"$f":"'kros seznam'!CLV103","v":0},{"$f":"'kros seznam'!CLW103","v":0},{"$f":"'kros seznam'!CLX103","v":0},{"$f":"'kros seznam'!CLY103","v":0},{"$f":"'kros seznam'!CLZ103","v":0},{"$f":"'kros seznam'!CMA103","v":0},{"$f":"'kros seznam'!CMB103","v":0},{"$f":"'kros seznam'!CMC103","v":0},{"$f":"'kros seznam'!CMD103","v":0},{"$f":"'kros seznam'!CME103","v":0},{"$f":"'kros seznam'!CMF103","v":0},{"$f":"'kros seznam'!CMG103","v":0},{"$f":"'kros seznam'!CMH103","v":0},{"$f":"'kros seznam'!CMI103","v":0},{"$f":"'kros seznam'!CMJ103","v":0},{"$f":"'kros seznam'!CMK103","v":0},{"$f":"'kros seznam'!CML103","v":0},{"$f":"'kros seznam'!CMM103","v":0},{"$f":"'kros seznam'!CMN103","v":0},{"$f":"'kros seznam'!CMO103","v":0},{"$f":"'kros seznam'!CMP103","v":0},{"$f":"'kros seznam'!CMQ103","v":0},{"$f":"'kros seznam'!CMR103","v":0},{"$f":"'kros seznam'!CMS103","v":0},{"$f":"'kros seznam'!CMT103","v":0},{"$f":"'kros seznam'!CMU103","v":0},{"$f":"'kros seznam'!CMV103","v":0},{"$f":"'kros seznam'!CMW103","v":0},{"$f":"'kros seznam'!CMX103","v":0},{"$f":"'kros seznam'!CMY103","v":0},{"$f":"'kros seznam'!CMZ103","v":0},{"$f":"'kros seznam'!CNA103","v":0},{"$f":"'kros seznam'!CNB103","v":0},{"$f":"'kros seznam'!CNC103","v":0},{"$f":"'kros seznam'!CND103","v":0},{"$f":"'kros seznam'!CNE103","v":0},{"$f":"'kros seznam'!CNF103","v":0},{"$f":"'kros seznam'!CNG103","v":0},{"$f":"'kros seznam'!CNH103","v":0},{"$f":"'kros seznam'!CNI103","v":0},{"$f":"'kros seznam'!CNJ103","v":0},{"$f":"'kros seznam'!CNK103","v":0},{"$f":"'kros seznam'!CNL103","v":0},{"$f":"'kros seznam'!CNM103","v":0},{"$f":"'kros seznam'!CNN103","v":0},{"$f":"'kros seznam'!CNO103","v":0},{"$f":"'kros seznam'!CNP103","v":0},{"$f":"'kros seznam'!CNQ103","v":0},{"$f":"'kros seznam'!CNR103","v":0},{"$f":"'kros seznam'!CNS103","v":0},{"$f":"'kros seznam'!CNT103","v":0},{"$f":"'kros seznam'!CNU103","v":0},{"$f":"'kros seznam'!CNV103","v":0},{"$f":"'kros seznam'!CNW103","v":0},{"$f":"'kros seznam'!CNX103","v":0},{"$f":"'kros seznam'!CNY103","v":0},{"$f":"'kros seznam'!CNZ103","v":0},{"$f":"'kros seznam'!COA103","v":0},{"$f":"'kros seznam'!COB103","v":0},{"$f":"'kros seznam'!COC103","v":0},{"$f":"'kros seznam'!COD103","v":0},{"$f":"'kros seznam'!COE103","v":0},{"$f":"'kros seznam'!COF103","v":0},{"$f":"'kros seznam'!COG103","v":0},{"$f":"'kros seznam'!COH103","v":0},{"$f":"'kros seznam'!COI103","v":0},{"$f":"'kros seznam'!COJ103","v":0},{"$f":"'kros seznam'!COK103","v":0},{"$f":"'kros seznam'!COL103","v":0},{"$f":"'kros seznam'!COM103","v":0},{"$f":"'kros seznam'!CON103","v":0},{"$f":"'kros seznam'!COO103","v":0},{"$f":"'kros seznam'!COP103","v":0},{"$f":"'kros seznam'!COQ103","v":0},{"$f":"'kros seznam'!COR103","v":0},{"$f":"'kros seznam'!COS103","v":0},{"$f":"'kros seznam'!COT103","v":0},{"$f":"'kros seznam'!COU103","v":0},{"$f":"'kros seznam'!COV103","v":0},{"$f":"'kros seznam'!COW103","v":0},{"$f":"'kros seznam'!COX103","v":0},{"$f":"'kros seznam'!COY103","v":0},{"$f":"'kros seznam'!COZ103","v":0},{"$f":"'kros seznam'!CPA103","v":0},{"$f":"'kros seznam'!CPB103","v":0},{"$f":"'kros seznam'!CPC103","v":0},{"$f":"'kros seznam'!CPD103","v":0},{"$f":"'kros seznam'!CPE103","v":0},{"$f":"'kros seznam'!CPF103","v":0},{"$f":"'kros seznam'!CPG103","v":0},{"$f":"'kros seznam'!CPH103","v":0},{"$f":"'kros seznam'!CPI103","v":0},{"$f":"'kros seznam'!CPJ103","v":0},{"$f":"'kros seznam'!CPK103","v":0},{"$f":"'kros seznam'!CPL103","v":0},{"$f":"'kros seznam'!CPM103","v":0},{"$f":"'kros seznam'!CPN103","v":0},{"$f":"'kros seznam'!CPO103","v":0},{"$f":"'kros seznam'!CPP103","v":0},{"$f":"'kros seznam'!CPQ103","v":0},{"$f":"'kros seznam'!CPR103","v":0},{"$f":"'kros seznam'!CPS103","v":0},{"$f":"'kros seznam'!CPT103","v":0},{"$f":"'kros seznam'!CPU103","v":0},{"$f":"'kros seznam'!CPV103","v":0},{"$f":"'kros seznam'!CPW103","v":0},{"$f":"'kros seznam'!CPX103","v":0},{"$f":"'kros seznam'!CPY103","v":0},{"$f":"'kros seznam'!CPZ103","v":0},{"$f":"'kros seznam'!CQA103","v":0},{"$f":"'kros seznam'!CQB103","v":0},{"$f":"'kros seznam'!CQC103","v":0},{"$f":"'kros seznam'!CQD103","v":0},{"$f":"'kros seznam'!CQE103","v":0},{"$f":"'kros seznam'!CQF103","v":0},{"$f":"'kros seznam'!CQG103","v":0},{"$f":"'kros seznam'!CQH103","v":0},{"$f":"'kros seznam'!CQI103","v":0},{"$f":"'kros seznam'!CQJ103","v":0},{"$f":"'kros seznam'!CQK103","v":0},{"$f":"'kros seznam'!CQL103","v":0},{"$f":"'kros seznam'!CQM103","v":0},{"$f":"'kros seznam'!CQN103","v":0},{"$f":"'kros seznam'!CQO103","v":0},{"$f":"'kros seznam'!CQP103","v":0},{"$f":"'kros seznam'!CQQ103","v":0},{"$f":"'kros seznam'!CQR103","v":0},{"$f":"'kros seznam'!CQS103","v":0},{"$f":"'kros seznam'!CQT103","v":0},{"$f":"'kros seznam'!CQU103","v":0},{"$f":"'kros seznam'!CQV103","v":0},{"$f":"'kros seznam'!CQW103","v":0},{"$f":"'kros seznam'!CQX103","v":0},{"$f":"'kros seznam'!CQY103","v":0},{"$f":"'kros seznam'!CQZ103","v":0},{"$f":"'kros seznam'!CRA103","v":0},{"$f":"'kros seznam'!CRB103","v":0},{"$f":"'kros seznam'!CRC103","v":0},{"$f":"'kros seznam'!CRD103","v":0},{"$f":"'kros seznam'!CRE103","v":0},{"$f":"'kros seznam'!CRF103","v":0},{"$f":"'kros seznam'!CRG103","v":0},{"$f":"'kros seznam'!CRH103","v":0},{"$f":"'kros seznam'!CRI103","v":0},{"$f":"'kros seznam'!CRJ103","v":0},{"$f":"'kros seznam'!CRK103","v":0},{"$f":"'kros seznam'!CRL103","v":0},{"$f":"'kros seznam'!CRM103","v":0},{"$f":"'kros seznam'!CRN103","v":0},{"$f":"'kros seznam'!CRO103","v":0},{"$f":"'kros seznam'!CRP103","v":0},{"$f":"'kros seznam'!CRQ103","v":0},{"$f":"'kros seznam'!CRR103","v":0},{"$f":"'kros seznam'!CRS103","v":0},{"$f":"'kros seznam'!CRT103","v":0},{"$f":"'kros seznam'!CRU103","v":0},{"$f":"'kros seznam'!CRV103","v":0},{"$f":"'kros seznam'!CRW103","v":0},{"$f":"'kros seznam'!CRX103","v":0},{"$f":"'kros seznam'!CRY103","v":0},{"$f":"'kros seznam'!CRZ103","v":0},{"$f":"'kros seznam'!CSA103","v":0},{"$f":"'kros seznam'!CSB103","v":0},{"$f":"'kros seznam'!CSC103","v":0},{"$f":"'kros seznam'!CSD103","v":0},{"$f":"'kros seznam'!CSE103","v":0},{"$f":"'kros seznam'!CSF103","v":0},{"$f":"'kros seznam'!CSG103","v":0},{"$f":"'kros seznam'!CSH103","v":0},{"$f":"'kros seznam'!CSI103","v":0},{"$f":"'kros seznam'!CSJ103","v":0},{"$f":"'kros seznam'!CSK103","v":0},{"$f":"'kros seznam'!CSL103","v":0},{"$f":"'kros seznam'!CSM103","v":0},{"$f":"'kros seznam'!CSN103","v":0},{"$f":"'kros seznam'!CSO103","v":0},{"$f":"'kros seznam'!CSP103","v":0},{"$f":"'kros seznam'!CSQ103","v":0},{"$f":"'kros seznam'!CSR103","v":0},{"$f":"'kros seznam'!CSS103","v":0},{"$f":"'kros seznam'!CST103","v":0},{"$f":"'kros seznam'!CSU103","v":0},{"$f":"'kros seznam'!CSV103","v":0},{"$f":"'kros seznam'!CSW103","v":0},{"$f":"'kros seznam'!CSX103","v":0},{"$f":"'kros seznam'!CSY103","v":0},{"$f":"'kros seznam'!CSZ103","v":0},{"$f":"'kros seznam'!CTA103","v":0},{"$f":"'kros seznam'!CTB103","v":0},{"$f":"'kros seznam'!CTC103","v":0},{"$f":"'kros seznam'!CTD103","v":0},{"$f":"'kros seznam'!CTE103","v":0},{"$f":"'kros seznam'!CTF103","v":0},{"$f":"'kros seznam'!CTG103","v":0},{"$f":"'kros seznam'!CTH103","v":0},{"$f":"'kros seznam'!CTI103","v":0},{"$f":"'kros seznam'!CTJ103","v":0},{"$f":"'kros seznam'!CTK103","v":0},{"$f":"'kros seznam'!CTL103","v":0},{"$f":"'kros seznam'!CTM103","v":0},{"$f":"'kros seznam'!CTN103","v":0},{"$f":"'kros seznam'!CTO103","v":0},{"$f":"'kros seznam'!CTP103","v":0},{"$f":"'kros seznam'!CTQ103","v":0},{"$f":"'kros seznam'!CTR103","v":0},{"$f":"'kros seznam'!CTS103","v":0},{"$f":"'kros seznam'!CTT103","v":0},{"$f":"'kros seznam'!CTU103","v":0},{"$f":"'kros seznam'!CTV103","v":0},{"$f":"'kros seznam'!CTW103","v":0},{"$f":"'kros seznam'!CTX103","v":0},{"$f":"'kros seznam'!CTY103","v":0},{"$f":"'kros seznam'!CTZ103","v":0},{"$f":"'kros seznam'!CUA103","v":0},{"$f":"'kros seznam'!CUB103","v":0},{"$f":"'kros seznam'!CUC103","v":0},{"$f":"'kros seznam'!CUD103","v":0},{"$f":"'kros seznam'!CUE103","v":0},{"$f":"'kros seznam'!CUF103","v":0},{"$f":"'kros seznam'!CUG103","v":0},{"$f":"'kros seznam'!CUH103","v":0},{"$f":"'kros seznam'!CUI103","v":0},{"$f":"'kros seznam'!CUJ103","v":0},{"$f":"'kros seznam'!CUK103","v":0},{"$f":"'kros seznam'!CUL103","v":0},{"$f":"'kros seznam'!CUM103","v":0},{"$f":"'kros seznam'!CUN103","v":0},{"$f":"'kros seznam'!CUO103","v":0},{"$f":"'kros seznam'!CUP103","v":0},{"$f":"'kros seznam'!CUQ103","v":0},{"$f":"'kros seznam'!CUR103","v":0},{"$f":"'kros seznam'!CUS103","v":0},{"$f":"'kros seznam'!CUT103","v":0},{"$f":"'kros seznam'!CUU103","v":0},{"$f":"'kros seznam'!CUV103","v":0},{"$f":"'kros seznam'!CUW103","v":0},{"$f":"'kros seznam'!CUX103","v":0},{"$f":"'kros seznam'!CUY103","v":0},{"$f":"'kros seznam'!CUZ103","v":0},{"$f":"'kros seznam'!CVA103","v":0},{"$f":"'kros seznam'!CVB103","v":0},{"$f":"'kros seznam'!CVC103","v":0},{"$f":"'kros seznam'!CVD103","v":0},{"$f":"'kros seznam'!CVE103","v":0},{"$f":"'kros seznam'!CVF103","v":0},{"$f":"'kros seznam'!CVG103","v":0},{"$f":"'kros seznam'!CVH103","v":0},{"$f":"'kros seznam'!CVI103","v":0},{"$f":"'kros seznam'!CVJ103","v":0},{"$f":"'kros seznam'!CVK103","v":0},{"$f":"'kros seznam'!CVL103","v":0},{"$f":"'kros seznam'!CVM103","v":0},{"$f":"'kros seznam'!CVN103","v":0},{"$f":"'kros seznam'!CVO103","v":0},{"$f":"'kros seznam'!CVP103","v":0},{"$f":"'kros seznam'!CVQ103","v":0},{"$f":"'kros seznam'!CVR103","v":0},{"$f":"'kros seznam'!CVS103","v":0},{"$f":"'kros seznam'!CVT103","v":0},{"$f":"'kros seznam'!CVU103","v":0},{"$f":"'kros seznam'!CVV103","v":0},{"$f":"'kros seznam'!CVW103","v":0},{"$f":"'kros seznam'!CVX103","v":0},{"$f":"'kros seznam'!CVY103","v":0},{"$f":"'kros seznam'!CVZ103","v":0},{"$f":"'kros seznam'!CWA103","v":0},{"$f":"'kros seznam'!CWB103","v":0},{"$f":"'kros seznam'!CWC103","v":0},{"$f":"'kros seznam'!CWD103","v":0},{"$f":"'kros seznam'!CWE103","v":0},{"$f":"'kros seznam'!CWF103","v":0},{"$f":"'kros seznam'!CWG103","v":0},{"$f":"'kros seznam'!CWH103","v":0},{"$f":"'kros seznam'!CWI103","v":0},{"$f":"'kros seznam'!CWJ103","v":0},{"$f":"'kros seznam'!CWK103","v":0},{"$f":"'kros seznam'!CWL103","v":0},{"$f":"'kros seznam'!CWM103","v":0},{"$f":"'kros seznam'!CWN103","v":0},{"$f":"'kros seznam'!CWO103","v":0},{"$f":"'kros seznam'!CWP103","v":0},{"$f":"'kros seznam'!CWQ103","v":0},{"$f":"'kros seznam'!CWR103","v":0},{"$f":"'kros seznam'!CWS103","v":0},{"$f":"'kros seznam'!CWT103","v":0},{"$f":"'kros seznam'!CWU103","v":0},{"$f":"'kros seznam'!CWV103","v":0},{"$f":"'kros seznam'!CWW103","v":0},{"$f":"'kros seznam'!CWX103","v":0},{"$f":"'kros seznam'!CWY103","v":0},{"$f":"'kros seznam'!CWZ103","v":0},{"$f":"'kros seznam'!CXA103","v":0},{"$f":"'kros seznam'!CXB103","v":0},{"$f":"'kros seznam'!CXC103","v":0},{"$f":"'kros seznam'!CXD103","v":0},{"$f":"'kros seznam'!CXE103","v":0},{"$f":"'kros seznam'!CXF103","v":0},{"$f":"'kros seznam'!CXG103","v":0},{"$f":"'kros seznam'!CXH103","v":0},{"$f":"'kros seznam'!CXI103","v":0},{"$f":"'kros seznam'!CXJ103","v":0},{"$f":"'kros seznam'!CXK103","v":0},{"$f":"'kros seznam'!CXL103","v":0},{"$f":"'kros seznam'!CXM103","v":0},{"$f":"'kros seznam'!CXN103","v":0},{"$f":"'kros seznam'!CXO103","v":0},{"$f":"'kros seznam'!CXP103","v":0},{"$f":"'kros seznam'!CXQ103","v":0},{"$f":"'kros seznam'!CXR103","v":0},{"$f":"'kros seznam'!CXS103","v":0},{"$f":"'kros seznam'!CXT103","v":0},{"$f":"'kros seznam'!CXU103","v":0},{"$f":"'kros seznam'!CXV103","v":0},{"$f":"'kros seznam'!CXW103","v":0},{"$f":"'kros seznam'!CXX103","v":0},{"$f":"'kros seznam'!CXY103","v":0},{"$f":"'kros seznam'!CXZ103","v":0},{"$f":"'kros seznam'!CYA103","v":0},{"$f":"'kros seznam'!CYB103","v":0},{"$f":"'kros seznam'!CYC103","v":0},{"$f":"'kros seznam'!CYD103","v":0},{"$f":"'kros seznam'!CYE103","v":0},{"$f":"'kros seznam'!CYF103","v":0},{"$f":"'kros seznam'!CYG103","v":0},{"$f":"'kros seznam'!CYH103","v":0},{"$f":"'kros seznam'!CYI103","v":0},{"$f":"'kros seznam'!CYJ103","v":0},{"$f":"'kros seznam'!CYK103","v":0},{"$f":"'kros seznam'!CYL103","v":0},{"$f":"'kros seznam'!CYM103","v":0},{"$f":"'kros seznam'!CYN103","v":0},{"$f":"'kros seznam'!CYO103","v":0},{"$f":"'kros seznam'!CYP103","v":0},{"$f":"'kros seznam'!CYQ103","v":0},{"$f":"'kros seznam'!CYR103","v":0},{"$f":"'kros seznam'!CYS103","v":0},{"$f":"'kros seznam'!CYT103","v":0},{"$f":"'kros seznam'!CYU103","v":0},{"$f":"'kros seznam'!CYV103","v":0},{"$f":"'kros seznam'!CYW103","v":0},{"$f":"'kros seznam'!CYX103","v":0},{"$f":"'kros seznam'!CYY103","v":0},{"$f":"'kros seznam'!CYZ103","v":0},{"$f":"'kros seznam'!CZA103","v":0},{"$f":"'kros seznam'!CZB103","v":0},{"$f":"'kros seznam'!CZC103","v":0},{"$f":"'kros seznam'!CZD103","v":0},{"$f":"'kros seznam'!CZE103","v":0},{"$f":"'kros seznam'!CZF103","v":0},{"$f":"'kros seznam'!CZG103","v":0},{"$f":"'kros seznam'!CZH103","v":0},{"$f":"'kros seznam'!CZI103","v":0},{"$f":"'kros seznam'!CZJ103","v":0},{"$f":"'kros seznam'!CZK103","v":0},{"$f":"'kros seznam'!CZL103","v":0},{"$f":"'kros seznam'!CZM103","v":0},{"$f":"'kros seznam'!CZN103","v":0},{"$f":"'kros seznam'!CZO103","v":0},{"$f":"'kros seznam'!CZP103","v":0},{"$f":"'kros seznam'!CZQ103","v":0},{"$f":"'kros seznam'!CZR103","v":0},{"$f":"'kros seznam'!CZS103","v":0},{"$f":"'kros seznam'!CZT103","v":0},{"$f":"'kros seznam'!CZU103","v":0},{"$f":"'kros seznam'!CZV103","v":0},{"$f":"'kros seznam'!CZW103","v":0},{"$f":"'kros seznam'!CZX103","v":0},{"$f":"'kros seznam'!CZY103","v":0},{"$f":"'kros seznam'!CZZ103","v":0},{"$f":"'kros seznam'!DAA103","v":0},{"$f":"'kros seznam'!DAB103","v":0},{"$f":"'kros seznam'!DAC103","v":0},{"$f":"'kros seznam'!DAD103","v":0},{"$f":"'kros seznam'!DAE103","v":0},{"$f":"'kros seznam'!DAF103","v":0},{"$f":"'kros seznam'!DAG103","v":0},{"$f":"'kros seznam'!DAH103","v":0},{"$f":"'kros seznam'!DAI103","v":0},{"$f":"'kros seznam'!DAJ103","v":0},{"$f":"'kros seznam'!DAK103","v":0},{"$f":"'kros seznam'!DAL103","v":0},{"$f":"'kros seznam'!DAM103","v":0},{"$f":"'kros seznam'!DAN103","v":0},{"$f":"'kros seznam'!DAO103","v":0},{"$f":"'kros seznam'!DAP103","v":0},{"$f":"'kros seznam'!DAQ103","v":0},{"$f":"'kros seznam'!DAR103","v":0},{"$f":"'kros seznam'!DAS103","v":0},{"$f":"'kros seznam'!DAT103","v":0},{"$f":"'kros seznam'!DAU103","v":0},{"$f":"'kros seznam'!DAV103","v":0},{"$f":"'kros seznam'!DAW103","v":0},{"$f":"'kros seznam'!DAX103","v":0},{"$f":"'kros seznam'!DAY103","v":0},{"$f":"'kros seznam'!DAZ103","v":0},{"$f":"'kros seznam'!DBA103","v":0},{"$f":"'kros seznam'!DBB103","v":0},{"$f":"'kros seznam'!DBC103","v":0},{"$f":"'kros seznam'!DBD103","v":0},{"$f":"'kros seznam'!DBE103","v":0},{"$f":"'kros seznam'!DBF103","v":0},{"$f":"'kros seznam'!DBG103","v":0},{"$f":"'kros seznam'!DBH103","v":0},{"$f":"'kros seznam'!DBI103","v":0},{"$f":"'kros seznam'!DBJ103","v":0},{"$f":"'kros seznam'!DBK103","v":0},{"$f":"'kros seznam'!DBL103","v":0},{"$f":"'kros seznam'!DBM103","v":0},{"$f":"'kros seznam'!DBN103","v":0},{"$f":"'kros seznam'!DBO103","v":0},{"$f":"'kros seznam'!DBP103","v":0},{"$f":"'kros seznam'!DBQ103","v":0},{"$f":"'kros seznam'!DBR103","v":0},{"$f":"'kros seznam'!DBS103","v":0},{"$f":"'kros seznam'!DBT103","v":0},{"$f":"'kros seznam'!DBU103","v":0},{"$f":"'kros seznam'!DBV103","v":0},{"$f":"'kros seznam'!DBW103","v":0},{"$f":"'kros seznam'!DBX103","v":0},{"$f":"'kros seznam'!DBY103","v":0},{"$f":"'kros seznam'!DBZ103","v":0},{"$f":"'kros seznam'!DCA103","v":0},{"$f":"'kros seznam'!DCB103","v":0},{"$f":"'kros seznam'!DCC103","v":0},{"$f":"'kros seznam'!DCD103","v":0},{"$f":"'kros seznam'!DCE103","v":0},{"$f":"'kros seznam'!DCF103","v":0},{"$f":"'kros seznam'!DCG103","v":0},{"$f":"'kros seznam'!DCH103","v":0},{"$f":"'kros seznam'!DCI103","v":0},{"$f":"'kros seznam'!DCJ103","v":0},{"$f":"'kros seznam'!DCK103","v":0},{"$f":"'kros seznam'!DCL103","v":0},{"$f":"'kros seznam'!DCM103","v":0},{"$f":"'kros seznam'!DCN103","v":0},{"$f":"'kros seznam'!DCO103","v":0},{"$f":"'kros seznam'!DCP103","v":0},{"$f":"'kros seznam'!DCQ103","v":0},{"$f":"'kros seznam'!DCR103","v":0},{"$f":"'kros seznam'!DCS103","v":0},{"$f":"'kros seznam'!DCT103","v":0},{"$f":"'kros seznam'!DCU103","v":0},{"$f":"'kros seznam'!DCV103","v":0},{"$f":"'kros seznam'!DCW103","v":0},{"$f":"'kros seznam'!DCX103","v":0},{"$f":"'kros seznam'!DCY103","v":0},{"$f":"'kros seznam'!DCZ103","v":0},{"$f":"'kros seznam'!DDA103","v":0},{"$f":"'kros seznam'!DDB103","v":0},{"$f":"'kros seznam'!DDC103","v":0},{"$f":"'kros seznam'!DDD103","v":0},{"$f":"'kros seznam'!DDE103","v":0},{"$f":"'kros seznam'!DDF103","v":0},{"$f":"'kros seznam'!DDG103","v":0},{"$f":"'kros seznam'!DDH103","v":0},{"$f":"'kros seznam'!DDI103","v":0},{"$f":"'kros seznam'!DDJ103","v":0},{"$f":"'kros seznam'!DDK103","v":0},{"$f":"'kros seznam'!DDL103","v":0},{"$f":"'kros seznam'!DDM103","v":0},{"$f":"'kros seznam'!DDN103","v":0},{"$f":"'kros seznam'!DDO103","v":0},{"$f":"'kros seznam'!DDP103","v":0},{"$f":"'kros seznam'!DDQ103","v":0},{"$f":"'kros seznam'!DDR103","v":0},{"$f":"'kros seznam'!DDS103","v":0},{"$f":"'kros seznam'!DDT103","v":0},{"$f":"'kros seznam'!DDU103","v":0},{"$f":"'kros seznam'!DDV103","v":0},{"$f":"'kros seznam'!DDW103","v":0},{"$f":"'kros seznam'!DDX103","v":0},{"$f":"'kros seznam'!DDY103","v":0},{"$f":"'kros seznam'!DDZ103","v":0},{"$f":"'kros seznam'!DEA103","v":0},{"$f":"'kros seznam'!DEB103","v":0},{"$f":"'kros seznam'!DEC103","v":0},{"$f":"'kros seznam'!DED103","v":0},{"$f":"'kros seznam'!DEE103","v":0},{"$f":"'kros seznam'!DEF103","v":0},{"$f":"'kros seznam'!DEG103","v":0},{"$f":"'kros seznam'!DEH103","v":0},{"$f":"'kros seznam'!DEI103","v":0},{"$f":"'kros seznam'!DEJ103","v":0},{"$f":"'kros seznam'!DEK103","v":0},{"$f":"'kros seznam'!DEL103","v":0},{"$f":"'kros seznam'!DEM103","v":0},{"$f":"'kros seznam'!DEN103","v":0},{"$f":"'kros seznam'!DEO103","v":0},{"$f":"'kros seznam'!DEP103","v":0},{"$f":"'kros seznam'!DEQ103","v":0},{"$f":"'kros seznam'!DER103","v":0},{"$f":"'kros seznam'!DES103","v":0},{"$f":"'kros seznam'!DET103","v":0},{"$f":"'kros seznam'!DEU103","v":0},{"$f":"'kros seznam'!DEV103","v":0},{"$f":"'kros seznam'!DEW103","v":0},{"$f":"'kros seznam'!DEX103","v":0},{"$f":"'kros seznam'!DEY103","v":0},{"$f":"'kros seznam'!DEZ103","v":0},{"$f":"'kros seznam'!DFA103","v":0},{"$f":"'kros seznam'!DFB103","v":0},{"$f":"'kros seznam'!DFC103","v":0},{"$f":"'kros seznam'!DFD103","v":0},{"$f":"'kros seznam'!DFE103","v":0},{"$f":"'kros seznam'!DFF103","v":0},{"$f":"'kros seznam'!DFG103","v":0},{"$f":"'kros seznam'!DFH103","v":0},{"$f":"'kros seznam'!DFI103","v":0},{"$f":"'kros seznam'!DFJ103","v":0},{"$f":"'kros seznam'!DFK103","v":0},{"$f":"'kros seznam'!DFL103","v":0},{"$f":"'kros seznam'!DFM103","v":0},{"$f":"'kros seznam'!DFN103","v":0},{"$f":"'kros seznam'!DFO103","v":0},{"$f":"'kros seznam'!DFP103","v":0},{"$f":"'kros seznam'!DFQ103","v":0},{"$f":"'kros seznam'!DFR103","v":0},{"$f":"'kros seznam'!DFS103","v":0},{"$f":"'kros seznam'!DFT103","v":0},{"$f":"'kros seznam'!DFU103","v":0},{"$f":"'kros seznam'!DFV103","v":0},{"$f":"'kros seznam'!DFW103","v":0},{"$f":"'kros seznam'!DFX103","v":0},{"$f":"'kros seznam'!DFY103","v":0},{"$f":"'kros seznam'!DFZ103","v":0},{"$f":"'kros seznam'!DGA103","v":0},{"$f":"'kros seznam'!DGB103","v":0},{"$f":"'kros seznam'!DGC103","v":0},{"$f":"'kros seznam'!DGD103","v":0},{"$f":"'kros seznam'!DGE103","v":0},{"$f":"'kros seznam'!DGF103","v":0},{"$f":"'kros seznam'!DGG103","v":0},{"$f":"'kros seznam'!DGH103","v":0},{"$f":"'kros seznam'!DGI103","v":0},{"$f":"'kros seznam'!DGJ103","v":0},{"$f":"'kros seznam'!DGK103","v":0},{"$f":"'kros seznam'!DGL103","v":0},{"$f":"'kros seznam'!DGM103","v":0},{"$f":"'kros seznam'!DGN103","v":0},{"$f":"'kros seznam'!DGO103","v":0},{"$f":"'kros seznam'!DGP103","v":0},{"$f":"'kros seznam'!DGQ103","v":0},{"$f":"'kros seznam'!DGR103","v":0},{"$f":"'kros seznam'!DGS103","v":0},{"$f":"'kros seznam'!DGT103","v":0},{"$f":"'kros seznam'!DGU103","v":0},{"$f":"'kros seznam'!DGV103","v":0},{"$f":"'kros seznam'!DGW103","v":0},{"$f":"'kros seznam'!DGX103","v":0},{"$f":"'kros seznam'!DGY103","v":0},{"$f":"'kros seznam'!DGZ103","v":0},{"$f":"'kros seznam'!DHA103","v":0},{"$f":"'kros seznam'!DHB103","v":0},{"$f":"'kros seznam'!DHC103","v":0},{"$f":"'kros seznam'!DHD103","v":0},{"$f":"'kros seznam'!DHE103","v":0},{"$f":"'kros seznam'!DHF103","v":0},{"$f":"'kros seznam'!DHG103","v":0},{"$f":"'kros seznam'!DHH103","v":0},{"$f":"'kros seznam'!DHI103","v":0},{"$f":"'kros seznam'!DHJ103","v":0},{"$f":"'kros seznam'!DHK103","v":0},{"$f":"'kros seznam'!DHL103","v":0},{"$f":"'kros seznam'!DHM103","v":0},{"$f":"'kros seznam'!DHN103","v":0},{"$f":"'kros seznam'!DHO103","v":0},{"$f":"'kros seznam'!DHP103","v":0},{"$f":"'kros seznam'!DHQ103","v":0},{"$f":"'kros seznam'!DHR103","v":0},{"$f":"'kros seznam'!DHS103","v":0},{"$f":"'kros seznam'!DHT103","v":0},{"$f":"'kros seznam'!DHU103","v":0},{"$f":"'kros seznam'!DHV103","v":0},{"$f":"'kros seznam'!DHW103","v":0},{"$f":"'kros seznam'!DHX103","v":0},{"$f":"'kros seznam'!DHY103","v":0},{"$f":"'kros seznam'!DHZ103","v":0},{"$f":"'kros seznam'!DIA103","v":0},{"$f":"'kros seznam'!DIB103","v":0},{"$f":"'kros seznam'!DIC103","v":0},{"$f":"'kros seznam'!DID103","v":0},{"$f":"'kros seznam'!DIE103","v":0},{"$f":"'kros seznam'!DIF103","v":0},{"$f":"'kros seznam'!DIG103","v":0},{"$f":"'kros seznam'!DIH103","v":0},{"$f":"'kros seznam'!DII103","v":0},{"$f":"'kros seznam'!DIJ103","v":0},{"$f":"'kros seznam'!DIK103","v":0},{"$f":"'kros seznam'!DIL103","v":0},{"$f":"'kros seznam'!DIM103","v":0},{"$f":"'kros seznam'!DIN103","v":0},{"$f":"'kros seznam'!DIO103","v":0},{"$f":"'kros seznam'!DIP103","v":0},{"$f":"'kros seznam'!DIQ103","v":0},{"$f":"'kros seznam'!DIR103","v":0},{"$f":"'kros seznam'!DIS103","v":0},{"$f":"'kros seznam'!DIT103","v":0},{"$f":"'kros seznam'!DIU103","v":0},{"$f":"'kros seznam'!DIV103","v":0},{"$f":"'kros seznam'!DIW103","v":0},{"$f":"'kros seznam'!DIX103","v":0},{"$f":"'kros seznam'!DIY103","v":0},{"$f":"'kros seznam'!DIZ103","v":0},{"$f":"'kros seznam'!DJA103","v":0},{"$f":"'kros seznam'!DJB103","v":0},{"$f":"'kros seznam'!DJC103","v":0},{"$f":"'kros seznam'!DJD103","v":0},{"$f":"'kros seznam'!DJE103","v":0},{"$f":"'kros seznam'!DJF103","v":0},{"$f":"'kros seznam'!DJG103","v":0},{"$f":"'kros seznam'!DJH103","v":0},{"$f":"'kros seznam'!DJI103","v":0},{"$f":"'kros seznam'!DJJ103","v":0},{"$f":"'kros seznam'!DJK103","v":0},{"$f":"'kros seznam'!DJL103","v":0},{"$f":"'kros seznam'!DJM103","v":0},{"$f":"'kros seznam'!DJN103","v":0},{"$f":"'kros seznam'!DJO103","v":0},{"$f":"'kros seznam'!DJP103","v":0},{"$f":"'kros seznam'!DJQ103","v":0},{"$f":"'kros seznam'!DJR103","v":0},{"$f":"'kros seznam'!DJS103","v":0},{"$f":"'kros seznam'!DJT103","v":0},{"$f":"'kros seznam'!DJU103","v":0},{"$f":"'kros seznam'!DJV103","v":0},{"$f":"'kros seznam'!DJW103","v":0},{"$f":"'kros seznam'!DJX103","v":0},{"$f":"'kros seznam'!DJY103","v":0},{"$f":"'kros seznam'!DJZ103","v":0},{"$f":"'kros seznam'!DKA103","v":0},{"$f":"'kros seznam'!DKB103","v":0},{"$f":"'kros seznam'!DKC103","v":0},{"$f":"'kros seznam'!DKD103","v":0},{"$f":"'kros seznam'!DKE103","v":0},{"$f":"'kros seznam'!DKF103","v":0},{"$f":"'kros seznam'!DKG103","v":0},{"$f":"'kros seznam'!DKH103","v":0},{"$f":"'kros seznam'!DKI103","v":0},{"$f":"'kros seznam'!DKJ103","v":0},{"$f":"'kros seznam'!DKK103","v":0},{"$f":"'kros seznam'!DKL103","v":0},{"$f":"'kros seznam'!DKM103","v":0},{"$f":"'kros seznam'!DKN103","v":0},{"$f":"'kros seznam'!DKO103","v":0},{"$f":"'kros seznam'!DKP103","v":0},{"$f":"'kros seznam'!DKQ103","v":0},{"$f":"'kros seznam'!DKR103","v":0},{"$f":"'kros seznam'!DKS103","v":0},{"$f":"'kros seznam'!DKT103","v":0},{"$f":"'kros seznam'!DKU103","v":0},{"$f":"'kros seznam'!DKV103","v":0},{"$f":"'kros seznam'!DKW103","v":0},{"$f":"'kros seznam'!DKX103","v":0},{"$f":"'kros seznam'!DKY103","v":0},{"$f":"'kros seznam'!DKZ103","v":0},{"$f":"'kros seznam'!DLA103","v":0},{"$f":"'kros seznam'!DLB103","v":0},{"$f":"'kros seznam'!DLC103","v":0},{"$f":"'kros seznam'!DLD103","v":0},{"$f":"'kros seznam'!DLE103","v":0},{"$f":"'kros seznam'!DLF103","v":0},{"$f":"'kros seznam'!DLG103","v":0},{"$f":"'kros seznam'!DLH103","v":0},{"$f":"'kros seznam'!DLI103","v":0},{"$f":"'kros seznam'!DLJ103","v":0},{"$f":"'kros seznam'!DLK103","v":0},{"$f":"'kros seznam'!DLL103","v":0},{"$f":"'kros seznam'!DLM103","v":0},{"$f":"'kros seznam'!DLN103","v":0},{"$f":"'kros seznam'!DLO103","v":0},{"$f":"'kros seznam'!DLP103","v":0},{"$f":"'kros seznam'!DLQ103","v":0},{"$f":"'kros seznam'!DLR103","v":0},{"$f":"'kros seznam'!DLS103","v":0},{"$f":"'kros seznam'!DLT103","v":0},{"$f":"'kros seznam'!DLU103","v":0},{"$f":"'kros seznam'!DLV103","v":0},{"$f":"'kros seznam'!DLW103","v":0},{"$f":"'kros seznam'!DLX103","v":0},{"$f":"'kros seznam'!DLY103","v":0},{"$f":"'kros seznam'!DLZ103","v":0},{"$f":"'kros seznam'!DMA103","v":0},{"$f":"'kros seznam'!DMB103","v":0},{"$f":"'kros seznam'!DMC103","v":0},{"$f":"'kros seznam'!DMD103","v":0},{"$f":"'kros seznam'!DME103","v":0},{"$f":"'kros seznam'!DMF103","v":0},{"$f":"'kros seznam'!DMG103","v":0},{"$f":"'kros seznam'!DMH103","v":0},{"$f":"'kros seznam'!DMI103","v":0},{"$f":"'kros seznam'!DMJ103","v":0},{"$f":"'kros seznam'!DMK103","v":0},{"$f":"'kros seznam'!DML103","v":0},{"$f":"'kros seznam'!DMM103","v":0},{"$f":"'kros seznam'!DMN103","v":0},{"$f":"'kros seznam'!DMO103","v":0},{"$f":"'kros seznam'!DMP103","v":0},{"$f":"'kros seznam'!DMQ103","v":0},{"$f":"'kros seznam'!DMR103","v":0},{"$f":"'kros seznam'!DMS103","v":0},{"$f":"'kros seznam'!DMT103","v":0},{"$f":"'kros seznam'!DMU103","v":0},{"$f":"'kros seznam'!DMV103","v":0},{"$f":"'kros seznam'!DMW103","v":0},{"$f":"'kros seznam'!DMX103","v":0},{"$f":"'kros seznam'!DMY103","v":0},{"$f":"'kros seznam'!DMZ103","v":0},{"$f":"'kros seznam'!DNA103","v":0},{"$f":"'kros seznam'!DNB103","v":0},{"$f":"'kros seznam'!DNC103","v":0},{"$f":"'kros seznam'!DND103","v":0},{"$f":"'kros seznam'!DNE103","v":0},{"$f":"'kros seznam'!DNF103","v":0},{"$f":"'kros seznam'!DNG103","v":0},{"$f":"'kros seznam'!DNH103","v":0},{"$f":"'kros seznam'!DNI103","v":0},{"$f":"'kros seznam'!DNJ103","v":0},{"$f":"'kros seznam'!DNK103","v":0},{"$f":"'kros seznam'!DNL103","v":0},{"$f":"'kros seznam'!DNM103","v":0},{"$f":"'kros seznam'!DNN103","v":0},{"$f":"'kros seznam'!DNO103","v":0},{"$f":"'kros seznam'!DNP103","v":0},{"$f":"'kros seznam'!DNQ103","v":0},{"$f":"'kros seznam'!DNR103","v":0},{"$f":"'kros seznam'!DNS103","v":0},{"$f":"'kros seznam'!DNT103","v":0},{"$f":"'kros seznam'!DNU103","v":0},{"$f":"'kros seznam'!DNV103","v":0},{"$f":"'kros seznam'!DNW103","v":0},{"$f":"'kros seznam'!DNX103","v":0},{"$f":"'kros seznam'!DNY103","v":0},{"$f":"'kros seznam'!DNZ103","v":0},{"$f":"'kros seznam'!DOA103","v":0},{"$f":"'kros seznam'!DOB103","v":0},{"$f":"'kros seznam'!DOC103","v":0},{"$f":"'kros seznam'!DOD103","v":0},{"$f":"'kros seznam'!DOE103","v":0},{"$f":"'kros seznam'!DOF103","v":0},{"$f":"'kros seznam'!DOG103","v":0},{"$f":"'kros seznam'!DOH103","v":0},{"$f":"'kros seznam'!DOI103","v":0},{"$f":"'kros seznam'!DOJ103","v":0},{"$f":"'kros seznam'!DOK103","v":0},{"$f":"'kros seznam'!DOL103","v":0},{"$f":"'kros seznam'!DOM103","v":0},{"$f":"'kros seznam'!DON103","v":0},{"$f":"'kros seznam'!DOO103","v":0},{"$f":"'kros seznam'!DOP103","v":0},{"$f":"'kros seznam'!DOQ103","v":0},{"$f":"'kros seznam'!DOR103","v":0},{"$f":"'kros seznam'!DOS103","v":0},{"$f":"'kros seznam'!DOT103","v":0},{"$f":"'kros seznam'!DOU103","v":0},{"$f":"'kros seznam'!DOV103","v":0},{"$f":"'kros seznam'!DOW103","v":0},{"$f":"'kros seznam'!DOX103","v":0},{"$f":"'kros seznam'!DOY103","v":0},{"$f":"'kros seznam'!DOZ103","v":0},{"$f":"'kros seznam'!DPA103","v":0},{"$f":"'kros seznam'!DPB103","v":0},{"$f":"'kros seznam'!DPC103","v":0},{"$f":"'kros seznam'!DPD103","v":0},{"$f":"'kros seznam'!DPE103","v":0},{"$f":"'kros seznam'!DPF103","v":0},{"$f":"'kros seznam'!DPG103","v":0},{"$f":"'kros seznam'!DPH103","v":0},{"$f":"'kros seznam'!DPI103","v":0},{"$f":"'kros seznam'!DPJ103","v":0},{"$f":"'kros seznam'!DPK103","v":0},{"$f":"'kros seznam'!DPL103","v":0},{"$f":"'kros seznam'!DPM103","v":0},{"$f":"'kros seznam'!DPN103","v":0},{"$f":"'kros seznam'!DPO103","v":0},{"$f":"'kros seznam'!DPP103","v":0},{"$f":"'kros seznam'!DPQ103","v":0},{"$f":"'kros seznam'!DPR103","v":0},{"$f":"'kros seznam'!DPS103","v":0},{"$f":"'kros seznam'!DPT103","v":0},{"$f":"'kros seznam'!DPU103","v":0},{"$f":"'kros seznam'!DPV103","v":0},{"$f":"'kros seznam'!DPW103","v":0},{"$f":"'kros seznam'!DPX103","v":0},{"$f":"'kros seznam'!DPY103","v":0},{"$f":"'kros seznam'!DPZ103","v":0},{"$f":"'kros seznam'!DQA103","v":0},{"$f":"'kros seznam'!DQB103","v":0},{"$f":"'kros seznam'!DQC103","v":0},{"$f":"'kros seznam'!DQD103","v":0},{"$f":"'kros seznam'!DQE103","v":0},{"$f":"'kros seznam'!DQF103","v":0},{"$f":"'kros seznam'!DQG103","v":0},{"$f":"'kros seznam'!DQH103","v":0},{"$f":"'kros seznam'!DQI103","v":0},{"$f":"'kros seznam'!DQJ103","v":0},{"$f":"'kros seznam'!DQK103","v":0},{"$f":"'kros seznam'!DQL103","v":0},{"$f":"'kros seznam'!DQM103","v":0},{"$f":"'kros seznam'!DQN103","v":0},{"$f":"'kros seznam'!DQO103","v":0},{"$f":"'kros seznam'!DQP103","v":0},{"$f":"'kros seznam'!DQQ103","v":0},{"$f":"'kros seznam'!DQR103","v":0},{"$f":"'kros seznam'!DQS103","v":0},{"$f":"'kros seznam'!DQT103","v":0},{"$f":"'kros seznam'!DQU103","v":0},{"$f":"'kros seznam'!DQV103","v":0},{"$f":"'kros seznam'!DQW103","v":0},{"$f":"'kros seznam'!DQX103","v":0},{"$f":"'kros seznam'!DQY103","v":0},{"$f":"'kros seznam'!DQZ103","v":0},{"$f":"'kros seznam'!DRA103","v":0},{"$f":"'kros seznam'!DRB103","v":0},{"$f":"'kros seznam'!DRC103","v":0},{"$f":"'kros seznam'!DRD103","v":0},{"$f":"'kros seznam'!DRE103","v":0},{"$f":"'kros seznam'!DRF103","v":0},{"$f":"'kros seznam'!DRG103","v":0},{"$f":"'kros seznam'!DRH103","v":0},{"$f":"'kros seznam'!DRI103","v":0},{"$f":"'kros seznam'!DRJ103","v":0},{"$f":"'kros seznam'!DRK103","v":0},{"$f":"'kros seznam'!DRL103","v":0},{"$f":"'kros seznam'!DRM103","v":0},{"$f":"'kros seznam'!DRN103","v":0},{"$f":"'kros seznam'!DRO103","v":0},{"$f":"'kros seznam'!DRP103","v":0},{"$f":"'kros seznam'!DRQ103","v":0},{"$f":"'kros seznam'!DRR103","v":0},{"$f":"'kros seznam'!DRS103","v":0},{"$f":"'kros seznam'!DRT103","v":0},{"$f":"'kros seznam'!DRU103","v":0},{"$f":"'kros seznam'!DRV103","v":0},{"$f":"'kros seznam'!DRW103","v":0},{"$f":"'kros seznam'!DRX103","v":0},{"$f":"'kros seznam'!DRY103","v":0},{"$f":"'kros seznam'!DRZ103","v":0},{"$f":"'kros seznam'!DSA103","v":0},{"$f":"'kros seznam'!DSB103","v":0},{"$f":"'kros seznam'!DSC103","v":0},{"$f":"'kros seznam'!DSD103","v":0},{"$f":"'kros seznam'!DSE103","v":0},{"$f":"'kros seznam'!DSF103","v":0},{"$f":"'kros seznam'!DSG103","v":0},{"$f":"'kros seznam'!DSH103","v":0},{"$f":"'kros seznam'!DSI103","v":0},{"$f":"'kros seznam'!DSJ103","v":0},{"$f":"'kros seznam'!DSK103","v":0},{"$f":"'kros seznam'!DSL103","v":0},{"$f":"'kros seznam'!DSM103","v":0},{"$f":"'kros seznam'!DSN103","v":0},{"$f":"'kros seznam'!DSO103","v":0},{"$f":"'kros seznam'!DSP103","v":0},{"$f":"'kros seznam'!DSQ103","v":0},{"$f":"'kros seznam'!DSR103","v":0},{"$f":"'kros seznam'!DSS103","v":0},{"$f":"'kros seznam'!DST103","v":0},{"$f":"'kros seznam'!DSU103","v":0},{"$f":"'kros seznam'!DSV103","v":0},{"$f":"'kros seznam'!DSW103","v":0},{"$f":"'kros seznam'!DSX103","v":0},{"$f":"'kros seznam'!DSY103","v":0},{"$f":"'kros seznam'!DSZ103","v":0},{"$f":"'kros seznam'!DTA103","v":0},{"$f":"'kros seznam'!DTB103","v":0},{"$f":"'kros seznam'!DTC103","v":0},{"$f":"'kros seznam'!DTD103","v":0},{"$f":"'kros seznam'!DTE103","v":0},{"$f":"'kros seznam'!DTF103","v":0},{"$f":"'kros seznam'!DTG103","v":0},{"$f":"'kros seznam'!DTH103","v":0},{"$f":"'kros seznam'!DTI103","v":0},{"$f":"'kros seznam'!DTJ103","v":0},{"$f":"'kros seznam'!DTK103","v":0},{"$f":"'kros seznam'!DTL103","v":0},{"$f":"'kros seznam'!DTM103","v":0},{"$f":"'kros seznam'!DTN103","v":0},{"$f":"'kros seznam'!DTO103","v":0},{"$f":"'kros seznam'!DTP103","v":0},{"$f":"'kros seznam'!DTQ103","v":0},{"$f":"'kros seznam'!DTR103","v":0},{"$f":"'kros seznam'!DTS103","v":0},{"$f":"'kros seznam'!DTT103","v":0},{"$f":"'kros seznam'!DTU103","v":0},{"$f":"'kros seznam'!DTV103","v":0},{"$f":"'kros seznam'!DTW103","v":0},{"$f":"'kros seznam'!DTX103","v":0},{"$f":"'kros seznam'!DTY103","v":0},{"$f":"'kros seznam'!DTZ103","v":0},{"$f":"'kros seznam'!DUA103","v":0},{"$f":"'kros seznam'!DUB103","v":0},{"$f":"'kros seznam'!DUC103","v":0},{"$f":"'kros seznam'!DUD103","v":0},{"$f":"'kros seznam'!DUE103","v":0},{"$f":"'kros seznam'!DUF103","v":0},{"$f":"'kros seznam'!DUG103","v":0},{"$f":"'kros seznam'!DUH103","v":0},{"$f":"'kros seznam'!DUI103","v":0},{"$f":"'kros seznam'!DUJ103","v":0},{"$f":"'kros seznam'!DUK103","v":0},{"$f":"'kros seznam'!DUL103","v":0},{"$f":"'kros seznam'!DUM103","v":0},{"$f":"'kros seznam'!DUN103","v":0},{"$f":"'kros seznam'!DUO103","v":0},{"$f":"'kros seznam'!DUP103","v":0},{"$f":"'kros seznam'!DUQ103","v":0},{"$f":"'kros seznam'!DUR103","v":0},{"$f":"'kros seznam'!DUS103","v":0},{"$f":"'kros seznam'!DUT103","v":0},{"$f":"'kros seznam'!DUU103","v":0},{"$f":"'kros seznam'!DUV103","v":0},{"$f":"'kros seznam'!DUW103","v":0},{"$f":"'kros seznam'!DUX103","v":0},{"$f":"'kros seznam'!DUY103","v":0},{"$f":"'kros seznam'!DUZ103","v":0},{"$f":"'kros seznam'!DVA103","v":0},{"$f":"'kros seznam'!DVB103","v":0},{"$f":"'kros seznam'!DVC103","v":0},{"$f":"'kros seznam'!DVD103","v":0},{"$f":"'kros seznam'!DVE103","v":0},{"$f":"'kros seznam'!DVF103","v":0},{"$f":"'kros seznam'!DVG103","v":0},{"$f":"'kros seznam'!DVH103","v":0},{"$f":"'kros seznam'!DVI103","v":0},{"$f":"'kros seznam'!DVJ103","v":0},{"$f":"'kros seznam'!DVK103","v":0},{"$f":"'kros seznam'!DVL103","v":0},{"$f":"'kros seznam'!DVM103","v":0},{"$f":"'kros seznam'!DVN103","v":0},{"$f":"'kros seznam'!DVO103","v":0},{"$f":"'kros seznam'!DVP103","v":0},{"$f":"'kros seznam'!DVQ103","v":0},{"$f":"'kros seznam'!DVR103","v":0},{"$f":"'kros seznam'!DVS103","v":0},{"$f":"'kros seznam'!DVT103","v":0},{"$f":"'kros seznam'!DVU103","v":0},{"$f":"'kros seznam'!DVV103","v":0},{"$f":"'kros seznam'!DVW103","v":0},{"$f":"'kros seznam'!DVX103","v":0},{"$f":"'kros seznam'!DVY103","v":0},{"$f":"'kros seznam'!DVZ103","v":0},{"$f":"'kros seznam'!DWA103","v":0},{"$f":"'kros seznam'!DWB103","v":0},{"$f":"'kros seznam'!DWC103","v":0},{"$f":"'kros seznam'!DWD103","v":0},{"$f":"'kros seznam'!DWE103","v":0},{"$f":"'kros seznam'!DWF103","v":0},{"$f":"'kros seznam'!DWG103","v":0},{"$f":"'kros seznam'!DWH103","v":0},{"$f":"'kros seznam'!DWI103","v":0},{"$f":"'kros seznam'!DWJ103","v":0},{"$f":"'kros seznam'!DWK103","v":0},{"$f":"'kros seznam'!DWL103","v":0},{"$f":"'kros seznam'!DWM103","v":0},{"$f":"'kros seznam'!DWN103","v":0},{"$f":"'kros seznam'!DWO103","v":0},{"$f":"'kros seznam'!DWP103","v":0},{"$f":"'kros seznam'!DWQ103","v":0},{"$f":"'kros seznam'!DWR103","v":0},{"$f":"'kros seznam'!DWS103","v":0},{"$f":"'kros seznam'!DWT103","v":0},{"$f":"'kros seznam'!DWU103","v":0},{"$f":"'kros seznam'!DWV103","v":0},{"$f":"'kros seznam'!DWW103","v":0},{"$f":"'kros seznam'!DWX103","v":0},{"$f":"'kros seznam'!DWY103","v":0},{"$f":"'kros seznam'!DWZ103","v":0},{"$f":"'kros seznam'!DXA103","v":0},{"$f":"'kros seznam'!DXB103","v":0},{"$f":"'kros seznam'!DXC103","v":0},{"$f":"'kros seznam'!DXD103","v":0},{"$f":"'kros seznam'!DXE103","v":0},{"$f":"'kros seznam'!DXF103","v":0},{"$f":"'kros seznam'!DXG103","v":0},{"$f":"'kros seznam'!DXH103","v":0},{"$f":"'kros seznam'!DXI103","v":0},{"$f":"'kros seznam'!DXJ103","v":0},{"$f":"'kros seznam'!DXK103","v":0},{"$f":"'kros seznam'!DXL103","v":0},{"$f":"'kros seznam'!DXM103","v":0},{"$f":"'kros seznam'!DXN103","v":0},{"$f":"'kros seznam'!DXO103","v":0},{"$f":"'kros seznam'!DXP103","v":0},{"$f":"'kros seznam'!DXQ103","v":0},{"$f":"'kros seznam'!DXR103","v":0},{"$f":"'kros seznam'!DXS103","v":0},{"$f":"'kros seznam'!DXT103","v":0},{"$f":"'kros seznam'!DXU103","v":0},{"$f":"'kros seznam'!DXV103","v":0},{"$f":"'kros seznam'!DXW103","v":0},{"$f":"'kros seznam'!DXX103","v":0},{"$f":"'kros seznam'!DXY103","v":0},{"$f":"'kros seznam'!DXZ103","v":0},{"$f":"'kros seznam'!DYA103","v":0},{"$f":"'kros seznam'!DYB103","v":0},{"$f":"'kros seznam'!DYC103","v":0},{"$f":"'kros seznam'!DYD103","v":0},{"$f":"'kros seznam'!DYE103","v":0},{"$f":"'kros seznam'!DYF103","v":0},{"$f":"'kros seznam'!DYG103","v":0},{"$f":"'kros seznam'!DYH103","v":0},{"$f":"'kros seznam'!DYI103","v":0},{"$f":"'kros seznam'!DYJ103","v":0},{"$f":"'kros seznam'!DYK103","v":0},{"$f":"'kros seznam'!DYL103","v":0},{"$f":"'kros seznam'!DYM103","v":0},{"$f":"'kros seznam'!DYN103","v":0},{"$f":"'kros seznam'!DYO103","v":0},{"$f":"'kros seznam'!DYP103","v":0},{"$f":"'kros seznam'!DYQ103","v":0},{"$f":"'kros seznam'!DYR103","v":0},{"$f":"'kros seznam'!DYS103","v":0},{"$f":"'kros seznam'!DYT103","v":0},{"$f":"'kros seznam'!DYU103","v":0},{"$f":"'kros seznam'!DYV103","v":0},{"$f":"'kros seznam'!DYW103","v":0},{"$f":"'kros seznam'!DYX103","v":0},{"$f":"'kros seznam'!DYY103","v":0},{"$f":"'kros seznam'!DYZ103","v":0},{"$f":"'kros seznam'!DZA103","v":0},{"$f":"'kros seznam'!DZB103","v":0},{"$f":"'kros seznam'!DZC103","v":0},{"$f":"'kros seznam'!DZD103","v":0},{"$f":"'kros seznam'!DZE103","v":0},{"$f":"'kros seznam'!DZF103","v":0},{"$f":"'kros seznam'!DZG103","v":0},{"$f":"'kros seznam'!DZH103","v":0},{"$f":"'kros seznam'!DZI103","v":0},{"$f":"'kros seznam'!DZJ103","v":0},{"$f":"'kros seznam'!DZK103","v":0},{"$f":"'kros seznam'!DZL103","v":0},{"$f":"'kros seznam'!DZM103","v":0},{"$f":"'kros seznam'!DZN103","v":0},{"$f":"'kros seznam'!DZO103","v":0},{"$f":"'kros seznam'!DZP103","v":0},{"$f":"'kros seznam'!DZQ103","v":0},{"$f":"'kros seznam'!DZR103","v":0},{"$f":"'kros seznam'!DZS103","v":0},{"$f":"'kros seznam'!DZT103","v":0},{"$f":"'kros seznam'!DZU103","v":0},{"$f":"'kros seznam'!DZV103","v":0},{"$f":"'kros seznam'!DZW103","v":0},{"$f":"'kros seznam'!DZX103","v":0},{"$f":"'kros seznam'!DZY103","v":0},{"$f":"'kros seznam'!DZZ103","v":0},{"$f":"'kros seznam'!EAA103","v":0},{"$f":"'kros seznam'!EAB103","v":0},{"$f":"'kros seznam'!EAC103","v":0},{"$f":"'kros seznam'!EAD103","v":0},{"$f":"'kros seznam'!EAE103","v":0},{"$f":"'kros seznam'!EAF103","v":0},{"$f":"'kros seznam'!EAG103","v":0},{"$f":"'kros seznam'!EAH103","v":0},{"$f":"'kros seznam'!EAI103","v":0},{"$f":"'kros seznam'!EAJ103","v":0},{"$f":"'kros seznam'!EAK103","v":0},{"$f":"'kros seznam'!EAL103","v":0},{"$f":"'kros seznam'!EAM103","v":0},{"$f":"'kros seznam'!EAN103","v":0},{"$f":"'kros seznam'!EAO103","v":0},{"$f":"'kros seznam'!EAP103","v":0},{"$f":"'kros seznam'!EAQ103","v":0},{"$f":"'kros seznam'!EAR103","v":0},{"$f":"'kros seznam'!EAS103","v":0},{"$f":"'kros seznam'!EAT103","v":0},{"$f":"'kros seznam'!EAU103","v":0},{"$f":"'kros seznam'!EAV103","v":0},{"$f":"'kros seznam'!EAW103","v":0},{"$f":"'kros seznam'!EAX103","v":0},{"$f":"'kros seznam'!EAY103","v":0},{"$f":"'kros seznam'!EAZ103","v":0},{"$f":"'kros seznam'!EBA103","v":0},{"$f":"'kros seznam'!EBB103","v":0},{"$f":"'kros seznam'!EBC103","v":0},{"$f":"'kros seznam'!EBD103","v":0},{"$f":"'kros seznam'!EBE103","v":0},{"$f":"'kros seznam'!EBF103","v":0},{"$f":"'kros seznam'!EBG103","v":0},{"$f":"'kros seznam'!EBH103","v":0},{"$f":"'kros seznam'!EBI103","v":0},{"$f":"'kros seznam'!EBJ103","v":0},{"$f":"'kros seznam'!EBK103","v":0},{"$f":"'kros seznam'!EBL103","v":0},{"$f":"'kros seznam'!EBM103","v":0},{"$f":"'kros seznam'!EBN103","v":0},{"$f":"'kros seznam'!EBO103","v":0},{"$f":"'kros seznam'!EBP103","v":0},{"$f":"'kros seznam'!EBQ103","v":0},{"$f":"'kros seznam'!EBR103","v":0},{"$f":"'kros seznam'!EBS103","v":0},{"$f":"'kros seznam'!EBT103","v":0},{"$f":"'kros seznam'!EBU103","v":0},{"$f":"'kros seznam'!EBV103","v":0},{"$f":"'kros seznam'!EBW103","v":0},{"$f":"'kros seznam'!EBX103","v":0},{"$f":"'kros seznam'!EBY103","v":0},{"$f":"'kros seznam'!EBZ103","v":0},{"$f":"'kros seznam'!ECA103","v":0},{"$f":"'kros seznam'!ECB103","v":0},{"$f":"'kros seznam'!ECC103","v":0},{"$f":"'kros seznam'!ECD103","v":0},{"$f":"'kros seznam'!ECE103","v":0},{"$f":"'kros seznam'!ECF103","v":0},{"$f":"'kros seznam'!ECG103","v":0},{"$f":"'kros seznam'!ECH103","v":0},{"$f":"'kros seznam'!ECI103","v":0},{"$f":"'kros seznam'!ECJ103","v":0},{"$f":"'kros seznam'!ECK103","v":0},{"$f":"'kros seznam'!ECL103","v":0},{"$f":"'kros seznam'!ECM103","v":0},{"$f":"'kros seznam'!ECN103","v":0},{"$f":"'kros seznam'!ECO103","v":0},{"$f":"'kros seznam'!ECP103","v":0},{"$f":"'kros seznam'!ECQ103","v":0},{"$f":"'kros seznam'!ECR103","v":0},{"$f":"'kros seznam'!ECS103","v":0},{"$f":"'kros seznam'!ECT103","v":0},{"$f":"'kros seznam'!ECU103","v":0},{"$f":"'kros seznam'!ECV103","v":0},{"$f":"'kros seznam'!ECW103","v":0},{"$f":"'kros seznam'!ECX103","v":0},{"$f":"'kros seznam'!ECY103","v":0},{"$f":"'kros seznam'!ECZ103","v":0},{"$f":"'kros seznam'!EDA103","v":0},{"$f":"'kros seznam'!EDB103","v":0},{"$f":"'kros seznam'!EDC103","v":0},{"$f":"'kros seznam'!EDD103","v":0},{"$f":"'kros seznam'!EDE103","v":0},{"$f":"'kros seznam'!EDF103","v":0},{"$f":"'kros seznam'!EDG103","v":0},{"$f":"'kros seznam'!EDH103","v":0},{"$f":"'kros seznam'!EDI103","v":0},{"$f":"'kros seznam'!EDJ103","v":0},{"$f":"'kros seznam'!EDK103","v":0},{"$f":"'kros seznam'!EDL103","v":0},{"$f":"'kros seznam'!EDM103","v":0},{"$f":"'kros seznam'!EDN103","v":0},{"$f":"'kros seznam'!EDO103","v":0},{"$f":"'kros seznam'!EDP103","v":0},{"$f":"'kros seznam'!EDQ103","v":0},{"$f":"'kros seznam'!EDR103","v":0},{"$f":"'kros seznam'!EDS103","v":0},{"$f":"'kros seznam'!EDT103","v":0},{"$f":"'kros seznam'!EDU103","v":0},{"$f":"'kros seznam'!EDV103","v":0},{"$f":"'kros seznam'!EDW103","v":0},{"$f":"'kros seznam'!EDX103","v":0},{"$f":"'kros seznam'!EDY103","v":0},{"$f":"'kros seznam'!EDZ103","v":0},{"$f":"'kros seznam'!EEA103","v":0},{"$f":"'kros seznam'!EEB103","v":0},{"$f":"'kros seznam'!EEC103","v":0},{"$f":"'kros seznam'!EED103","v":0},{"$f":"'kros seznam'!EEE103","v":0},{"$f":"'kros seznam'!EEF103","v":0},{"$f":"'kros seznam'!EEG103","v":0},{"$f":"'kros seznam'!EEH103","v":0},{"$f":"'kros seznam'!EEI103","v":0},{"$f":"'kros seznam'!EEJ103","v":0},{"$f":"'kros seznam'!EEK103","v":0},{"$f":"'kros seznam'!EEL103","v":0},{"$f":"'kros seznam'!EEM103","v":0},{"$f":"'kros seznam'!EEN103","v":0},{"$f":"'kros seznam'!EEO103","v":0},{"$f":"'kros seznam'!EEP103","v":0},{"$f":"'kros seznam'!EEQ103","v":0},{"$f":"'kros seznam'!EER103","v":0},{"$f":"'kros seznam'!EES103","v":0},{"$f":"'kros seznam'!EET103","v":0},{"$f":"'kros seznam'!EEU103","v":0},{"$f":"'kros seznam'!EEV103","v":0},{"$f":"'kros seznam'!EEW103","v":0},{"$f":"'kros seznam'!EEX103","v":0},{"$f":"'kros seznam'!EEY103","v":0},{"$f":"'kros seznam'!EEZ103","v":0},{"$f":"'kros seznam'!EFA103","v":0},{"$f":"'kros seznam'!EFB103","v":0},{"$f":"'kros seznam'!EFC103","v":0},{"$f":"'kros seznam'!EFD103","v":0},{"$f":"'kros seznam'!EFE103","v":0},{"$f":"'kros seznam'!EFF103","v":0},{"$f":"'kros seznam'!EFG103","v":0},{"$f":"'kros seznam'!EFH103","v":0},{"$f":"'kros seznam'!EFI103","v":0},{"$f":"'kros seznam'!EFJ103","v":0},{"$f":"'kros seznam'!EFK103","v":0},{"$f":"'kros seznam'!EFL103","v":0},{"$f":"'kros seznam'!EFM103","v":0},{"$f":"'kros seznam'!EFN103","v":0},{"$f":"'kros seznam'!EFO103","v":0},{"$f":"'kros seznam'!EFP103","v":0},{"$f":"'kros seznam'!EFQ103","v":0},{"$f":"'kros seznam'!EFR103","v":0},{"$f":"'kros seznam'!EFS103","v":0},{"$f":"'kros seznam'!EFT103","v":0},{"$f":"'kros seznam'!EFU103","v":0},{"$f":"'kros seznam'!EFV103","v":0},{"$f":"'kros seznam'!EFW103","v":0},{"$f":"'kros seznam'!EFX103","v":0},{"$f":"'kros seznam'!EFY103","v":0},{"$f":"'kros seznam'!EFZ103","v":0},{"$f":"'kros seznam'!EGA103","v":0},{"$f":"'kros seznam'!EGB103","v":0},{"$f":"'kros seznam'!EGC103","v":0},{"$f":"'kros seznam'!EGD103","v":0},{"$f":"'kros seznam'!EGE103","v":0},{"$f":"'kros seznam'!EGF103","v":0},{"$f":"'kros seznam'!EGG103","v":0},{"$f":"'kros seznam'!EGH103","v":0},{"$f":"'kros seznam'!EGI103","v":0},{"$f":"'kros seznam'!EGJ103","v":0},{"$f":"'kros seznam'!EGK103","v":0},{"$f":"'kros seznam'!EGL103","v":0},{"$f":"'kros seznam'!EGM103","v":0},{"$f":"'kros seznam'!EGN103","v":0},{"$f":"'kros seznam'!EGO103","v":0},{"$f":"'kros seznam'!EGP103","v":0},{"$f":"'kros seznam'!EGQ103","v":0},{"$f":"'kros seznam'!EGR103","v":0},{"$f":"'kros seznam'!EGS103","v":0},{"$f":"'kros seznam'!EGT103","v":0},{"$f":"'kros seznam'!EGU103","v":0},{"$f":"'kros seznam'!EGV103","v":0},{"$f":"'kros seznam'!EGW103","v":0},{"$f":"'kros seznam'!EGX103","v":0},{"$f":"'kros seznam'!EGY103","v":0},{"$f":"'kros seznam'!EGZ103","v":0},{"$f":"'kros seznam'!EHA103","v":0},{"$f":"'kros seznam'!EHB103","v":0},{"$f":"'kros seznam'!EHC103","v":0},{"$f":"'kros seznam'!EHD103","v":0},{"$f":"'kros seznam'!EHE103","v":0},{"$f":"'kros seznam'!EHF103","v":0},{"$f":"'kros seznam'!EHG103","v":0},{"$f":"'kros seznam'!EHH103","v":0},{"$f":"'kros seznam'!EHI103","v":0},{"$f":"'kros seznam'!EHJ103","v":0},{"$f":"'kros seznam'!EHK103","v":0},{"$f":"'kros seznam'!EHL103","v":0},{"$f":"'kros seznam'!EHM103","v":0},{"$f":"'kros seznam'!EHN103","v":0},{"$f":"'kros seznam'!EHO103","v":0},{"$f":"'kros seznam'!EHP103","v":0},{"$f":"'kros seznam'!EHQ103","v":0},{"$f":"'kros seznam'!EHR103","v":0},{"$f":"'kros seznam'!EHS103","v":0},{"$f":"'kros seznam'!EHT103","v":0},{"$f":"'kros seznam'!EHU103","v":0},{"$f":"'kros seznam'!EHV103","v":0},{"$f":"'kros seznam'!EHW103","v":0},{"$f":"'kros seznam'!EHX103","v":0},{"$f":"'kros seznam'!EHY103","v":0},{"$f":"'kros seznam'!EHZ103","v":0},{"$f":"'kros seznam'!EIA103","v":0},{"$f":"'kros seznam'!EIB103","v":0},{"$f":"'kros seznam'!EIC103","v":0},{"$f":"'kros seznam'!EID103","v":0},{"$f":"'kros seznam'!EIE103","v":0},{"$f":"'kros seznam'!EIF103","v":0},{"$f":"'kros seznam'!EIG103","v":0},{"$f":"'kros seznam'!EIH103","v":0},{"$f":"'kros seznam'!EII103","v":0},{"$f":"'kros seznam'!EIJ103","v":0},{"$f":"'kros seznam'!EIK103","v":0},{"$f":"'kros seznam'!EIL103","v":0},{"$f":"'kros seznam'!EIM103","v":0},{"$f":"'kros seznam'!EIN103","v":0},{"$f":"'kros seznam'!EIO103","v":0},{"$f":"'kros seznam'!EIP103","v":0},{"$f":"'kros seznam'!EIQ103","v":0},{"$f":"'kros seznam'!EIR103","v":0},{"$f":"'kros seznam'!EIS103","v":0},{"$f":"'kros seznam'!EIT103","v":0},{"$f":"'kros seznam'!EIU103","v":0},{"$f":"'kros seznam'!EIV103","v":0},{"$f":"'kros seznam'!EIW103","v":0},{"$f":"'kros seznam'!EIX103","v":0},{"$f":"'kros seznam'!EIY103","v":0},{"$f":"'kros seznam'!EIZ103","v":0},{"$f":"'kros seznam'!EJA103","v":0},{"$f":"'kros seznam'!EJB103","v":0},{"$f":"'kros seznam'!EJC103","v":0},{"$f":"'kros seznam'!EJD103","v":0},{"$f":"'kros seznam'!EJE103","v":0},{"$f":"'kros seznam'!EJF103","v":0},{"$f":"'kros seznam'!EJG103","v":0},{"$f":"'kros seznam'!EJH103","v":0},{"$f":"'kros seznam'!EJI103","v":0},{"$f":"'kros seznam'!EJJ103","v":0},{"$f":"'kros seznam'!EJK103","v":0},{"$f":"'kros seznam'!EJL103","v":0},{"$f":"'kros seznam'!EJM103","v":0},{"$f":"'kros seznam'!EJN103","v":0},{"$f":"'kros seznam'!EJO103","v":0},{"$f":"'kros seznam'!EJP103","v":0},{"$f":"'kros seznam'!EJQ103","v":0},{"$f":"'kros seznam'!EJR103","v":0},{"$f":"'kros seznam'!EJS103","v":0},{"$f":"'kros seznam'!EJT103","v":0},{"$f":"'kros seznam'!EJU103","v":0},{"$f":"'kros seznam'!EJV103","v":0},{"$f":"'kros seznam'!EJW103","v":0},{"$f":"'kros seznam'!EJX103","v":0},{"$f":"'kros seznam'!EJY103","v":0},{"$f":"'kros seznam'!EJZ103","v":0},{"$f":"'kros seznam'!EKA103","v":0},{"$f":"'kros seznam'!EKB103","v":0},{"$f":"'kros seznam'!EKC103","v":0},{"$f":"'kros seznam'!EKD103","v":0},{"$f":"'kros seznam'!EKE103","v":0},{"$f":"'kros seznam'!EKF103","v":0},{"$f":"'kros seznam'!EKG103","v":0},{"$f":"'kros seznam'!EKH103","v":0},{"$f":"'kros seznam'!EKI103","v":0},{"$f":"'kros seznam'!EKJ103","v":0},{"$f":"'kros seznam'!EKK103","v":0},{"$f":"'kros seznam'!EKL103","v":0},{"$f":"'kros seznam'!EKM103","v":0},{"$f":"'kros seznam'!EKN103","v":0},{"$f":"'kros seznam'!EKO103","v":0},{"$f":"'kros seznam'!EKP103","v":0},{"$f":"'kros seznam'!EKQ103","v":0},{"$f":"'kros seznam'!EKR103","v":0},{"$f":"'kros seznam'!EKS103","v":0},{"$f":"'kros seznam'!EKT103","v":0},{"$f":"'kros seznam'!EKU103","v":0},{"$f":"'kros seznam'!EKV103","v":0},{"$f":"'kros seznam'!EKW103","v":0},{"$f":"'kros seznam'!EKX103","v":0},{"$f":"'kros seznam'!EKY103","v":0},{"$f":"'kros seznam'!EKZ103","v":0},{"$f":"'kros seznam'!ELA103","v":0},{"$f":"'kros seznam'!ELB103","v":0},{"$f":"'kros seznam'!ELC103","v":0},{"$f":"'kros seznam'!ELD103","v":0},{"$f":"'kros seznam'!ELE103","v":0},{"$f":"'kros seznam'!ELF103","v":0},{"$f":"'kros seznam'!ELG103","v":0},{"$f":"'kros seznam'!ELH103","v":0},{"$f":"'kros seznam'!ELI103","v":0},{"$f":"'kros seznam'!ELJ103","v":0},{"$f":"'kros seznam'!ELK103","v":0},{"$f":"'kros seznam'!ELL103","v":0},{"$f":"'kros seznam'!ELM103","v":0},{"$f":"'kros seznam'!ELN103","v":0},{"$f":"'kros seznam'!ELO103","v":0},{"$f":"'kros seznam'!ELP103","v":0},{"$f":"'kros seznam'!ELQ103","v":0},{"$f":"'kros seznam'!ELR103","v":0},{"$f":"'kros seznam'!ELS103","v":0},{"$f":"'kros seznam'!ELT103","v":0},{"$f":"'kros seznam'!ELU103","v":0},{"$f":"'kros seznam'!ELV103","v":0},{"$f":"'kros seznam'!ELW103","v":0},{"$f":"'kros seznam'!ELX103","v":0},{"$f":"'kros seznam'!ELY103","v":0},{"$f":"'kros seznam'!ELZ103","v":0},{"$f":"'kros seznam'!EMA103","v":0},{"$f":"'kros seznam'!EMB103","v":0},{"$f":"'kros seznam'!EMC103","v":0},{"$f":"'kros seznam'!EMD103","v":0},{"$f":"'kros seznam'!EME103","v":0},{"$f":"'kros seznam'!EMF103","v":0},{"$f":"'kros seznam'!EMG103","v":0},{"$f":"'kros seznam'!EMH103","v":0},{"$f":"'kros seznam'!EMI103","v":0},{"$f":"'kros seznam'!EMJ103","v":0},{"$f":"'kros seznam'!EMK103","v":0},{"$f":"'kros seznam'!EML103","v":0},{"$f":"'kros seznam'!EMM103","v":0},{"$f":"'kros seznam'!EMN103","v":0},{"$f":"'kros seznam'!EMO103","v":0},{"$f":"'kros seznam'!EMP103","v":0},{"$f":"'kros seznam'!EMQ103","v":0},{"$f":"'kros seznam'!EMR103","v":0},{"$f":"'kros seznam'!EMS103","v":0},{"$f":"'kros seznam'!EMT103","v":0},{"$f":"'kros seznam'!EMU103","v":0},{"$f":"'kros seznam'!EMV103","v":0},{"$f":"'kros seznam'!EMW103","v":0},{"$f":"'kros seznam'!EMX103","v":0},{"$f":"'kros seznam'!EMY103","v":0},{"$f":"'kros seznam'!EMZ103","v":0},{"$f":"'kros seznam'!ENA103","v":0},{"$f":"'kros seznam'!ENB103","v":0},{"$f":"'kros seznam'!ENC103","v":0},{"$f":"'kros seznam'!END103","v":0},{"$f":"'kros seznam'!ENE103","v":0},{"$f":"'kros seznam'!ENF103","v":0},{"$f":"'kros seznam'!ENG103","v":0},{"$f":"'kros seznam'!ENH103","v":0},{"$f":"'kros seznam'!ENI103","v":0},{"$f":"'kros seznam'!ENJ103","v":0},{"$f":"'kros seznam'!ENK103","v":0},{"$f":"'kros seznam'!ENL103","v":0},{"$f":"'kros seznam'!ENM103","v":0},{"$f":"'kros seznam'!ENN103","v":0},{"$f":"'kros seznam'!ENO103","v":0},{"$f":"'kros seznam'!ENP103","v":0},{"$f":"'kros seznam'!ENQ103","v":0},{"$f":"'kros seznam'!ENR103","v":0},{"$f":"'kros seznam'!ENS103","v":0},{"$f":"'kros seznam'!ENT103","v":0},{"$f":"'kros seznam'!ENU103","v":0},{"$f":"'kros seznam'!ENV103","v":0},{"$f":"'kros seznam'!ENW103","v":0},{"$f":"'kros seznam'!ENX103","v":0},{"$f":"'kros seznam'!ENY103","v":0},{"$f":"'kros seznam'!ENZ103","v":0},{"$f":"'kros seznam'!EOA103","v":0},{"$f":"'kros seznam'!EOB103","v":0},{"$f":"'kros seznam'!EOC103","v":0},{"$f":"'kros seznam'!EOD103","v":0},{"$f":"'kros seznam'!EOE103","v":0},{"$f":"'kros seznam'!EOF103","v":0},{"$f":"'kros seznam'!EOG103","v":0},{"$f":"'kros seznam'!EOH103","v":0},{"$f":"'kros seznam'!EOI103","v":0},{"$f":"'kros seznam'!EOJ103","v":0},{"$f":"'kros seznam'!EOK103","v":0},{"$f":"'kros seznam'!EOL103","v":0},{"$f":"'kros seznam'!EOM103","v":0},{"$f":"'kros seznam'!EON103","v":0},{"$f":"'kros seznam'!EOO103","v":0},{"$f":"'kros seznam'!EOP103","v":0},{"$f":"'kros seznam'!EOQ103","v":0},{"$f":"'kros seznam'!EOR103","v":0},{"$f":"'kros seznam'!EOS103","v":0},{"$f":"'kros seznam'!EOT103","v":0},{"$f":"'kros seznam'!EOU103","v":0},{"$f":"'kros seznam'!EOV103","v":0},{"$f":"'kros seznam'!EOW103","v":0},{"$f":"'kros seznam'!EOX103","v":0},{"$f":"'kros seznam'!EOY103","v":0},{"$f":"'kros seznam'!EOZ103","v":0},{"$f":"'kros seznam'!EPA103","v":0},{"$f":"'kros seznam'!EPB103","v":0},{"$f":"'kros seznam'!EPC103","v":0},{"$f":"'kros seznam'!EPD103","v":0},{"$f":"'kros seznam'!EPE103","v":0},{"$f":"'kros seznam'!EPF103","v":0},{"$f":"'kros seznam'!EPG103","v":0},{"$f":"'kros seznam'!EPH103","v":0},{"$f":"'kros seznam'!EPI103","v":0},{"$f":"'kros seznam'!EPJ103","v":0},{"$f":"'kros seznam'!EPK103","v":0},{"$f":"'kros seznam'!EPL103","v":0},{"$f":"'kros seznam'!EPM103","v":0},{"$f":"'kros seznam'!EPN103","v":0},{"$f":"'kros seznam'!EPO103","v":0},{"$f":"'kros seznam'!EPP103","v":0},{"$f":"'kros seznam'!EPQ103","v":0},{"$f":"'kros seznam'!EPR103","v":0},{"$f":"'kros seznam'!EPS103","v":0},{"$f":"'kros seznam'!EPT103","v":0},{"$f":"'kros seznam'!EPU103","v":0},{"$f":"'kros seznam'!EPV103","v":0},{"$f":"'kros seznam'!EPW103","v":0},{"$f":"'kros seznam'!EPX103","v":0},{"$f":"'kros seznam'!EPY103","v":0},{"$f":"'kros seznam'!EPZ103","v":0},{"$f":"'kros seznam'!EQA103","v":0},{"$f":"'kros seznam'!EQB103","v":0},{"$f":"'kros seznam'!EQC103","v":0},{"$f":"'kros seznam'!EQD103","v":0},{"$f":"'kros seznam'!EQE103","v":0},{"$f":"'kros seznam'!EQF103","v":0},{"$f":"'kros seznam'!EQG103","v":0},{"$f":"'kros seznam'!EQH103","v":0},{"$f":"'kros seznam'!EQI103","v":0},{"$f":"'kros seznam'!EQJ103","v":0},{"$f":"'kros seznam'!EQK103","v":0},{"$f":"'kros seznam'!EQL103","v":0},{"$f":"'kros seznam'!EQM103","v":0},{"$f":"'kros seznam'!EQN103","v":0},{"$f":"'kros seznam'!EQO103","v":0},{"$f":"'kros seznam'!EQP103","v":0},{"$f":"'kros seznam'!EQQ103","v":0},{"$f":"'kros seznam'!EQR103","v":0},{"$f":"'kros seznam'!EQS103","v":0},{"$f":"'kros seznam'!EQT103","v":0},{"$f":"'kros seznam'!EQU103","v":0},{"$f":"'kros seznam'!EQV103","v":0},{"$f":"'kros seznam'!EQW103","v":0},{"$f":"'kros seznam'!EQX103","v":0},{"$f":"'kros seznam'!EQY103","v":0},{"$f":"'kros seznam'!EQZ103","v":0},{"$f":"'kros seznam'!ERA103","v":0},{"$f":"'kros seznam'!ERB103","v":0},{"$f":"'kros seznam'!ERC103","v":0},{"$f":"'kros seznam'!ERD103","v":0},{"$f":"'kros seznam'!ERE103","v":0},{"$f":"'kros seznam'!ERF103","v":0},{"$f":"'kros seznam'!ERG103","v":0},{"$f":"'kros seznam'!ERH103","v":0},{"$f":"'kros seznam'!ERI103","v":0},{"$f":"'kros seznam'!ERJ103","v":0},{"$f":"'kros seznam'!ERK103","v":0},{"$f":"'kros seznam'!ERL103","v":0},{"$f":"'kros seznam'!ERM103","v":0},{"$f":"'kros seznam'!ERN103","v":0},{"$f":"'kros seznam'!ERO103","v":0},{"$f":"'kros seznam'!ERP103","v":0},{"$f":"'kros seznam'!ERQ103","v":0},{"$f":"'kros seznam'!ERR103","v":0},{"$f":"'kros seznam'!ERS103","v":0},{"$f":"'kros seznam'!ERT103","v":0},{"$f":"'kros seznam'!ERU103","v":0},{"$f":"'kros seznam'!ERV103","v":0},{"$f":"'kros seznam'!ERW103","v":0},{"$f":"'kros seznam'!ERX103","v":0},{"$f":"'kros seznam'!ERY103","v":0},{"$f":"'kros seznam'!ERZ103","v":0},{"$f":"'kros seznam'!ESA103","v":0},{"$f":"'kros seznam'!ESB103","v":0},{"$f":"'kros seznam'!ESC103","v":0},{"$f":"'kros seznam'!ESD103","v":0},{"$f":"'kros seznam'!ESE103","v":0},{"$f":"'kros seznam'!ESF103","v":0},{"$f":"'kros seznam'!ESG103","v":0},{"$f":"'kros seznam'!ESH103","v":0},{"$f":"'kros seznam'!ESI103","v":0},{"$f":"'kros seznam'!ESJ103","v":0},{"$f":"'kros seznam'!ESK103","v":0},{"$f":"'kros seznam'!ESL103","v":0},{"$f":"'kros seznam'!ESM103","v":0},{"$f":"'kros seznam'!ESN103","v":0},{"$f":"'kros seznam'!ESO103","v":0},{"$f":"'kros seznam'!ESP103","v":0},{"$f":"'kros seznam'!ESQ103","v":0},{"$f":"'kros seznam'!ESR103","v":0},{"$f":"'kros seznam'!ESS103","v":0},{"$f":"'kros seznam'!EST103","v":0},{"$f":"'kros seznam'!ESU103","v":0},{"$f":"'kros seznam'!ESV103","v":0},{"$f":"'kros seznam'!ESW103","v":0},{"$f":"'kros seznam'!ESX103","v":0},{"$f":"'kros seznam'!ESY103","v":0},{"$f":"'kros seznam'!ESZ103","v":0},{"$f":"'kros seznam'!ETA103","v":0},{"$f":"'kros seznam'!ETB103","v":0},{"$f":"'kros seznam'!ETC103","v":0},{"$f":"'kros seznam'!ETD103","v":0},{"$f":"'kros seznam'!ETE103","v":0},{"$f":"'kros seznam'!ETF103","v":0},{"$f":"'kros seznam'!ETG103","v":0},{"$f":"'kros seznam'!ETH103","v":0},{"$f":"'kros seznam'!ETI103","v":0},{"$f":"'kros seznam'!ETJ103","v":0},{"$f":"'kros seznam'!ETK103","v":0},{"$f":"'kros seznam'!ETL103","v":0},{"$f":"'kros seznam'!ETM103","v":0},{"$f":"'kros seznam'!ETN103","v":0},{"$f":"'kros seznam'!ETO103","v":0},{"$f":"'kros seznam'!ETP103","v":0},{"$f":"'kros seznam'!ETQ103","v":0},{"$f":"'kros seznam'!ETR103","v":0},{"$f":"'kros seznam'!ETS103","v":0},{"$f":"'kros seznam'!ETT103","v":0},{"$f":"'kros seznam'!ETU103","v":0},{"$f":"'kros seznam'!ETV103","v":0},{"$f":"'kros seznam'!ETW103","v":0},{"$f":"'kros seznam'!ETX103","v":0},{"$f":"'kros seznam'!ETY103","v":0},{"$f":"'kros seznam'!ETZ103","v":0},{"$f":"'kros seznam'!EUA103","v":0},{"$f":"'kros seznam'!EUB103","v":0},{"$f":"'kros seznam'!EUC103","v":0},{"$f":"'kros seznam'!EUD103","v":0},{"$f":"'kros seznam'!EUE103","v":0},{"$f":"'kros seznam'!EUF103","v":0},{"$f":"'kros seznam'!EUG103","v":0},{"$f":"'kros seznam'!EUH103","v":0},{"$f":"'kros seznam'!EUI103","v":0},{"$f":"'kros seznam'!EUJ103","v":0},{"$f":"'kros seznam'!EUK103","v":0},{"$f":"'kros seznam'!EUL103","v":0},{"$f":"'kros seznam'!EUM103","v":0},{"$f":"'kros seznam'!EUN103","v":0},{"$f":"'kros seznam'!EUO103","v":0},{"$f":"'kros seznam'!EUP103","v":0},{"$f":"'kros seznam'!EUQ103","v":0},{"$f":"'kros seznam'!EUR103","v":0},{"$f":"'kros seznam'!EUS103","v":0},{"$f":"'kros seznam'!EUT103","v":0},{"$f":"'kros seznam'!EUU103","v":0},{"$f":"'kros seznam'!EUV103","v":0},{"$f":"'kros seznam'!EUW103","v":0},{"$f":"'kros seznam'!EUX103","v":0},{"$f":"'kros seznam'!EUY103","v":0},{"$f":"'kros seznam'!EUZ103","v":0},{"$f":"'kros seznam'!EVA103","v":0},{"$f":"'kros seznam'!EVB103","v":0},{"$f":"'kros seznam'!EVC103","v":0},{"$f":"'kros seznam'!EVD103","v":0},{"$f":"'kros seznam'!EVE103","v":0},{"$f":"'kros seznam'!EVF103","v":0},{"$f":"'kros seznam'!EVG103","v":0},{"$f":"'kros seznam'!EVH103","v":0},{"$f":"'kros seznam'!EVI103","v":0},{"$f":"'kros seznam'!EVJ103","v":0},{"$f":"'kros seznam'!EVK103","v":0},{"$f":"'kros seznam'!EVL103","v":0},{"$f":"'kros seznam'!EVM103","v":0},{"$f":"'kros seznam'!EVN103","v":0},{"$f":"'kros seznam'!EVO103","v":0},{"$f":"'kros seznam'!EVP103","v":0},{"$f":"'kros seznam'!EVQ103","v":0},{"$f":"'kros seznam'!EVR103","v":0},{"$f":"'kros seznam'!EVS103","v":0},{"$f":"'kros seznam'!EVT103","v":0},{"$f":"'kros seznam'!EVU103","v":0},{"$f":"'kros seznam'!EVV103","v":0},{"$f":"'kros seznam'!EVW103","v":0},{"$f":"'kros seznam'!EVX103","v":0},{"$f":"'kros seznam'!EVY103","v":0},{"$f":"'kros seznam'!EVZ103","v":0},{"$f":"'kros seznam'!EWA103","v":0},{"$f":"'kros seznam'!EWB103","v":0},{"$f":"'kros seznam'!EWC103","v":0},{"$f":"'kros seznam'!EWD103","v":0},{"$f":"'kros seznam'!EWE103","v":0},{"$f":"'kros seznam'!EWF103","v":0},{"$f":"'kros seznam'!EWG103","v":0},{"$f":"'kros seznam'!EWH103","v":0},{"$f":"'kros seznam'!EWI103","v":0},{"$f":"'kros seznam'!EWJ103","v":0},{"$f":"'kros seznam'!EWK103","v":0},{"$f":"'kros seznam'!EWL103","v":0},{"$f":"'kros seznam'!EWM103","v":0},{"$f":"'kros seznam'!EWN103","v":0},{"$f":"'kros seznam'!EWO103","v":0},{"$f":"'kros seznam'!EWP103","v":0},{"$f":"'kros seznam'!EWQ103","v":0},{"$f":"'kros seznam'!EWR103","v":0},{"$f":"'kros seznam'!EWS103","v":0},{"$f":"'kros seznam'!EWT103","v":0},{"$f":"'kros seznam'!EWU103","v":0},{"$f":"'kros seznam'!EWV103","v":0},{"$f":"'kros seznam'!EWW103","v":0},{"$f":"'kros seznam'!EWX103","v":0},{"$f":"'kros seznam'!EWY103","v":0},{"$f":"'kros seznam'!EWZ103","v":0},{"$f":"'kros seznam'!EXA103","v":0},{"$f":"'kros seznam'!EXB103","v":0},{"$f":"'kros seznam'!EXC103","v":0},{"$f":"'kros seznam'!EXD103","v":0},{"$f":"'kros seznam'!EXE103","v":0},{"$f":"'kros seznam'!EXF103","v":0},{"$f":"'kros seznam'!EXG103","v":0},{"$f":"'kros seznam'!EXH103","v":0},{"$f":"'kros seznam'!EXI103","v":0},{"$f":"'kros seznam'!EXJ103","v":0},{"$f":"'kros seznam'!EXK103","v":0},{"$f":"'kros seznam'!EXL103","v":0},{"$f":"'kros seznam'!EXM103","v":0},{"$f":"'kros seznam'!EXN103","v":0},{"$f":"'kros seznam'!EXO103","v":0},{"$f":"'kros seznam'!EXP103","v":0},{"$f":"'kros seznam'!EXQ103","v":0},{"$f":"'kros seznam'!EXR103","v":0},{"$f":"'kros seznam'!EXS103","v":0},{"$f":"'kros seznam'!EXT103","v":0},{"$f":"'kros seznam'!EXU103","v":0},{"$f":"'kros seznam'!EXV103","v":0},{"$f":"'kros seznam'!EXW103","v":0},{"$f":"'kros seznam'!EXX103","v":0},{"$f":"'kros seznam'!EXY103","v":0},{"$f":"'kros seznam'!EXZ103","v":0},{"$f":"'kros seznam'!EYA103","v":0},{"$f":"'kros seznam'!EYB103","v":0},{"$f":"'kros seznam'!EYC103","v":0},{"$f":"'kros seznam'!EYD103","v":0},{"$f":"'kros seznam'!EYE103","v":0},{"$f":"'kros seznam'!EYF103","v":0},{"$f":"'kros seznam'!EYG103","v":0},{"$f":"'kros seznam'!EYH103","v":0},{"$f":"'kros seznam'!EYI103","v":0},{"$f":"'kros seznam'!EYJ103","v":0},{"$f":"'kros seznam'!EYK103","v":0},{"$f":"'kros seznam'!EYL103","v":0},{"$f":"'kros seznam'!EYM103","v":0},{"$f":"'kros seznam'!EYN103","v":0},{"$f":"'kros seznam'!EYO103","v":0},{"$f":"'kros seznam'!EYP103","v":0},{"$f":"'kros seznam'!EYQ103","v":0},{"$f":"'kros seznam'!EYR103","v":0},{"$f":"'kros seznam'!EYS103","v":0},{"$f":"'kros seznam'!EYT103","v":0},{"$f":"'kros seznam'!EYU103","v":0},{"$f":"'kros seznam'!EYV103","v":0},{"$f":"'kros seznam'!EYW103","v":0},{"$f":"'kros seznam'!EYX103","v":0},{"$f":"'kros seznam'!EYY103","v":0},{"$f":"'kros seznam'!EYZ103","v":0},{"$f":"'kros seznam'!EZA103","v":0},{"$f":"'kros seznam'!EZB103","v":0},{"$f":"'kros seznam'!EZC103","v":0},{"$f":"'kros seznam'!EZD103","v":0},{"$f":"'kros seznam'!EZE103","v":0},{"$f":"'kros seznam'!EZF103","v":0},{"$f":"'kros seznam'!EZG103","v":0},{"$f":"'kros seznam'!EZH103","v":0},{"$f":"'kros seznam'!EZI103","v":0},{"$f":"'kros seznam'!EZJ103","v":0},{"$f":"'kros seznam'!EZK103","v":0},{"$f":"'kros seznam'!EZL103","v":0},{"$f":"'kros seznam'!EZM103","v":0},{"$f":"'kros seznam'!EZN103","v":0},{"$f":"'kros seznam'!EZO103","v":0},{"$f":"'kros seznam'!EZP103","v":0},{"$f":"'kros seznam'!EZQ103","v":0},{"$f":"'kros seznam'!EZR103","v":0},{"$f":"'kros seznam'!EZS103","v":0},{"$f":"'kros seznam'!EZT103","v":0},{"$f":"'kros seznam'!EZU103","v":0},{"$f":"'kros seznam'!EZV103","v":0},{"$f":"'kros seznam'!EZW103","v":0},{"$f":"'kros seznam'!EZX103","v":0},{"$f":"'kros seznam'!EZY103","v":0},{"$f":"'kros seznam'!EZZ103","v":0},{"$f":"'kros seznam'!FAA103","v":0},{"$f":"'kros seznam'!FAB103","v":0},{"$f":"'kros seznam'!FAC103","v":0},{"$f":"'kros seznam'!FAD103","v":0},{"$f":"'kros seznam'!FAE103","v":0},{"$f":"'kros seznam'!FAF103","v":0},{"$f":"'kros seznam'!FAG103","v":0},{"$f":"'kros seznam'!FAH103","v":0},{"$f":"'kros seznam'!FAI103","v":0},{"$f":"'kros seznam'!FAJ103","v":0},{"$f":"'kros seznam'!FAK103","v":0},{"$f":"'kros seznam'!FAL103","v":0},{"$f":"'kros seznam'!FAM103","v":0},{"$f":"'kros seznam'!FAN103","v":0},{"$f":"'kros seznam'!FAO103","v":0},{"$f":"'kros seznam'!FAP103","v":0},{"$f":"'kros seznam'!FAQ103","v":0},{"$f":"'kros seznam'!FAR103","v":0},{"$f":"'kros seznam'!FAS103","v":0},{"$f":"'kros seznam'!FAT103","v":0},{"$f":"'kros seznam'!FAU103","v":0},{"$f":"'kros seznam'!FAV103","v":0},{"$f":"'kros seznam'!FAW103","v":0},{"$f":"'kros seznam'!FAX103","v":0},{"$f":"'kros seznam'!FAY103","v":0},{"$f":"'kros seznam'!FAZ103","v":0},{"$f":"'kros seznam'!FBA103","v":0},{"$f":"'kros seznam'!FBB103","v":0},{"$f":"'kros seznam'!FBC103","v":0},{"$f":"'kros seznam'!FBD103","v":0},{"$f":"'kros seznam'!FBE103","v":0},{"$f":"'kros seznam'!FBF103","v":0},{"$f":"'kros seznam'!FBG103","v":0},{"$f":"'kros seznam'!FBH103","v":0},{"$f":"'kros seznam'!FBI103","v":0},{"$f":"'kros seznam'!FBJ103","v":0},{"$f":"'kros seznam'!FBK103","v":0},{"$f":"'kros seznam'!FBL103","v":0},{"$f":"'kros seznam'!FBM103","v":0},{"$f":"'kros seznam'!FBN103","v":0},{"$f":"'kros seznam'!FBO103","v":0},{"$f":"'kros seznam'!FBP103","v":0},{"$f":"'kros seznam'!FBQ103","v":0},{"$f":"'kros seznam'!FBR103","v":0},{"$f":"'kros seznam'!FBS103","v":0},{"$f":"'kros seznam'!FBT103","v":0},{"$f":"'kros seznam'!FBU103","v":0},{"$f":"'kros seznam'!FBV103","v":0},{"$f":"'kros seznam'!FBW103","v":0},{"$f":"'kros seznam'!FBX103","v":0},{"$f":"'kros seznam'!FBY103","v":0},{"$f":"'kros seznam'!FBZ103","v":0},{"$f":"'kros seznam'!FCA103","v":0},{"$f":"'kros seznam'!FCB103","v":0},{"$f":"'kros seznam'!FCC103","v":0},{"$f":"'kros seznam'!FCD103","v":0},{"$f":"'kros seznam'!FCE103","v":0},{"$f":"'kros seznam'!FCF103","v":0},{"$f":"'kros seznam'!FCG103","v":0},{"$f":"'kros seznam'!FCH103","v":0},{"$f":"'kros seznam'!FCI103","v":0},{"$f":"'kros seznam'!FCJ103","v":0},{"$f":"'kros seznam'!FCK103","v":0},{"$f":"'kros seznam'!FCL103","v":0},{"$f":"'kros seznam'!FCM103","v":0},{"$f":"'kros seznam'!FCN103","v":0},{"$f":"'kros seznam'!FCO103","v":0},{"$f":"'kros seznam'!FCP103","v":0},{"$f":"'kros seznam'!FCQ103","v":0},{"$f":"'kros seznam'!FCR103","v":0},{"$f":"'kros seznam'!FCS103","v":0},{"$f":"'kros seznam'!FCT103","v":0},{"$f":"'kros seznam'!FCU103","v":0},{"$f":"'kros seznam'!FCV103","v":0},{"$f":"'kros seznam'!FCW103","v":0},{"$f":"'kros seznam'!FCX103","v":0},{"$f":"'kros seznam'!FCY103","v":0},{"$f":"'kros seznam'!FCZ103","v":0},{"$f":"'kros seznam'!FDA103","v":0},{"$f":"'kros seznam'!FDB103","v":0},{"$f":"'kros seznam'!FDC103","v":0},{"$f":"'kros seznam'!FDD103","v":0},{"$f":"'kros seznam'!FDE103","v":0},{"$f":"'kros seznam'!FDF103","v":0},{"$f":"'kros seznam'!FDG103","v":0},{"$f":"'kros seznam'!FDH103","v":0},{"$f":"'kros seznam'!FDI103","v":0},{"$f":"'kros seznam'!FDJ103","v":0},{"$f":"'kros seznam'!FDK103","v":0},{"$f":"'kros seznam'!FDL103","v":0},{"$f":"'kros seznam'!FDM103","v":0},{"$f":"'kros seznam'!FDN103","v":0},{"$f":"'kros seznam'!FDO103","v":0},{"$f":"'kros seznam'!FDP103","v":0},{"$f":"'kros seznam'!FDQ103","v":0},{"$f":"'kros seznam'!FDR103","v":0},{"$f":"'kros seznam'!FDS103","v":0},{"$f":"'kros seznam'!FDT103","v":0},{"$f":"'kros seznam'!FDU103","v":0},{"$f":"'kros seznam'!FDV103","v":0},{"$f":"'kros seznam'!FDW103","v":0},{"$f":"'kros seznam'!FDX103","v":0},{"$f":"'kros seznam'!FDY103","v":0},{"$f":"'kros seznam'!FDZ103","v":0},{"$f":"'kros seznam'!FEA103","v":0},{"$f":"'kros seznam'!FEB103","v":0},{"$f":"'kros seznam'!FEC103","v":0},{"$f":"'kros seznam'!FED103","v":0},{"$f":"'kros seznam'!FEE103","v":0},{"$f":"'kros seznam'!FEF103","v":0},{"$f":"'kros seznam'!FEG103","v":0},{"$f":"'kros seznam'!FEH103","v":0},{"$f":"'kros seznam'!FEI103","v":0},{"$f":"'kros seznam'!FEJ103","v":0},{"$f":"'kros seznam'!FEK103","v":0},{"$f":"'kros seznam'!FEL103","v":0},{"$f":"'kros seznam'!FEM103","v":0},{"$f":"'kros seznam'!FEN103","v":0},{"$f":"'kros seznam'!FEO103","v":0},{"$f":"'kros seznam'!FEP103","v":0},{"$f":"'kros seznam'!FEQ103","v":0},{"$f":"'kros seznam'!FER103","v":0},{"$f":"'kros seznam'!FES103","v":0},{"$f":"'kros seznam'!FET103","v":0},{"$f":"'kros seznam'!FEU103","v":0},{"$f":"'kros seznam'!FEV103","v":0},{"$f":"'kros seznam'!FEW103","v":0},{"$f":"'kros seznam'!FEX103","v":0},{"$f":"'kros seznam'!FEY103","v":0},{"$f":"'kros seznam'!FEZ103","v":0},{"$f":"'kros seznam'!FFA103","v":0},{"$f":"'kros seznam'!FFB103","v":0},{"$f":"'kros seznam'!FFC103","v":0},{"$f":"'kros seznam'!FFD103","v":0},{"$f":"'kros seznam'!FFE103","v":0},{"$f":"'kros seznam'!FFF103","v":0},{"$f":"'kros seznam'!FFG103","v":0},{"$f":"'kros seznam'!FFH103","v":0},{"$f":"'kros seznam'!FFI103","v":0},{"$f":"'kros seznam'!FFJ103","v":0},{"$f":"'kros seznam'!FFK103","v":0},{"$f":"'kros seznam'!FFL103","v":0},{"$f":"'kros seznam'!FFM103","v":0},{"$f":"'kros seznam'!FFN103","v":0},{"$f":"'kros seznam'!FFO103","v":0},{"$f":"'kros seznam'!FFP103","v":0},{"$f":"'kros seznam'!FFQ103","v":0},{"$f":"'kros seznam'!FFR103","v":0},{"$f":"'kros seznam'!FFS103","v":0},{"$f":"'kros seznam'!FFT103","v":0},{"$f":"'kros seznam'!FFU103","v":0},{"$f":"'kros seznam'!FFV103","v":0},{"$f":"'kros seznam'!FFW103","v":0},{"$f":"'kros seznam'!FFX103","v":0},{"$f":"'kros seznam'!FFY103","v":0},{"$f":"'kros seznam'!FFZ103","v":0},{"$f":"'kros seznam'!FGA103","v":0},{"$f":"'kros seznam'!FGB103","v":0},{"$f":"'kros seznam'!FGC103","v":0},{"$f":"'kros seznam'!FGD103","v":0},{"$f":"'kros seznam'!FGE103","v":0},{"$f":"'kros seznam'!FGF103","v":0},{"$f":"'kros seznam'!FGG103","v":0},{"$f":"'kros seznam'!FGH103","v":0},{"$f":"'kros seznam'!FGI103","v":0},{"$f":"'kros seznam'!FGJ103","v":0},{"$f":"'kros seznam'!FGK103","v":0},{"$f":"'kros seznam'!FGL103","v":0},{"$f":"'kros seznam'!FGM103","v":0},{"$f":"'kros seznam'!FGN103","v":0},{"$f":"'kros seznam'!FGO103","v":0},{"$f":"'kros seznam'!FGP103","v":0},{"$f":"'kros seznam'!FGQ103","v":0},{"$f":"'kros seznam'!FGR103","v":0},{"$f":"'kros seznam'!FGS103","v":0},{"$f":"'kros seznam'!FGT103","v":0},{"$f":"'kros seznam'!FGU103","v":0},{"$f":"'kros seznam'!FGV103","v":0},{"$f":"'kros seznam'!FGW103","v":0},{"$f":"'kros seznam'!FGX103","v":0},{"$f":"'kros seznam'!FGY103","v":0},{"$f":"'kros seznam'!FGZ103","v":0},{"$f":"'kros seznam'!FHA103","v":0},{"$f":"'kros seznam'!FHB103","v":0},{"$f":"'kros seznam'!FHC103","v":0},{"$f":"'kros seznam'!FHD103","v":0},{"$f":"'kros seznam'!FHE103","v":0},{"$f":"'kros seznam'!FHF103","v":0},{"$f":"'kros seznam'!FHG103","v":0},{"$f":"'kros seznam'!FHH103","v":0},{"$f":"'kros seznam'!FHI103","v":0},{"$f":"'kros seznam'!FHJ103","v":0},{"$f":"'kros seznam'!FHK103","v":0},{"$f":"'kros seznam'!FHL103","v":0},{"$f":"'kros seznam'!FHM103","v":0},{"$f":"'kros seznam'!FHN103","v":0},{"$f":"'kros seznam'!FHO103","v":0},{"$f":"'kros seznam'!FHP103","v":0},{"$f":"'kros seznam'!FHQ103","v":0},{"$f":"'kros seznam'!FHR103","v":0},{"$f":"'kros seznam'!FHS103","v":0},{"$f":"'kros seznam'!FHT103","v":0},{"$f":"'kros seznam'!FHU103","v":0},{"$f":"'kros seznam'!FHV103","v":0},{"$f":"'kros seznam'!FHW103","v":0},{"$f":"'kros seznam'!FHX103","v":0},{"$f":"'kros seznam'!FHY103","v":0},{"$f":"'kros seznam'!FHZ103","v":0},{"$f":"'kros seznam'!FIA103","v":0},{"$f":"'kros seznam'!FIB103","v":0},{"$f":"'kros seznam'!FIC103","v":0},{"$f":"'kros seznam'!FID103","v":0},{"$f":"'kros seznam'!FIE103","v":0},{"$f":"'kros seznam'!FIF103","v":0},{"$f":"'kros seznam'!FIG103","v":0},{"$f":"'kros seznam'!FIH103","v":0},{"$f":"'kros seznam'!FII103","v":0},{"$f":"'kros seznam'!FIJ103","v":0},{"$f":"'kros seznam'!FIK103","v":0},{"$f":"'kros seznam'!FIL103","v":0},{"$f":"'kros seznam'!FIM103","v":0},{"$f":"'kros seznam'!FIN103","v":0},{"$f":"'kros seznam'!FIO103","v":0},{"$f":"'kros seznam'!FIP103","v":0},{"$f":"'kros seznam'!FIQ103","v":0},{"$f":"'kros seznam'!FIR103","v":0},{"$f":"'kros seznam'!FIS103","v":0},{"$f":"'kros seznam'!FIT103","v":0},{"$f":"'kros seznam'!FIU103","v":0},{"$f":"'kros seznam'!FIV103","v":0},{"$f":"'kros seznam'!FIW103","v":0},{"$f":"'kros seznam'!FIX103","v":0},{"$f":"'kros seznam'!FIY103","v":0},{"$f":"'kros seznam'!FIZ103","v":0},{"$f":"'kros seznam'!FJA103","v":0},{"$f":"'kros seznam'!FJB103","v":0},{"$f":"'kros seznam'!FJC103","v":0},{"$f":"'kros seznam'!FJD103","v":0},{"$f":"'kros seznam'!FJE103","v":0},{"$f":"'kros seznam'!FJF103","v":0},{"$f":"'kros seznam'!FJG103","v":0},{"$f":"'kros seznam'!FJH103","v":0},{"$f":"'kros seznam'!FJI103","v":0},{"$f":"'kros seznam'!FJJ103","v":0},{"$f":"'kros seznam'!FJK103","v":0},{"$f":"'kros seznam'!FJL103","v":0},{"$f":"'kros seznam'!FJM103","v":0},{"$f":"'kros seznam'!FJN103","v":0},{"$f":"'kros seznam'!FJO103","v":0},{"$f":"'kros seznam'!FJP103","v":0},{"$f":"'kros seznam'!FJQ103","v":0},{"$f":"'kros seznam'!FJR103","v":0},{"$f":"'kros seznam'!FJS103","v":0},{"$f":"'kros seznam'!FJT103","v":0},{"$f":"'kros seznam'!FJU103","v":0},{"$f":"'kros seznam'!FJV103","v":0},{"$f":"'kros seznam'!FJW103","v":0},{"$f":"'kros seznam'!FJX103","v":0},{"$f":"'kros seznam'!FJY103","v":0},{"$f":"'kros seznam'!FJZ103","v":0},{"$f":"'kros seznam'!FKA103","v":0},{"$f":"'kros seznam'!FKB103","v":0},{"$f":"'kros seznam'!FKC103","v":0},{"$f":"'kros seznam'!FKD103","v":0},{"$f":"'kros seznam'!FKE103","v":0},{"$f":"'kros seznam'!FKF103","v":0},{"$f":"'kros seznam'!FKG103","v":0},{"$f":"'kros seznam'!FKH103","v":0},{"$f":"'kros seznam'!FKI103","v":0},{"$f":"'kros seznam'!FKJ103","v":0},{"$f":"'kros seznam'!FKK103","v":0},{"$f":"'kros seznam'!FKL103","v":0},{"$f":"'kros seznam'!FKM103","v":0},{"$f":"'kros seznam'!FKN103","v":0},{"$f":"'kros seznam'!FKO103","v":0},{"$f":"'kros seznam'!FKP103","v":0},{"$f":"'kros seznam'!FKQ103","v":0},{"$f":"'kros seznam'!FKR103","v":0},{"$f":"'kros seznam'!FKS103","v":0},{"$f":"'kros seznam'!FKT103","v":0},{"$f":"'kros seznam'!FKU103","v":0},{"$f":"'kros seznam'!FKV103","v":0},{"$f":"'kros seznam'!FKW103","v":0},{"$f":"'kros seznam'!FKX103","v":0},{"$f":"'kros seznam'!FKY103","v":0},{"$f":"'kros seznam'!FKZ103","v":0},{"$f":"'kros seznam'!FLA103","v":0},{"$f":"'kros seznam'!FLB103","v":0},{"$f":"'kros seznam'!FLC103","v":0},{"$f":"'kros seznam'!FLD103","v":0},{"$f":"'kros seznam'!FLE103","v":0},{"$f":"'kros seznam'!FLF103","v":0},{"$f":"'kros seznam'!FLG103","v":0},{"$f":"'kros seznam'!FLH103","v":0},{"$f":"'kros seznam'!FLI103","v":0},{"$f":"'kros seznam'!FLJ103","v":0},{"$f":"'kros seznam'!FLK103","v":0},{"$f":"'kros seznam'!FLL103","v":0},{"$f":"'kros seznam'!FLM103","v":0},{"$f":"'kros seznam'!FLN103","v":0},{"$f":"'kros seznam'!FLO103","v":0},{"$f":"'kros seznam'!FLP103","v":0},{"$f":"'kros seznam'!FLQ103","v":0},{"$f":"'kros seznam'!FLR103","v":0},{"$f":"'kros seznam'!FLS103","v":0},{"$f":"'kros seznam'!FLT103","v":0},{"$f":"'kros seznam'!FLU103","v":0},{"$f":"'kros seznam'!FLV103","v":0},{"$f":"'kros seznam'!FLW103","v":0},{"$f":"'kros seznam'!FLX103","v":0},{"$f":"'kros seznam'!FLY103","v":0},{"$f":"'kros seznam'!FLZ103","v":0},{"$f":"'kros seznam'!FMA103","v":0},{"$f":"'kros seznam'!FMB103","v":0},{"$f":"'kros seznam'!FMC103","v":0},{"$f":"'kros seznam'!FMD103","v":0},{"$f":"'kros seznam'!FME103","v":0},{"$f":"'kros seznam'!FMF103","v":0},{"$f":"'kros seznam'!FMG103","v":0},{"$f":"'kros seznam'!FMH103","v":0},{"$f":"'kros seznam'!FMI103","v":0},{"$f":"'kros seznam'!FMJ103","v":0},{"$f":"'kros seznam'!FMK103","v":0},{"$f":"'kros seznam'!FML103","v":0},{"$f":"'kros seznam'!FMM103","v":0},{"$f":"'kros seznam'!FMN103","v":0},{"$f":"'kros seznam'!FMO103","v":0},{"$f":"'kros seznam'!FMP103","v":0},{"$f":"'kros seznam'!FMQ103","v":0},{"$f":"'kros seznam'!FMR103","v":0},{"$f":"'kros seznam'!FMS103","v":0},{"$f":"'kros seznam'!FMT103","v":0},{"$f":"'kros seznam'!FMU103","v":0},{"$f":"'kros seznam'!FMV103","v":0},{"$f":"'kros seznam'!FMW103","v":0},{"$f":"'kros seznam'!FMX103","v":0},{"$f":"'kros seznam'!FMY103","v":0},{"$f":"'kros seznam'!FMZ103","v":0},{"$f":"'kros seznam'!FNA103","v":0},{"$f":"'kros seznam'!FNB103","v":0},{"$f":"'kros seznam'!FNC103","v":0},{"$f":"'kros seznam'!FND103","v":0},{"$f":"'kros seznam'!FNE103","v":0},{"$f":"'kros seznam'!FNF103","v":0},{"$f":"'kros seznam'!FNG103","v":0},{"$f":"'kros seznam'!FNH103","v":0},{"$f":"'kros seznam'!FNI103","v":0},{"$f":"'kros seznam'!FNJ103","v":0},{"$f":"'kros seznam'!FNK103","v":0},{"$f":"'kros seznam'!FNL103","v":0},{"$f":"'kros seznam'!FNM103","v":0},{"$f":"'kros seznam'!FNN103","v":0},{"$f":"'kros seznam'!FNO103","v":0},{"$f":"'kros seznam'!FNP103","v":0},{"$f":"'kros seznam'!FNQ103","v":0},{"$f":"'kros seznam'!FNR103","v":0},{"$f":"'kros seznam'!FNS103","v":0},{"$f":"'kros seznam'!FNT103","v":0},{"$f":"'kros seznam'!FNU103","v":0},{"$f":"'kros seznam'!FNV103","v":0},{"$f":"'kros seznam'!FNW103","v":0},{"$f":"'kros seznam'!FNX103","v":0},{"$f":"'kros seznam'!FNY103","v":0},{"$f":"'kros seznam'!FNZ103","v":0},{"$f":"'kros seznam'!FOA103","v":0},{"$f":"'kros seznam'!FOB103","v":0},{"$f":"'kros seznam'!FOC103","v":0},{"$f":"'kros seznam'!FOD103","v":0},{"$f":"'kros seznam'!FOE103","v":0},{"$f":"'kros seznam'!FOF103","v":0},{"$f":"'kros seznam'!FOG103","v":0},{"$f":"'kros seznam'!FOH103","v":0},{"$f":"'kros seznam'!FOI103","v":0},{"$f":"'kros seznam'!FOJ103","v":0},{"$f":"'kros seznam'!FOK103","v":0},{"$f":"'kros seznam'!FOL103","v":0},{"$f":"'kros seznam'!FOM103","v":0},{"$f":"'kros seznam'!FON103","v":0},{"$f":"'kros seznam'!FOO103","v":0},{"$f":"'kros seznam'!FOP103","v":0},{"$f":"'kros seznam'!FOQ103","v":0},{"$f":"'kros seznam'!FOR103","v":0},{"$f":"'kros seznam'!FOS103","v":0},{"$f":"'kros seznam'!FOT103","v":0},{"$f":"'kros seznam'!FOU103","v":0},{"$f":"'kros seznam'!FOV103","v":0},{"$f":"'kros seznam'!FOW103","v":0},{"$f":"'kros seznam'!FOX103","v":0},{"$f":"'kros seznam'!FOY103","v":0},{"$f":"'kros seznam'!FOZ103","v":0},{"$f":"'kros seznam'!FPA103","v":0},{"$f":"'kros seznam'!FPB103","v":0},{"$f":"'kros seznam'!FPC103","v":0},{"$f":"'kros seznam'!FPD103","v":0},{"$f":"'kros seznam'!FPE103","v":0},{"$f":"'kros seznam'!FPF103","v":0},{"$f":"'kros seznam'!FPG103","v":0},{"$f":"'kros seznam'!FPH103","v":0},{"$f":"'kros seznam'!FPI103","v":0},{"$f":"'kros seznam'!FPJ103","v":0},{"$f":"'kros seznam'!FPK103","v":0},{"$f":"'kros seznam'!FPL103","v":0},{"$f":"'kros seznam'!FPM103","v":0},{"$f":"'kros seznam'!FPN103","v":0},{"$f":"'kros seznam'!FPO103","v":0},{"$f":"'kros seznam'!FPP103","v":0},{"$f":"'kros seznam'!FPQ103","v":0},{"$f":"'kros seznam'!FPR103","v":0},{"$f":"'kros seznam'!FPS103","v":0},{"$f":"'kros seznam'!FPT103","v":0},{"$f":"'kros seznam'!FPU103","v":0},{"$f":"'kros seznam'!FPV103","v":0},{"$f":"'kros seznam'!FPW103","v":0},{"$f":"'kros seznam'!FPX103","v":0},{"$f":"'kros seznam'!FPY103","v":0},{"$f":"'kros seznam'!FPZ103","v":0},{"$f":"'kros seznam'!FQA103","v":0},{"$f":"'kros seznam'!FQB103","v":0},{"$f":"'kros seznam'!FQC103","v":0},{"$f":"'kros seznam'!FQD103","v":0},{"$f":"'kros seznam'!FQE103","v":0},{"$f":"'kros seznam'!FQF103","v":0},{"$f":"'kros seznam'!FQG103","v":0},{"$f":"'kros seznam'!FQH103","v":0},{"$f":"'kros seznam'!FQI103","v":0},{"$f":"'kros seznam'!FQJ103","v":0},{"$f":"'kros seznam'!FQK103","v":0},{"$f":"'kros seznam'!FQL103","v":0},{"$f":"'kros seznam'!FQM103","v":0},{"$f":"'kros seznam'!FQN103","v":0},{"$f":"'kros seznam'!FQO103","v":0},{"$f":"'kros seznam'!FQP103","v":0},{"$f":"'kros seznam'!FQQ103","v":0},{"$f":"'kros seznam'!FQR103","v":0},{"$f":"'kros seznam'!FQS103","v":0},{"$f":"'kros seznam'!FQT103","v":0},{"$f":"'kros seznam'!FQU103","v":0},{"$f":"'kros seznam'!FQV103","v":0},{"$f":"'kros seznam'!FQW103","v":0},{"$f":"'kros seznam'!FQX103","v":0},{"$f":"'kros seznam'!FQY103","v":0},{"$f":"'kros seznam'!FQZ103","v":0},{"$f":"'kros seznam'!FRA103","v":0},{"$f":"'kros seznam'!FRB103","v":0},{"$f":"'kros seznam'!FRC103","v":0},{"$f":"'kros seznam'!FRD103","v":0},{"$f":"'kros seznam'!FRE103","v":0},{"$f":"'kros seznam'!FRF103","v":0},{"$f":"'kros seznam'!FRG103","v":0},{"$f":"'kros seznam'!FRH103","v":0},{"$f":"'kros seznam'!FRI103","v":0},{"$f":"'kros seznam'!FRJ103","v":0},{"$f":"'kros seznam'!FRK103","v":0},{"$f":"'kros seznam'!FRL103","v":0},{"$f":"'kros seznam'!FRM103","v":0},{"$f":"'kros seznam'!FRN103","v":0},{"$f":"'kros seznam'!FRO103","v":0},{"$f":"'kros seznam'!FRP103","v":0},{"$f":"'kros seznam'!FRQ103","v":0},{"$f":"'kros seznam'!FRR103","v":0},{"$f":"'kros seznam'!FRS103","v":0},{"$f":"'kros seznam'!FRT103","v":0},{"$f":"'kros seznam'!FRU103","v":0},{"$f":"'kros seznam'!FRV103","v":0},{"$f":"'kros seznam'!FRW103","v":0},{"$f":"'kros seznam'!FRX103","v":0},{"$f":"'kros seznam'!FRY103","v":0},{"$f":"'kros seznam'!FRZ103","v":0},{"$f":"'kros seznam'!FSA103","v":0},{"$f":"'kros seznam'!FSB103","v":0},{"$f":"'kros seznam'!FSC103","v":0},{"$f":"'kros seznam'!FSD103","v":0},{"$f":"'kros seznam'!FSE103","v":0},{"$f":"'kros seznam'!FSF103","v":0},{"$f":"'kros seznam'!FSG103","v":0},{"$f":"'kros seznam'!FSH103","v":0},{"$f":"'kros seznam'!FSI103","v":0},{"$f":"'kros seznam'!FSJ103","v":0},{"$f":"'kros seznam'!FSK103","v":0},{"$f":"'kros seznam'!FSL103","v":0},{"$f":"'kros seznam'!FSM103","v":0},{"$f":"'kros seznam'!FSN103","v":0},{"$f":"'kros seznam'!FSO103","v":0},{"$f":"'kros seznam'!FSP103","v":0},{"$f":"'kros seznam'!FSQ103","v":0},{"$f":"'kros seznam'!FSR103","v":0},{"$f":"'kros seznam'!FSS103","v":0},{"$f":"'kros seznam'!FST103","v":0},{"$f":"'kros seznam'!FSU103","v":0},{"$f":"'kros seznam'!FSV103","v":0},{"$f":"'kros seznam'!FSW103","v":0},{"$f":"'kros seznam'!FSX103","v":0},{"$f":"'kros seznam'!FSY103","v":0},{"$f":"'kros seznam'!FSZ103","v":0},{"$f":"'kros seznam'!FTA103","v":0},{"$f":"'kros seznam'!FTB103","v":0},{"$f":"'kros seznam'!FTC103","v":0},{"$f":"'kros seznam'!FTD103","v":0},{"$f":"'kros seznam'!FTE103","v":0},{"$f":"'kros seznam'!FTF103","v":0},{"$f":"'kros seznam'!FTG103","v":0},{"$f":"'kros seznam'!FTH103","v":0},{"$f":"'kros seznam'!FTI103","v":0},{"$f":"'kros seznam'!FTJ103","v":0},{"$f":"'kros seznam'!FTK103","v":0},{"$f":"'kros seznam'!FTL103","v":0},{"$f":"'kros seznam'!FTM103","v":0},{"$f":"'kros seznam'!FTN103","v":0},{"$f":"'kros seznam'!FTO103","v":0},{"$f":"'kros seznam'!FTP103","v":0},{"$f":"'kros seznam'!FTQ103","v":0},{"$f":"'kros seznam'!FTR103","v":0},{"$f":"'kros seznam'!FTS103","v":0},{"$f":"'kros seznam'!FTT103","v":0},{"$f":"'kros seznam'!FTU103","v":0},{"$f":"'kros seznam'!FTV103","v":0},{"$f":"'kros seznam'!FTW103","v":0},{"$f":"'kros seznam'!FTX103","v":0},{"$f":"'kros seznam'!FTY103","v":0},{"$f":"'kros seznam'!FTZ103","v":0},{"$f":"'kros seznam'!FUA103","v":0},{"$f":"'kros seznam'!FUB103","v":0},{"$f":"'kros seznam'!FUC103","v":0},{"$f":"'kros seznam'!FUD103","v":0},{"$f":"'kros seznam'!FUE103","v":0},{"$f":"'kros seznam'!FUF103","v":0},{"$f":"'kros seznam'!FUG103","v":0},{"$f":"'kros seznam'!FUH103","v":0},{"$f":"'kros seznam'!FUI103","v":0},{"$f":"'kros seznam'!FUJ103","v":0},{"$f":"'kros seznam'!FUK103","v":0},{"$f":"'kros seznam'!FUL103","v":0},{"$f":"'kros seznam'!FUM103","v":0},{"$f":"'kros seznam'!FUN103","v":0},{"$f":"'kros seznam'!FUO103","v":0},{"$f":"'kros seznam'!FUP103","v":0},{"$f":"'kros seznam'!FUQ103","v":0},{"$f":"'kros seznam'!FUR103","v":0},{"$f":"'kros seznam'!FUS103","v":0},{"$f":"'kros seznam'!FUT103","v":0},{"$f":"'kros seznam'!FUU103","v":0},{"$f":"'kros seznam'!FUV103","v":0},{"$f":"'kros seznam'!FUW103","v":0},{"$f":"'kros seznam'!FUX103","v":0},{"$f":"'kros seznam'!FUY103","v":0},{"$f":"'kros seznam'!FUZ103","v":0},{"$f":"'kros seznam'!FVA103","v":0},{"$f":"'kros seznam'!FVB103","v":0},{"$f":"'kros seznam'!FVC103","v":0},{"$f":"'kros seznam'!FVD103","v":0},{"$f":"'kros seznam'!FVE103","v":0},{"$f":"'kros seznam'!FVF103","v":0},{"$f":"'kros seznam'!FVG103","v":0},{"$f":"'kros seznam'!FVH103","v":0},{"$f":"'kros seznam'!FVI103","v":0},{"$f":"'kros seznam'!FVJ103","v":0},{"$f":"'kros seznam'!FVK103","v":0},{"$f":"'kros seznam'!FVL103","v":0},{"$f":"'kros seznam'!FVM103","v":0},{"$f":"'kros seznam'!FVN103","v":0},{"$f":"'kros seznam'!FVO103","v":0},{"$f":"'kros seznam'!FVP103","v":0},{"$f":"'kros seznam'!FVQ103","v":0},{"$f":"'kros seznam'!FVR103","v":0},{"$f":"'kros seznam'!FVS103","v":0},{"$f":"'kros seznam'!FVT103","v":0},{"$f":"'kros seznam'!FVU103","v":0},{"$f":"'kros seznam'!FVV103","v":0},{"$f":"'kros seznam'!FVW103","v":0},{"$f":"'kros seznam'!FVX103","v":0},{"$f":"'kros seznam'!FVY103","v":0},{"$f":"'kros seznam'!FVZ103","v":0},{"$f":"'kros seznam'!FWA103","v":0},{"$f":"'kros seznam'!FWB103","v":0},{"$f":"'kros seznam'!FWC103","v":0},{"$f":"'kros seznam'!FWD103","v":0},{"$f":"'kros seznam'!FWE103","v":0},{"$f":"'kros seznam'!FWF103","v":0},{"$f":"'kros seznam'!FWG103","v":0},{"$f":"'kros seznam'!FWH103","v":0},{"$f":"'kros seznam'!FWI103","v":0},{"$f":"'kros seznam'!FWJ103","v":0},{"$f":"'kros seznam'!FWK103","v":0},{"$f":"'kros seznam'!FWL103","v":0},{"$f":"'kros seznam'!FWM103","v":0},{"$f":"'kros seznam'!FWN103","v":0},{"$f":"'kros seznam'!FWO103","v":0},{"$f":"'kros seznam'!FWP103","v":0},{"$f":"'kros seznam'!FWQ103","v":0},{"$f":"'kros seznam'!FWR103","v":0},{"$f":"'kros seznam'!FWS103","v":0},{"$f":"'kros seznam'!FWT103","v":0},{"$f":"'kros seznam'!FWU103","v":0},{"$f":"'kros seznam'!FWV103","v":0},{"$f":"'kros seznam'!FWW103","v":0},{"$f":"'kros seznam'!FWX103","v":0},{"$f":"'kros seznam'!FWY103","v":0},{"$f":"'kros seznam'!FWZ103","v":0},{"$f":"'kros seznam'!FXA103","v":0},{"$f":"'kros seznam'!FXB103","v":0},{"$f":"'kros seznam'!FXC103","v":0},{"$f":"'kros seznam'!FXD103","v":0},{"$f":"'kros seznam'!FXE103","v":0},{"$f":"'kros seznam'!FXF103","v":0},{"$f":"'kros seznam'!FXG103","v":0},{"$f":"'kros seznam'!FXH103","v":0},{"$f":"'kros seznam'!FXI103","v":0},{"$f":"'kros seznam'!FXJ103","v":0},{"$f":"'kros seznam'!FXK103","v":0},{"$f":"'kros seznam'!FXL103","v":0},{"$f":"'kros seznam'!FXM103","v":0},{"$f":"'kros seznam'!FXN103","v":0},{"$f":"'kros seznam'!FXO103","v":0},{"$f":"'kros seznam'!FXP103","v":0},{"$f":"'kros seznam'!FXQ103","v":0},{"$f":"'kros seznam'!FXR103","v":0},{"$f":"'kros seznam'!FXS103","v":0},{"$f":"'kros seznam'!FXT103","v":0},{"$f":"'kros seznam'!FXU103","v":0},{"$f":"'kros seznam'!FXV103","v":0},{"$f":"'kros seznam'!FXW103","v":0},{"$f":"'kros seznam'!FXX103","v":0},{"$f":"'kros seznam'!FXY103","v":0},{"$f":"'kros seznam'!FXZ103","v":0},{"$f":"'kros seznam'!FYA103","v":0},{"$f":"'kros seznam'!FYB103","v":0},{"$f":"'kros seznam'!FYC103","v":0},{"$f":"'kros seznam'!FYD103","v":0},{"$f":"'kros seznam'!FYE103","v":0},{"$f":"'kros seznam'!FYF103","v":0},{"$f":"'kros seznam'!FYG103","v":0},{"$f":"'kros seznam'!FYH103","v":0},{"$f":"'kros seznam'!FYI103","v":0},{"$f":"'kros seznam'!FYJ103","v":0},{"$f":"'kros seznam'!FYK103","v":0},{"$f":"'kros seznam'!FYL103","v":0},{"$f":"'kros seznam'!FYM103","v":0},{"$f":"'kros seznam'!FYN103","v":0},{"$f":"'kros seznam'!FYO103","v":0},{"$f":"'kros seznam'!FYP103","v":0},{"$f":"'kros seznam'!FYQ103","v":0},{"$f":"'kros seznam'!FYR103","v":0},{"$f":"'kros seznam'!FYS103","v":0},{"$f":"'kros seznam'!FYT103","v":0},{"$f":"'kros seznam'!FYU103","v":0},{"$f":"'kros seznam'!FYV103","v":0},{"$f":"'kros seznam'!FYW103","v":0},{"$f":"'kros seznam'!FYX103","v":0},{"$f":"'kros seznam'!FYY103","v":0},{"$f":"'kros seznam'!FYZ103","v":0},{"$f":"'kros seznam'!FZA103","v":0},{"$f":"'kros seznam'!FZB103","v":0},{"$f":"'kros seznam'!FZC103","v":0},{"$f":"'kros seznam'!FZD103","v":0},{"$f":"'kros seznam'!FZE103","v":0},{"$f":"'kros seznam'!FZF103","v":0},{"$f":"'kros seznam'!FZG103","v":0},{"$f":"'kros seznam'!FZH103","v":0},{"$f":"'kros seznam'!FZI103","v":0},{"$f":"'kros seznam'!FZJ103","v":0},{"$f":"'kros seznam'!FZK103","v":0},{"$f":"'kros seznam'!FZL103","v":0},{"$f":"'kros seznam'!FZM103","v":0},{"$f":"'kros seznam'!FZN103","v":0},{"$f":"'kros seznam'!FZO103","v":0},{"$f":"'kros seznam'!FZP103","v":0},{"$f":"'kros seznam'!FZQ103","v":0},{"$f":"'kros seznam'!FZR103","v":0},{"$f":"'kros seznam'!FZS103","v":0},{"$f":"'kros seznam'!FZT103","v":0},{"$f":"'kros seznam'!FZU103","v":0},{"$f":"'kros seznam'!FZV103","v":0},{"$f":"'kros seznam'!FZW103","v":0},{"$f":"'kros seznam'!FZX103","v":0},{"$f":"'kros seznam'!FZY103","v":0},{"$f":"'kros seznam'!FZZ103","v":0},{"$f":"'kros seznam'!GAA103","v":0},{"$f":"'kros seznam'!GAB103","v":0},{"$f":"'kros seznam'!GAC103","v":0},{"$f":"'kros seznam'!GAD103","v":0},{"$f":"'kros seznam'!GAE103","v":0},{"$f":"'kros seznam'!GAF103","v":0},{"$f":"'kros seznam'!GAG103","v":0},{"$f":"'kros seznam'!GAH103","v":0},{"$f":"'kros seznam'!GAI103","v":0},{"$f":"'kros seznam'!GAJ103","v":0},{"$f":"'kros seznam'!GAK103","v":0},{"$f":"'kros seznam'!GAL103","v":0},{"$f":"'kros seznam'!GAM103","v":0},{"$f":"'kros seznam'!GAN103","v":0},{"$f":"'kros seznam'!GAO103","v":0},{"$f":"'kros seznam'!GAP103","v":0},{"$f":"'kros seznam'!GAQ103","v":0},{"$f":"'kros seznam'!GAR103","v":0},{"$f":"'kros seznam'!GAS103","v":0},{"$f":"'kros seznam'!GAT103","v":0},{"$f":"'kros seznam'!GAU103","v":0},{"$f":"'kros seznam'!GAV103","v":0},{"$f":"'kros seznam'!GAW103","v":0},{"$f":"'kros seznam'!GAX103","v":0},{"$f":"'kros seznam'!GAY103","v":0},{"$f":"'kros seznam'!GAZ103","v":0},{"$f":"'kros seznam'!GBA103","v":0},{"$f":"'kros seznam'!GBB103","v":0},{"$f":"'kros seznam'!GBC103","v":0},{"$f":"'kros seznam'!GBD103","v":0},{"$f":"'kros seznam'!GBE103","v":0},{"$f":"'kros seznam'!GBF103","v":0},{"$f":"'kros seznam'!GBG103","v":0},{"$f":"'kros seznam'!GBH103","v":0},{"$f":"'kros seznam'!GBI103","v":0},{"$f":"'kros seznam'!GBJ103","v":0},{"$f":"'kros seznam'!GBK103","v":0},{"$f":"'kros seznam'!GBL103","v":0},{"$f":"'kros seznam'!GBM103","v":0},{"$f":"'kros seznam'!GBN103","v":0},{"$f":"'kros seznam'!GBO103","v":0},{"$f":"'kros seznam'!GBP103","v":0},{"$f":"'kros seznam'!GBQ103","v":0},{"$f":"'kros seznam'!GBR103","v":0},{"$f":"'kros seznam'!GBS103","v":0},{"$f":"'kros seznam'!GBT103","v":0},{"$f":"'kros seznam'!GBU103","v":0},{"$f":"'kros seznam'!GBV103","v":0},{"$f":"'kros seznam'!GBW103","v":0},{"$f":"'kros seznam'!GBX103","v":0},{"$f":"'kros seznam'!GBY103","v":0},{"$f":"'kros seznam'!GBZ103","v":0},{"$f":"'kros seznam'!GCA103","v":0},{"$f":"'kros seznam'!GCB103","v":0},{"$f":"'kros seznam'!GCC103","v":0},{"$f":"'kros seznam'!GCD103","v":0},{"$f":"'kros seznam'!GCE103","v":0},{"$f":"'kros seznam'!GCF103","v":0},{"$f":"'kros seznam'!GCG103","v":0},{"$f":"'kros seznam'!GCH103","v":0},{"$f":"'kros seznam'!GCI103","v":0},{"$f":"'kros seznam'!GCJ103","v":0},{"$f":"'kros seznam'!GCK103","v":0},{"$f":"'kros seznam'!GCL103","v":0},{"$f":"'kros seznam'!GCM103","v":0},{"$f":"'kros seznam'!GCN103","v":0},{"$f":"'kros seznam'!GCO103","v":0},{"$f":"'kros seznam'!GCP103","v":0},{"$f":"'kros seznam'!GCQ103","v":0},{"$f":"'kros seznam'!GCR103","v":0},{"$f":"'kros seznam'!GCS103","v":0},{"$f":"'kros seznam'!GCT103","v":0},{"$f":"'kros seznam'!GCU103","v":0},{"$f":"'kros seznam'!GCV103","v":0},{"$f":"'kros seznam'!GCW103","v":0},{"$f":"'kros seznam'!GCX103","v":0},{"$f":"'kros seznam'!GCY103","v":0},{"$f":"'kros seznam'!GCZ103","v":0},{"$f":"'kros seznam'!GDA103","v":0},{"$f":"'kros seznam'!GDB103","v":0},{"$f":"'kros seznam'!GDC103","v":0},{"$f":"'kros seznam'!GDD103","v":0},{"$f":"'kros seznam'!GDE103","v":0},{"$f":"'kros seznam'!GDF103","v":0},{"$f":"'kros seznam'!GDG103","v":0},{"$f":"'kros seznam'!GDH103","v":0},{"$f":"'kros seznam'!GDI103","v":0},{"$f":"'kros seznam'!GDJ103","v":0},{"$f":"'kros seznam'!GDK103","v":0},{"$f":"'kros seznam'!GDL103","v":0},{"$f":"'kros seznam'!GDM103","v":0},{"$f":"'kros seznam'!GDN103","v":0},{"$f":"'kros seznam'!GDO103","v":0},{"$f":"'kros seznam'!GDP103","v":0},{"$f":"'kros seznam'!GDQ103","v":0},{"$f":"'kros seznam'!GDR103","v":0},{"$f":"'kros seznam'!GDS103","v":0},{"$f":"'kros seznam'!GDT103","v":0},{"$f":"'kros seznam'!GDU103","v":0},{"$f":"'kros seznam'!GDV103","v":0},{"$f":"'kros seznam'!GDW103","v":0},{"$f":"'kros seznam'!GDX103","v":0},{"$f":"'kros seznam'!GDY103","v":0},{"$f":"'kros seznam'!GDZ103","v":0},{"$f":"'kros seznam'!GEA103","v":0},{"$f":"'kros seznam'!GEB103","v":0},{"$f":"'kros seznam'!GEC103","v":0},{"$f":"'kros seznam'!GED103","v":0},{"$f":"'kros seznam'!GEE103","v":0},{"$f":"'kros seznam'!GEF103","v":0},{"$f":"'kros seznam'!GEG103","v":0},{"$f":"'kros seznam'!GEH103","v":0},{"$f":"'kros seznam'!GEI103","v":0},{"$f":"'kros seznam'!GEJ103","v":0},{"$f":"'kros seznam'!GEK103","v":0},{"$f":"'kros seznam'!GEL103","v":0},{"$f":"'kros seznam'!GEM103","v":0},{"$f":"'kros seznam'!GEN103","v":0},{"$f":"'kros seznam'!GEO103","v":0},{"$f":"'kros seznam'!GEP103","v":0},{"$f":"'kros seznam'!GEQ103","v":0},{"$f":"'kros seznam'!GER103","v":0},{"$f":"'kros seznam'!GES103","v":0},{"$f":"'kros seznam'!GET103","v":0},{"$f":"'kros seznam'!GEU103","v":0},{"$f":"'kros seznam'!GEV103","v":0},{"$f":"'kros seznam'!GEW103","v":0},{"$f":"'kros seznam'!GEX103","v":0},{"$f":"'kros seznam'!GEY103","v":0},{"$f":"'kros seznam'!GEZ103","v":0},{"$f":"'kros seznam'!GFA103","v":0},{"$f":"'kros seznam'!GFB103","v":0},{"$f":"'kros seznam'!GFC103","v":0},{"$f":"'kros seznam'!GFD103","v":0},{"$f":"'kros seznam'!GFE103","v":0},{"$f":"'kros seznam'!GFF103","v":0},{"$f":"'kros seznam'!GFG103","v":0},{"$f":"'kros seznam'!GFH103","v":0},{"$f":"'kros seznam'!GFI103","v":0},{"$f":"'kros seznam'!GFJ103","v":0},{"$f":"'kros seznam'!GFK103","v":0},{"$f":"'kros seznam'!GFL103","v":0},{"$f":"'kros seznam'!GFM103","v":0},{"$f":"'kros seznam'!GFN103","v":0},{"$f":"'kros seznam'!GFO103","v":0},{"$f":"'kros seznam'!GFP103","v":0},{"$f":"'kros seznam'!GFQ103","v":0},{"$f":"'kros seznam'!GFR103","v":0},{"$f":"'kros seznam'!GFS103","v":0},{"$f":"'kros seznam'!GFT103","v":0},{"$f":"'kros seznam'!GFU103","v":0},{"$f":"'kros seznam'!GFV103","v":0},{"$f":"'kros seznam'!GFW103","v":0},{"$f":"'kros seznam'!GFX103","v":0},{"$f":"'kros seznam'!GFY103","v":0},{"$f":"'kros seznam'!GFZ103","v":0},{"$f":"'kros seznam'!GGA103","v":0},{"$f":"'kros seznam'!GGB103","v":0},{"$f":"'kros seznam'!GGC103","v":0},{"$f":"'kros seznam'!GGD103","v":0},{"$f":"'kros seznam'!GGE103","v":0},{"$f":"'kros seznam'!GGF103","v":0},{"$f":"'kros seznam'!GGG103","v":0},{"$f":"'kros seznam'!GGH103","v":0},{"$f":"'kros seznam'!GGI103","v":0},{"$f":"'kros seznam'!GGJ103","v":0},{"$f":"'kros seznam'!GGK103","v":0},{"$f":"'kros seznam'!GGL103","v":0},{"$f":"'kros seznam'!GGM103","v":0},{"$f":"'kros seznam'!GGN103","v":0},{"$f":"'kros seznam'!GGO103","v":0},{"$f":"'kros seznam'!GGP103","v":0},{"$f":"'kros seznam'!GGQ103","v":0},{"$f":"'kros seznam'!GGR103","v":0},{"$f":"'kros seznam'!GGS103","v":0},{"$f":"'kros seznam'!GGT103","v":0},{"$f":"'kros seznam'!GGU103","v":0},{"$f":"'kros seznam'!GGV103","v":0},{"$f":"'kros seznam'!GGW103","v":0},{"$f":"'kros seznam'!GGX103","v":0},{"$f":"'kros seznam'!GGY103","v":0},{"$f":"'kros seznam'!GGZ103","v":0},{"$f":"'kros seznam'!GHA103","v":0},{"$f":"'kros seznam'!GHB103","v":0},{"$f":"'kros seznam'!GHC103","v":0},{"$f":"'kros seznam'!GHD103","v":0},{"$f":"'kros seznam'!GHE103","v":0},{"$f":"'kros seznam'!GHF103","v":0},{"$f":"'kros seznam'!GHG103","v":0},{"$f":"'kros seznam'!GHH103","v":0},{"$f":"'kros seznam'!GHI103","v":0},{"$f":"'kros seznam'!GHJ103","v":0},{"$f":"'kros seznam'!GHK103","v":0},{"$f":"'kros seznam'!GHL103","v":0},{"$f":"'kros seznam'!GHM103","v":0},{"$f":"'kros seznam'!GHN103","v":0},{"$f":"'kros seznam'!GHO103","v":0},{"$f":"'kros seznam'!GHP103","v":0},{"$f":"'kros seznam'!GHQ103","v":0},{"$f":"'kros seznam'!GHR103","v":0},{"$f":"'kros seznam'!GHS103","v":0},{"$f":"'kros seznam'!GHT103","v":0},{"$f":"'kros seznam'!GHU103","v":0},{"$f":"'kros seznam'!GHV103","v":0},{"$f":"'kros seznam'!GHW103","v":0},{"$f":"'kros seznam'!GHX103","v":0},{"$f":"'kros seznam'!GHY103","v":0},{"$f":"'kros seznam'!GHZ103","v":0},{"$f":"'kros seznam'!GIA103","v":0},{"$f":"'kros seznam'!GIB103","v":0},{"$f":"'kros seznam'!GIC103","v":0},{"$f":"'kros seznam'!GID103","v":0},{"$f":"'kros seznam'!GIE103","v":0},{"$f":"'kros seznam'!GIF103","v":0},{"$f":"'kros seznam'!GIG103","v":0},{"$f":"'kros seznam'!GIH103","v":0},{"$f":"'kros seznam'!GII103","v":0},{"$f":"'kros seznam'!GIJ103","v":0},{"$f":"'kros seznam'!GIK103","v":0},{"$f":"'kros seznam'!GIL103","v":0},{"$f":"'kros seznam'!GIM103","v":0},{"$f":"'kros seznam'!GIN103","v":0},{"$f":"'kros seznam'!GIO103","v":0},{"$f":"'kros seznam'!GIP103","v":0},{"$f":"'kros seznam'!GIQ103","v":0},{"$f":"'kros seznam'!GIR103","v":0},{"$f":"'kros seznam'!GIS103","v":0},{"$f":"'kros seznam'!GIT103","v":0},{"$f":"'kros seznam'!GIU103","v":0},{"$f":"'kros seznam'!GIV103","v":0},{"$f":"'kros seznam'!GIW103","v":0},{"$f":"'kros seznam'!GIX103","v":0},{"$f":"'kros seznam'!GIY103","v":0},{"$f":"'kros seznam'!GIZ103","v":0},{"$f":"'kros seznam'!GJA103","v":0},{"$f":"'kros seznam'!GJB103","v":0},{"$f":"'kros seznam'!GJC103","v":0},{"$f":"'kros seznam'!GJD103","v":0},{"$f":"'kros seznam'!GJE103","v":0},{"$f":"'kros seznam'!GJF103","v":0},{"$f":"'kros seznam'!GJG103","v":0},{"$f":"'kros seznam'!GJH103","v":0},{"$f":"'kros seznam'!GJI103","v":0},{"$f":"'kros seznam'!GJJ103","v":0},{"$f":"'kros seznam'!GJK103","v":0},{"$f":"'kros seznam'!GJL103","v":0},{"$f":"'kros seznam'!GJM103","v":0},{"$f":"'kros seznam'!GJN103","v":0},{"$f":"'kros seznam'!GJO103","v":0},{"$f":"'kros seznam'!GJP103","v":0},{"$f":"'kros seznam'!GJQ103","v":0},{"$f":"'kros seznam'!GJR103","v":0},{"$f":"'kros seznam'!GJS103","v":0},{"$f":"'kros seznam'!GJT103","v":0},{"$f":"'kros seznam'!GJU103","v":0},{"$f":"'kros seznam'!GJV103","v":0},{"$f":"'kros seznam'!GJW103","v":0},{"$f":"'kros seznam'!GJX103","v":0},{"$f":"'kros seznam'!GJY103","v":0},{"$f":"'kros seznam'!GJZ103","v":0},{"$f":"'kros seznam'!GKA103","v":0},{"$f":"'kros seznam'!GKB103","v":0},{"$f":"'kros seznam'!GKC103","v":0},{"$f":"'kros seznam'!GKD103","v":0},{"$f":"'kros seznam'!GKE103","v":0},{"$f":"'kros seznam'!GKF103","v":0},{"$f":"'kros seznam'!GKG103","v":0},{"$f":"'kros seznam'!GKH103","v":0},{"$f":"'kros seznam'!GKI103","v":0},{"$f":"'kros seznam'!GKJ103","v":0},{"$f":"'kros seznam'!GKK103","v":0},{"$f":"'kros seznam'!GKL103","v":0},{"$f":"'kros seznam'!GKM103","v":0},{"$f":"'kros seznam'!GKN103","v":0},{"$f":"'kros seznam'!GKO103","v":0},{"$f":"'kros seznam'!GKP103","v":0},{"$f":"'kros seznam'!GKQ103","v":0},{"$f":"'kros seznam'!GKR103","v":0},{"$f":"'kros seznam'!GKS103","v":0},{"$f":"'kros seznam'!GKT103","v":0},{"$f":"'kros seznam'!GKU103","v":0},{"$f":"'kros seznam'!GKV103","v":0},{"$f":"'kros seznam'!GKW103","v":0},{"$f":"'kros seznam'!GKX103","v":0},{"$f":"'kros seznam'!GKY103","v":0},{"$f":"'kros seznam'!GKZ103","v":0},{"$f":"'kros seznam'!GLA103","v":0},{"$f":"'kros seznam'!GLB103","v":0},{"$f":"'kros seznam'!GLC103","v":0},{"$f":"'kros seznam'!GLD103","v":0},{"$f":"'kros seznam'!GLE103","v":0},{"$f":"'kros seznam'!GLF103","v":0},{"$f":"'kros seznam'!GLG103","v":0},{"$f":"'kros seznam'!GLH103","v":0},{"$f":"'kros seznam'!GLI103","v":0},{"$f":"'kros seznam'!GLJ103","v":0},{"$f":"'kros seznam'!GLK103","v":0},{"$f":"'kros seznam'!GLL103","v":0},{"$f":"'kros seznam'!GLM103","v":0},{"$f":"'kros seznam'!GLN103","v":0},{"$f":"'kros seznam'!GLO103","v":0},{"$f":"'kros seznam'!GLP103","v":0},{"$f":"'kros seznam'!GLQ103","v":0},{"$f":"'kros seznam'!GLR103","v":0},{"$f":"'kros seznam'!GLS103","v":0},{"$f":"'kros seznam'!GLT103","v":0},{"$f":"'kros seznam'!GLU103","v":0},{"$f":"'kros seznam'!GLV103","v":0},{"$f":"'kros seznam'!GLW103","v":0},{"$f":"'kros seznam'!GLX103","v":0},{"$f":"'kros seznam'!GLY103","v":0},{"$f":"'kros seznam'!GLZ103","v":0},{"$f":"'kros seznam'!GMA103","v":0},{"$f":"'kros seznam'!GMB103","v":0},{"$f":"'kros seznam'!GMC103","v":0},{"$f":"'kros seznam'!GMD103","v":0},{"$f":"'kros seznam'!GME103","v":0},{"$f":"'kros seznam'!GMF103","v":0},{"$f":"'kros seznam'!GMG103","v":0},{"$f":"'kros seznam'!GMH103","v":0},{"$f":"'kros seznam'!GMI103","v":0},{"$f":"'kros seznam'!GMJ103","v":0},{"$f":"'kros seznam'!GMK103","v":0},{"$f":"'kros seznam'!GML103","v":0},{"$f":"'kros seznam'!GMM103","v":0},{"$f":"'kros seznam'!GMN103","v":0},{"$f":"'kros seznam'!GMO103","v":0},{"$f":"'kros seznam'!GMP103","v":0},{"$f":"'kros seznam'!GMQ103","v":0},{"$f":"'kros seznam'!GMR103","v":0},{"$f":"'kros seznam'!GMS103","v":0},{"$f":"'kros seznam'!GMT103","v":0},{"$f":"'kros seznam'!GMU103","v":0},{"$f":"'kros seznam'!GMV103","v":0},{"$f":"'kros seznam'!GMW103","v":0},{"$f":"'kros seznam'!GMX103","v":0},{"$f":"'kros seznam'!GMY103","v":0},{"$f":"'kros seznam'!GMZ103","v":0},{"$f":"'kros seznam'!GNA103","v":0},{"$f":"'kros seznam'!GNB103","v":0},{"$f":"'kros seznam'!GNC103","v":0},{"$f":"'kros seznam'!GND103","v":0},{"$f":"'kros seznam'!GNE103","v":0},{"$f":"'kros seznam'!GNF103","v":0},{"$f":"'kros seznam'!GNG103","v":0},{"$f":"'kros seznam'!GNH103","v":0},{"$f":"'kros seznam'!GNI103","v":0},{"$f":"'kros seznam'!GNJ103","v":0},{"$f":"'kros seznam'!GNK103","v":0},{"$f":"'kros seznam'!GNL103","v":0},{"$f":"'kros seznam'!GNM103","v":0},{"$f":"'kros seznam'!GNN103","v":0},{"$f":"'kros seznam'!GNO103","v":0},{"$f":"'kros seznam'!GNP103","v":0},{"$f":"'kros seznam'!GNQ103","v":0},{"$f":"'kros seznam'!GNR103","v":0},{"$f":"'kros seznam'!GNS103","v":0},{"$f":"'kros seznam'!GNT103","v":0},{"$f":"'kros seznam'!GNU103","v":0},{"$f":"'kros seznam'!GNV103","v":0},{"$f":"'kros seznam'!GNW103","v":0},{"$f":"'kros seznam'!GNX103","v":0},{"$f":"'kros seznam'!GNY103","v":0},{"$f":"'kros seznam'!GNZ103","v":0},{"$f":"'kros seznam'!GOA103","v":0},{"$f":"'kros seznam'!GOB103","v":0},{"$f":"'kros seznam'!GOC103","v":0},{"$f":"'kros seznam'!GOD103","v":0},{"$f":"'kros seznam'!GOE103","v":0},{"$f":"'kros seznam'!GOF103","v":0},{"$f":"'kros seznam'!GOG103","v":0},{"$f":"'kros seznam'!GOH103","v":0},{"$f":"'kros seznam'!GOI103","v":0},{"$f":"'kros seznam'!GOJ103","v":0},{"$f":"'kros seznam'!GOK103","v":0},{"$f":"'kros seznam'!GOL103","v":0},{"$f":"'kros seznam'!GOM103","v":0},{"$f":"'kros seznam'!GON103","v":0},{"$f":"'kros seznam'!GOO103","v":0},{"$f":"'kros seznam'!GOP103","v":0},{"$f":"'kros seznam'!GOQ103","v":0},{"$f":"'kros seznam'!GOR103","v":0},{"$f":"'kros seznam'!GOS103","v":0},{"$f":"'kros seznam'!GOT103","v":0},{"$f":"'kros seznam'!GOU103","v":0},{"$f":"'kros seznam'!GOV103","v":0},{"$f":"'kros seznam'!GOW103","v":0},{"$f":"'kros seznam'!GOX103","v":0},{"$f":"'kros seznam'!GOY103","v":0},{"$f":"'kros seznam'!GOZ103","v":0},{"$f":"'kros seznam'!GPA103","v":0},{"$f":"'kros seznam'!GPB103","v":0},{"$f":"'kros seznam'!GPC103","v":0},{"$f":"'kros seznam'!GPD103","v":0},{"$f":"'kros seznam'!GPE103","v":0},{"$f":"'kros seznam'!GPF103","v":0},{"$f":"'kros seznam'!GPG103","v":0},{"$f":"'kros seznam'!GPH103","v":0},{"$f":"'kros seznam'!GPI103","v":0},{"$f":"'kros seznam'!GPJ103","v":0},{"$f":"'kros seznam'!GPK103","v":0},{"$f":"'kros seznam'!GPL103","v":0},{"$f":"'kros seznam'!GPM103","v":0},{"$f":"'kros seznam'!GPN103","v":0},{"$f":"'kros seznam'!GPO103","v":0},{"$f":"'kros seznam'!GPP103","v":0},{"$f":"'kros seznam'!GPQ103","v":0},{"$f":"'kros seznam'!GPR103","v":0},{"$f":"'kros seznam'!GPS103","v":0},{"$f":"'kros seznam'!GPT103","v":0},{"$f":"'kros seznam'!GPU103","v":0},{"$f":"'kros seznam'!GPV103","v":0},{"$f":"'kros seznam'!GPW103","v":0},{"$f":"'kros seznam'!GPX103","v":0},{"$f":"'kros seznam'!GPY103","v":0},{"$f":"'kros seznam'!GPZ103","v":0},{"$f":"'kros seznam'!GQA103","v":0},{"$f":"'kros seznam'!GQB103","v":0},{"$f":"'kros seznam'!GQC103","v":0},{"$f":"'kros seznam'!GQD103","v":0},{"$f":"'kros seznam'!GQE103","v":0},{"$f":"'kros seznam'!GQF103","v":0},{"$f":"'kros seznam'!GQG103","v":0},{"$f":"'kros seznam'!GQH103","v":0},{"$f":"'kros seznam'!GQI103","v":0},{"$f":"'kros seznam'!GQJ103","v":0},{"$f":"'kros seznam'!GQK103","v":0},{"$f":"'kros seznam'!GQL103","v":0},{"$f":"'kros seznam'!GQM103","v":0},{"$f":"'kros seznam'!GQN103","v":0},{"$f":"'kros seznam'!GQO103","v":0},{"$f":"'kros seznam'!GQP103","v":0},{"$f":"'kros seznam'!GQQ103","v":0},{"$f":"'kros seznam'!GQR103","v":0},{"$f":"'kros seznam'!GQS103","v":0},{"$f":"'kros seznam'!GQT103","v":0},{"$f":"'kros seznam'!GQU103","v":0},{"$f":"'kros seznam'!GQV103","v":0},{"$f":"'kros seznam'!GQW103","v":0},{"$f":"'kros seznam'!GQX103","v":0},{"$f":"'kros seznam'!GQY103","v":0},{"$f":"'kros seznam'!GQZ103","v":0},{"$f":"'kros seznam'!GRA103","v":0},{"$f":"'kros seznam'!GRB103","v":0},{"$f":"'kros seznam'!GRC103","v":0},{"$f":"'kros seznam'!GRD103","v":0},{"$f":"'kros seznam'!GRE103","v":0},{"$f":"'kros seznam'!GRF103","v":0},{"$f":"'kros seznam'!GRG103","v":0},{"$f":"'kros seznam'!GRH103","v":0},{"$f":"'kros seznam'!GRI103","v":0},{"$f":"'kros seznam'!GRJ103","v":0},{"$f":"'kros seznam'!GRK103","v":0},{"$f":"'kros seznam'!GRL103","v":0},{"$f":"'kros seznam'!GRM103","v":0},{"$f":"'kros seznam'!GRN103","v":0},{"$f":"'kros seznam'!GRO103","v":0},{"$f":"'kros seznam'!GRP103","v":0},{"$f":"'kros seznam'!GRQ103","v":0},{"$f":"'kros seznam'!GRR103","v":0},{"$f":"'kros seznam'!GRS103","v":0},{"$f":"'kros seznam'!GRT103","v":0},{"$f":"'kros seznam'!GRU103","v":0},{"$f":"'kros seznam'!GRV103","v":0},{"$f":"'kros seznam'!GRW103","v":0},{"$f":"'kros seznam'!GRX103","v":0},{"$f":"'kros seznam'!GRY103","v":0},{"$f":"'kros seznam'!GRZ103","v":0},{"$f":"'kros seznam'!GSA103","v":0},{"$f":"'kros seznam'!GSB103","v":0},{"$f":"'kros seznam'!GSC103","v":0},{"$f":"'kros seznam'!GSD103","v":0},{"$f":"'kros seznam'!GSE103","v":0},{"$f":"'kros seznam'!GSF103","v":0},{"$f":"'kros seznam'!GSG103","v":0},{"$f":"'kros seznam'!GSH103","v":0},{"$f":"'kros seznam'!GSI103","v":0},{"$f":"'kros seznam'!GSJ103","v":0},{"$f":"'kros seznam'!GSK103","v":0},{"$f":"'kros seznam'!GSL103","v":0},{"$f":"'kros seznam'!GSM103","v":0},{"$f":"'kros seznam'!GSN103","v":0},{"$f":"'kros seznam'!GSO103","v":0},{"$f":"'kros seznam'!GSP103","v":0},{"$f":"'kros seznam'!GSQ103","v":0},{"$f":"'kros seznam'!GSR103","v":0},{"$f":"'kros seznam'!GSS103","v":0},{"$f":"'kros seznam'!GST103","v":0},{"$f":"'kros seznam'!GSU103","v":0},{"$f":"'kros seznam'!GSV103","v":0},{"$f":"'kros seznam'!GSW103","v":0},{"$f":"'kros seznam'!GSX103","v":0},{"$f":"'kros seznam'!GSY103","v":0},{"$f":"'kros seznam'!GSZ103","v":0},{"$f":"'kros seznam'!GTA103","v":0},{"$f":"'kros seznam'!GTB103","v":0},{"$f":"'kros seznam'!GTC103","v":0},{"$f":"'kros seznam'!GTD103","v":0},{"$f":"'kros seznam'!GTE103","v":0},{"$f":"'kros seznam'!GTF103","v":0},{"$f":"'kros seznam'!GTG103","v":0},{"$f":"'kros seznam'!GTH103","v":0},{"$f":"'kros seznam'!GTI103","v":0},{"$f":"'kros seznam'!GTJ103","v":0},{"$f":"'kros seznam'!GTK103","v":0},{"$f":"'kros seznam'!GTL103","v":0},{"$f":"'kros seznam'!GTM103","v":0},{"$f":"'kros seznam'!GTN103","v":0},{"$f":"'kros seznam'!GTO103","v":0},{"$f":"'kros seznam'!GTP103","v":0},{"$f":"'kros seznam'!GTQ103","v":0},{"$f":"'kros seznam'!GTR103","v":0},{"$f":"'kros seznam'!GTS103","v":0},{"$f":"'kros seznam'!GTT103","v":0},{"$f":"'kros seznam'!GTU103","v":0},{"$f":"'kros seznam'!GTV103","v":0},{"$f":"'kros seznam'!GTW103","v":0},{"$f":"'kros seznam'!GTX103","v":0},{"$f":"'kros seznam'!GTY103","v":0},{"$f":"'kros seznam'!GTZ103","v":0},{"$f":"'kros seznam'!GUA103","v":0},{"$f":"'kros seznam'!GUB103","v":0},{"$f":"'kros seznam'!GUC103","v":0},{"$f":"'kros seznam'!GUD103","v":0},{"$f":"'kros seznam'!GUE103","v":0},{"$f":"'kros seznam'!GUF103","v":0},{"$f":"'kros seznam'!GUG103","v":0},{"$f":"'kros seznam'!GUH103","v":0},{"$f":"'kros seznam'!GUI103","v":0},{"$f":"'kros seznam'!GUJ103","v":0},{"$f":"'kros seznam'!GUK103","v":0},{"$f":"'kros seznam'!GUL103","v":0},{"$f":"'kros seznam'!GUM103","v":0},{"$f":"'kros seznam'!GUN103","v":0},{"$f":"'kros seznam'!GUO103","v":0},{"$f":"'kros seznam'!GUP103","v":0},{"$f":"'kros seznam'!GUQ103","v":0},{"$f":"'kros seznam'!GUR103","v":0},{"$f":"'kros seznam'!GUS103","v":0},{"$f":"'kros seznam'!GUT103","v":0},{"$f":"'kros seznam'!GUU103","v":0},{"$f":"'kros seznam'!GUV103","v":0},{"$f":"'kros seznam'!GUW103","v":0},{"$f":"'kros seznam'!GUX103","v":0},{"$f":"'kros seznam'!GUY103","v":0},{"$f":"'kros seznam'!GUZ103","v":0},{"$f":"'kros seznam'!GVA103","v":0},{"$f":"'kros seznam'!GVB103","v":0},{"$f":"'kros seznam'!GVC103","v":0},{"$f":"'kros seznam'!GVD103","v":0},{"$f":"'kros seznam'!GVE103","v":0},{"$f":"'kros seznam'!GVF103","v":0},{"$f":"'kros seznam'!GVG103","v":0},{"$f":"'kros seznam'!GVH103","v":0},{"$f":"'kros seznam'!GVI103","v":0},{"$f":"'kros seznam'!GVJ103","v":0},{"$f":"'kros seznam'!GVK103","v":0},{"$f":"'kros seznam'!GVL103","v":0},{"$f":"'kros seznam'!GVM103","v":0},{"$f":"'kros seznam'!GVN103","v":0},{"$f":"'kros seznam'!GVO103","v":0},{"$f":"'kros seznam'!GVP103","v":0},{"$f":"'kros seznam'!GVQ103","v":0},{"$f":"'kros seznam'!GVR103","v":0},{"$f":"'kros seznam'!GVS103","v":0},{"$f":"'kros seznam'!GVT103","v":0},{"$f":"'kros seznam'!GVU103","v":0},{"$f":"'kros seznam'!GVV103","v":0},{"$f":"'kros seznam'!GVW103","v":0},{"$f":"'kros seznam'!GVX103","v":0},{"$f":"'kros seznam'!GVY103","v":0},{"$f":"'kros seznam'!GVZ103","v":0},{"$f":"'kros seznam'!GWA103","v":0},{"$f":"'kros seznam'!GWB103","v":0},{"$f":"'kros seznam'!GWC103","v":0},{"$f":"'kros seznam'!GWD103","v":0},{"$f":"'kros seznam'!GWE103","v":0},{"$f":"'kros seznam'!GWF103","v":0},{"$f":"'kros seznam'!GWG103","v":0},{"$f":"'kros seznam'!GWH103","v":0},{"$f":"'kros seznam'!GWI103","v":0},{"$f":"'kros seznam'!GWJ103","v":0},{"$f":"'kros seznam'!GWK103","v":0},{"$f":"'kros seznam'!GWL103","v":0},{"$f":"'kros seznam'!GWM103","v":0},{"$f":"'kros seznam'!GWN103","v":0},{"$f":"'kros seznam'!GWO103","v":0},{"$f":"'kros seznam'!GWP103","v":0},{"$f":"'kros seznam'!GWQ103","v":0},{"$f":"'kros seznam'!GWR103","v":0},{"$f":"'kros seznam'!GWS103","v":0},{"$f":"'kros seznam'!GWT103","v":0},{"$f":"'kros seznam'!GWU103","v":0},{"$f":"'kros seznam'!GWV103","v":0},{"$f":"'kros seznam'!GWW103","v":0},{"$f":"'kros seznam'!GWX103","v":0},{"$f":"'kros seznam'!GWY103","v":0},{"$f":"'kros seznam'!GWZ103","v":0},{"$f":"'kros seznam'!GXA103","v":0},{"$f":"'kros seznam'!GXB103","v":0},{"$f":"'kros seznam'!GXC103","v":0},{"$f":"'kros seznam'!GXD103","v":0},{"$f":"'kros seznam'!GXE103","v":0},{"$f":"'kros seznam'!GXF103","v":0},{"$f":"'kros seznam'!GXG103","v":0},{"$f":"'kros seznam'!GXH103","v":0},{"$f":"'kros seznam'!GXI103","v":0},{"$f":"'kros seznam'!GXJ103","v":0},{"$f":"'kros seznam'!GXK103","v":0},{"$f":"'kros seznam'!GXL103","v":0},{"$f":"'kros seznam'!GXM103","v":0},{"$f":"'kros seznam'!GXN103","v":0},{"$f":"'kros seznam'!GXO103","v":0},{"$f":"'kros seznam'!GXP103","v":0},{"$f":"'kros seznam'!GXQ103","v":0},{"$f":"'kros seznam'!GXR103","v":0},{"$f":"'kros seznam'!GXS103","v":0},{"$f":"'kros seznam'!GXT103","v":0},{"$f":"'kros seznam'!GXU103","v":0},{"$f":"'kros seznam'!GXV103","v":0},{"$f":"'kros seznam'!GXW103","v":0},{"$f":"'kros seznam'!GXX103","v":0},{"$f":"'kros seznam'!GXY103","v":0},{"$f":"'kros seznam'!GXZ103","v":0},{"$f":"'kros seznam'!GYA103","v":0},{"$f":"'kros seznam'!GYB103","v":0},{"$f":"'kros seznam'!GYC103","v":0},{"$f":"'kros seznam'!GYD103","v":0},{"$f":"'kros seznam'!GYE103","v":0},{"$f":"'kros seznam'!GYF103","v":0},{"$f":"'kros seznam'!GYG103","v":0},{"$f":"'kros seznam'!GYH103","v":0},{"$f":"'kros seznam'!GYI103","v":0},{"$f":"'kros seznam'!GYJ103","v":0},{"$f":"'kros seznam'!GYK103","v":0},{"$f":"'kros seznam'!GYL103","v":0},{"$f":"'kros seznam'!GYM103","v":0},{"$f":"'kros seznam'!GYN103","v":0},{"$f":"'kros seznam'!GYO103","v":0},{"$f":"'kros seznam'!GYP103","v":0},{"$f":"'kros seznam'!GYQ103","v":0},{"$f":"'kros seznam'!GYR103","v":0},{"$f":"'kros seznam'!GYS103","v":0},{"$f":"'kros seznam'!GYT103","v":0},{"$f":"'kros seznam'!GYU103","v":0},{"$f":"'kros seznam'!GYV103","v":0},{"$f":"'kros seznam'!GYW103","v":0},{"$f":"'kros seznam'!GYX103","v":0},{"$f":"'kros seznam'!GYY103","v":0},{"$f":"'kros seznam'!GYZ103","v":0},{"$f":"'kros seznam'!GZA103","v":0},{"$f":"'kros seznam'!GZB103","v":0},{"$f":"'kros seznam'!GZC103","v":0},{"$f":"'kros seznam'!GZD103","v":0},{"$f":"'kros seznam'!GZE103","v":0},{"$f":"'kros seznam'!GZF103","v":0},{"$f":"'kros seznam'!GZG103","v":0},{"$f":"'kros seznam'!GZH103","v":0},{"$f":"'kros seznam'!GZI103","v":0},{"$f":"'kros seznam'!GZJ103","v":0},{"$f":"'kros seznam'!GZK103","v":0},{"$f":"'kros seznam'!GZL103","v":0},{"$f":"'kros seznam'!GZM103","v":0},{"$f":"'kros seznam'!GZN103","v":0},{"$f":"'kros seznam'!GZO103","v":0},{"$f":"'kros seznam'!GZP103","v":0},{"$f":"'kros seznam'!GZQ103","v":0},{"$f":"'kros seznam'!GZR103","v":0},{"$f":"'kros seznam'!GZS103","v":0},{"$f":"'kros seznam'!GZT103","v":0},{"$f":"'kros seznam'!GZU103","v":0},{"$f":"'kros seznam'!GZV103","v":0},{"$f":"'kros seznam'!GZW103","v":0},{"$f":"'kros seznam'!GZX103","v":0},{"$f":"'kros seznam'!GZY103","v":0},{"$f":"'kros seznam'!GZZ103","v":0},{"$f":"'kros seznam'!HAA103","v":0},{"$f":"'kros seznam'!HAB103","v":0},{"$f":"'kros seznam'!HAC103","v":0},{"$f":"'kros seznam'!HAD103","v":0},{"$f":"'kros seznam'!HAE103","v":0},{"$f":"'kros seznam'!HAF103","v":0},{"$f":"'kros seznam'!HAG103","v":0},{"$f":"'kros seznam'!HAH103","v":0},{"$f":"'kros seznam'!HAI103","v":0},{"$f":"'kros seznam'!HAJ103","v":0},{"$f":"'kros seznam'!HAK103","v":0},{"$f":"'kros seznam'!HAL103","v":0},{"$f":"'kros seznam'!HAM103","v":0},{"$f":"'kros seznam'!HAN103","v":0},{"$f":"'kros seznam'!HAO103","v":0},{"$f":"'kros seznam'!HAP103","v":0},{"$f":"'kros seznam'!HAQ103","v":0},{"$f":"'kros seznam'!HAR103","v":0},{"$f":"'kros seznam'!HAS103","v":0},{"$f":"'kros seznam'!HAT103","v":0},{"$f":"'kros seznam'!HAU103","v":0},{"$f":"'kros seznam'!HAV103","v":0},{"$f":"'kros seznam'!HAW103","v":0},{"$f":"'kros seznam'!HAX103","v":0},{"$f":"'kros seznam'!HAY103","v":0},{"$f":"'kros seznam'!HAZ103","v":0},{"$f":"'kros seznam'!HBA103","v":0},{"$f":"'kros seznam'!HBB103","v":0},{"$f":"'kros seznam'!HBC103","v":0},{"$f":"'kros seznam'!HBD103","v":0},{"$f":"'kros seznam'!HBE103","v":0},{"$f":"'kros seznam'!HBF103","v":0},{"$f":"'kros seznam'!HBG103","v":0},{"$f":"'kros seznam'!HBH103","v":0},{"$f":"'kros seznam'!HBI103","v":0},{"$f":"'kros seznam'!HBJ103","v":0},{"$f":"'kros seznam'!HBK103","v":0},{"$f":"'kros seznam'!HBL103","v":0},{"$f":"'kros seznam'!HBM103","v":0},{"$f":"'kros seznam'!HBN103","v":0},{"$f":"'kros seznam'!HBO103","v":0},{"$f":"'kros seznam'!HBP103","v":0},{"$f":"'kros seznam'!HBQ103","v":0},{"$f":"'kros seznam'!HBR103","v":0},{"$f":"'kros seznam'!HBS103","v":0},{"$f":"'kros seznam'!HBT103","v":0},{"$f":"'kros seznam'!HBU103","v":0},{"$f":"'kros seznam'!HBV103","v":0},{"$f":"'kros seznam'!HBW103","v":0},{"$f":"'kros seznam'!HBX103","v":0},{"$f":"'kros seznam'!HBY103","v":0},{"$f":"'kros seznam'!HBZ103","v":0},{"$f":"'kros seznam'!HCA103","v":0},{"$f":"'kros seznam'!HCB103","v":0},{"$f":"'kros seznam'!HCC103","v":0},{"$f":"'kros seznam'!HCD103","v":0},{"$f":"'kros seznam'!HCE103","v":0},{"$f":"'kros seznam'!HCF103","v":0},{"$f":"'kros seznam'!HCG103","v":0},{"$f":"'kros seznam'!HCH103","v":0},{"$f":"'kros seznam'!HCI103","v":0},{"$f":"'kros seznam'!HCJ103","v":0},{"$f":"'kros seznam'!HCK103","v":0},{"$f":"'kros seznam'!HCL103","v":0},{"$f":"'kros seznam'!HCM103","v":0},{"$f":"'kros seznam'!HCN103","v":0},{"$f":"'kros seznam'!HCO103","v":0},{"$f":"'kros seznam'!HCP103","v":0},{"$f":"'kros seznam'!HCQ103","v":0},{"$f":"'kros seznam'!HCR103","v":0},{"$f":"'kros seznam'!HCS103","v":0},{"$f":"'kros seznam'!HCT103","v":0},{"$f":"'kros seznam'!HCU103","v":0},{"$f":"'kros seznam'!HCV103","v":0},{"$f":"'kros seznam'!HCW103","v":0},{"$f":"'kros seznam'!HCX103","v":0},{"$f":"'kros seznam'!HCY103","v":0},{"$f":"'kros seznam'!HCZ103","v":0},{"$f":"'kros seznam'!HDA103","v":0},{"$f":"'kros seznam'!HDB103","v":0},{"$f":"'kros seznam'!HDC103","v":0},{"$f":"'kros seznam'!HDD103","v":0},{"$f":"'kros seznam'!HDE103","v":0},{"$f":"'kros seznam'!HDF103","v":0},{"$f":"'kros seznam'!HDG103","v":0},{"$f":"'kros seznam'!HDH103","v":0},{"$f":"'kros seznam'!HDI103","v":0},{"$f":"'kros seznam'!HDJ103","v":0},{"$f":"'kros seznam'!HDK103","v":0},{"$f":"'kros seznam'!HDL103","v":0},{"$f":"'kros seznam'!HDM103","v":0},{"$f":"'kros seznam'!HDN103","v":0},{"$f":"'kros seznam'!HDO103","v":0},{"$f":"'kros seznam'!HDP103","v":0},{"$f":"'kros seznam'!HDQ103","v":0},{"$f":"'kros seznam'!HDR103","v":0},{"$f":"'kros seznam'!HDS103","v":0},{"$f":"'kros seznam'!HDT103","v":0},{"$f":"'kros seznam'!HDU103","v":0},{"$f":"'kros seznam'!HDV103","v":0},{"$f":"'kros seznam'!HDW103","v":0},{"$f":"'kros seznam'!HDX103","v":0},{"$f":"'kros seznam'!HDY103","v":0},{"$f":"'kros seznam'!HDZ103","v":0},{"$f":"'kros seznam'!HEA103","v":0},{"$f":"'kros seznam'!HEB103","v":0},{"$f":"'kros seznam'!HEC103","v":0},{"$f":"'kros seznam'!HED103","v":0},{"$f":"'kros seznam'!HEE103","v":0},{"$f":"'kros seznam'!HEF103","v":0},{"$f":"'kros seznam'!HEG103","v":0},{"$f":"'kros seznam'!HEH103","v":0},{"$f":"'kros seznam'!HEI103","v":0},{"$f":"'kros seznam'!HEJ103","v":0},{"$f":"'kros seznam'!HEK103","v":0},{"$f":"'kros seznam'!HEL103","v":0},{"$f":"'kros seznam'!HEM103","v":0},{"$f":"'kros seznam'!HEN103","v":0},{"$f":"'kros seznam'!HEO103","v":0},{"$f":"'kros seznam'!HEP103","v":0},{"$f":"'kros seznam'!HEQ103","v":0},{"$f":"'kros seznam'!HER103","v":0},{"$f":"'kros seznam'!HES103","v":0},{"$f":"'kros seznam'!HET103","v":0},{"$f":"'kros seznam'!HEU103","v":0},{"$f":"'kros seznam'!HEV103","v":0},{"$f":"'kros seznam'!HEW103","v":0},{"$f":"'kros seznam'!HEX103","v":0},{"$f":"'kros seznam'!HEY103","v":0},{"$f":"'kros seznam'!HEZ103","v":0},{"$f":"'kros seznam'!HFA103","v":0},{"$f":"'kros seznam'!HFB103","v":0},{"$f":"'kros seznam'!HFC103","v":0},{"$f":"'kros seznam'!HFD103","v":0},{"$f":"'kros seznam'!HFE103","v":0},{"$f":"'kros seznam'!HFF103","v":0},{"$f":"'kros seznam'!HFG103","v":0},{"$f":"'kros seznam'!HFH103","v":0},{"$f":"'kros seznam'!HFI103","v":0},{"$f":"'kros seznam'!HFJ103","v":0},{"$f":"'kros seznam'!HFK103","v":0},{"$f":"'kros seznam'!HFL103","v":0},{"$f":"'kros seznam'!HFM103","v":0},{"$f":"'kros seznam'!HFN103","v":0},{"$f":"'kros seznam'!HFO103","v":0},{"$f":"'kros seznam'!HFP103","v":0},{"$f":"'kros seznam'!HFQ103","v":0},{"$f":"'kros seznam'!HFR103","v":0},{"$f":"'kros seznam'!HFS103","v":0},{"$f":"'kros seznam'!HFT103","v":0},{"$f":"'kros seznam'!HFU103","v":0},{"$f":"'kros seznam'!HFV103","v":0},{"$f":"'kros seznam'!HFW103","v":0},{"$f":"'kros seznam'!HFX103","v":0},{"$f":"'kros seznam'!HFY103","v":0},{"$f":"'kros seznam'!HFZ103","v":0},{"$f":"'kros seznam'!HGA103","v":0},{"$f":"'kros seznam'!HGB103","v":0},{"$f":"'kros seznam'!HGC103","v":0},{"$f":"'kros seznam'!HGD103","v":0},{"$f":"'kros seznam'!HGE103","v":0},{"$f":"'kros seznam'!HGF103","v":0},{"$f":"'kros seznam'!HGG103","v":0},{"$f":"'kros seznam'!HGH103","v":0},{"$f":"'kros seznam'!HGI103","v":0},{"$f":"'kros seznam'!HGJ103","v":0},{"$f":"'kros seznam'!HGK103","v":0},{"$f":"'kros seznam'!HGL103","v":0},{"$f":"'kros seznam'!HGM103","v":0},{"$f":"'kros seznam'!HGN103","v":0},{"$f":"'kros seznam'!HGO103","v":0},{"$f":"'kros seznam'!HGP103","v":0},{"$f":"'kros seznam'!HGQ103","v":0},{"$f":"'kros seznam'!HGR103","v":0},{"$f":"'kros seznam'!HGS103","v":0},{"$f":"'kros seznam'!HGT103","v":0},{"$f":"'kros seznam'!HGU103","v":0},{"$f":"'kros seznam'!HGV103","v":0},{"$f":"'kros seznam'!HGW103","v":0},{"$f":"'kros seznam'!HGX103","v":0},{"$f":"'kros seznam'!HGY103","v":0},{"$f":"'kros seznam'!HGZ103","v":0},{"$f":"'kros seznam'!HHA103","v":0},{"$f":"'kros seznam'!HHB103","v":0},{"$f":"'kros seznam'!HHC103","v":0},{"$f":"'kros seznam'!HHD103","v":0},{"$f":"'kros seznam'!HHE103","v":0},{"$f":"'kros seznam'!HHF103","v":0},{"$f":"'kros seznam'!HHG103","v":0},{"$f":"'kros seznam'!HHH103","v":0},{"$f":"'kros seznam'!HHI103","v":0},{"$f":"'kros seznam'!HHJ103","v":0},{"$f":"'kros seznam'!HHK103","v":0},{"$f":"'kros seznam'!HHL103","v":0},{"$f":"'kros seznam'!HHM103","v":0},{"$f":"'kros seznam'!HHN103","v":0},{"$f":"'kros seznam'!HHO103","v":0},{"$f":"'kros seznam'!HHP103","v":0},{"$f":"'kros seznam'!HHQ103","v":0},{"$f":"'kros seznam'!HHR103","v":0},{"$f":"'kros seznam'!HHS103","v":0},{"$f":"'kros seznam'!HHT103","v":0},{"$f":"'kros seznam'!HHU103","v":0},{"$f":"'kros seznam'!HHV103","v":0},{"$f":"'kros seznam'!HHW103","v":0},{"$f":"'kros seznam'!HHX103","v":0},{"$f":"'kros seznam'!HHY103","v":0},{"$f":"'kros seznam'!HHZ103","v":0},{"$f":"'kros seznam'!HIA103","v":0},{"$f":"'kros seznam'!HIB103","v":0},{"$f":"'kros seznam'!HIC103","v":0},{"$f":"'kros seznam'!HID103","v":0},{"$f":"'kros seznam'!HIE103","v":0},{"$f":"'kros seznam'!HIF103","v":0},{"$f":"'kros seznam'!HIG103","v":0},{"$f":"'kros seznam'!HIH103","v":0},{"$f":"'kros seznam'!HII103","v":0},{"$f":"'kros seznam'!HIJ103","v":0},{"$f":"'kros seznam'!HIK103","v":0},{"$f":"'kros seznam'!HIL103","v":0},{"$f":"'kros seznam'!HIM103","v":0},{"$f":"'kros seznam'!HIN103","v":0},{"$f":"'kros seznam'!HIO103","v":0},{"$f":"'kros seznam'!HIP103","v":0},{"$f":"'kros seznam'!HIQ103","v":0},{"$f":"'kros seznam'!HIR103","v":0},{"$f":"'kros seznam'!HIS103","v":0},{"$f":"'kros seznam'!HIT103","v":0},{"$f":"'kros seznam'!HIU103","v":0},{"$f":"'kros seznam'!HIV103","v":0},{"$f":"'kros seznam'!HIW103","v":0},{"$f":"'kros seznam'!HIX103","v":0},{"$f":"'kros seznam'!HIY103","v":0},{"$f":"'kros seznam'!HIZ103","v":0},{"$f":"'kros seznam'!HJA103","v":0},{"$f":"'kros seznam'!HJB103","v":0},{"$f":"'kros seznam'!HJC103","v":0},{"$f":"'kros seznam'!HJD103","v":0},{"$f":"'kros seznam'!HJE103","v":0},{"$f":"'kros seznam'!HJF103","v":0},{"$f":"'kros seznam'!HJG103","v":0},{"$f":"'kros seznam'!HJH103","v":0},{"$f":"'kros seznam'!HJI103","v":0},{"$f":"'kros seznam'!HJJ103","v":0},{"$f":"'kros seznam'!HJK103","v":0},{"$f":"'kros seznam'!HJL103","v":0},{"$f":"'kros seznam'!HJM103","v":0},{"$f":"'kros seznam'!HJN103","v":0},{"$f":"'kros seznam'!HJO103","v":0},{"$f":"'kros seznam'!HJP103","v":0},{"$f":"'kros seznam'!HJQ103","v":0},{"$f":"'kros seznam'!HJR103","v":0},{"$f":"'kros seznam'!HJS103","v":0},{"$f":"'kros seznam'!HJT103","v":0},{"$f":"'kros seznam'!HJU103","v":0},{"$f":"'kros seznam'!HJV103","v":0},{"$f":"'kros seznam'!HJW103","v":0},{"$f":"'kros seznam'!HJX103","v":0},{"$f":"'kros seznam'!HJY103","v":0},{"$f":"'kros seznam'!HJZ103","v":0},{"$f":"'kros seznam'!HKA103","v":0},{"$f":"'kros seznam'!HKB103","v":0},{"$f":"'kros seznam'!HKC103","v":0},{"$f":"'kros seznam'!HKD103","v":0},{"$f":"'kros seznam'!HKE103","v":0},{"$f":"'kros seznam'!HKF103","v":0},{"$f":"'kros seznam'!HKG103","v":0},{"$f":"'kros seznam'!HKH103","v":0},{"$f":"'kros seznam'!HKI103","v":0},{"$f":"'kros seznam'!HKJ103","v":0},{"$f":"'kros seznam'!HKK103","v":0},{"$f":"'kros seznam'!HKL103","v":0},{"$f":"'kros seznam'!HKM103","v":0},{"$f":"'kros seznam'!HKN103","v":0},{"$f":"'kros seznam'!HKO103","v":0},{"$f":"'kros seznam'!HKP103","v":0},{"$f":"'kros seznam'!HKQ103","v":0},{"$f":"'kros seznam'!HKR103","v":0},{"$f":"'kros seznam'!HKS103","v":0},{"$f":"'kros seznam'!HKT103","v":0},{"$f":"'kros seznam'!HKU103","v":0},{"$f":"'kros seznam'!HKV103","v":0},{"$f":"'kros seznam'!HKW103","v":0},{"$f":"'kros seznam'!HKX103","v":0},{"$f":"'kros seznam'!HKY103","v":0},{"$f":"'kros seznam'!HKZ103","v":0},{"$f":"'kros seznam'!HLA103","v":0},{"$f":"'kros seznam'!HLB103","v":0},{"$f":"'kros seznam'!HLC103","v":0},{"$f":"'kros seznam'!HLD103","v":0},{"$f":"'kros seznam'!HLE103","v":0},{"$f":"'kros seznam'!HLF103","v":0},{"$f":"'kros seznam'!HLG103","v":0},{"$f":"'kros seznam'!HLH103","v":0},{"$f":"'kros seznam'!HLI103","v":0},{"$f":"'kros seznam'!HLJ103","v":0},{"$f":"'kros seznam'!HLK103","v":0},{"$f":"'kros seznam'!HLL103","v":0},{"$f":"'kros seznam'!HLM103","v":0},{"$f":"'kros seznam'!HLN103","v":0},{"$f":"'kros seznam'!HLO103","v":0},{"$f":"'kros seznam'!HLP103","v":0},{"$f":"'kros seznam'!HLQ103","v":0},{"$f":"'kros seznam'!HLR103","v":0},{"$f":"'kros seznam'!HLS103","v":0},{"$f":"'kros seznam'!HLT103","v":0},{"$f":"'kros seznam'!HLU103","v":0},{"$f":"'kros seznam'!HLV103","v":0},{"$f":"'kros seznam'!HLW103","v":0},{"$f":"'kros seznam'!HLX103","v":0},{"$f":"'kros seznam'!HLY103","v":0},{"$f":"'kros seznam'!HLZ103","v":0},{"$f":"'kros seznam'!HMA103","v":0},{"$f":"'kros seznam'!HMB103","v":0},{"$f":"'kros seznam'!HMC103","v":0},{"$f":"'kros seznam'!HMD103","v":0},{"$f":"'kros seznam'!HME103","v":0},{"$f":"'kros seznam'!HMF103","v":0},{"$f":"'kros seznam'!HMG103","v":0},{"$f":"'kros seznam'!HMH103","v":0},{"$f":"'kros seznam'!HMI103","v":0},{"$f":"'kros seznam'!HMJ103","v":0},{"$f":"'kros seznam'!HMK103","v":0},{"$f":"'kros seznam'!HML103","v":0},{"$f":"'kros seznam'!HMM103","v":0},{"$f":"'kros seznam'!HMN103","v":0},{"$f":"'kros seznam'!HMO103","v":0},{"$f":"'kros seznam'!HMP103","v":0},{"$f":"'kros seznam'!HMQ103","v":0},{"$f":"'kros seznam'!HMR103","v":0},{"$f":"'kros seznam'!HMS103","v":0},{"$f":"'kros seznam'!HMT103","v":0},{"$f":"'kros seznam'!HMU103","v":0},{"$f":"'kros seznam'!HMV103","v":0},{"$f":"'kros seznam'!HMW103","v":0},{"$f":"'kros seznam'!HMX103","v":0},{"$f":"'kros seznam'!HMY103","v":0},{"$f":"'kros seznam'!HMZ103","v":0},{"$f":"'kros seznam'!HNA103","v":0},{"$f":"'kros seznam'!HNB103","v":0},{"$f":"'kros seznam'!HNC103","v":0},{"$f":"'kros seznam'!HND103","v":0},{"$f":"'kros seznam'!HNE103","v":0},{"$f":"'kros seznam'!HNF103","v":0},{"$f":"'kros seznam'!HNG103","v":0},{"$f":"'kros seznam'!HNH103","v":0},{"$f":"'kros seznam'!HNI103","v":0},{"$f":"'kros seznam'!HNJ103","v":0},{"$f":"'kros seznam'!HNK103","v":0},{"$f":"'kros seznam'!HNL103","v":0},{"$f":"'kros seznam'!HNM103","v":0},{"$f":"'kros seznam'!HNN103","v":0},{"$f":"'kros seznam'!HNO103","v":0},{"$f":"'kros seznam'!HNP103","v":0},{"$f":"'kros seznam'!HNQ103","v":0},{"$f":"'kros seznam'!HNR103","v":0},{"$f":"'kros seznam'!HNS103","v":0},{"$f":"'kros seznam'!HNT103","v":0},{"$f":"'kros seznam'!HNU103","v":0},{"$f":"'kros seznam'!HNV103","v":0},{"$f":"'kros seznam'!HNW103","v":0},{"$f":"'kros seznam'!HNX103","v":0},{"$f":"'kros seznam'!HNY103","v":0},{"$f":"'kros seznam'!HNZ103","v":0},{"$f":"'kros seznam'!HOA103","v":0},{"$f":"'kros seznam'!HOB103","v":0},{"$f":"'kros seznam'!HOC103","v":0},{"$f":"'kros seznam'!HOD103","v":0},{"$f":"'kros seznam'!HOE103","v":0},{"$f":"'kros seznam'!HOF103","v":0},{"$f":"'kros seznam'!HOG103","v":0},{"$f":"'kros seznam'!HOH103","v":0},{"$f":"'kros seznam'!HOI103","v":0},{"$f":"'kros seznam'!HOJ103","v":0},{"$f":"'kros seznam'!HOK103","v":0},{"$f":"'kros seznam'!HOL103","v":0},{"$f":"'kros seznam'!HOM103","v":0},{"$f":"'kros seznam'!HON103","v":0},{"$f":"'kros seznam'!HOO103","v":0},{"$f":"'kros seznam'!HOP103","v":0},{"$f":"'kros seznam'!HOQ103","v":0},{"$f":"'kros seznam'!HOR103","v":0},{"$f":"'kros seznam'!HOS103","v":0},{"$f":"'kros seznam'!HOT103","v":0},{"$f":"'kros seznam'!HOU103","v":0},{"$f":"'kros seznam'!HOV103","v":0},{"$f":"'kros seznam'!HOW103","v":0},{"$f":"'kros seznam'!HOX103","v":0},{"$f":"'kros seznam'!HOY103","v":0},{"$f":"'kros seznam'!HOZ103","v":0},{"$f":"'kros seznam'!HPA103","v":0},{"$f":"'kros seznam'!HPB103","v":0},{"$f":"'kros seznam'!HPC103","v":0},{"$f":"'kros seznam'!HPD103","v":0},{"$f":"'kros seznam'!HPE103","v":0},{"$f":"'kros seznam'!HPF103","v":0},{"$f":"'kros seznam'!HPG103","v":0},{"$f":"'kros seznam'!HPH103","v":0},{"$f":"'kros seznam'!HPI103","v":0},{"$f":"'kros seznam'!HPJ103","v":0},{"$f":"'kros seznam'!HPK103","v":0},{"$f":"'kros seznam'!HPL103","v":0},{"$f":"'kros seznam'!HPM103","v":0},{"$f":"'kros seznam'!HPN103","v":0},{"$f":"'kros seznam'!HPO103","v":0},{"$f":"'kros seznam'!HPP103","v":0},{"$f":"'kros seznam'!HPQ103","v":0},{"$f":"'kros seznam'!HPR103","v":0},{"$f":"'kros seznam'!HPS103","v":0},{"$f":"'kros seznam'!HPT103","v":0},{"$f":"'kros seznam'!HPU103","v":0},{"$f":"'kros seznam'!HPV103","v":0},{"$f":"'kros seznam'!HPW103","v":0},{"$f":"'kros seznam'!HPX103","v":0},{"$f":"'kros seznam'!HPY103","v":0},{"$f":"'kros seznam'!HPZ103","v":0},{"$f":"'kros seznam'!HQA103","v":0},{"$f":"'kros seznam'!HQB103","v":0},{"$f":"'kros seznam'!HQC103","v":0},{"$f":"'kros seznam'!HQD103","v":0},{"$f":"'kros seznam'!HQE103","v":0},{"$f":"'kros seznam'!HQF103","v":0},{"$f":"'kros seznam'!HQG103","v":0},{"$f":"'kros seznam'!HQH103","v":0},{"$f":"'kros seznam'!HQI103","v":0},{"$f":"'kros seznam'!HQJ103","v":0},{"$f":"'kros seznam'!HQK103","v":0},{"$f":"'kros seznam'!HQL103","v":0},{"$f":"'kros seznam'!HQM103","v":0},{"$f":"'kros seznam'!HQN103","v":0},{"$f":"'kros seznam'!HQO103","v":0},{"$f":"'kros seznam'!HQP103","v":0},{"$f":"'kros seznam'!HQQ103","v":0},{"$f":"'kros seznam'!HQR103","v":0},{"$f":"'kros seznam'!HQS103","v":0},{"$f":"'kros seznam'!HQT103","v":0},{"$f":"'kros seznam'!HQU103","v":0},{"$f":"'kros seznam'!HQV103","v":0},{"$f":"'kros seznam'!HQW103","v":0},{"$f":"'kros seznam'!HQX103","v":0},{"$f":"'kros seznam'!HQY103","v":0},{"$f":"'kros seznam'!HQZ103","v":0},{"$f":"'kros seznam'!HRA103","v":0},{"$f":"'kros seznam'!HRB103","v":0},{"$f":"'kros seznam'!HRC103","v":0},{"$f":"'kros seznam'!HRD103","v":0},{"$f":"'kros seznam'!HRE103","v":0},{"$f":"'kros seznam'!HRF103","v":0},{"$f":"'kros seznam'!HRG103","v":0},{"$f":"'kros seznam'!HRH103","v":0},{"$f":"'kros seznam'!HRI103","v":0},{"$f":"'kros seznam'!HRJ103","v":0},{"$f":"'kros seznam'!HRK103","v":0},{"$f":"'kros seznam'!HRL103","v":0},{"$f":"'kros seznam'!HRM103","v":0},{"$f":"'kros seznam'!HRN103","v":0},{"$f":"'kros seznam'!HRO103","v":0},{"$f":"'kros seznam'!HRP103","v":0},{"$f":"'kros seznam'!HRQ103","v":0},{"$f":"'kros seznam'!HRR103","v":0},{"$f":"'kros seznam'!HRS103","v":0},{"$f":"'kros seznam'!HRT103","v":0},{"$f":"'kros seznam'!HRU103","v":0},{"$f":"'kros seznam'!HRV103","v":0},{"$f":"'kros seznam'!HRW103","v":0},{"$f":"'kros seznam'!HRX103","v":0},{"$f":"'kros seznam'!HRY103","v":0},{"$f":"'kros seznam'!HRZ103","v":0},{"$f":"'kros seznam'!HSA103","v":0},{"$f":"'kros seznam'!HSB103","v":0},{"$f":"'kros seznam'!HSC103","v":0},{"$f":"'kros seznam'!HSD103","v":0},{"$f":"'kros seznam'!HSE103","v":0},{"$f":"'kros seznam'!HSF103","v":0},{"$f":"'kros seznam'!HSG103","v":0},{"$f":"'kros seznam'!HSH103","v":0},{"$f":"'kros seznam'!HSI103","v":0},{"$f":"'kros seznam'!HSJ103","v":0},{"$f":"'kros seznam'!HSK103","v":0},{"$f":"'kros seznam'!HSL103","v":0},{"$f":"'kros seznam'!HSM103","v":0},{"$f":"'kros seznam'!HSN103","v":0},{"$f":"'kros seznam'!HSO103","v":0},{"$f":"'kros seznam'!HSP103","v":0},{"$f":"'kros seznam'!HSQ103","v":0},{"$f":"'kros seznam'!HSR103","v":0},{"$f":"'kros seznam'!HSS103","v":0},{"$f":"'kros seznam'!HST103","v":0},{"$f":"'kros seznam'!HSU103","v":0},{"$f":"'kros seznam'!HSV103","v":0},{"$f":"'kros seznam'!HSW103","v":0},{"$f":"'kros seznam'!HSX103","v":0},{"$f":"'kros seznam'!HSY103","v":0},{"$f":"'kros seznam'!HSZ103","v":0},{"$f":"'kros seznam'!HTA103","v":0},{"$f":"'kros seznam'!HTB103","v":0},{"$f":"'kros seznam'!HTC103","v":0},{"$f":"'kros seznam'!HTD103","v":0},{"$f":"'kros seznam'!HTE103","v":0},{"$f":"'kros seznam'!HTF103","v":0},{"$f":"'kros seznam'!HTG103","v":0},{"$f":"'kros seznam'!HTH103","v":0},{"$f":"'kros seznam'!HTI103","v":0},{"$f":"'kros seznam'!HTJ103","v":0},{"$f":"'kros seznam'!HTK103","v":0},{"$f":"'kros seznam'!HTL103","v":0},{"$f":"'kros seznam'!HTM103","v":0},{"$f":"'kros seznam'!HTN103","v":0},{"$f":"'kros seznam'!HTO103","v":0},{"$f":"'kros seznam'!HTP103","v":0},{"$f":"'kros seznam'!HTQ103","v":0},{"$f":"'kros seznam'!HTR103","v":0},{"$f":"'kros seznam'!HTS103","v":0},{"$f":"'kros seznam'!HTT103","v":0},{"$f":"'kros seznam'!HTU103","v":0},{"$f":"'kros seznam'!HTV103","v":0},{"$f":"'kros seznam'!HTW103","v":0},{"$f":"'kros seznam'!HTX103","v":0},{"$f":"'kros seznam'!HTY103","v":0},{"$f":"'kros seznam'!HTZ103","v":0},{"$f":"'kros seznam'!HUA103","v":0},{"$f":"'kros seznam'!HUB103","v":0},{"$f":"'kros seznam'!HUC103","v":0},{"$f":"'kros seznam'!HUD103","v":0},{"$f":"'kros seznam'!HUE103","v":0},{"$f":"'kros seznam'!HUF103","v":0},{"$f":"'kros seznam'!HUG103","v":0},{"$f":"'kros seznam'!HUH103","v":0},{"$f":"'kros seznam'!HUI103","v":0},{"$f":"'kros seznam'!HUJ103","v":0},{"$f":"'kros seznam'!HUK103","v":0},{"$f":"'kros seznam'!HUL103","v":0},{"$f":"'kros seznam'!HUM103","v":0},{"$f":"'kros seznam'!HUN103","v":0},{"$f":"'kros seznam'!HUO103","v":0},{"$f":"'kros seznam'!HUP103","v":0},{"$f":"'kros seznam'!HUQ103","v":0},{"$f":"'kros seznam'!HUR103","v":0},{"$f":"'kros seznam'!HUS103","v":0},{"$f":"'kros seznam'!HUT103","v":0},{"$f":"'kros seznam'!HUU103","v":0},{"$f":"'kros seznam'!HUV103","v":0},{"$f":"'kros seznam'!HUW103","v":0},{"$f":"'kros seznam'!HUX103","v":0},{"$f":"'kros seznam'!HUY103","v":0},{"$f":"'kros seznam'!HUZ103","v":0},{"$f":"'kros seznam'!HVA103","v":0},{"$f":"'kros seznam'!HVB103","v":0},{"$f":"'kros seznam'!HVC103","v":0},{"$f":"'kros seznam'!HVD103","v":0},{"$f":"'kros seznam'!HVE103","v":0},{"$f":"'kros seznam'!HVF103","v":0},{"$f":"'kros seznam'!HVG103","v":0},{"$f":"'kros seznam'!HVH103","v":0},{"$f":"'kros seznam'!HVI103","v":0},{"$f":"'kros seznam'!HVJ103","v":0},{"$f":"'kros seznam'!HVK103","v":0},{"$f":"'kros seznam'!HVL103","v":0},{"$f":"'kros seznam'!HVM103","v":0},{"$f":"'kros seznam'!HVN103","v":0},{"$f":"'kros seznam'!HVO103","v":0},{"$f":"'kros seznam'!HVP103","v":0},{"$f":"'kros seznam'!HVQ103","v":0},{"$f":"'kros seznam'!HVR103","v":0},{"$f":"'kros seznam'!HVS103","v":0},{"$f":"'kros seznam'!HVT103","v":0},{"$f":"'kros seznam'!HVU103","v":0},{"$f":"'kros seznam'!HVV103","v":0},{"$f":"'kros seznam'!HVW103","v":0},{"$f":"'kros seznam'!HVX103","v":0},{"$f":"'kros seznam'!HVY103","v":0},{"$f":"'kros seznam'!HVZ103","v":0},{"$f":"'kros seznam'!HWA103","v":0},{"$f":"'kros seznam'!HWB103","v":0},{"$f":"'kros seznam'!HWC103","v":0},{"$f":"'kros seznam'!HWD103","v":0},{"$f":"'kros seznam'!HWE103","v":0},{"$f":"'kros seznam'!HWF103","v":0},{"$f":"'kros seznam'!HWG103","v":0},{"$f":"'kros seznam'!HWH103","v":0},{"$f":"'kros seznam'!HWI103","v":0},{"$f":"'kros seznam'!HWJ103","v":0},{"$f":"'kros seznam'!HWK103","v":0},{"$f":"'kros seznam'!HWL103","v":0},{"$f":"'kros seznam'!HWM103","v":0},{"$f":"'kros seznam'!HWN103","v":0},{"$f":"'kros seznam'!HWO103","v":0},{"$f":"'kros seznam'!HWP103","v":0},{"$f":"'kros seznam'!HWQ103","v":0},{"$f":"'kros seznam'!HWR103","v":0},{"$f":"'kros seznam'!HWS103","v":0},{"$f":"'kros seznam'!HWT103","v":0},{"$f":"'kros seznam'!HWU103","v":0},{"$f":"'kros seznam'!HWV103","v":0},{"$f":"'kros seznam'!HWW103","v":0},{"$f":"'kros seznam'!HWX103","v":0},{"$f":"'kros seznam'!HWY103","v":0},{"$f":"'kros seznam'!HWZ103","v":0},{"$f":"'kros seznam'!HXA103","v":0},{"$f":"'kros seznam'!HXB103","v":0},{"$f":"'kros seznam'!HXC103","v":0},{"$f":"'kros seznam'!HXD103","v":0},{"$f":"'kros seznam'!HXE103","v":0},{"$f":"'kros seznam'!HXF103","v":0},{"$f":"'kros seznam'!HXG103","v":0},{"$f":"'kros seznam'!HXH103","v":0},{"$f":"'kros seznam'!HXI103","v":0},{"$f":"'kros seznam'!HXJ103","v":0},{"$f":"'kros seznam'!HXK103","v":0},{"$f":"'kros seznam'!HXL103","v":0},{"$f":"'kros seznam'!HXM103","v":0},{"$f":"'kros seznam'!HXN103","v":0},{"$f":"'kros seznam'!HXO103","v":0},{"$f":"'kros seznam'!HXP103","v":0},{"$f":"'kros seznam'!HXQ103","v":0},{"$f":"'kros seznam'!HXR103","v":0},{"$f":"'kros seznam'!HXS103","v":0},{"$f":"'kros seznam'!HXT103","v":0},{"$f":"'kros seznam'!HXU103","v":0},{"$f":"'kros seznam'!HXV103","v":0},{"$f":"'kros seznam'!HXW103","v":0},{"$f":"'kros seznam'!HXX103","v":0},{"$f":"'kros seznam'!HXY103","v":0},{"$f":"'kros seznam'!HXZ103","v":0},{"$f":"'kros seznam'!HYA103","v":0},{"$f":"'kros seznam'!HYB103","v":0},{"$f":"'kros seznam'!HYC103","v":0},{"$f":"'kros seznam'!HYD103","v":0},{"$f":"'kros seznam'!HYE103","v":0},{"$f":"'kros seznam'!HYF103","v":0},{"$f":"'kros seznam'!HYG103","v":0},{"$f":"'kros seznam'!HYH103","v":0},{"$f":"'kros seznam'!HYI103","v":0},{"$f":"'kros seznam'!HYJ103","v":0},{"$f":"'kros seznam'!HYK103","v":0},{"$f":"'kros seznam'!HYL103","v":0},{"$f":"'kros seznam'!HYM103","v":0},{"$f":"'kros seznam'!HYN103","v":0},{"$f":"'kros seznam'!HYO103","v":0},{"$f":"'kros seznam'!HYP103","v":0},{"$f":"'kros seznam'!HYQ103","v":0},{"$f":"'kros seznam'!HYR103","v":0},{"$f":"'kros seznam'!HYS103","v":0},{"$f":"'kros seznam'!HYT103","v":0},{"$f":"'kros seznam'!HYU103","v":0},{"$f":"'kros seznam'!HYV103","v":0},{"$f":"'kros seznam'!HYW103","v":0},{"$f":"'kros seznam'!HYX103","v":0},{"$f":"'kros seznam'!HYY103","v":0},{"$f":"'kros seznam'!HYZ103","v":0},{"$f":"'kros seznam'!HZA103","v":0},{"$f":"'kros seznam'!HZB103","v":0},{"$f":"'kros seznam'!HZC103","v":0},{"$f":"'kros seznam'!HZD103","v":0},{"$f":"'kros seznam'!HZE103","v":0},{"$f":"'kros seznam'!HZF103","v":0},{"$f":"'kros seznam'!HZG103","v":0},{"$f":"'kros seznam'!HZH103","v":0},{"$f":"'kros seznam'!HZI103","v":0},{"$f":"'kros seznam'!HZJ103","v":0},{"$f":"'kros seznam'!HZK103","v":0},{"$f":"'kros seznam'!HZL103","v":0},{"$f":"'kros seznam'!HZM103","v":0},{"$f":"'kros seznam'!HZN103","v":0},{"$f":"'kros seznam'!HZO103","v":0},{"$f":"'kros seznam'!HZP103","v":0},{"$f":"'kros seznam'!HZQ103","v":0},{"$f":"'kros seznam'!HZR103","v":0},{"$f":"'kros seznam'!HZS103","v":0},{"$f":"'kros seznam'!HZT103","v":0},{"$f":"'kros seznam'!HZU103","v":0},{"$f":"'kros seznam'!HZV103","v":0},{"$f":"'kros seznam'!HZW103","v":0},{"$f":"'kros seznam'!HZX103","v":0},{"$f":"'kros seznam'!HZY103","v":0},{"$f":"'kros seznam'!HZZ103","v":0},{"$f":"'kros seznam'!IAA103","v":0},{"$f":"'kros seznam'!IAB103","v":0},{"$f":"'kros seznam'!IAC103","v":0},{"$f":"'kros seznam'!IAD103","v":0},{"$f":"'kros seznam'!IAE103","v":0},{"$f":"'kros seznam'!IAF103","v":0},{"$f":"'kros seznam'!IAG103","v":0},{"$f":"'kros seznam'!IAH103","v":0},{"$f":"'kros seznam'!IAI103","v":0},{"$f":"'kros seznam'!IAJ103","v":0},{"$f":"'kros seznam'!IAK103","v":0},{"$f":"'kros seznam'!IAL103","v":0},{"$f":"'kros seznam'!IAM103","v":0},{"$f":"'kros seznam'!IAN103","v":0},{"$f":"'kros seznam'!IAO103","v":0},{"$f":"'kros seznam'!IAP103","v":0},{"$f":"'kros seznam'!IAQ103","v":0},{"$f":"'kros seznam'!IAR103","v":0},{"$f":"'kros seznam'!IAS103","v":0},{"$f":"'kros seznam'!IAT103","v":0},{"$f":"'kros seznam'!IAU103","v":0},{"$f":"'kros seznam'!IAV103","v":0},{"$f":"'kros seznam'!IAW103","v":0},{"$f":"'kros seznam'!IAX103","v":0},{"$f":"'kros seznam'!IAY103","v":0},{"$f":"'kros seznam'!IAZ103","v":0},{"$f":"'kros seznam'!IBA103","v":0},{"$f":"'kros seznam'!IBB103","v":0},{"$f":"'kros seznam'!IBC103","v":0},{"$f":"'kros seznam'!IBD103","v":0},{"$f":"'kros seznam'!IBE103","v":0},{"$f":"'kros seznam'!IBF103","v":0},{"$f":"'kros seznam'!IBG103","v":0},{"$f":"'kros seznam'!IBH103","v":0},{"$f":"'kros seznam'!IBI103","v":0},{"$f":"'kros seznam'!IBJ103","v":0},{"$f":"'kros seznam'!IBK103","v":0},{"$f":"'kros seznam'!IBL103","v":0},{"$f":"'kros seznam'!IBM103","v":0},{"$f":"'kros seznam'!IBN103","v":0},{"$f":"'kros seznam'!IBO103","v":0},{"$f":"'kros seznam'!IBP103","v":0},{"$f":"'kros seznam'!IBQ103","v":0},{"$f":"'kros seznam'!IBR103","v":0},{"$f":"'kros seznam'!IBS103","v":0},{"$f":"'kros seznam'!IBT103","v":0},{"$f":"'kros seznam'!IBU103","v":0},{"$f":"'kros seznam'!IBV103","v":0},{"$f":"'kros seznam'!IBW103","v":0},{"$f":"'kros seznam'!IBX103","v":0},{"$f":"'kros seznam'!IBY103","v":0},{"$f":"'kros seznam'!IBZ103","v":0},{"$f":"'kros seznam'!ICA103","v":0},{"$f":"'kros seznam'!ICB103","v":0},{"$f":"'kros seznam'!ICC103","v":0},{"$f":"'kros seznam'!ICD103","v":0},{"$f":"'kros seznam'!ICE103","v":0},{"$f":"'kros seznam'!ICF103","v":0},{"$f":"'kros seznam'!ICG103","v":0},{"$f":"'kros seznam'!ICH103","v":0},{"$f":"'kros seznam'!ICI103","v":0},{"$f":"'kros seznam'!ICJ103","v":0},{"$f":"'kros seznam'!ICK103","v":0},{"$f":"'kros seznam'!ICL103","v":0},{"$f":"'kros seznam'!ICM103","v":0},{"$f":"'kros seznam'!ICN103","v":0},{"$f":"'kros seznam'!ICO103","v":0},{"$f":"'kros seznam'!ICP103","v":0},{"$f":"'kros seznam'!ICQ103","v":0},{"$f":"'kros seznam'!ICR103","v":0},{"$f":"'kros seznam'!ICS103","v":0},{"$f":"'kros seznam'!ICT103","v":0},{"$f":"'kros seznam'!ICU103","v":0},{"$f":"'kros seznam'!ICV103","v":0},{"$f":"'kros seznam'!ICW103","v":0},{"$f":"'kros seznam'!ICX103","v":0},{"$f":"'kros seznam'!ICY103","v":0},{"$f":"'kros seznam'!ICZ103","v":0},{"$f":"'kros seznam'!IDA103","v":0},{"$f":"'kros seznam'!IDB103","v":0},{"$f":"'kros seznam'!IDC103","v":0},{"$f":"'kros seznam'!IDD103","v":0},{"$f":"'kros seznam'!IDE103","v":0},{"$f":"'kros seznam'!IDF103","v":0},{"$f":"'kros seznam'!IDG103","v":0},{"$f":"'kros seznam'!IDH103","v":0},{"$f":"'kros seznam'!IDI103","v":0},{"$f":"'kros seznam'!IDJ103","v":0},{"$f":"'kros seznam'!IDK103","v":0},{"$f":"'kros seznam'!IDL103","v":0},{"$f":"'kros seznam'!IDM103","v":0},{"$f":"'kros seznam'!IDN103","v":0},{"$f":"'kros seznam'!IDO103","v":0},{"$f":"'kros seznam'!IDP103","v":0},{"$f":"'kros seznam'!IDQ103","v":0},{"$f":"'kros seznam'!IDR103","v":0},{"$f":"'kros seznam'!IDS103","v":0},{"$f":"'kros seznam'!IDT103","v":0},{"$f":"'kros seznam'!IDU103","v":0},{"$f":"'kros seznam'!IDV103","v":0},{"$f":"'kros seznam'!IDW103","v":0},{"$f":"'kros seznam'!IDX103","v":0},{"$f":"'kros seznam'!IDY103","v":0},{"$f":"'kros seznam'!IDZ103","v":0},{"$f":"'kros seznam'!IEA103","v":0},{"$f":"'kros seznam'!IEB103","v":0},{"$f":"'kros seznam'!IEC103","v":0},{"$f":"'kros seznam'!IED103","v":0},{"$f":"'kros seznam'!IEE103","v":0},{"$f":"'kros seznam'!IEF103","v":0},{"$f":"'kros seznam'!IEG103","v":0},{"$f":"'kros seznam'!IEH103","v":0},{"$f":"'kros seznam'!IEI103","v":0},{"$f":"'kros seznam'!IEJ103","v":0},{"$f":"'kros seznam'!IEK103","v":0},{"$f":"'kros seznam'!IEL103","v":0},{"$f":"'kros seznam'!IEM103","v":0},{"$f":"'kros seznam'!IEN103","v":0},{"$f":"'kros seznam'!IEO103","v":0},{"$f":"'kros seznam'!IEP103","v":0},{"$f":"'kros seznam'!IEQ103","v":0},{"$f":"'kros seznam'!IER103","v":0},{"$f":"'kros seznam'!IES103","v":0},{"$f":"'kros seznam'!IET103","v":0},{"$f":"'kros seznam'!IEU103","v":0},{"$f":"'kros seznam'!IEV103","v":0},{"$f":"'kros seznam'!IEW103","v":0},{"$f":"'kros seznam'!IEX103","v":0},{"$f":"'kros seznam'!IEY103","v":0},{"$f":"'kros seznam'!IEZ103","v":0},{"$f":"'kros seznam'!IFA103","v":0},{"$f":"'kros seznam'!IFB103","v":0},{"$f":"'kros seznam'!IFC103","v":0},{"$f":"'kros seznam'!IFD103","v":0},{"$f":"'kros seznam'!IFE103","v":0},{"$f":"'kros seznam'!IFF103","v":0},{"$f":"'kros seznam'!IFG103","v":0},{"$f":"'kros seznam'!IFH103","v":0},{"$f":"'kros seznam'!IFI103","v":0},{"$f":"'kros seznam'!IFJ103","v":0},{"$f":"'kros seznam'!IFK103","v":0},{"$f":"'kros seznam'!IFL103","v":0},{"$f":"'kros seznam'!IFM103","v":0},{"$f":"'kros seznam'!IFN103","v":0},{"$f":"'kros seznam'!IFO103","v":0},{"$f":"'kros seznam'!IFP103","v":0},{"$f":"'kros seznam'!IFQ103","v":0},{"$f":"'kros seznam'!IFR103","v":0},{"$f":"'kros seznam'!IFS103","v":0},{"$f":"'kros seznam'!IFT103","v":0},{"$f":"'kros seznam'!IFU103","v":0},{"$f":"'kros seznam'!IFV103","v":0},{"$f":"'kros seznam'!IFW103","v":0},{"$f":"'kros seznam'!IFX103","v":0},{"$f":"'kros seznam'!IFY103","v":0},{"$f":"'kros seznam'!IFZ103","v":0},{"$f":"'kros seznam'!IGA103","v":0},{"$f":"'kros seznam'!IGB103","v":0},{"$f":"'kros seznam'!IGC103","v":0},{"$f":"'kros seznam'!IGD103","v":0},{"$f":"'kros seznam'!IGE103","v":0},{"$f":"'kros seznam'!IGF103","v":0},{"$f":"'kros seznam'!IGG103","v":0},{"$f":"'kros seznam'!IGH103","v":0},{"$f":"'kros seznam'!IGI103","v":0},{"$f":"'kros seznam'!IGJ103","v":0},{"$f":"'kros seznam'!IGK103","v":0},{"$f":"'kros seznam'!IGL103","v":0},{"$f":"'kros seznam'!IGM103","v":0},{"$f":"'kros seznam'!IGN103","v":0},{"$f":"'kros seznam'!IGO103","v":0},{"$f":"'kros seznam'!IGP103","v":0},{"$f":"'kros seznam'!IGQ103","v":0},{"$f":"'kros seznam'!IGR103","v":0},{"$f":"'kros seznam'!IGS103","v":0},{"$f":"'kros seznam'!IGT103","v":0},{"$f":"'kros seznam'!IGU103","v":0},{"$f":"'kros seznam'!IGV103","v":0},{"$f":"'kros seznam'!IGW103","v":0},{"$f":"'kros seznam'!IGX103","v":0},{"$f":"'kros seznam'!IGY103","v":0},{"$f":"'kros seznam'!IGZ103","v":0},{"$f":"'kros seznam'!IHA103","v":0},{"$f":"'kros seznam'!IHB103","v":0},{"$f":"'kros seznam'!IHC103","v":0},{"$f":"'kros seznam'!IHD103","v":0},{"$f":"'kros seznam'!IHE103","v":0},{"$f":"'kros seznam'!IHF103","v":0},{"$f":"'kros seznam'!IHG103","v":0},{"$f":"'kros seznam'!IHH103","v":0},{"$f":"'kros seznam'!IHI103","v":0},{"$f":"'kros seznam'!IHJ103","v":0},{"$f":"'kros seznam'!IHK103","v":0},{"$f":"'kros seznam'!IHL103","v":0},{"$f":"'kros seznam'!IHM103","v":0},{"$f":"'kros seznam'!IHN103","v":0},{"$f":"'kros seznam'!IHO103","v":0},{"$f":"'kros seznam'!IHP103","v":0},{"$f":"'kros seznam'!IHQ103","v":0},{"$f":"'kros seznam'!IHR103","v":0},{"$f":"'kros seznam'!IHS103","v":0},{"$f":"'kros seznam'!IHT103","v":0},{"$f":"'kros seznam'!IHU103","v":0},{"$f":"'kros seznam'!IHV103","v":0},{"$f":"'kros seznam'!IHW103","v":0},{"$f":"'kros seznam'!IHX103","v":0},{"$f":"'kros seznam'!IHY103","v":0},{"$f":"'kros seznam'!IHZ103","v":0},{"$f":"'kros seznam'!IIA103","v":0},{"$f":"'kros seznam'!IIB103","v":0},{"$f":"'kros seznam'!IIC103","v":0},{"$f":"'kros seznam'!IID103","v":0},{"$f":"'kros seznam'!IIE103","v":0},{"$f":"'kros seznam'!IIF103","v":0},{"$f":"'kros seznam'!IIG103","v":0},{"$f":"'kros seznam'!IIH103","v":0},{"$f":"'kros seznam'!III103","v":0},{"$f":"'kros seznam'!IIJ103","v":0},{"$f":"'kros seznam'!IIK103","v":0},{"$f":"'kros seznam'!IIL103","v":0},{"$f":"'kros seznam'!IIM103","v":0},{"$f":"'kros seznam'!IIN103","v":0},{"$f":"'kros seznam'!IIO103","v":0},{"$f":"'kros seznam'!IIP103","v":0},{"$f":"'kros seznam'!IIQ103","v":0},{"$f":"'kros seznam'!IIR103","v":0},{"$f":"'kros seznam'!IIS103","v":0},{"$f":"'kros seznam'!IIT103","v":0},{"$f":"'kros seznam'!IIU103","v":0},{"$f":"'kros seznam'!IIV103","v":0},{"$f":"'kros seznam'!IIW103","v":0},{"$f":"'kros seznam'!IIX103","v":0},{"$f":"'kros seznam'!IIY103","v":0},{"$f":"'kros seznam'!IIZ103","v":0},{"$f":"'kros seznam'!IJA103","v":0},{"$f":"'kros seznam'!IJB103","v":0},{"$f":"'kros seznam'!IJC103","v":0},{"$f":"'kros seznam'!IJD103","v":0},{"$f":"'kros seznam'!IJE103","v":0},{"$f":"'kros seznam'!IJF103","v":0},{"$f":"'kros seznam'!IJG103","v":0},{"$f":"'kros seznam'!IJH103","v":0},{"$f":"'kros seznam'!IJI103","v":0},{"$f":"'kros seznam'!IJJ103","v":0},{"$f":"'kros seznam'!IJK103","v":0},{"$f":"'kros seznam'!IJL103","v":0},{"$f":"'kros seznam'!IJM103","v":0},{"$f":"'kros seznam'!IJN103","v":0},{"$f":"'kros seznam'!IJO103","v":0},{"$f":"'kros seznam'!IJP103","v":0},{"$f":"'kros seznam'!IJQ103","v":0},{"$f":"'kros seznam'!IJR103","v":0},{"$f":"'kros seznam'!IJS103","v":0},{"$f":"'kros seznam'!IJT103","v":0},{"$f":"'kros seznam'!IJU103","v":0},{"$f":"'kros seznam'!IJV103","v":0},{"$f":"'kros seznam'!IJW103","v":0},{"$f":"'kros seznam'!IJX103","v":0},{"$f":"'kros seznam'!IJY103","v":0},{"$f":"'kros seznam'!IJZ103","v":0},{"$f":"'kros seznam'!IKA103","v":0},{"$f":"'kros seznam'!IKB103","v":0},{"$f":"'kros seznam'!IKC103","v":0},{"$f":"'kros seznam'!IKD103","v":0},{"$f":"'kros seznam'!IKE103","v":0},{"$f":"'kros seznam'!IKF103","v":0},{"$f":"'kros seznam'!IKG103","v":0},{"$f":"'kros seznam'!IKH103","v":0},{"$f":"'kros seznam'!IKI103","v":0},{"$f":"'kros seznam'!IKJ103","v":0},{"$f":"'kros seznam'!IKK103","v":0},{"$f":"'kros seznam'!IKL103","v":0},{"$f":"'kros seznam'!IKM103","v":0},{"$f":"'kros seznam'!IKN103","v":0},{"$f":"'kros seznam'!IKO103","v":0},{"$f":"'kros seznam'!IKP103","v":0},{"$f":"'kros seznam'!IKQ103","v":0},{"$f":"'kros seznam'!IKR103","v":0},{"$f":"'kros seznam'!IKS103","v":0},{"$f":"'kros seznam'!IKT103","v":0},{"$f":"'kros seznam'!IKU103","v":0},{"$f":"'kros seznam'!IKV103","v":0},{"$f":"'kros seznam'!IKW103","v":0},{"$f":"'kros seznam'!IKX103","v":0},{"$f":"'kros seznam'!IKY103","v":0},{"$f":"'kros seznam'!IKZ103","v":0},{"$f":"'kros seznam'!ILA103","v":0},{"$f":"'kros seznam'!ILB103","v":0},{"$f":"'kros seznam'!ILC103","v":0},{"$f":"'kros seznam'!ILD103","v":0},{"$f":"'kros seznam'!ILE103","v":0},{"$f":"'kros seznam'!ILF103","v":0},{"$f":"'kros seznam'!ILG103","v":0},{"$f":"'kros seznam'!ILH103","v":0},{"$f":"'kros seznam'!ILI103","v":0},{"$f":"'kros seznam'!ILJ103","v":0},{"$f":"'kros seznam'!ILK103","v":0},{"$f":"'kros seznam'!ILL103","v":0},{"$f":"'kros seznam'!ILM103","v":0},{"$f":"'kros seznam'!ILN103","v":0},{"$f":"'kros seznam'!ILO103","v":0},{"$f":"'kros seznam'!ILP103","v":0},{"$f":"'kros seznam'!ILQ103","v":0},{"$f":"'kros seznam'!ILR103","v":0},{"$f":"'kros seznam'!ILS103","v":0},{"$f":"'kros seznam'!ILT103","v":0},{"$f":"'kros seznam'!ILU103","v":0},{"$f":"'kros seznam'!ILV103","v":0},{"$f":"'kros seznam'!ILW103","v":0},{"$f":"'kros seznam'!ILX103","v":0},{"$f":"'kros seznam'!ILY103","v":0},{"$f":"'kros seznam'!ILZ103","v":0},{"$f":"'kros seznam'!IMA103","v":0},{"$f":"'kros seznam'!IMB103","v":0},{"$f":"'kros seznam'!IMC103","v":0},{"$f":"'kros seznam'!IMD103","v":0},{"$f":"'kros seznam'!IME103","v":0},{"$f":"'kros seznam'!IMF103","v":0},{"$f":"'kros seznam'!IMG103","v":0},{"$f":"'kros seznam'!IMH103","v":0},{"$f":"'kros seznam'!IMI103","v":0},{"$f":"'kros seznam'!IMJ103","v":0},{"$f":"'kros seznam'!IMK103","v":0},{"$f":"'kros seznam'!IML103","v":0},{"$f":"'kros seznam'!IMM103","v":0},{"$f":"'kros seznam'!IMN103","v":0},{"$f":"'kros seznam'!IMO103","v":0},{"$f":"'kros seznam'!IMP103","v":0},{"$f":"'kros seznam'!IMQ103","v":0},{"$f":"'kros seznam'!IMR103","v":0},{"$f":"'kros seznam'!IMS103","v":0},{"$f":"'kros seznam'!IMT103","v":0},{"$f":"'kros seznam'!IMU103","v":0},{"$f":"'kros seznam'!IMV103","v":0},{"$f":"'kros seznam'!IMW103","v":0},{"$f":"'kros seznam'!IMX103","v":0},{"$f":"'kros seznam'!IMY103","v":0},{"$f":"'kros seznam'!IMZ103","v":0},{"$f":"'kros seznam'!INA103","v":0},{"$f":"'kros seznam'!INB103","v":0},{"$f":"'kros seznam'!INC103","v":0},{"$f":"'kros seznam'!IND103","v":0},{"$f":"'kros seznam'!INE103","v":0},{"$f":"'kros seznam'!INF103","v":0},{"$f":"'kros seznam'!ING103","v":0},{"$f":"'kros seznam'!INH103","v":0},{"$f":"'kros seznam'!INI103","v":0},{"$f":"'kros seznam'!INJ103","v":0},{"$f":"'kros seznam'!INK103","v":0},{"$f":"'kros seznam'!INL103","v":0},{"$f":"'kros seznam'!INM103","v":0},{"$f":"'kros seznam'!INN103","v":0},{"$f":"'kros seznam'!INO103","v":0},{"$f":"'kros seznam'!INP103","v":0},{"$f":"'kros seznam'!INQ103","v":0},{"$f":"'kros seznam'!INR103","v":0},{"$f":"'kros seznam'!INS103","v":0},{"$f":"'kros seznam'!INT103","v":0},{"$f":"'kros seznam'!INU103","v":0},{"$f":"'kros seznam'!INV103","v":0},{"$f":"'kros seznam'!INW103","v":0},{"$f":"'kros seznam'!INX103","v":0},{"$f":"'kros seznam'!INY103","v":0},{"$f":"'kros seznam'!INZ103","v":0},{"$f":"'kros seznam'!IOA103","v":0},{"$f":"'kros seznam'!IOB103","v":0},{"$f":"'kros seznam'!IOC103","v":0},{"$f":"'kros seznam'!IOD103","v":0},{"$f":"'kros seznam'!IOE103","v":0},{"$f":"'kros seznam'!IOF103","v":0},{"$f":"'kros seznam'!IOG103","v":0},{"$f":"'kros seznam'!IOH103","v":0},{"$f":"'kros seznam'!IOI103","v":0},{"$f":"'kros seznam'!IOJ103","v":0},{"$f":"'kros seznam'!IOK103","v":0},{"$f":"'kros seznam'!IOL103","v":0},{"$f":"'kros seznam'!IOM103","v":0},{"$f":"'kros seznam'!ION103","v":0},{"$f":"'kros seznam'!IOO103","v":0},{"$f":"'kros seznam'!IOP103","v":0},{"$f":"'kros seznam'!IOQ103","v":0},{"$f":"'kros seznam'!IOR103","v":0},{"$f":"'kros seznam'!IOS103","v":0},{"$f":"'kros seznam'!IOT103","v":0},{"$f":"'kros seznam'!IOU103","v":0},{"$f":"'kros seznam'!IOV103","v":0},{"$f":"'kros seznam'!IOW103","v":0},{"$f":"'kros seznam'!IOX103","v":0},{"$f":"'kros seznam'!IOY103","v":0},{"$f":"'kros seznam'!IOZ103","v":0},{"$f":"'kros seznam'!IPA103","v":0},{"$f":"'kros seznam'!IPB103","v":0},{"$f":"'kros seznam'!IPC103","v":0},{"$f":"'kros seznam'!IPD103","v":0},{"$f":"'kros seznam'!IPE103","v":0},{"$f":"'kros seznam'!IPF103","v":0},{"$f":"'kros seznam'!IPG103","v":0},{"$f":"'kros seznam'!IPH103","v":0},{"$f":"'kros seznam'!IPI103","v":0},{"$f":"'kros seznam'!IPJ103","v":0},{"$f":"'kros seznam'!IPK103","v":0},{"$f":"'kros seznam'!IPL103","v":0},{"$f":"'kros seznam'!IPM103","v":0},{"$f":"'kros seznam'!IPN103","v":0},{"$f":"'kros seznam'!IPO103","v":0},{"$f":"'kros seznam'!IPP103","v":0},{"$f":"'kros seznam'!IPQ103","v":0},{"$f":"'kros seznam'!IPR103","v":0},{"$f":"'kros seznam'!IPS103","v":0},{"$f":"'kros seznam'!IPT103","v":0},{"$f":"'kros seznam'!IPU103","v":0},{"$f":"'kros seznam'!IPV103","v":0},{"$f":"'kros seznam'!IPW103","v":0},{"$f":"'kros seznam'!IPX103","v":0},{"$f":"'kros seznam'!IPY103","v":0},{"$f":"'kros seznam'!IPZ103","v":0},{"$f":"'kros seznam'!IQA103","v":0},{"$f":"'kros seznam'!IQB103","v":0},{"$f":"'kros seznam'!IQC103","v":0},{"$f":"'kros seznam'!IQD103","v":0},{"$f":"'kros seznam'!IQE103","v":0},{"$f":"'kros seznam'!IQF103","v":0},{"$f":"'kros seznam'!IQG103","v":0},{"$f":"'kros seznam'!IQH103","v":0},{"$f":"'kros seznam'!IQI103","v":0},{"$f":"'kros seznam'!IQJ103","v":0},{"$f":"'kros seznam'!IQK103","v":0},{"$f":"'kros seznam'!IQL103","v":0},{"$f":"'kros seznam'!IQM103","v":0},{"$f":"'kros seznam'!IQN103","v":0},{"$f":"'kros seznam'!IQO103","v":0},{"$f":"'kros seznam'!IQP103","v":0},{"$f":"'kros seznam'!IQQ103","v":0},{"$f":"'kros seznam'!IQR103","v":0},{"$f":"'kros seznam'!IQS103","v":0},{"$f":"'kros seznam'!IQT103","v":0},{"$f":"'kros seznam'!IQU103","v":0},{"$f":"'kros seznam'!IQV103","v":0},{"$f":"'kros seznam'!IQW103","v":0},{"$f":"'kros seznam'!IQX103","v":0},{"$f":"'kros seznam'!IQY103","v":0},{"$f":"'kros seznam'!IQZ103","v":0},{"$f":"'kros seznam'!IRA103","v":0},{"$f":"'kros seznam'!IRB103","v":0},{"$f":"'kros seznam'!IRC103","v":0},{"$f":"'kros seznam'!IRD103","v":0},{"$f":"'kros seznam'!IRE103","v":0},{"$f":"'kros seznam'!IRF103","v":0},{"$f":"'kros seznam'!IRG103","v":0},{"$f":"'kros seznam'!IRH103","v":0},{"$f":"'kros seznam'!IRI103","v":0},{"$f":"'kros seznam'!IRJ103","v":0},{"$f":"'kros seznam'!IRK103","v":0},{"$f":"'kros seznam'!IRL103","v":0},{"$f":"'kros seznam'!IRM103","v":0},{"$f":"'kros seznam'!IRN103","v":0},{"$f":"'kros seznam'!IRO103","v":0},{"$f":"'kros seznam'!IRP103","v":0},{"$f":"'kros seznam'!IRQ103","v":0},{"$f":"'kros seznam'!IRR103","v":0},{"$f":"'kros seznam'!IRS103","v":0},{"$f":"'kros seznam'!IRT103","v":0},{"$f":"'kros seznam'!IRU103","v":0},{"$f":"'kros seznam'!IRV103","v":0},{"$f":"'kros seznam'!IRW103","v":0},{"$f":"'kros seznam'!IRX103","v":0},{"$f":"'kros seznam'!IRY103","v":0},{"$f":"'kros seznam'!IRZ103","v":0},{"$f":"'kros seznam'!ISA103","v":0},{"$f":"'kros seznam'!ISB103","v":0},{"$f":"'kros seznam'!ISC103","v":0},{"$f":"'kros seznam'!ISD103","v":0},{"$f":"'kros seznam'!ISE103","v":0},{"$f":"'kros seznam'!ISF103","v":0},{"$f":"'kros seznam'!ISG103","v":0},{"$f":"'kros seznam'!ISH103","v":0},{"$f":"'kros seznam'!ISI103","v":0},{"$f":"'kros seznam'!ISJ103","v":0},{"$f":"'kros seznam'!ISK103","v":0},{"$f":"'kros seznam'!ISL103","v":0},{"$f":"'kros seznam'!ISM103","v":0},{"$f":"'kros seznam'!ISN103","v":0},{"$f":"'kros seznam'!ISO103","v":0},{"$f":"'kros seznam'!ISP103","v":0},{"$f":"'kros seznam'!ISQ103","v":0},{"$f":"'kros seznam'!ISR103","v":0},{"$f":"'kros seznam'!ISS103","v":0},{"$f":"'kros seznam'!IST103","v":0},{"$f":"'kros seznam'!ISU103","v":0},{"$f":"'kros seznam'!ISV103","v":0},{"$f":"'kros seznam'!ISW103","v":0},{"$f":"'kros seznam'!ISX103","v":0},{"$f":"'kros seznam'!ISY103","v":0},{"$f":"'kros seznam'!ISZ103","v":0},{"$f":"'kros seznam'!ITA103","v":0},{"$f":"'kros seznam'!ITB103","v":0},{"$f":"'kros seznam'!ITC103","v":0},{"$f":"'kros seznam'!ITD103","v":0},{"$f":"'kros seznam'!ITE103","v":0},{"$f":"'kros seznam'!ITF103","v":0},{"$f":"'kros seznam'!ITG103","v":0},{"$f":"'kros seznam'!ITH103","v":0},{"$f":"'kros seznam'!ITI103","v":0},{"$f":"'kros seznam'!ITJ103","v":0},{"$f":"'kros seznam'!ITK103","v":0},{"$f":"'kros seznam'!ITL103","v":0},{"$f":"'kros seznam'!ITM103","v":0},{"$f":"'kros seznam'!ITN103","v":0},{"$f":"'kros seznam'!ITO103","v":0},{"$f":"'kros seznam'!ITP103","v":0},{"$f":"'kros seznam'!ITQ103","v":0},{"$f":"'kros seznam'!ITR103","v":0},{"$f":"'kros seznam'!ITS103","v":0},{"$f":"'kros seznam'!ITT103","v":0},{"$f":"'kros seznam'!ITU103","v":0},{"$f":"'kros seznam'!ITV103","v":0},{"$f":"'kros seznam'!ITW103","v":0},{"$f":"'kros seznam'!ITX103","v":0},{"$f":"'kros seznam'!ITY103","v":0},{"$f":"'kros seznam'!ITZ103","v":0},{"$f":"'kros seznam'!IUA103","v":0},{"$f":"'kros seznam'!IUB103","v":0},{"$f":"'kros seznam'!IUC103","v":0},{"$f":"'kros seznam'!IUD103","v":0},{"$f":"'kros seznam'!IUE103","v":0},{"$f":"'kros seznam'!IUF103","v":0},{"$f":"'kros seznam'!IUG103","v":0},{"$f":"'kros seznam'!IUH103","v":0},{"$f":"'kros seznam'!IUI103","v":0},{"$f":"'kros seznam'!IUJ103","v":0},{"$f":"'kros seznam'!IUK103","v":0},{"$f":"'kros seznam'!IUL103","v":0},{"$f":"'kros seznam'!IUM103","v":0},{"$f":"'kros seznam'!IUN103","v":0},{"$f":"'kros seznam'!IUO103","v":0},{"$f":"'kros seznam'!IUP103","v":0},{"$f":"'kros seznam'!IUQ103","v":0},{"$f":"'kros seznam'!IUR103","v":0},{"$f":"'kros seznam'!IUS103","v":0},{"$f":"'kros seznam'!IUT103","v":0},{"$f":"'kros seznam'!IUU103","v":0},{"$f":"'kros seznam'!IUV103","v":0},{"$f":"'kros seznam'!IUW103","v":0},{"$f":"'kros seznam'!IUX103","v":0},{"$f":"'kros seznam'!IUY103","v":0},{"$f":"'kros seznam'!IUZ103","v":0},{"$f":"'kros seznam'!IVA103","v":0},{"$f":"'kros seznam'!IVB103","v":0},{"$f":"'kros seznam'!IVC103","v":0},{"$f":"'kros seznam'!IVD103","v":0},{"$f":"'kros seznam'!IVE103","v":0},{"$f":"'kros seznam'!IVF103","v":0},{"$f":"'kros seznam'!IVG103","v":0},{"$f":"'kros seznam'!IVH103","v":0},{"$f":"'kros seznam'!IVI103","v":0},{"$f":"'kros seznam'!IVJ103","v":0},{"$f":"'kros seznam'!IVK103","v":0},{"$f":"'kros seznam'!IVL103","v":0},{"$f":"'kros seznam'!IVM103","v":0},{"$f":"'kros seznam'!IVN103","v":0},{"$f":"'kros seznam'!IVO103","v":0},{"$f":"'kros seznam'!IVP103","v":0},{"$f":"'kros seznam'!IVQ103","v":0},{"$f":"'kros seznam'!IVR103","v":0},{"$f":"'kros seznam'!IVS103","v":0},{"$f":"'kros seznam'!IVT103","v":0},{"$f":"'kros seznam'!IVU103","v":0},{"$f":"'kros seznam'!IVV103","v":0},{"$f":"'kros seznam'!IVW103","v":0},{"$f":"'kros seznam'!IVX103","v":0},{"$f":"'kros seznam'!IVY103","v":0},{"$f":"'kros seznam'!IVZ103","v":0},{"$f":"'kros seznam'!IWA103","v":0},{"$f":"'kros seznam'!IWB103","v":0},{"$f":"'kros seznam'!IWC103","v":0},{"$f":"'kros seznam'!IWD103","v":0},{"$f":"'kros seznam'!IWE103","v":0},{"$f":"'kros seznam'!IWF103","v":0},{"$f":"'kros seznam'!IWG103","v":0},{"$f":"'kros seznam'!IWH103","v":0},{"$f":"'kros seznam'!IWI103","v":0},{"$f":"'kros seznam'!IWJ103","v":0},{"$f":"'kros seznam'!IWK103","v":0},{"$f":"'kros seznam'!IWL103","v":0},{"$f":"'kros seznam'!IWM103","v":0},{"$f":"'kros seznam'!IWN103","v":0},{"$f":"'kros seznam'!IWO103","v":0},{"$f":"'kros seznam'!IWP103","v":0},{"$f":"'kros seznam'!IWQ103","v":0},{"$f":"'kros seznam'!IWR103","v":0},{"$f":"'kros seznam'!IWS103","v":0},{"$f":"'kros seznam'!IWT103","v":0},{"$f":"'kros seznam'!IWU103","v":0},{"$f":"'kros seznam'!IWV103","v":0},{"$f":"'kros seznam'!IWW103","v":0},{"$f":"'kros seznam'!IWX103","v":0},{"$f":"'kros seznam'!IWY103","v":0},{"$f":"'kros seznam'!IWZ103","v":0},{"$f":"'kros seznam'!IXA103","v":0},{"$f":"'kros seznam'!IXB103","v":0},{"$f":"'kros seznam'!IXC103","v":0},{"$f":"'kros seznam'!IXD103","v":0},{"$f":"'kros seznam'!IXE103","v":0},{"$f":"'kros seznam'!IXF103","v":0},{"$f":"'kros seznam'!IXG103","v":0},{"$f":"'kros seznam'!IXH103","v":0},{"$f":"'kros seznam'!IXI103","v":0},{"$f":"'kros seznam'!IXJ103","v":0},{"$f":"'kros seznam'!IXK103","v":0},{"$f":"'kros seznam'!IXL103","v":0},{"$f":"'kros seznam'!IXM103","v":0},{"$f":"'kros seznam'!IXN103","v":0},{"$f":"'kros seznam'!IXO103","v":0},{"$f":"'kros seznam'!IXP103","v":0},{"$f":"'kros seznam'!IXQ103","v":0},{"$f":"'kros seznam'!IXR103","v":0},{"$f":"'kros seznam'!IXS103","v":0},{"$f":"'kros seznam'!IXT103","v":0},{"$f":"'kros seznam'!IXU103","v":0},{"$f":"'kros seznam'!IXV103","v":0},{"$f":"'kros seznam'!IXW103","v":0},{"$f":"'kros seznam'!IXX103","v":0},{"$f":"'kros seznam'!IXY103","v":0},{"$f":"'kros seznam'!IXZ103","v":0},{"$f":"'kros seznam'!IYA103","v":0},{"$f":"'kros seznam'!IYB103","v":0},{"$f":"'kros seznam'!IYC103","v":0},{"$f":"'kros seznam'!IYD103","v":0},{"$f":"'kros seznam'!IYE103","v":0},{"$f":"'kros seznam'!IYF103","v":0},{"$f":"'kros seznam'!IYG103","v":0},{"$f":"'kros seznam'!IYH103","v":0},{"$f":"'kros seznam'!IYI103","v":0},{"$f":"'kros seznam'!IYJ103","v":0},{"$f":"'kros seznam'!IYK103","v":0},{"$f":"'kros seznam'!IYL103","v":0},{"$f":"'kros seznam'!IYM103","v":0},{"$f":"'kros seznam'!IYN103","v":0},{"$f":"'kros seznam'!IYO103","v":0},{"$f":"'kros seznam'!IYP103","v":0},{"$f":"'kros seznam'!IYQ103","v":0},{"$f":"'kros seznam'!IYR103","v":0},{"$f":"'kros seznam'!IYS103","v":0},{"$f":"'kros seznam'!IYT103","v":0},{"$f":"'kros seznam'!IYU103","v":0},{"$f":"'kros seznam'!IYV103","v":0},{"$f":"'kros seznam'!IYW103","v":0},{"$f":"'kros seznam'!IYX103","v":0},{"$f":"'kros seznam'!IYY103","v":0},{"$f":"'kros seznam'!IYZ103","v":0},{"$f":"'kros seznam'!IZA103","v":0},{"$f":"'kros seznam'!IZB103","v":0},{"$f":"'kros seznam'!IZC103","v":0},{"$f":"'kros seznam'!IZD103","v":0},{"$f":"'kros seznam'!IZE103","v":0},{"$f":"'kros seznam'!IZF103","v":0},{"$f":"'kros seznam'!IZG103","v":0},{"$f":"'kros seznam'!IZH103","v":0},{"$f":"'kros seznam'!IZI103","v":0},{"$f":"'kros seznam'!IZJ103","v":0},{"$f":"'kros seznam'!IZK103","v":0},{"$f":"'kros seznam'!IZL103","v":0},{"$f":"'kros seznam'!IZM103","v":0},{"$f":"'kros seznam'!IZN103","v":0},{"$f":"'kros seznam'!IZO103","v":0},{"$f":"'kros seznam'!IZP103","v":0},{"$f":"'kros seznam'!IZQ103","v":0},{"$f":"'kros seznam'!IZR103","v":0},{"$f":"'kros seznam'!IZS103","v":0},{"$f":"'kros seznam'!IZT103","v":0},{"$f":"'kros seznam'!IZU103","v":0},{"$f":"'kros seznam'!IZV103","v":0},{"$f":"'kros seznam'!IZW103","v":0},{"$f":"'kros seznam'!IZX103","v":0},{"$f":"'kros seznam'!IZY103","v":0},{"$f":"'kros seznam'!IZZ103","v":0},{"$f":"'kros seznam'!JAA103","v":0},{"$f":"'kros seznam'!JAB103","v":0},{"$f":"'kros seznam'!JAC103","v":0},{"$f":"'kros seznam'!JAD103","v":0},{"$f":"'kros seznam'!JAE103","v":0},{"$f":"'kros seznam'!JAF103","v":0},{"$f":"'kros seznam'!JAG103","v":0},{"$f":"'kros seznam'!JAH103","v":0},{"$f":"'kros seznam'!JAI103","v":0},{"$f":"'kros seznam'!JAJ103","v":0},{"$f":"'kros seznam'!JAK103","v":0},{"$f":"'kros seznam'!JAL103","v":0},{"$f":"'kros seznam'!JAM103","v":0},{"$f":"'kros seznam'!JAN103","v":0},{"$f":"'kros seznam'!JAO103","v":0},{"$f":"'kros seznam'!JAP103","v":0},{"$f":"'kros seznam'!JAQ103","v":0},{"$f":"'kros seznam'!JAR103","v":0},{"$f":"'kros seznam'!JAS103","v":0},{"$f":"'kros seznam'!JAT103","v":0},{"$f":"'kros seznam'!JAU103","v":0},{"$f":"'kros seznam'!JAV103","v":0},{"$f":"'kros seznam'!JAW103","v":0},{"$f":"'kros seznam'!JAX103","v":0},{"$f":"'kros seznam'!JAY103","v":0},{"$f":"'kros seznam'!JAZ103","v":0},{"$f":"'kros seznam'!JBA103","v":0},{"$f":"'kros seznam'!JBB103","v":0},{"$f":"'kros seznam'!JBC103","v":0},{"$f":"'kros seznam'!JBD103","v":0},{"$f":"'kros seznam'!JBE103","v":0},{"$f":"'kros seznam'!JBF103","v":0},{"$f":"'kros seznam'!JBG103","v":0},{"$f":"'kros seznam'!JBH103","v":0},{"$f":"'kros seznam'!JBI103","v":0},{"$f":"'kros seznam'!JBJ103","v":0},{"$f":"'kros seznam'!JBK103","v":0},{"$f":"'kros seznam'!JBL103","v":0},{"$f":"'kros seznam'!JBM103","v":0},{"$f":"'kros seznam'!JBN103","v":0},{"$f":"'kros seznam'!JBO103","v":0},{"$f":"'kros seznam'!JBP103","v":0},{"$f":"'kros seznam'!JBQ103","v":0},{"$f":"'kros seznam'!JBR103","v":0},{"$f":"'kros seznam'!JBS103","v":0},{"$f":"'kros seznam'!JBT103","v":0},{"$f":"'kros seznam'!JBU103","v":0},{"$f":"'kros seznam'!JBV103","v":0},{"$f":"'kros seznam'!JBW103","v":0},{"$f":"'kros seznam'!JBX103","v":0},{"$f":"'kros seznam'!JBY103","v":0},{"$f":"'kros seznam'!JBZ103","v":0},{"$f":"'kros seznam'!JCA103","v":0},{"$f":"'kros seznam'!JCB103","v":0},{"$f":"'kros seznam'!JCC103","v":0},{"$f":"'kros seznam'!JCD103","v":0},{"$f":"'kros seznam'!JCE103","v":0},{"$f":"'kros seznam'!JCF103","v":0},{"$f":"'kros seznam'!JCG103","v":0},{"$f":"'kros seznam'!JCH103","v":0},{"$f":"'kros seznam'!JCI103","v":0},{"$f":"'kros seznam'!JCJ103","v":0},{"$f":"'kros seznam'!JCK103","v":0},{"$f":"'kros seznam'!JCL103","v":0},{"$f":"'kros seznam'!JCM103","v":0},{"$f":"'kros seznam'!JCN103","v":0},{"$f":"'kros seznam'!JCO103","v":0},{"$f":"'kros seznam'!JCP103","v":0},{"$f":"'kros seznam'!JCQ103","v":0},{"$f":"'kros seznam'!JCR103","v":0},{"$f":"'kros seznam'!JCS103","v":0},{"$f":"'kros seznam'!JCT103","v":0},{"$f":"'kros seznam'!JCU103","v":0},{"$f":"'kros seznam'!JCV103","v":0},{"$f":"'kros seznam'!JCW103","v":0},{"$f":"'kros seznam'!JCX103","v":0},{"$f":"'kros seznam'!JCY103","v":0},{"$f":"'kros seznam'!JCZ103","v":0},{"$f":"'kros seznam'!JDA103","v":0},{"$f":"'kros seznam'!JDB103","v":0},{"$f":"'kros seznam'!JDC103","v":0},{"$f":"'kros seznam'!JDD103","v":0},{"$f":"'kros seznam'!JDE103","v":0},{"$f":"'kros seznam'!JDF103","v":0},{"$f":"'kros seznam'!JDG103","v":0},{"$f":"'kros seznam'!JDH103","v":0},{"$f":"'kros seznam'!JDI103","v":0},{"$f":"'kros seznam'!JDJ103","v":0},{"$f":"'kros seznam'!JDK103","v":0},{"$f":"'kros seznam'!JDL103","v":0},{"$f":"'kros seznam'!JDM103","v":0},{"$f":"'kros seznam'!JDN103","v":0},{"$f":"'kros seznam'!JDO103","v":0},{"$f":"'kros seznam'!JDP103","v":0},{"$f":"'kros seznam'!JDQ103","v":0},{"$f":"'kros seznam'!JDR103","v":0},{"$f":"'kros seznam'!JDS103","v":0},{"$f":"'kros seznam'!JDT103","v":0},{"$f":"'kros seznam'!JDU103","v":0},{"$f":"'kros seznam'!JDV103","v":0},{"$f":"'kros seznam'!JDW103","v":0},{"$f":"'kros seznam'!JDX103","v":0},{"$f":"'kros seznam'!JDY103","v":0},{"$f":"'kros seznam'!JDZ103","v":0},{"$f":"'kros seznam'!JEA103","v":0},{"$f":"'kros seznam'!JEB103","v":0},{"$f":"'kros seznam'!JEC103","v":0},{"$f":"'kros seznam'!JED103","v":0},{"$f":"'kros seznam'!JEE103","v":0},{"$f":"'kros seznam'!JEF103","v":0},{"$f":"'kros seznam'!JEG103","v":0},{"$f":"'kros seznam'!JEH103","v":0},{"$f":"'kros seznam'!JEI103","v":0},{"$f":"'kros seznam'!JEJ103","v":0},{"$f":"'kros seznam'!JEK103","v":0},{"$f":"'kros seznam'!JEL103","v":0},{"$f":"'kros seznam'!JEM103","v":0},{"$f":"'kros seznam'!JEN103","v":0},{"$f":"'kros seznam'!JEO103","v":0},{"$f":"'kros seznam'!JEP103","v":0},{"$f":"'kros seznam'!JEQ103","v":0},{"$f":"'kros seznam'!JER103","v":0},{"$f":"'kros seznam'!JES103","v":0},{"$f":"'kros seznam'!JET103","v":0},{"$f":"'kros seznam'!JEU103","v":0},{"$f":"'kros seznam'!JEV103","v":0},{"$f":"'kros seznam'!JEW103","v":0},{"$f":"'kros seznam'!JEX103","v":0},{"$f":"'kros seznam'!JEY103","v":0},{"$f":"'kros seznam'!JEZ103","v":0},{"$f":"'kros seznam'!JFA103","v":0},{"$f":"'kros seznam'!JFB103","v":0},{"$f":"'kros seznam'!JFC103","v":0},{"$f":"'kros seznam'!JFD103","v":0},{"$f":"'kros seznam'!JFE103","v":0},{"$f":"'kros seznam'!JFF103","v":0},{"$f":"'kros seznam'!JFG103","v":0},{"$f":"'kros seznam'!JFH103","v":0},{"$f":"'kros seznam'!JFI103","v":0},{"$f":"'kros seznam'!JFJ103","v":0},{"$f":"'kros seznam'!JFK103","v":0},{"$f":"'kros seznam'!JFL103","v":0},{"$f":"'kros seznam'!JFM103","v":0},{"$f":"'kros seznam'!JFN103","v":0},{"$f":"'kros seznam'!JFO103","v":0},{"$f":"'kros seznam'!JFP103","v":0},{"$f":"'kros seznam'!JFQ103","v":0},{"$f":"'kros seznam'!JFR103","v":0},{"$f":"'kros seznam'!JFS103","v":0},{"$f":"'kros seznam'!JFT103","v":0},{"$f":"'kros seznam'!JFU103","v":0},{"$f":"'kros seznam'!JFV103","v":0},{"$f":"'kros seznam'!JFW103","v":0},{"$f":"'kros seznam'!JFX103","v":0},{"$f":"'kros seznam'!JFY103","v":0},{"$f":"'kros seznam'!JFZ103","v":0},{"$f":"'kros seznam'!JGA103","v":0},{"$f":"'kros seznam'!JGB103","v":0},{"$f":"'kros seznam'!JGC103","v":0},{"$f":"'kros seznam'!JGD103","v":0},{"$f":"'kros seznam'!JGE103","v":0},{"$f":"'kros seznam'!JGF103","v":0},{"$f":"'kros seznam'!JGG103","v":0},{"$f":"'kros seznam'!JGH103","v":0},{"$f":"'kros seznam'!JGI103","v":0},{"$f":"'kros seznam'!JGJ103","v":0},{"$f":"'kros seznam'!JGK103","v":0},{"$f":"'kros seznam'!JGL103","v":0},{"$f":"'kros seznam'!JGM103","v":0},{"$f":"'kros seznam'!JGN103","v":0},{"$f":"'kros seznam'!JGO103","v":0},{"$f":"'kros seznam'!JGP103","v":0},{"$f":"'kros seznam'!JGQ103","v":0},{"$f":"'kros seznam'!JGR103","v":0},{"$f":"'kros seznam'!JGS103","v":0},{"$f":"'kros seznam'!JGT103","v":0},{"$f":"'kros seznam'!JGU103","v":0},{"$f":"'kros seznam'!JGV103","v":0},{"$f":"'kros seznam'!JGW103","v":0},{"$f":"'kros seznam'!JGX103","v":0},{"$f":"'kros seznam'!JGY103","v":0},{"$f":"'kros seznam'!JGZ103","v":0},{"$f":"'kros seznam'!JHA103","v":0},{"$f":"'kros seznam'!JHB103","v":0},{"$f":"'kros seznam'!JHC103","v":0},{"$f":"'kros seznam'!JHD103","v":0},{"$f":"'kros seznam'!JHE103","v":0},{"$f":"'kros seznam'!JHF103","v":0},{"$f":"'kros seznam'!JHG103","v":0},{"$f":"'kros seznam'!JHH103","v":0},{"$f":"'kros seznam'!JHI103","v":0},{"$f":"'kros seznam'!JHJ103","v":0},{"$f":"'kros seznam'!JHK103","v":0},{"$f":"'kros seznam'!JHL103","v":0},{"$f":"'kros seznam'!JHM103","v":0},{"$f":"'kros seznam'!JHN103","v":0},{"$f":"'kros seznam'!JHO103","v":0},{"$f":"'kros seznam'!JHP103","v":0},{"$f":"'kros seznam'!JHQ103","v":0},{"$f":"'kros seznam'!JHR103","v":0},{"$f":"'kros seznam'!JHS103","v":0},{"$f":"'kros seznam'!JHT103","v":0},{"$f":"'kros seznam'!JHU103","v":0},{"$f":"'kros seznam'!JHV103","v":0},{"$f":"'kros seznam'!JHW103","v":0},{"$f":"'kros seznam'!JHX103","v":0},{"$f":"'kros seznam'!JHY103","v":0},{"$f":"'kros seznam'!JHZ103","v":0},{"$f":"'kros seznam'!JIA103","v":0},{"$f":"'kros seznam'!JIB103","v":0},{"$f":"'kros seznam'!JIC103","v":0},{"$f":"'kros seznam'!JID103","v":0},{"$f":"'kros seznam'!JIE103","v":0},{"$f":"'kros seznam'!JIF103","v":0},{"$f":"'kros seznam'!JIG103","v":0},{"$f":"'kros seznam'!JIH103","v":0},{"$f":"'kros seznam'!JII103","v":0},{"$f":"'kros seznam'!JIJ103","v":0},{"$f":"'kros seznam'!JIK103","v":0},{"$f":"'kros seznam'!JIL103","v":0},{"$f":"'kros seznam'!JIM103","v":0},{"$f":"'kros seznam'!JIN103","v":0},{"$f":"'kros seznam'!JIO103","v":0},{"$f":"'kros seznam'!JIP103","v":0},{"$f":"'kros seznam'!JIQ103","v":0},{"$f":"'kros seznam'!JIR103","v":0},{"$f":"'kros seznam'!JIS103","v":0},{"$f":"'kros seznam'!JIT103","v":0},{"$f":"'kros seznam'!JIU103","v":0},{"$f":"'kros seznam'!JIV103","v":0},{"$f":"'kros seznam'!JIW103","v":0},{"$f":"'kros seznam'!JIX103","v":0},{"$f":"'kros seznam'!JIY103","v":0},{"$f":"'kros seznam'!JIZ103","v":0},{"$f":"'kros seznam'!JJA103","v":0},{"$f":"'kros seznam'!JJB103","v":0},{"$f":"'kros seznam'!JJC103","v":0},{"$f":"'kros seznam'!JJD103","v":0},{"$f":"'kros seznam'!JJE103","v":0},{"$f":"'kros seznam'!JJF103","v":0},{"$f":"'kros seznam'!JJG103","v":0},{"$f":"'kros seznam'!JJH103","v":0},{"$f":"'kros seznam'!JJI103","v":0},{"$f":"'kros seznam'!JJJ103","v":0},{"$f":"'kros seznam'!JJK103","v":0},{"$f":"'kros seznam'!JJL103","v":0},{"$f":"'kros seznam'!JJM103","v":0},{"$f":"'kros seznam'!JJN103","v":0},{"$f":"'kros seznam'!JJO103","v":0},{"$f":"'kros seznam'!JJP103","v":0},{"$f":"'kros seznam'!JJQ103","v":0},{"$f":"'kros seznam'!JJR103","v":0},{"$f":"'kros seznam'!JJS103","v":0},{"$f":"'kros seznam'!JJT103","v":0},{"$f":"'kros seznam'!JJU103","v":0},{"$f":"'kros seznam'!JJV103","v":0},{"$f":"'kros seznam'!JJW103","v":0},{"$f":"'kros seznam'!JJX103","v":0},{"$f":"'kros seznam'!JJY103","v":0},{"$f":"'kros seznam'!JJZ103","v":0},{"$f":"'kros seznam'!JKA103","v":0},{"$f":"'kros seznam'!JKB103","v":0},{"$f":"'kros seznam'!JKC103","v":0},{"$f":"'kros seznam'!JKD103","v":0},{"$f":"'kros seznam'!JKE103","v":0},{"$f":"'kros seznam'!JKF103","v":0},{"$f":"'kros seznam'!JKG103","v":0},{"$f":"'kros seznam'!JKH103","v":0},{"$f":"'kros seznam'!JKI103","v":0},{"$f":"'kros seznam'!JKJ103","v":0},{"$f":"'kros seznam'!JKK103","v":0},{"$f":"'kros seznam'!JKL103","v":0},{"$f":"'kros seznam'!JKM103","v":0},{"$f":"'kros seznam'!JKN103","v":0},{"$f":"'kros seznam'!JKO103","v":0},{"$f":"'kros seznam'!JKP103","v":0},{"$f":"'kros seznam'!JKQ103","v":0},{"$f":"'kros seznam'!JKR103","v":0},{"$f":"'kros seznam'!JKS103","v":0},{"$f":"'kros seznam'!JKT103","v":0},{"$f":"'kros seznam'!JKU103","v":0},{"$f":"'kros seznam'!JKV103","v":0},{"$f":"'kros seznam'!JKW103","v":0},{"$f":"'kros seznam'!JKX103","v":0},{"$f":"'kros seznam'!JKY103","v":0},{"$f":"'kros seznam'!JKZ103","v":0},{"$f":"'kros seznam'!JLA103","v":0},{"$f":"'kros seznam'!JLB103","v":0},{"$f":"'kros seznam'!JLC103","v":0},{"$f":"'kros seznam'!JLD103","v":0},{"$f":"'kros seznam'!JLE103","v":0},{"$f":"'kros seznam'!JLF103","v":0},{"$f":"'kros seznam'!JLG103","v":0},{"$f":"'kros seznam'!JLH103","v":0},{"$f":"'kros seznam'!JLI103","v":0},{"$f":"'kros seznam'!JLJ103","v":0},{"$f":"'kros seznam'!JLK103","v":0},{"$f":"'kros seznam'!JLL103","v":0},{"$f":"'kros seznam'!JLM103","v":0},{"$f":"'kros seznam'!JLN103","v":0},{"$f":"'kros seznam'!JLO103","v":0},{"$f":"'kros seznam'!JLP103","v":0},{"$f":"'kros seznam'!JLQ103","v":0},{"$f":"'kros seznam'!JLR103","v":0},{"$f":"'kros seznam'!JLS103","v":0},{"$f":"'kros seznam'!JLT103","v":0},{"$f":"'kros seznam'!JLU103","v":0},{"$f":"'kros seznam'!JLV103","v":0},{"$f":"'kros seznam'!JLW103","v":0},{"$f":"'kros seznam'!JLX103","v":0},{"$f":"'kros seznam'!JLY103","v":0},{"$f":"'kros seznam'!JLZ103","v":0},{"$f":"'kros seznam'!JMA103","v":0},{"$f":"'kros seznam'!JMB103","v":0},{"$f":"'kros seznam'!JMC103","v":0},{"$f":"'kros seznam'!JMD103","v":0},{"$f":"'kros seznam'!JME103","v":0},{"$f":"'kros seznam'!JMF103","v":0},{"$f":"'kros seznam'!JMG103","v":0},{"$f":"'kros seznam'!JMH103","v":0},{"$f":"'kros seznam'!JMI103","v":0},{"$f":"'kros seznam'!JMJ103","v":0},{"$f":"'kros seznam'!JMK103","v":0},{"$f":"'kros seznam'!JML103","v":0},{"$f":"'kros seznam'!JMM103","v":0},{"$f":"'kros seznam'!JMN103","v":0},{"$f":"'kros seznam'!JMO103","v":0},{"$f":"'kros seznam'!JMP103","v":0},{"$f":"'kros seznam'!JMQ103","v":0},{"$f":"'kros seznam'!JMR103","v":0},{"$f":"'kros seznam'!JMS103","v":0},{"$f":"'kros seznam'!JMT103","v":0},{"$f":"'kros seznam'!JMU103","v":0},{"$f":"'kros seznam'!JMV103","v":0},{"$f":"'kros seznam'!JMW103","v":0},{"$f":"'kros seznam'!JMX103","v":0},{"$f":"'kros seznam'!JMY103","v":0},{"$f":"'kros seznam'!JMZ103","v":0},{"$f":"'kros seznam'!JNA103","v":0},{"$f":"'kros seznam'!JNB103","v":0},{"$f":"'kros seznam'!JNC103","v":0},{"$f":"'kros seznam'!JND103","v":0},{"$f":"'kros seznam'!JNE103","v":0},{"$f":"'kros seznam'!JNF103","v":0},{"$f":"'kros seznam'!JNG103","v":0},{"$f":"'kros seznam'!JNH103","v":0},{"$f":"'kros seznam'!JNI103","v":0},{"$f":"'kros seznam'!JNJ103","v":0},{"$f":"'kros seznam'!JNK103","v":0},{"$f":"'kros seznam'!JNL103","v":0},{"$f":"'kros seznam'!JNM103","v":0},{"$f":"'kros seznam'!JNN103","v":0},{"$f":"'kros seznam'!JNO103","v":0},{"$f":"'kros seznam'!JNP103","v":0},{"$f":"'kros seznam'!JNQ103","v":0},{"$f":"'kros seznam'!JNR103","v":0},{"$f":"'kros seznam'!JNS103","v":0},{"$f":"'kros seznam'!JNT103","v":0},{"$f":"'kros seznam'!JNU103","v":0},{"$f":"'kros seznam'!JNV103","v":0},{"$f":"'kros seznam'!JNW103","v":0},{"$f":"'kros seznam'!JNX103","v":0},{"$f":"'kros seznam'!JNY103","v":0},{"$f":"'kros seznam'!JNZ103","v":0},{"$f":"'kros seznam'!JOA103","v":0},{"$f":"'kros seznam'!JOB103","v":0},{"$f":"'kros seznam'!JOC103","v":0},{"$f":"'kros seznam'!JOD103","v":0},{"$f":"'kros seznam'!JOE103","v":0},{"$f":"'kros seznam'!JOF103","v":0},{"$f":"'kros seznam'!JOG103","v":0},{"$f":"'kros seznam'!JOH103","v":0},{"$f":"'kros seznam'!JOI103","v":0},{"$f":"'kros seznam'!JOJ103","v":0},{"$f":"'kros seznam'!JOK103","v":0},{"$f":"'kros seznam'!JOL103","v":0},{"$f":"'kros seznam'!JOM103","v":0},{"$f":"'kros seznam'!JON103","v":0},{"$f":"'kros seznam'!JOO103","v":0},{"$f":"'kros seznam'!JOP103","v":0},{"$f":"'kros seznam'!JOQ103","v":0},{"$f":"'kros seznam'!JOR103","v":0},{"$f":"'kros seznam'!JOS103","v":0},{"$f":"'kros seznam'!JOT103","v":0},{"$f":"'kros seznam'!JOU103","v":0},{"$f":"'kros seznam'!JOV103","v":0},{"$f":"'kros seznam'!JOW103","v":0},{"$f":"'kros seznam'!JOX103","v":0},{"$f":"'kros seznam'!JOY103","v":0},{"$f":"'kros seznam'!JOZ103","v":0},{"$f":"'kros seznam'!JPA103","v":0},{"$f":"'kros seznam'!JPB103","v":0},{"$f":"'kros seznam'!JPC103","v":0},{"$f":"'kros seznam'!JPD103","v":0},{"$f":"'kros seznam'!JPE103","v":0},{"$f":"'kros seznam'!JPF103","v":0},{"$f":"'kros seznam'!JPG103","v":0},{"$f":"'kros seznam'!JPH103","v":0},{"$f":"'kros seznam'!JPI103","v":0},{"$f":"'kros seznam'!JPJ103","v":0},{"$f":"'kros seznam'!JPK103","v":0},{"$f":"'kros seznam'!JPL103","v":0},{"$f":"'kros seznam'!JPM103","v":0},{"$f":"'kros seznam'!JPN103","v":0},{"$f":"'kros seznam'!JPO103","v":0},{"$f":"'kros seznam'!JPP103","v":0},{"$f":"'kros seznam'!JPQ103","v":0},{"$f":"'kros seznam'!JPR103","v":0},{"$f":"'kros seznam'!JPS103","v":0},{"$f":"'kros seznam'!JPT103","v":0},{"$f":"'kros seznam'!JPU103","v":0},{"$f":"'kros seznam'!JPV103","v":0},{"$f":"'kros seznam'!JPW103","v":0},{"$f":"'kros seznam'!JPX103","v":0},{"$f":"'kros seznam'!JPY103","v":0},{"$f":"'kros seznam'!JPZ103","v":0},{"$f":"'kros seznam'!JQA103","v":0},{"$f":"'kros seznam'!JQB103","v":0},{"$f":"'kros seznam'!JQC103","v":0},{"$f":"'kros seznam'!JQD103","v":0},{"$f":"'kros seznam'!JQE103","v":0},{"$f":"'kros seznam'!JQF103","v":0},{"$f":"'kros seznam'!JQG103","v":0},{"$f":"'kros seznam'!JQH103","v":0},{"$f":"'kros seznam'!JQI103","v":0},{"$f":"'kros seznam'!JQJ103","v":0},{"$f":"'kros seznam'!JQK103","v":0},{"$f":"'kros seznam'!JQL103","v":0},{"$f":"'kros seznam'!JQM103","v":0},{"$f":"'kros seznam'!JQN103","v":0},{"$f":"'kros seznam'!JQO103","v":0},{"$f":"'kros seznam'!JQP103","v":0},{"$f":"'kros seznam'!JQQ103","v":0},{"$f":"'kros seznam'!JQR103","v":0},{"$f":"'kros seznam'!JQS103","v":0},{"$f":"'kros seznam'!JQT103","v":0},{"$f":"'kros seznam'!JQU103","v":0},{"$f":"'kros seznam'!JQV103","v":0},{"$f":"'kros seznam'!JQW103","v":0},{"$f":"'kros seznam'!JQX103","v":0},{"$f":"'kros seznam'!JQY103","v":0},{"$f":"'kros seznam'!JQZ103","v":0},{"$f":"'kros seznam'!JRA103","v":0},{"$f":"'kros seznam'!JRB103","v":0},{"$f":"'kros seznam'!JRC103","v":0},{"$f":"'kros seznam'!JRD103","v":0},{"$f":"'kros seznam'!JRE103","v":0},{"$f":"'kros seznam'!JRF103","v":0},{"$f":"'kros seznam'!JRG103","v":0},{"$f":"'kros seznam'!JRH103","v":0},{"$f":"'kros seznam'!JRI103","v":0},{"$f":"'kros seznam'!JRJ103","v":0},{"$f":"'kros seznam'!JRK103","v":0},{"$f":"'kros seznam'!JRL103","v":0},{"$f":"'kros seznam'!JRM103","v":0},{"$f":"'kros seznam'!JRN103","v":0},{"$f":"'kros seznam'!JRO103","v":0},{"$f":"'kros seznam'!JRP103","v":0},{"$f":"'kros seznam'!JRQ103","v":0},{"$f":"'kros seznam'!JRR103","v":0},{"$f":"'kros seznam'!JRS103","v":0},{"$f":"'kros seznam'!JRT103","v":0},{"$f":"'kros seznam'!JRU103","v":0},{"$f":"'kros seznam'!JRV103","v":0},{"$f":"'kros seznam'!JRW103","v":0},{"$f":"'kros seznam'!JRX103","v":0},{"$f":"'kros seznam'!JRY103","v":0},{"$f":"'kros seznam'!JRZ103","v":0},{"$f":"'kros seznam'!JSA103","v":0},{"$f":"'kros seznam'!JSB103","v":0},{"$f":"'kros seznam'!JSC103","v":0},{"$f":"'kros seznam'!JSD103","v":0},{"$f":"'kros seznam'!JSE103","v":0},{"$f":"'kros seznam'!JSF103","v":0},{"$f":"'kros seznam'!JSG103","v":0},{"$f":"'kros seznam'!JSH103","v":0},{"$f":"'kros seznam'!JSI103","v":0},{"$f":"'kros seznam'!JSJ103","v":0},{"$f":"'kros seznam'!JSK103","v":0},{"$f":"'kros seznam'!JSL103","v":0},{"$f":"'kros seznam'!JSM103","v":0},{"$f":"'kros seznam'!JSN103","v":0},{"$f":"'kros seznam'!JSO103","v":0},{"$f":"'kros seznam'!JSP103","v":0},{"$f":"'kros seznam'!JSQ103","v":0},{"$f":"'kros seznam'!JSR103","v":0},{"$f":"'kros seznam'!JSS103","v":0},{"$f":"'kros seznam'!JST103","v":0},{"$f":"'kros seznam'!JSU103","v":0},{"$f":"'kros seznam'!JSV103","v":0},{"$f":"'kros seznam'!JSW103","v":0},{"$f":"'kros seznam'!JSX103","v":0},{"$f":"'kros seznam'!JSY103","v":0},{"$f":"'kros seznam'!JSZ103","v":0},{"$f":"'kros seznam'!JTA103","v":0},{"$f":"'kros seznam'!JTB103","v":0},{"$f":"'kros seznam'!JTC103","v":0},{"$f":"'kros seznam'!JTD103","v":0},{"$f":"'kros seznam'!JTE103","v":0},{"$f":"'kros seznam'!JTF103","v":0},{"$f":"'kros seznam'!JTG103","v":0},{"$f":"'kros seznam'!JTH103","v":0},{"$f":"'kros seznam'!JTI103","v":0},{"$f":"'kros seznam'!JTJ103","v":0},{"$f":"'kros seznam'!JTK103","v":0},{"$f":"'kros seznam'!JTL103","v":0},{"$f":"'kros seznam'!JTM103","v":0},{"$f":"'kros seznam'!JTN103","v":0},{"$f":"'kros seznam'!JTO103","v":0},{"$f":"'kros seznam'!JTP103","v":0},{"$f":"'kros seznam'!JTQ103","v":0},{"$f":"'kros seznam'!JTR103","v":0},{"$f":"'kros seznam'!JTS103","v":0},{"$f":"'kros seznam'!JTT103","v":0},{"$f":"'kros seznam'!JTU103","v":0},{"$f":"'kros seznam'!JTV103","v":0},{"$f":"'kros seznam'!JTW103","v":0},{"$f":"'kros seznam'!JTX103","v":0},{"$f":"'kros seznam'!JTY103","v":0},{"$f":"'kros seznam'!JTZ103","v":0},{"$f":"'kros seznam'!JUA103","v":0},{"$f":"'kros seznam'!JUB103","v":0},{"$f":"'kros seznam'!JUC103","v":0},{"$f":"'kros seznam'!JUD103","v":0},{"$f":"'kros seznam'!JUE103","v":0},{"$f":"'kros seznam'!JUF103","v":0},{"$f":"'kros seznam'!JUG103","v":0},{"$f":"'kros seznam'!JUH103","v":0},{"$f":"'kros seznam'!JUI103","v":0},{"$f":"'kros seznam'!JUJ103","v":0},{"$f":"'kros seznam'!JUK103","v":0},{"$f":"'kros seznam'!JUL103","v":0},{"$f":"'kros seznam'!JUM103","v":0},{"$f":"'kros seznam'!JUN103","v":0},{"$f":"'kros seznam'!JUO103","v":0},{"$f":"'kros seznam'!JUP103","v":0},{"$f":"'kros seznam'!JUQ103","v":0},{"$f":"'kros seznam'!JUR103","v":0},{"$f":"'kros seznam'!JUS103","v":0},{"$f":"'kros seznam'!JUT103","v":0},{"$f":"'kros seznam'!JUU103","v":0},{"$f":"'kros seznam'!JUV103","v":0},{"$f":"'kros seznam'!JUW103","v":0},{"$f":"'kros seznam'!JUX103","v":0},{"$f":"'kros seznam'!JUY103","v":0},{"$f":"'kros seznam'!JUZ103","v":0},{"$f":"'kros seznam'!JVA103","v":0},{"$f":"'kros seznam'!JVB103","v":0},{"$f":"'kros seznam'!JVC103","v":0},{"$f":"'kros seznam'!JVD103","v":0},{"$f":"'kros seznam'!JVE103","v":0},{"$f":"'kros seznam'!JVF103","v":0},{"$f":"'kros seznam'!JVG103","v":0},{"$f":"'kros seznam'!JVH103","v":0},{"$f":"'kros seznam'!JVI103","v":0},{"$f":"'kros seznam'!JVJ103","v":0},{"$f":"'kros seznam'!JVK103","v":0},{"$f":"'kros seznam'!JVL103","v":0},{"$f":"'kros seznam'!JVM103","v":0},{"$f":"'kros seznam'!JVN103","v":0},{"$f":"'kros seznam'!JVO103","v":0},{"$f":"'kros seznam'!JVP103","v":0},{"$f":"'kros seznam'!JVQ103","v":0},{"$f":"'kros seznam'!JVR103","v":0},{"$f":"'kros seznam'!JVS103","v":0},{"$f":"'kros seznam'!JVT103","v":0},{"$f":"'kros seznam'!JVU103","v":0},{"$f":"'kros seznam'!JVV103","v":0},{"$f":"'kros seznam'!JVW103","v":0},{"$f":"'kros seznam'!JVX103","v":0},{"$f":"'kros seznam'!JVY103","v":0},{"$f":"'kros seznam'!JVZ103","v":0},{"$f":"'kros seznam'!JWA103","v":0},{"$f":"'kros seznam'!JWB103","v":0},{"$f":"'kros seznam'!JWC103","v":0},{"$f":"'kros seznam'!JWD103","v":0},{"$f":"'kros seznam'!JWE103","v":0},{"$f":"'kros seznam'!JWF103","v":0},{"$f":"'kros seznam'!JWG103","v":0},{"$f":"'kros seznam'!JWH103","v":0},{"$f":"'kros seznam'!JWI103","v":0},{"$f":"'kros seznam'!JWJ103","v":0},{"$f":"'kros seznam'!JWK103","v":0},{"$f":"'kros seznam'!JWL103","v":0},{"$f":"'kros seznam'!JWM103","v":0},{"$f":"'kros seznam'!JWN103","v":0},{"$f":"'kros seznam'!JWO103","v":0},{"$f":"'kros seznam'!JWP103","v":0},{"$f":"'kros seznam'!JWQ103","v":0},{"$f":"'kros seznam'!JWR103","v":0},{"$f":"'kros seznam'!JWS103","v":0},{"$f":"'kros seznam'!JWT103","v":0},{"$f":"'kros seznam'!JWU103","v":0},{"$f":"'kros seznam'!JWV103","v":0},{"$f":"'kros seznam'!JWW103","v":0},{"$f":"'kros seznam'!JWX103","v":0},{"$f":"'kros seznam'!JWY103","v":0},{"$f":"'kros seznam'!JWZ103","v":0},{"$f":"'kros seznam'!JXA103","v":0},{"$f":"'kros seznam'!JXB103","v":0},{"$f":"'kros seznam'!JXC103","v":0},{"$f":"'kros seznam'!JXD103","v":0},{"$f":"'kros seznam'!JXE103","v":0},{"$f":"'kros seznam'!JXF103","v":0},{"$f":"'kros seznam'!JXG103","v":0},{"$f":"'kros seznam'!JXH103","v":0},{"$f":"'kros seznam'!JXI103","v":0},{"$f":"'kros seznam'!JXJ103","v":0},{"$f":"'kros seznam'!JXK103","v":0},{"$f":"'kros seznam'!JXL103","v":0},{"$f":"'kros seznam'!JXM103","v":0},{"$f":"'kros seznam'!JXN103","v":0},{"$f":"'kros seznam'!JXO103","v":0},{"$f":"'kros seznam'!JXP103","v":0},{"$f":"'kros seznam'!JXQ103","v":0},{"$f":"'kros seznam'!JXR103","v":0},{"$f":"'kros seznam'!JXS103","v":0},{"$f":"'kros seznam'!JXT103","v":0},{"$f":"'kros seznam'!JXU103","v":0},{"$f":"'kros seznam'!JXV103","v":0},{"$f":"'kros seznam'!JXW103","v":0},{"$f":"'kros seznam'!JXX103","v":0},{"$f":"'kros seznam'!JXY103","v":0},{"$f":"'kros seznam'!JXZ103","v":0},{"$f":"'kros seznam'!JYA103","v":0},{"$f":"'kros seznam'!JYB103","v":0},{"$f":"'kros seznam'!JYC103","v":0},{"$f":"'kros seznam'!JYD103","v":0},{"$f":"'kros seznam'!JYE103","v":0},{"$f":"'kros seznam'!JYF103","v":0},{"$f":"'kros seznam'!JYG103","v":0},{"$f":"'kros seznam'!JYH103","v":0},{"$f":"'kros seznam'!JYI103","v":0},{"$f":"'kros seznam'!JYJ103","v":0},{"$f":"'kros seznam'!JYK103","v":0},{"$f":"'kros seznam'!JYL103","v":0},{"$f":"'kros seznam'!JYM103","v":0},{"$f":"'kros seznam'!JYN103","v":0},{"$f":"'kros seznam'!JYO103","v":0},{"$f":"'kros seznam'!JYP103","v":0},{"$f":"'kros seznam'!JYQ103","v":0},{"$f":"'kros seznam'!JYR103","v":0},{"$f":"'kros seznam'!JYS103","v":0},{"$f":"'kros seznam'!JYT103","v":0},{"$f":"'kros seznam'!JYU103","v":0},{"$f":"'kros seznam'!JYV103","v":0},{"$f":"'kros seznam'!JYW103","v":0},{"$f":"'kros seznam'!JYX103","v":0},{"$f":"'kros seznam'!JYY103","v":0},{"$f":"'kros seznam'!JYZ103","v":0},{"$f":"'kros seznam'!JZA103","v":0},{"$f":"'kros seznam'!JZB103","v":0},{"$f":"'kros seznam'!JZC103","v":0},{"$f":"'kros seznam'!JZD103","v":0},{"$f":"'kros seznam'!JZE103","v":0},{"$f":"'kros seznam'!JZF103","v":0},{"$f":"'kros seznam'!JZG103","v":0},{"$f":"'kros seznam'!JZH103","v":0},{"$f":"'kros seznam'!JZI103","v":0},{"$f":"'kros seznam'!JZJ103","v":0},{"$f":"'kros seznam'!JZK103","v":0},{"$f":"'kros seznam'!JZL103","v":0},{"$f":"'kros seznam'!JZM103","v":0},{"$f":"'kros seznam'!JZN103","v":0},{"$f":"'kros seznam'!JZO103","v":0},{"$f":"'kros seznam'!JZP103","v":0},{"$f":"'kros seznam'!JZQ103","v":0},{"$f":"'kros seznam'!JZR103","v":0},{"$f":"'kros seznam'!JZS103","v":0},{"$f":"'kros seznam'!JZT103","v":0},{"$f":"'kros seznam'!JZU103","v":0},{"$f":"'kros seznam'!JZV103","v":0},{"$f":"'kros seznam'!JZW103","v":0},{"$f":"'kros seznam'!JZX103","v":0},{"$f":"'kros seznam'!JZY103","v":0},{"$f":"'kros seznam'!JZZ103","v":0},{"$f":"'kros seznam'!KAA103","v":0},{"$f":"'kros seznam'!KAB103","v":0},{"$f":"'kros seznam'!KAC103","v":0},{"$f":"'kros seznam'!KAD103","v":0},{"$f":"'kros seznam'!KAE103","v":0},{"$f":"'kros seznam'!KAF103","v":0},{"$f":"'kros seznam'!KAG103","v":0},{"$f":"'kros seznam'!KAH103","v":0},{"$f":"'kros seznam'!KAI103","v":0},{"$f":"'kros seznam'!KAJ103","v":0},{"$f":"'kros seznam'!KAK103","v":0},{"$f":"'kros seznam'!KAL103","v":0},{"$f":"'kros seznam'!KAM103","v":0},{"$f":"'kros seznam'!KAN103","v":0},{"$f":"'kros seznam'!KAO103","v":0},{"$f":"'kros seznam'!KAP103","v":0},{"$f":"'kros seznam'!KAQ103","v":0},{"$f":"'kros seznam'!KAR103","v":0},{"$f":"'kros seznam'!KAS103","v":0},{"$f":"'kros seznam'!KAT103","v":0},{"$f":"'kros seznam'!KAU103","v":0},{"$f":"'kros seznam'!KAV103","v":0},{"$f":"'kros seznam'!KAW103","v":0},{"$f":"'kros seznam'!KAX103","v":0},{"$f":"'kros seznam'!KAY103","v":0},{"$f":"'kros seznam'!KAZ103","v":0},{"$f":"'kros seznam'!KBA103","v":0},{"$f":"'kros seznam'!KBB103","v":0},{"$f":"'kros seznam'!KBC103","v":0},{"$f":"'kros seznam'!KBD103","v":0},{"$f":"'kros seznam'!KBE103","v":0},{"$f":"'kros seznam'!KBF103","v":0},{"$f":"'kros seznam'!KBG103","v":0},{"$f":"'kros seznam'!KBH103","v":0},{"$f":"'kros seznam'!KBI103","v":0},{"$f":"'kros seznam'!KBJ103","v":0},{"$f":"'kros seznam'!KBK103","v":0},{"$f":"'kros seznam'!KBL103","v":0},{"$f":"'kros seznam'!KBM103","v":0},{"$f":"'kros seznam'!KBN103","v":0},{"$f":"'kros seznam'!KBO103","v":0},{"$f":"'kros seznam'!KBP103","v":0},{"$f":"'kros seznam'!KBQ103","v":0},{"$f":"'kros seznam'!KBR103","v":0},{"$f":"'kros seznam'!KBS103","v":0},{"$f":"'kros seznam'!KBT103","v":0},{"$f":"'kros seznam'!KBU103","v":0},{"$f":"'kros seznam'!KBV103","v":0},{"$f":"'kros seznam'!KBW103","v":0},{"$f":"'kros seznam'!KBX103","v":0},{"$f":"'kros seznam'!KBY103","v":0},{"$f":"'kros seznam'!KBZ103","v":0},{"$f":"'kros seznam'!KCA103","v":0},{"$f":"'kros seznam'!KCB103","v":0},{"$f":"'kros seznam'!KCC103","v":0},{"$f":"'kros seznam'!KCD103","v":0},{"$f":"'kros seznam'!KCE103","v":0},{"$f":"'kros seznam'!KCF103","v":0},{"$f":"'kros seznam'!KCG103","v":0},{"$f":"'kros seznam'!KCH103","v":0},{"$f":"'kros seznam'!KCI103","v":0},{"$f":"'kros seznam'!KCJ103","v":0},{"$f":"'kros seznam'!KCK103","v":0},{"$f":"'kros seznam'!KCL103","v":0},{"$f":"'kros seznam'!KCM103","v":0},{"$f":"'kros seznam'!KCN103","v":0},{"$f":"'kros seznam'!KCO103","v":0},{"$f":"'kros seznam'!KCP103","v":0},{"$f":"'kros seznam'!KCQ103","v":0},{"$f":"'kros seznam'!KCR103","v":0},{"$f":"'kros seznam'!KCS103","v":0},{"$f":"'kros seznam'!KCT103","v":0},{"$f":"'kros seznam'!KCU103","v":0},{"$f":"'kros seznam'!KCV103","v":0},{"$f":"'kros seznam'!KCW103","v":0},{"$f":"'kros seznam'!KCX103","v":0},{"$f":"'kros seznam'!KCY103","v":0},{"$f":"'kros seznam'!KCZ103","v":0},{"$f":"'kros seznam'!KDA103","v":0},{"$f":"'kros seznam'!KDB103","v":0},{"$f":"'kros seznam'!KDC103","v":0},{"$f":"'kros seznam'!KDD103","v":0},{"$f":"'kros seznam'!KDE103","v":0},{"$f":"'kros seznam'!KDF103","v":0},{"$f":"'kros seznam'!KDG103","v":0},{"$f":"'kros seznam'!KDH103","v":0},{"$f":"'kros seznam'!KDI103","v":0},{"$f":"'kros seznam'!KDJ103","v":0},{"$f":"'kros seznam'!KDK103","v":0},{"$f":"'kros seznam'!KDL103","v":0},{"$f":"'kros seznam'!KDM103","v":0},{"$f":"'kros seznam'!KDN103","v":0},{"$f":"'kros seznam'!KDO103","v":0},{"$f":"'kros seznam'!KDP103","v":0},{"$f":"'kros seznam'!KDQ103","v":0},{"$f":"'kros seznam'!KDR103","v":0},{"$f":"'kros seznam'!KDS103","v":0},{"$f":"'kros seznam'!KDT103","v":0},{"$f":"'kros seznam'!KDU103","v":0},{"$f":"'kros seznam'!KDV103","v":0},{"$f":"'kros seznam'!KDW103","v":0},{"$f":"'kros seznam'!KDX103","v":0},{"$f":"'kros seznam'!KDY103","v":0},{"$f":"'kros seznam'!KDZ103","v":0},{"$f":"'kros seznam'!KEA103","v":0},{"$f":"'kros seznam'!KEB103","v":0},{"$f":"'kros seznam'!KEC103","v":0},{"$f":"'kros seznam'!KED103","v":0},{"$f":"'kros seznam'!KEE103","v":0},{"$f":"'kros seznam'!KEF103","v":0},{"$f":"'kros seznam'!KEG103","v":0},{"$f":"'kros seznam'!KEH103","v":0},{"$f":"'kros seznam'!KEI103","v":0},{"$f":"'kros seznam'!KEJ103","v":0},{"$f":"'kros seznam'!KEK103","v":0},{"$f":"'kros seznam'!KEL103","v":0},{"$f":"'kros seznam'!KEM103","v":0},{"$f":"'kros seznam'!KEN103","v":0},{"$f":"'kros seznam'!KEO103","v":0},{"$f":"'kros seznam'!KEP103","v":0},{"$f":"'kros seznam'!KEQ103","v":0},{"$f":"'kros seznam'!KER103","v":0},{"$f":"'kros seznam'!KES103","v":0},{"$f":"'kros seznam'!KET103","v":0},{"$f":"'kros seznam'!KEU103","v":0},{"$f":"'kros seznam'!KEV103","v":0},{"$f":"'kros seznam'!KEW103","v":0},{"$f":"'kros seznam'!KEX103","v":0},{"$f":"'kros seznam'!KEY103","v":0},{"$f":"'kros seznam'!KEZ103","v":0},{"$f":"'kros seznam'!KFA103","v":0},{"$f":"'kros seznam'!KFB103","v":0},{"$f":"'kros seznam'!KFC103","v":0},{"$f":"'kros seznam'!KFD103","v":0},{"$f":"'kros seznam'!KFE103","v":0},{"$f":"'kros seznam'!KFF103","v":0},{"$f":"'kros seznam'!KFG103","v":0},{"$f":"'kros seznam'!KFH103","v":0},{"$f":"'kros seznam'!KFI103","v":0},{"$f":"'kros seznam'!KFJ103","v":0},{"$f":"'kros seznam'!KFK103","v":0},{"$f":"'kros seznam'!KFL103","v":0},{"$f":"'kros seznam'!KFM103","v":0},{"$f":"'kros seznam'!KFN103","v":0},{"$f":"'kros seznam'!KFO103","v":0},{"$f":"'kros seznam'!KFP103","v":0},{"$f":"'kros seznam'!KFQ103","v":0},{"$f":"'kros seznam'!KFR103","v":0},{"$f":"'kros seznam'!KFS103","v":0},{"$f":"'kros seznam'!KFT103","v":0},{"$f":"'kros seznam'!KFU103","v":0},{"$f":"'kros seznam'!KFV103","v":0},{"$f":"'kros seznam'!KFW103","v":0},{"$f":"'kros seznam'!KFX103","v":0},{"$f":"'kros seznam'!KFY103","v":0},{"$f":"'kros seznam'!KFZ103","v":0},{"$f":"'kros seznam'!KGA103","v":0},{"$f":"'kros seznam'!KGB103","v":0},{"$f":"'kros seznam'!KGC103","v":0},{"$f":"'kros seznam'!KGD103","v":0},{"$f":"'kros seznam'!KGE103","v":0},{"$f":"'kros seznam'!KGF103","v":0},{"$f":"'kros seznam'!KGG103","v":0},{"$f":"'kros seznam'!KGH103","v":0},{"$f":"'kros seznam'!KGI103","v":0},{"$f":"'kros seznam'!KGJ103","v":0},{"$f":"'kros seznam'!KGK103","v":0},{"$f":"'kros seznam'!KGL103","v":0},{"$f":"'kros seznam'!KGM103","v":0},{"$f":"'kros seznam'!KGN103","v":0},{"$f":"'kros seznam'!KGO103","v":0},{"$f":"'kros seznam'!KGP103","v":0},{"$f":"'kros seznam'!KGQ103","v":0},{"$f":"'kros seznam'!KGR103","v":0},{"$f":"'kros seznam'!KGS103","v":0},{"$f":"'kros seznam'!KGT103","v":0},{"$f":"'kros seznam'!KGU103","v":0},{"$f":"'kros seznam'!KGV103","v":0},{"$f":"'kros seznam'!KGW103","v":0},{"$f":"'kros seznam'!KGX103","v":0},{"$f":"'kros seznam'!KGY103","v":0},{"$f":"'kros seznam'!KGZ103","v":0},{"$f":"'kros seznam'!KHA103","v":0},{"$f":"'kros seznam'!KHB103","v":0},{"$f":"'kros seznam'!KHC103","v":0},{"$f":"'kros seznam'!KHD103","v":0},{"$f":"'kros seznam'!KHE103","v":0},{"$f":"'kros seznam'!KHF103","v":0},{"$f":"'kros seznam'!KHG103","v":0},{"$f":"'kros seznam'!KHH103","v":0},{"$f":"'kros seznam'!KHI103","v":0},{"$f":"'kros seznam'!KHJ103","v":0},{"$f":"'kros seznam'!KHK103","v":0},{"$f":"'kros seznam'!KHL103","v":0},{"$f":"'kros seznam'!KHM103","v":0},{"$f":"'kros seznam'!KHN103","v":0},{"$f":"'kros seznam'!KHO103","v":0},{"$f":"'kros seznam'!KHP103","v":0},{"$f":"'kros seznam'!KHQ103","v":0},{"$f":"'kros seznam'!KHR103","v":0},{"$f":"'kros seznam'!KHS103","v":0},{"$f":"'kros seznam'!KHT103","v":0},{"$f":"'kros seznam'!KHU103","v":0},{"$f":"'kros seznam'!KHV103","v":0},{"$f":"'kros seznam'!KHW103","v":0},{"$f":"'kros seznam'!KHX103","v":0},{"$f":"'kros seznam'!KHY103","v":0},{"$f":"'kros seznam'!KHZ103","v":0},{"$f":"'kros seznam'!KIA103","v":0},{"$f":"'kros seznam'!KIB103","v":0},{"$f":"'kros seznam'!KIC103","v":0},{"$f":"'kros seznam'!KID103","v":0},{"$f":"'kros seznam'!KIE103","v":0},{"$f":"'kros seznam'!KIF103","v":0},{"$f":"'kros seznam'!KIG103","v":0},{"$f":"'kros seznam'!KIH103","v":0},{"$f":"'kros seznam'!KII103","v":0},{"$f":"'kros seznam'!KIJ103","v":0},{"$f":"'kros seznam'!KIK103","v":0},{"$f":"'kros seznam'!KIL103","v":0},{"$f":"'kros seznam'!KIM103","v":0},{"$f":"'kros seznam'!KIN103","v":0},{"$f":"'kros seznam'!KIO103","v":0},{"$f":"'kros seznam'!KIP103","v":0},{"$f":"'kros seznam'!KIQ103","v":0},{"$f":"'kros seznam'!KIR103","v":0},{"$f":"'kros seznam'!KIS103","v":0},{"$f":"'kros seznam'!KIT103","v":0},{"$f":"'kros seznam'!KIU103","v":0},{"$f":"'kros seznam'!KIV103","v":0},{"$f":"'kros seznam'!KIW103","v":0},{"$f":"'kros seznam'!KIX103","v":0},{"$f":"'kros seznam'!KIY103","v":0},{"$f":"'kros seznam'!KIZ103","v":0},{"$f":"'kros seznam'!KJA103","v":0},{"$f":"'kros seznam'!KJB103","v":0},{"$f":"'kros seznam'!KJC103","v":0},{"$f":"'kros seznam'!KJD103","v":0},{"$f":"'kros seznam'!KJE103","v":0},{"$f":"'kros seznam'!KJF103","v":0},{"$f":"'kros seznam'!KJG103","v":0},{"$f":"'kros seznam'!KJH103","v":0},{"$f":"'kros seznam'!KJI103","v":0},{"$f":"'kros seznam'!KJJ103","v":0},{"$f":"'kros seznam'!KJK103","v":0},{"$f":"'kros seznam'!KJL103","v":0},{"$f":"'kros seznam'!KJM103","v":0},{"$f":"'kros seznam'!KJN103","v":0},{"$f":"'kros seznam'!KJO103","v":0},{"$f":"'kros seznam'!KJP103","v":0},{"$f":"'kros seznam'!KJQ103","v":0},{"$f":"'kros seznam'!KJR103","v":0},{"$f":"'kros seznam'!KJS103","v":0},{"$f":"'kros seznam'!KJT103","v":0},{"$f":"'kros seznam'!KJU103","v":0},{"$f":"'kros seznam'!KJV103","v":0},{"$f":"'kros seznam'!KJW103","v":0},{"$f":"'kros seznam'!KJX103","v":0},{"$f":"'kros seznam'!KJY103","v":0},{"$f":"'kros seznam'!KJZ103","v":0},{"$f":"'kros seznam'!KKA103","v":0},{"$f":"'kros seznam'!KKB103","v":0},{"$f":"'kros seznam'!KKC103","v":0},{"$f":"'kros seznam'!KKD103","v":0},{"$f":"'kros seznam'!KKE103","v":0},{"$f":"'kros seznam'!KKF103","v":0},{"$f":"'kros seznam'!KKG103","v":0},{"$f":"'kros seznam'!KKH103","v":0},{"$f":"'kros seznam'!KKI103","v":0},{"$f":"'kros seznam'!KKJ103","v":0},{"$f":"'kros seznam'!KKK103","v":0},{"$f":"'kros seznam'!KKL103","v":0},{"$f":"'kros seznam'!KKM103","v":0},{"$f":"'kros seznam'!KKN103","v":0},{"$f":"'kros seznam'!KKO103","v":0},{"$f":"'kros seznam'!KKP103","v":0},{"$f":"'kros seznam'!KKQ103","v":0},{"$f":"'kros seznam'!KKR103","v":0},{"$f":"'kros seznam'!KKS103","v":0},{"$f":"'kros seznam'!KKT103","v":0},{"$f":"'kros seznam'!KKU103","v":0},{"$f":"'kros seznam'!KKV103","v":0},{"$f":"'kros seznam'!KKW103","v":0},{"$f":"'kros seznam'!KKX103","v":0},{"$f":"'kros seznam'!KKY103","v":0},{"$f":"'kros seznam'!KKZ103","v":0},{"$f":"'kros seznam'!KLA103","v":0},{"$f":"'kros seznam'!KLB103","v":0},{"$f":"'kros seznam'!KLC103","v":0},{"$f":"'kros seznam'!KLD103","v":0},{"$f":"'kros seznam'!KLE103","v":0},{"$f":"'kros seznam'!KLF103","v":0},{"$f":"'kros seznam'!KLG103","v":0},{"$f":"'kros seznam'!KLH103","v":0},{"$f":"'kros seznam'!KLI103","v":0},{"$f":"'kros seznam'!KLJ103","v":0},{"$f":"'kros seznam'!KLK103","v":0},{"$f":"'kros seznam'!KLL103","v":0},{"$f":"'kros seznam'!KLM103","v":0},{"$f":"'kros seznam'!KLN103","v":0},{"$f":"'kros seznam'!KLO103","v":0},{"$f":"'kros seznam'!KLP103","v":0},{"$f":"'kros seznam'!KLQ103","v":0},{"$f":"'kros seznam'!KLR103","v":0},{"$f":"'kros seznam'!KLS103","v":0},{"$f":"'kros seznam'!KLT103","v":0},{"$f":"'kros seznam'!KLU103","v":0},{"$f":"'kros seznam'!KLV103","v":0},{"$f":"'kros seznam'!KLW103","v":0},{"$f":"'kros seznam'!KLX103","v":0},{"$f":"'kros seznam'!KLY103","v":0},{"$f":"'kros seznam'!KLZ103","v":0},{"$f":"'kros seznam'!KMA103","v":0},{"$f":"'kros seznam'!KMB103","v":0},{"$f":"'kros seznam'!KMC103","v":0},{"$f":"'kros seznam'!KMD103","v":0},{"$f":"'kros seznam'!KME103","v":0},{"$f":"'kros seznam'!KMF103","v":0},{"$f":"'kros seznam'!KMG103","v":0},{"$f":"'kros seznam'!KMH103","v":0},{"$f":"'kros seznam'!KMI103","v":0},{"$f":"'kros seznam'!KMJ103","v":0},{"$f":"'kros seznam'!KMK103","v":0},{"$f":"'kros seznam'!KML103","v":0},{"$f":"'kros seznam'!KMM103","v":0},{"$f":"'kros seznam'!KMN103","v":0},{"$f":"'kros seznam'!KMO103","v":0},{"$f":"'kros seznam'!KMP103","v":0},{"$f":"'kros seznam'!KMQ103","v":0},{"$f":"'kros seznam'!KMR103","v":0},{"$f":"'kros seznam'!KMS103","v":0},{"$f":"'kros seznam'!KMT103","v":0},{"$f":"'kros seznam'!KMU103","v":0},{"$f":"'kros seznam'!KMV103","v":0},{"$f":"'kros seznam'!KMW103","v":0},{"$f":"'kros seznam'!KMX103","v":0},{"$f":"'kros seznam'!KMY103","v":0},{"$f":"'kros seznam'!KMZ103","v":0},{"$f":"'kros seznam'!KNA103","v":0},{"$f":"'kros seznam'!KNB103","v":0},{"$f":"'kros seznam'!KNC103","v":0},{"$f":"'kros seznam'!KND103","v":0},{"$f":"'kros seznam'!KNE103","v":0},{"$f":"'kros seznam'!KNF103","v":0},{"$f":"'kros seznam'!KNG103","v":0},{"$f":"'kros seznam'!KNH103","v":0},{"$f":"'kros seznam'!KNI103","v":0},{"$f":"'kros seznam'!KNJ103","v":0},{"$f":"'kros seznam'!KNK103","v":0},{"$f":"'kros seznam'!KNL103","v":0},{"$f":"'kros seznam'!KNM103","v":0},{"$f":"'kros seznam'!KNN103","v":0},{"$f":"'kros seznam'!KNO103","v":0},{"$f":"'kros seznam'!KNP103","v":0},{"$f":"'kros seznam'!KNQ103","v":0},{"$f":"'kros seznam'!KNR103","v":0},{"$f":"'kros seznam'!KNS103","v":0},{"$f":"'kros seznam'!KNT103","v":0},{"$f":"'kros seznam'!KNU103","v":0},{"$f":"'kros seznam'!KNV103","v":0},{"$f":"'kros seznam'!KNW103","v":0},{"$f":"'kros seznam'!KNX103","v":0},{"$f":"'kros seznam'!KNY103","v":0},{"$f":"'kros seznam'!KNZ103","v":0},{"$f":"'kros seznam'!KOA103","v":0},{"$f":"'kros seznam'!KOB103","v":0},{"$f":"'kros seznam'!KOC103","v":0},{"$f":"'kros seznam'!KOD103","v":0},{"$f":"'kros seznam'!KOE103","v":0},{"$f":"'kros seznam'!KOF103","v":0},{"$f":"'kros seznam'!KOG103","v":0},{"$f":"'kros seznam'!KOH103","v":0},{"$f":"'kros seznam'!KOI103","v":0},{"$f":"'kros seznam'!KOJ103","v":0},{"$f":"'kros seznam'!KOK103","v":0},{"$f":"'kros seznam'!KOL103","v":0},{"$f":"'kros seznam'!KOM103","v":0},{"$f":"'kros seznam'!KON103","v":0},{"$f":"'kros seznam'!KOO103","v":0},{"$f":"'kros seznam'!KOP103","v":0},{"$f":"'kros seznam'!KOQ103","v":0},{"$f":"'kros seznam'!KOR103","v":0},{"$f":"'kros seznam'!KOS103","v":0},{"$f":"'kros seznam'!KOT103","v":0},{"$f":"'kros seznam'!KOU103","v":0},{"$f":"'kros seznam'!KOV103","v":0},{"$f":"'kros seznam'!KOW103","v":0},{"$f":"'kros seznam'!KOX103","v":0},{"$f":"'kros seznam'!KOY103","v":0},{"$f":"'kros seznam'!KOZ103","v":0},{"$f":"'kros seznam'!KPA103","v":0},{"$f":"'kros seznam'!KPB103","v":0},{"$f":"'kros seznam'!KPC103","v":0},{"$f":"'kros seznam'!KPD103","v":0},{"$f":"'kros seznam'!KPE103","v":0},{"$f":"'kros seznam'!KPF103","v":0},{"$f":"'kros seznam'!KPG103","v":0},{"$f":"'kros seznam'!KPH103","v":0},{"$f":"'kros seznam'!KPI103","v":0},{"$f":"'kros seznam'!KPJ103","v":0},{"$f":"'kros seznam'!KPK103","v":0},{"$f":"'kros seznam'!KPL103","v":0},{"$f":"'kros seznam'!KPM103","v":0},{"$f":"'kros seznam'!KPN103","v":0},{"$f":"'kros seznam'!KPO103","v":0},{"$f":"'kros seznam'!KPP103","v":0},{"$f":"'kros seznam'!KPQ103","v":0},{"$f":"'kros seznam'!KPR103","v":0},{"$f":"'kros seznam'!KPS103","v":0},{"$f":"'kros seznam'!KPT103","v":0},{"$f":"'kros seznam'!KPU103","v":0},{"$f":"'kros seznam'!KPV103","v":0},{"$f":"'kros seznam'!KPW103","v":0},{"$f":"'kros seznam'!KPX103","v":0},{"$f":"'kros seznam'!KPY103","v":0},{"$f":"'kros seznam'!KPZ103","v":0},{"$f":"'kros seznam'!KQA103","v":0},{"$f":"'kros seznam'!KQB103","v":0},{"$f":"'kros seznam'!KQC103","v":0},{"$f":"'kros seznam'!KQD103","v":0},{"$f":"'kros seznam'!KQE103","v":0},{"$f":"'kros seznam'!KQF103","v":0},{"$f":"'kros seznam'!KQG103","v":0},{"$f":"'kros seznam'!KQH103","v":0},{"$f":"'kros seznam'!KQI103","v":0},{"$f":"'kros seznam'!KQJ103","v":0},{"$f":"'kros seznam'!KQK103","v":0},{"$f":"'kros seznam'!KQL103","v":0},{"$f":"'kros seznam'!KQM103","v":0},{"$f":"'kros seznam'!KQN103","v":0},{"$f":"'kros seznam'!KQO103","v":0},{"$f":"'kros seznam'!KQP103","v":0},{"$f":"'kros seznam'!KQQ103","v":0},{"$f":"'kros seznam'!KQR103","v":0},{"$f":"'kros seznam'!KQS103","v":0},{"$f":"'kros seznam'!KQT103","v":0},{"$f":"'kros seznam'!KQU103","v":0},{"$f":"'kros seznam'!KQV103","v":0},{"$f":"'kros seznam'!KQW103","v":0},{"$f":"'kros seznam'!KQX103","v":0},{"$f":"'kros seznam'!KQY103","v":0},{"$f":"'kros seznam'!KQZ103","v":0},{"$f":"'kros seznam'!KRA103","v":0},{"$f":"'kros seznam'!KRB103","v":0},{"$f":"'kros seznam'!KRC103","v":0},{"$f":"'kros seznam'!KRD103","v":0},{"$f":"'kros seznam'!KRE103","v":0},{"$f":"'kros seznam'!KRF103","v":0},{"$f":"'kros seznam'!KRG103","v":0},{"$f":"'kros seznam'!KRH103","v":0},{"$f":"'kros seznam'!KRI103","v":0},{"$f":"'kros seznam'!KRJ103","v":0},{"$f":"'kros seznam'!KRK103","v":0},{"$f":"'kros seznam'!KRL103","v":0},{"$f":"'kros seznam'!KRM103","v":0},{"$f":"'kros seznam'!KRN103","v":0},{"$f":"'kros seznam'!KRO103","v":0},{"$f":"'kros seznam'!KRP103","v":0},{"$f":"'kros seznam'!KRQ103","v":0},{"$f":"'kros seznam'!KRR103","v":0},{"$f":"'kros seznam'!KRS103","v":0},{"$f":"'kros seznam'!KRT103","v":0},{"$f":"'kros seznam'!KRU103","v":0},{"$f":"'kros seznam'!KRV103","v":0},{"$f":"'kros seznam'!KRW103","v":0},{"$f":"'kros seznam'!KRX103","v":0},{"$f":"'kros seznam'!KRY103","v":0},{"$f":"'kros seznam'!KRZ103","v":0},{"$f":"'kros seznam'!KSA103","v":0},{"$f":"'kros seznam'!KSB103","v":0},{"$f":"'kros seznam'!KSC103","v":0},{"$f":"'kros seznam'!KSD103","v":0},{"$f":"'kros seznam'!KSE103","v":0},{"$f":"'kros seznam'!KSF103","v":0},{"$f":"'kros seznam'!KSG103","v":0},{"$f":"'kros seznam'!KSH103","v":0},{"$f":"'kros seznam'!KSI103","v":0},{"$f":"'kros seznam'!KSJ103","v":0},{"$f":"'kros seznam'!KSK103","v":0},{"$f":"'kros seznam'!KSL103","v":0},{"$f":"'kros seznam'!KSM103","v":0},{"$f":"'kros seznam'!KSN103","v":0},{"$f":"'kros seznam'!KSO103","v":0},{"$f":"'kros seznam'!KSP103","v":0},{"$f":"'kros seznam'!KSQ103","v":0},{"$f":"'kros seznam'!KSR103","v":0},{"$f":"'kros seznam'!KSS103","v":0},{"$f":"'kros seznam'!KST103","v":0},{"$f":"'kros seznam'!KSU103","v":0},{"$f":"'kros seznam'!KSV103","v":0},{"$f":"'kros seznam'!KSW103","v":0},{"$f":"'kros seznam'!KSX103","v":0},{"$f":"'kros seznam'!KSY103","v":0},{"$f":"'kros seznam'!KSZ103","v":0},{"$f":"'kros seznam'!KTA103","v":0},{"$f":"'kros seznam'!KTB103","v":0},{"$f":"'kros seznam'!KTC103","v":0},{"$f":"'kros seznam'!KTD103","v":0},{"$f":"'kros seznam'!KTE103","v":0},{"$f":"'kros seznam'!KTF103","v":0},{"$f":"'kros seznam'!KTG103","v":0},{"$f":"'kros seznam'!KTH103","v":0},{"$f":"'kros seznam'!KTI103","v":0},{"$f":"'kros seznam'!KTJ103","v":0},{"$f":"'kros seznam'!KTK103","v":0},{"$f":"'kros seznam'!KTL103","v":0},{"$f":"'kros seznam'!KTM103","v":0},{"$f":"'kros seznam'!KTN103","v":0},{"$f":"'kros seznam'!KTO103","v":0},{"$f":"'kros seznam'!KTP103","v":0},{"$f":"'kros seznam'!KTQ103","v":0},{"$f":"'kros seznam'!KTR103","v":0},{"$f":"'kros seznam'!KTS103","v":0},{"$f":"'kros seznam'!KTT103","v":0},{"$f":"'kros seznam'!KTU103","v":0},{"$f":"'kros seznam'!KTV103","v":0},{"$f":"'kros seznam'!KTW103","v":0},{"$f":"'kros seznam'!KTX103","v":0},{"$f":"'kros seznam'!KTY103","v":0},{"$f":"'kros seznam'!KTZ103","v":0},{"$f":"'kros seznam'!KUA103","v":0},{"$f":"'kros seznam'!KUB103","v":0},{"$f":"'kros seznam'!KUC103","v":0},{"$f":"'kros seznam'!KUD103","v":0},{"$f":"'kros seznam'!KUE103","v":0},{"$f":"'kros seznam'!KUF103","v":0},{"$f":"'kros seznam'!KUG103","v":0},{"$f":"'kros seznam'!KUH103","v":0},{"$f":"'kros seznam'!KUI103","v":0},{"$f":"'kros seznam'!KUJ103","v":0},{"$f":"'kros seznam'!KUK103","v":0},{"$f":"'kros seznam'!KUL103","v":0},{"$f":"'kros seznam'!KUM103","v":0},{"$f":"'kros seznam'!KUN103","v":0},{"$f":"'kros seznam'!KUO103","v":0},{"$f":"'kros seznam'!KUP103","v":0},{"$f":"'kros seznam'!KUQ103","v":0},{"$f":"'kros seznam'!KUR103","v":0},{"$f":"'kros seznam'!KUS103","v":0},{"$f":"'kros seznam'!KUT103","v":0},{"$f":"'kros seznam'!KUU103","v":0},{"$f":"'kros seznam'!KUV103","v":0},{"$f":"'kros seznam'!KUW103","v":0},{"$f":"'kros seznam'!KUX103","v":0},{"$f":"'kros seznam'!KUY103","v":0},{"$f":"'kros seznam'!KUZ103","v":0},{"$f":"'kros seznam'!KVA103","v":0},{"$f":"'kros seznam'!KVB103","v":0},{"$f":"'kros seznam'!KVC103","v":0},{"$f":"'kros seznam'!KVD103","v":0},{"$f":"'kros seznam'!KVE103","v":0},{"$f":"'kros seznam'!KVF103","v":0},{"$f":"'kros seznam'!KVG103","v":0},{"$f":"'kros seznam'!KVH103","v":0},{"$f":"'kros seznam'!KVI103","v":0},{"$f":"'kros seznam'!KVJ103","v":0},{"$f":"'kros seznam'!KVK103","v":0},{"$f":"'kros seznam'!KVL103","v":0},{"$f":"'kros seznam'!KVM103","v":0},{"$f":"'kros seznam'!KVN103","v":0},{"$f":"'kros seznam'!KVO103","v":0},{"$f":"'kros seznam'!KVP103","v":0},{"$f":"'kros seznam'!KVQ103","v":0},{"$f":"'kros seznam'!KVR103","v":0},{"$f":"'kros seznam'!KVS103","v":0},{"$f":"'kros seznam'!KVT103","v":0},{"$f":"'kros seznam'!KVU103","v":0},{"$f":"'kros seznam'!KVV103","v":0},{"$f":"'kros seznam'!KVW103","v":0},{"$f":"'kros seznam'!KVX103","v":0},{"$f":"'kros seznam'!KVY103","v":0},{"$f":"'kros seznam'!KVZ103","v":0},{"$f":"'kros seznam'!KWA103","v":0},{"$f":"'kros seznam'!KWB103","v":0},{"$f":"'kros seznam'!KWC103","v":0},{"$f":"'kros seznam'!KWD103","v":0},{"$f":"'kros seznam'!KWE103","v":0},{"$f":"'kros seznam'!KWF103","v":0},{"$f":"'kros seznam'!KWG103","v":0},{"$f":"'kros seznam'!KWH103","v":0},{"$f":"'kros seznam'!KWI103","v":0},{"$f":"'kros seznam'!KWJ103","v":0},{"$f":"'kros seznam'!KWK103","v":0},{"$f":"'kros seznam'!KWL103","v":0},{"$f":"'kros seznam'!KWM103","v":0},{"$f":"'kros seznam'!KWN103","v":0},{"$f":"'kros seznam'!KWO103","v":0},{"$f":"'kros seznam'!KWP103","v":0},{"$f":"'kros seznam'!KWQ103","v":0},{"$f":"'kros seznam'!KWR103","v":0},{"$f":"'kros seznam'!KWS103","v":0},{"$f":"'kros seznam'!KWT103","v":0},{"$f":"'kros seznam'!KWU103","v":0},{"$f":"'kros seznam'!KWV103","v":0},{"$f":"'kros seznam'!KWW103","v":0},{"$f":"'kros seznam'!KWX103","v":0},{"$f":"'kros seznam'!KWY103","v":0},{"$f":"'kros seznam'!KWZ103","v":0},{"$f":"'kros seznam'!KXA103","v":0},{"$f":"'kros seznam'!KXB103","v":0},{"$f":"'kros seznam'!KXC103","v":0},{"$f":"'kros seznam'!KXD103","v":0},{"$f":"'kros seznam'!KXE103","v":0},{"$f":"'kros seznam'!KXF103","v":0},{"$f":"'kros seznam'!KXG103","v":0},{"$f":"'kros seznam'!KXH103","v":0},{"$f":"'kros seznam'!KXI103","v":0},{"$f":"'kros seznam'!KXJ103","v":0},{"$f":"'kros seznam'!KXK103","v":0},{"$f":"'kros seznam'!KXL103","v":0},{"$f":"'kros seznam'!KXM103","v":0},{"$f":"'kros seznam'!KXN103","v":0},{"$f":"'kros seznam'!KXO103","v":0},{"$f":"'kros seznam'!KXP103","v":0},{"$f":"'kros seznam'!KXQ103","v":0},{"$f":"'kros seznam'!KXR103","v":0},{"$f":"'kros seznam'!KXS103","v":0},{"$f":"'kros seznam'!KXT103","v":0},{"$f":"'kros seznam'!KXU103","v":0},{"$f":"'kros seznam'!KXV103","v":0},{"$f":"'kros seznam'!KXW103","v":0},{"$f":"'kros seznam'!KXX103","v":0},{"$f":"'kros seznam'!KXY103","v":0},{"$f":"'kros seznam'!KXZ103","v":0},{"$f":"'kros seznam'!KYA103","v":0},{"$f":"'kros seznam'!KYB103","v":0},{"$f":"'kros seznam'!KYC103","v":0},{"$f":"'kros seznam'!KYD103","v":0},{"$f":"'kros seznam'!KYE103","v":0},{"$f":"'kros seznam'!KYF103","v":0},{"$f":"'kros seznam'!KYG103","v":0},{"$f":"'kros seznam'!KYH103","v":0},{"$f":"'kros seznam'!KYI103","v":0},{"$f":"'kros seznam'!KYJ103","v":0},{"$f":"'kros seznam'!KYK103","v":0},{"$f":"'kros seznam'!KYL103","v":0},{"$f":"'kros seznam'!KYM103","v":0},{"$f":"'kros seznam'!KYN103","v":0},{"$f":"'kros seznam'!KYO103","v":0},{"$f":"'kros seznam'!KYP103","v":0},{"$f":"'kros seznam'!KYQ103","v":0},{"$f":"'kros seznam'!KYR103","v":0},{"$f":"'kros seznam'!KYS103","v":0},{"$f":"'kros seznam'!KYT103","v":0},{"$f":"'kros seznam'!KYU103","v":0},{"$f":"'kros seznam'!KYV103","v":0},{"$f":"'kros seznam'!KYW103","v":0},{"$f":"'kros seznam'!KYX103","v":0},{"$f":"'kros seznam'!KYY103","v":0},{"$f":"'kros seznam'!KYZ103","v":0},{"$f":"'kros seznam'!KZA103","v":0},{"$f":"'kros seznam'!KZB103","v":0},{"$f":"'kros seznam'!KZC103","v":0},{"$f":"'kros seznam'!KZD103","v":0},{"$f":"'kros seznam'!KZE103","v":0},{"$f":"'kros seznam'!KZF103","v":0},{"$f":"'kros seznam'!KZG103","v":0},{"$f":"'kros seznam'!KZH103","v":0},{"$f":"'kros seznam'!KZI103","v":0},{"$f":"'kros seznam'!KZJ103","v":0},{"$f":"'kros seznam'!KZK103","v":0},{"$f":"'kros seznam'!KZL103","v":0},{"$f":"'kros seznam'!KZM103","v":0},{"$f":"'kros seznam'!KZN103","v":0},{"$f":"'kros seznam'!KZO103","v":0},{"$f":"'kros seznam'!KZP103","v":0},{"$f":"'kros seznam'!KZQ103","v":0},{"$f":"'kros seznam'!KZR103","v":0},{"$f":"'kros seznam'!KZS103","v":0},{"$f":"'kros seznam'!KZT103","v":0},{"$f":"'kros seznam'!KZU103","v":0},{"$f":"'kros seznam'!KZV103","v":0},{"$f":"'kros seznam'!KZW103","v":0},{"$f":"'kros seznam'!KZX103","v":0},{"$f":"'kros seznam'!KZY103","v":0},{"$f":"'kros seznam'!KZZ103","v":0},{"$f":"'kros seznam'!LAA103","v":0},{"$f":"'kros seznam'!LAB103","v":0},{"$f":"'kros seznam'!LAC103","v":0},{"$f":"'kros seznam'!LAD103","v":0},{"$f":"'kros seznam'!LAE103","v":0},{"$f":"'kros seznam'!LAF103","v":0},{"$f":"'kros seznam'!LAG103","v":0},{"$f":"'kros seznam'!LAH103","v":0},{"$f":"'kros seznam'!LAI103","v":0},{"$f":"'kros seznam'!LAJ103","v":0},{"$f":"'kros seznam'!LAK103","v":0},{"$f":"'kros seznam'!LAL103","v":0},{"$f":"'kros seznam'!LAM103","v":0},{"$f":"'kros seznam'!LAN103","v":0},{"$f":"'kros seznam'!LAO103","v":0},{"$f":"'kros seznam'!LAP103","v":0},{"$f":"'kros seznam'!LAQ103","v":0},{"$f":"'kros seznam'!LAR103","v":0},{"$f":"'kros seznam'!LAS103","v":0},{"$f":"'kros seznam'!LAT103","v":0},{"$f":"'kros seznam'!LAU103","v":0},{"$f":"'kros seznam'!LAV103","v":0},{"$f":"'kros seznam'!LAW103","v":0},{"$f":"'kros seznam'!LAX103","v":0},{"$f":"'kros seznam'!LAY103","v":0},{"$f":"'kros seznam'!LAZ103","v":0},{"$f":"'kros seznam'!LBA103","v":0},{"$f":"'kros seznam'!LBB103","v":0},{"$f":"'kros seznam'!LBC103","v":0},{"$f":"'kros seznam'!LBD103","v":0},{"$f":"'kros seznam'!LBE103","v":0},{"$f":"'kros seznam'!LBF103","v":0},{"$f":"'kros seznam'!LBG103","v":0},{"$f":"'kros seznam'!LBH103","v":0},{"$f":"'kros seznam'!LBI103","v":0},{"$f":"'kros seznam'!LBJ103","v":0},{"$f":"'kros seznam'!LBK103","v":0},{"$f":"'kros seznam'!LBL103","v":0},{"$f":"'kros seznam'!LBM103","v":0},{"$f":"'kros seznam'!LBN103","v":0},{"$f":"'kros seznam'!LBO103","v":0},{"$f":"'kros seznam'!LBP103","v":0},{"$f":"'kros seznam'!LBQ103","v":0},{"$f":"'kros seznam'!LBR103","v":0},{"$f":"'kros seznam'!LBS103","v":0},{"$f":"'kros seznam'!LBT103","v":0},{"$f":"'kros seznam'!LBU103","v":0},{"$f":"'kros seznam'!LBV103","v":0},{"$f":"'kros seznam'!LBW103","v":0},{"$f":"'kros seznam'!LBX103","v":0},{"$f":"'kros seznam'!LBY103","v":0},{"$f":"'kros seznam'!LBZ103","v":0},{"$f":"'kros seznam'!LCA103","v":0},{"$f":"'kros seznam'!LCB103","v":0},{"$f":"'kros seznam'!LCC103","v":0},{"$f":"'kros seznam'!LCD103","v":0},{"$f":"'kros seznam'!LCE103","v":0},{"$f":"'kros seznam'!LCF103","v":0},{"$f":"'kros seznam'!LCG103","v":0},{"$f":"'kros seznam'!LCH103","v":0},{"$f":"'kros seznam'!LCI103","v":0},{"$f":"'kros seznam'!LCJ103","v":0},{"$f":"'kros seznam'!LCK103","v":0},{"$f":"'kros seznam'!LCL103","v":0},{"$f":"'kros seznam'!LCM103","v":0},{"$f":"'kros seznam'!LCN103","v":0},{"$f":"'kros seznam'!LCO103","v":0},{"$f":"'kros seznam'!LCP103","v":0},{"$f":"'kros seznam'!LCQ103","v":0},{"$f":"'kros seznam'!LCR103","v":0},{"$f":"'kros seznam'!LCS103","v":0},{"$f":"'kros seznam'!LCT103","v":0},{"$f":"'kros seznam'!LCU103","v":0},{"$f":"'kros seznam'!LCV103","v":0},{"$f":"'kros seznam'!LCW103","v":0},{"$f":"'kros seznam'!LCX103","v":0},{"$f":"'kros seznam'!LCY103","v":0},{"$f":"'kros seznam'!LCZ103","v":0},{"$f":"'kros seznam'!LDA103","v":0},{"$f":"'kros seznam'!LDB103","v":0},{"$f":"'kros seznam'!LDC103","v":0},{"$f":"'kros seznam'!LDD103","v":0},{"$f":"'kros seznam'!LDE103","v":0},{"$f":"'kros seznam'!LDF103","v":0},{"$f":"'kros seznam'!LDG103","v":0},{"$f":"'kros seznam'!LDH103","v":0},{"$f":"'kros seznam'!LDI103","v":0},{"$f":"'kros seznam'!LDJ103","v":0},{"$f":"'kros seznam'!LDK103","v":0},{"$f":"'kros seznam'!LDL103","v":0},{"$f":"'kros seznam'!LDM103","v":0},{"$f":"'kros seznam'!LDN103","v":0},{"$f":"'kros seznam'!LDO103","v":0},{"$f":"'kros seznam'!LDP103","v":0},{"$f":"'kros seznam'!LDQ103","v":0},{"$f":"'kros seznam'!LDR103","v":0},{"$f":"'kros seznam'!LDS103","v":0},{"$f":"'kros seznam'!LDT103","v":0},{"$f":"'kros seznam'!LDU103","v":0},{"$f":"'kros seznam'!LDV103","v":0},{"$f":"'kros seznam'!LDW103","v":0},{"$f":"'kros seznam'!LDX103","v":0},{"$f":"'kros seznam'!LDY103","v":0},{"$f":"'kros seznam'!LDZ103","v":0},{"$f":"'kros seznam'!LEA103","v":0},{"$f":"'kros seznam'!LEB103","v":0},{"$f":"'kros seznam'!LEC103","v":0},{"$f":"'kros seznam'!LED103","v":0},{"$f":"'kros seznam'!LEE103","v":0},{"$f":"'kros seznam'!LEF103","v":0},{"$f":"'kros seznam'!LEG103","v":0},{"$f":"'kros seznam'!LEH103","v":0},{"$f":"'kros seznam'!LEI103","v":0},{"$f":"'kros seznam'!LEJ103","v":0},{"$f":"'kros seznam'!LEK103","v":0},{"$f":"'kros seznam'!LEL103","v":0},{"$f":"'kros seznam'!LEM103","v":0},{"$f":"'kros seznam'!LEN103","v":0},{"$f":"'kros seznam'!LEO103","v":0},{"$f":"'kros seznam'!LEP103","v":0},{"$f":"'kros seznam'!LEQ103","v":0},{"$f":"'kros seznam'!LER103","v":0},{"$f":"'kros seznam'!LES103","v":0},{"$f":"'kros seznam'!LET103","v":0},{"$f":"'kros seznam'!LEU103","v":0},{"$f":"'kros seznam'!LEV103","v":0},{"$f":"'kros seznam'!LEW103","v":0},{"$f":"'kros seznam'!LEX103","v":0},{"$f":"'kros seznam'!LEY103","v":0},{"$f":"'kros seznam'!LEZ103","v":0},{"$f":"'kros seznam'!LFA103","v":0},{"$f":"'kros seznam'!LFB103","v":0},{"$f":"'kros seznam'!LFC103","v":0},{"$f":"'kros seznam'!LFD103","v":0},{"$f":"'kros seznam'!LFE103","v":0},{"$f":"'kros seznam'!LFF103","v":0},{"$f":"'kros seznam'!LFG103","v":0},{"$f":"'kros seznam'!LFH103","v":0},{"$f":"'kros seznam'!LFI103","v":0},{"$f":"'kros seznam'!LFJ103","v":0},{"$f":"'kros seznam'!LFK103","v":0},{"$f":"'kros seznam'!LFL103","v":0},{"$f":"'kros seznam'!LFM103","v":0},{"$f":"'kros seznam'!LFN103","v":0},{"$f":"'kros seznam'!LFO103","v":0},{"$f":"'kros seznam'!LFP103","v":0},{"$f":"'kros seznam'!LFQ103","v":0},{"$f":"'kros seznam'!LFR103","v":0},{"$f":"'kros seznam'!LFS103","v":0},{"$f":"'kros seznam'!LFT103","v":0},{"$f":"'kros seznam'!LFU103","v":0},{"$f":"'kros seznam'!LFV103","v":0},{"$f":"'kros seznam'!LFW103","v":0},{"$f":"'kros seznam'!LFX103","v":0},{"$f":"'kros seznam'!LFY103","v":0},{"$f":"'kros seznam'!LFZ103","v":0},{"$f":"'kros seznam'!LGA103","v":0},{"$f":"'kros seznam'!LGB103","v":0},{"$f":"'kros seznam'!LGC103","v":0},{"$f":"'kros seznam'!LGD103","v":0},{"$f":"'kros seznam'!LGE103","v":0},{"$f":"'kros seznam'!LGF103","v":0},{"$f":"'kros seznam'!LGG103","v":0},{"$f":"'kros seznam'!LGH103","v":0},{"$f":"'kros seznam'!LGI103","v":0},{"$f":"'kros seznam'!LGJ103","v":0},{"$f":"'kros seznam'!LGK103","v":0},{"$f":"'kros seznam'!LGL103","v":0},{"$f":"'kros seznam'!LGM103","v":0},{"$f":"'kros seznam'!LGN103","v":0},{"$f":"'kros seznam'!LGO103","v":0},{"$f":"'kros seznam'!LGP103","v":0},{"$f":"'kros seznam'!LGQ103","v":0},{"$f":"'kros seznam'!LGR103","v":0},{"$f":"'kros seznam'!LGS103","v":0},{"$f":"'kros seznam'!LGT103","v":0},{"$f":"'kros seznam'!LGU103","v":0},{"$f":"'kros seznam'!LGV103","v":0},{"$f":"'kros seznam'!LGW103","v":0},{"$f":"'kros seznam'!LGX103","v":0},{"$f":"'kros seznam'!LGY103","v":0},{"$f":"'kros seznam'!LGZ103","v":0},{"$f":"'kros seznam'!LHA103","v":0},{"$f":"'kros seznam'!LHB103","v":0},{"$f":"'kros seznam'!LHC103","v":0},{"$f":"'kros seznam'!LHD103","v":0},{"$f":"'kros seznam'!LHE103","v":0},{"$f":"'kros seznam'!LHF103","v":0},{"$f":"'kros seznam'!LHG103","v":0},{"$f":"'kros seznam'!LHH103","v":0},{"$f":"'kros seznam'!LHI103","v":0},{"$f":"'kros seznam'!LHJ103","v":0},{"$f":"'kros seznam'!LHK103","v":0},{"$f":"'kros seznam'!LHL103","v":0},{"$f":"'kros seznam'!LHM103","v":0},{"$f":"'kros seznam'!LHN103","v":0},{"$f":"'kros seznam'!LHO103","v":0},{"$f":"'kros seznam'!LHP103","v":0},{"$f":"'kros seznam'!LHQ103","v":0},{"$f":"'kros seznam'!LHR103","v":0},{"$f":"'kros seznam'!LHS103","v":0},{"$f":"'kros seznam'!LHT103","v":0},{"$f":"'kros seznam'!LHU103","v":0},{"$f":"'kros seznam'!LHV103","v":0},{"$f":"'kros seznam'!LHW103","v":0},{"$f":"'kros seznam'!LHX103","v":0},{"$f":"'kros seznam'!LHY103","v":0},{"$f":"'kros seznam'!LHZ103","v":0},{"$f":"'kros seznam'!LIA103","v":0},{"$f":"'kros seznam'!LIB103","v":0},{"$f":"'kros seznam'!LIC103","v":0},{"$f":"'kros seznam'!LID103","v":0},{"$f":"'kros seznam'!LIE103","v":0},{"$f":"'kros seznam'!LIF103","v":0},{"$f":"'kros seznam'!LIG103","v":0},{"$f":"'kros seznam'!LIH103","v":0},{"$f":"'kros seznam'!LII103","v":0},{"$f":"'kros seznam'!LIJ103","v":0},{"$f":"'kros seznam'!LIK103","v":0},{"$f":"'kros seznam'!LIL103","v":0},{"$f":"'kros seznam'!LIM103","v":0},{"$f":"'kros seznam'!LIN103","v":0},{"$f":"'kros seznam'!LIO103","v":0},{"$f":"'kros seznam'!LIP103","v":0},{"$f":"'kros seznam'!LIQ103","v":0},{"$f":"'kros seznam'!LIR103","v":0},{"$f":"'kros seznam'!LIS103","v":0},{"$f":"'kros seznam'!LIT103","v":0},{"$f":"'kros seznam'!LIU103","v":0},{"$f":"'kros seznam'!LIV103","v":0},{"$f":"'kros seznam'!LIW103","v":0},{"$f":"'kros seznam'!LIX103","v":0},{"$f":"'kros seznam'!LIY103","v":0},{"$f":"'kros seznam'!LIZ103","v":0},{"$f":"'kros seznam'!LJA103","v":0},{"$f":"'kros seznam'!LJB103","v":0},{"$f":"'kros seznam'!LJC103","v":0},{"$f":"'kros seznam'!LJD103","v":0},{"$f":"'kros seznam'!LJE103","v":0},{"$f":"'kros seznam'!LJF103","v":0},{"$f":"'kros seznam'!LJG103","v":0},{"$f":"'kros seznam'!LJH103","v":0},{"$f":"'kros seznam'!LJI103","v":0},{"$f":"'kros seznam'!LJJ103","v":0},{"$f":"'kros seznam'!LJK103","v":0},{"$f":"'kros seznam'!LJL103","v":0},{"$f":"'kros seznam'!LJM103","v":0},{"$f":"'kros seznam'!LJN103","v":0},{"$f":"'kros seznam'!LJO103","v":0},{"$f":"'kros seznam'!LJP103","v":0},{"$f":"'kros seznam'!LJQ103","v":0},{"$f":"'kros seznam'!LJR103","v":0},{"$f":"'kros seznam'!LJS103","v":0},{"$f":"'kros seznam'!LJT103","v":0},{"$f":"'kros seznam'!LJU103","v":0},{"$f":"'kros seznam'!LJV103","v":0},{"$f":"'kros seznam'!LJW103","v":0},{"$f":"'kros seznam'!LJX103","v":0},{"$f":"'kros seznam'!LJY103","v":0},{"$f":"'kros seznam'!LJZ103","v":0},{"$f":"'kros seznam'!LKA103","v":0},{"$f":"'kros seznam'!LKB103","v":0},{"$f":"'kros seznam'!LKC103","v":0},{"$f":"'kros seznam'!LKD103","v":0},{"$f":"'kros seznam'!LKE103","v":0},{"$f":"'kros seznam'!LKF103","v":0},{"$f":"'kros seznam'!LKG103","v":0},{"$f":"'kros seznam'!LKH103","v":0},{"$f":"'kros seznam'!LKI103","v":0},{"$f":"'kros seznam'!LKJ103","v":0},{"$f":"'kros seznam'!LKK103","v":0},{"$f":"'kros seznam'!LKL103","v":0},{"$f":"'kros seznam'!LKM103","v":0},{"$f":"'kros seznam'!LKN103","v":0},{"$f":"'kros seznam'!LKO103","v":0},{"$f":"'kros seznam'!LKP103","v":0},{"$f":"'kros seznam'!LKQ103","v":0},{"$f":"'kros seznam'!LKR103","v":0},{"$f":"'kros seznam'!LKS103","v":0},{"$f":"'kros seznam'!LKT103","v":0},{"$f":"'kros seznam'!LKU103","v":0},{"$f":"'kros seznam'!LKV103","v":0},{"$f":"'kros seznam'!LKW103","v":0},{"$f":"'kros seznam'!LKX103","v":0},{"$f":"'kros seznam'!LKY103","v":0},{"$f":"'kros seznam'!LKZ103","v":0},{"$f":"'kros seznam'!LLA103","v":0},{"$f":"'kros seznam'!LLB103","v":0},{"$f":"'kros seznam'!LLC103","v":0},{"$f":"'kros seznam'!LLD103","v":0},{"$f":"'kros seznam'!LLE103","v":0},{"$f":"'kros seznam'!LLF103","v":0},{"$f":"'kros seznam'!LLG103","v":0},{"$f":"'kros seznam'!LLH103","v":0},{"$f":"'kros seznam'!LLI103","v":0},{"$f":"'kros seznam'!LLJ103","v":0},{"$f":"'kros seznam'!LLK103","v":0},{"$f":"'kros seznam'!LLL103","v":0},{"$f":"'kros seznam'!LLM103","v":0},{"$f":"'kros seznam'!LLN103","v":0},{"$f":"'kros seznam'!LLO103","v":0},{"$f":"'kros seznam'!LLP103","v":0},{"$f":"'kros seznam'!LLQ103","v":0},{"$f":"'kros seznam'!LLR103","v":0},{"$f":"'kros seznam'!LLS103","v":0},{"$f":"'kros seznam'!LLT103","v":0},{"$f":"'kros seznam'!LLU103","v":0},{"$f":"'kros seznam'!LLV103","v":0},{"$f":"'kros seznam'!LLW103","v":0},{"$f":"'kros seznam'!LLX103","v":0},{"$f":"'kros seznam'!LLY103","v":0},{"$f":"'kros seznam'!LLZ103","v":0},{"$f":"'kros seznam'!LMA103","v":0},{"$f":"'kros seznam'!LMB103","v":0},{"$f":"'kros seznam'!LMC103","v":0},{"$f":"'kros seznam'!LMD103","v":0},{"$f":"'kros seznam'!LME103","v":0},{"$f":"'kros seznam'!LMF103","v":0},{"$f":"'kros seznam'!LMG103","v":0},{"$f":"'kros seznam'!LMH103","v":0},{"$f":"'kros seznam'!LMI103","v":0},{"$f":"'kros seznam'!LMJ103","v":0},{"$f":"'kros seznam'!LMK103","v":0},{"$f":"'kros seznam'!LML103","v":0},{"$f":"'kros seznam'!LMM103","v":0},{"$f":"'kros seznam'!LMN103","v":0},{"$f":"'kros seznam'!LMO103","v":0},{"$f":"'kros seznam'!LMP103","v":0},{"$f":"'kros seznam'!LMQ103","v":0},{"$f":"'kros seznam'!LMR103","v":0},{"$f":"'kros seznam'!LMS103","v":0},{"$f":"'kros seznam'!LMT103","v":0},{"$f":"'kros seznam'!LMU103","v":0},{"$f":"'kros seznam'!LMV103","v":0},{"$f":"'kros seznam'!LMW103","v":0},{"$f":"'kros seznam'!LMX103","v":0},{"$f":"'kros seznam'!LMY103","v":0},{"$f":"'kros seznam'!LMZ103","v":0},{"$f":"'kros seznam'!LNA103","v":0},{"$f":"'kros seznam'!LNB103","v":0},{"$f":"'kros seznam'!LNC103","v":0},{"$f":"'kros seznam'!LND103","v":0},{"$f":"'kros seznam'!LNE103","v":0},{"$f":"'kros seznam'!LNF103","v":0},{"$f":"'kros seznam'!LNG103","v":0},{"$f":"'kros seznam'!LNH103","v":0},{"$f":"'kros seznam'!LNI103","v":0},{"$f":"'kros seznam'!LNJ103","v":0},{"$f":"'kros seznam'!LNK103","v":0},{"$f":"'kros seznam'!LNL103","v":0},{"$f":"'kros seznam'!LNM103","v":0},{"$f":"'kros seznam'!LNN103","v":0},{"$f":"'kros seznam'!LNO103","v":0},{"$f":"'kros seznam'!LNP103","v":0},{"$f":"'kros seznam'!LNQ103","v":0},{"$f":"'kros seznam'!LNR103","v":0},{"$f":"'kros seznam'!LNS103","v":0},{"$f":"'kros seznam'!LNT103","v":0},{"$f":"'kros seznam'!LNU103","v":0},{"$f":"'kros seznam'!LNV103","v":0},{"$f":"'kros seznam'!LNW103","v":0},{"$f":"'kros seznam'!LNX103","v":0},{"$f":"'kros seznam'!LNY103","v":0},{"$f":"'kros seznam'!LNZ103","v":0},{"$f":"'kros seznam'!LOA103","v":0},{"$f":"'kros seznam'!LOB103","v":0},{"$f":"'kros seznam'!LOC103","v":0},{"$f":"'kros seznam'!LOD103","v":0},{"$f":"'kros seznam'!LOE103","v":0},{"$f":"'kros seznam'!LOF103","v":0},{"$f":"'kros seznam'!LOG103","v":0},{"$f":"'kros seznam'!LOH103","v":0},{"$f":"'kros seznam'!LOI103","v":0},{"$f":"'kros seznam'!LOJ103","v":0},{"$f":"'kros seznam'!LOK103","v":0},{"$f":"'kros seznam'!LOL103","v":0},{"$f":"'kros seznam'!LOM103","v":0},{"$f":"'kros seznam'!LON103","v":0},{"$f":"'kros seznam'!LOO103","v":0},{"$f":"'kros seznam'!LOP103","v":0},{"$f":"'kros seznam'!LOQ103","v":0},{"$f":"'kros seznam'!LOR103","v":0},{"$f":"'kros seznam'!LOS103","v":0},{"$f":"'kros seznam'!LOT103","v":0},{"$f":"'kros seznam'!LOU103","v":0},{"$f":"'kros seznam'!LOV103","v":0},{"$f":"'kros seznam'!LOW103","v":0},{"$f":"'kros seznam'!LOX103","v":0},{"$f":"'kros seznam'!LOY103","v":0},{"$f":"'kros seznam'!LOZ103","v":0},{"$f":"'kros seznam'!LPA103","v":0},{"$f":"'kros seznam'!LPB103","v":0},{"$f":"'kros seznam'!LPC103","v":0},{"$f":"'kros seznam'!LPD103","v":0},{"$f":"'kros seznam'!LPE103","v":0},{"$f":"'kros seznam'!LPF103","v":0},{"$f":"'kros seznam'!LPG103","v":0},{"$f":"'kros seznam'!LPH103","v":0},{"$f":"'kros seznam'!LPI103","v":0},{"$f":"'kros seznam'!LPJ103","v":0},{"$f":"'kros seznam'!LPK103","v":0},{"$f":"'kros seznam'!LPL103","v":0},{"$f":"'kros seznam'!LPM103","v":0},{"$f":"'kros seznam'!LPN103","v":0},{"$f":"'kros seznam'!LPO103","v":0},{"$f":"'kros seznam'!LPP103","v":0},{"$f":"'kros seznam'!LPQ103","v":0},{"$f":"'kros seznam'!LPR103","v":0},{"$f":"'kros seznam'!LPS103","v":0},{"$f":"'kros seznam'!LPT103","v":0},{"$f":"'kros seznam'!LPU103","v":0},{"$f":"'kros seznam'!LPV103","v":0},{"$f":"'kros seznam'!LPW103","v":0},{"$f":"'kros seznam'!LPX103","v":0},{"$f":"'kros seznam'!LPY103","v":0},{"$f":"'kros seznam'!LPZ103","v":0},{"$f":"'kros seznam'!LQA103","v":0},{"$f":"'kros seznam'!LQB103","v":0},{"$f":"'kros seznam'!LQC103","v":0},{"$f":"'kros seznam'!LQD103","v":0},{"$f":"'kros seznam'!LQE103","v":0},{"$f":"'kros seznam'!LQF103","v":0},{"$f":"'kros seznam'!LQG103","v":0},{"$f":"'kros seznam'!LQH103","v":0},{"$f":"'kros seznam'!LQI103","v":0},{"$f":"'kros seznam'!LQJ103","v":0},{"$f":"'kros seznam'!LQK103","v":0},{"$f":"'kros seznam'!LQL103","v":0},{"$f":"'kros seznam'!LQM103","v":0},{"$f":"'kros seznam'!LQN103","v":0},{"$f":"'kros seznam'!LQO103","v":0},{"$f":"'kros seznam'!LQP103","v":0},{"$f":"'kros seznam'!LQQ103","v":0},{"$f":"'kros seznam'!LQR103","v":0},{"$f":"'kros seznam'!LQS103","v":0},{"$f":"'kros seznam'!LQT103","v":0},{"$f":"'kros seznam'!LQU103","v":0},{"$f":"'kros seznam'!LQV103","v":0},{"$f":"'kros seznam'!LQW103","v":0},{"$f":"'kros seznam'!LQX103","v":0},{"$f":"'kros seznam'!LQY103","v":0},{"$f":"'kros seznam'!LQZ103","v":0},{"$f":"'kros seznam'!LRA103","v":0},{"$f":"'kros seznam'!LRB103","v":0},{"$f":"'kros seznam'!LRC103","v":0},{"$f":"'kros seznam'!LRD103","v":0},{"$f":"'kros seznam'!LRE103","v":0},{"$f":"'kros seznam'!LRF103","v":0},{"$f":"'kros seznam'!LRG103","v":0},{"$f":"'kros seznam'!LRH103","v":0},{"$f":"'kros seznam'!LRI103","v":0},{"$f":"'kros seznam'!LRJ103","v":0},{"$f":"'kros seznam'!LRK103","v":0},{"$f":"'kros seznam'!LRL103","v":0},{"$f":"'kros seznam'!LRM103","v":0},{"$f":"'kros seznam'!LRN103","v":0},{"$f":"'kros seznam'!LRO103","v":0},{"$f":"'kros seznam'!LRP103","v":0},{"$f":"'kros seznam'!LRQ103","v":0},{"$f":"'kros seznam'!LRR103","v":0},{"$f":"'kros seznam'!LRS103","v":0},{"$f":"'kros seznam'!LRT103","v":0},{"$f":"'kros seznam'!LRU103","v":0},{"$f":"'kros seznam'!LRV103","v":0},{"$f":"'kros seznam'!LRW103","v":0},{"$f":"'kros seznam'!LRX103","v":0},{"$f":"'kros seznam'!LRY103","v":0},{"$f":"'kros seznam'!LRZ103","v":0},{"$f":"'kros seznam'!LSA103","v":0},{"$f":"'kros seznam'!LSB103","v":0},{"$f":"'kros seznam'!LSC103","v":0},{"$f":"'kros seznam'!LSD103","v":0},{"$f":"'kros seznam'!LSE103","v":0},{"$f":"'kros seznam'!LSF103","v":0},{"$f":"'kros seznam'!LSG103","v":0},{"$f":"'kros seznam'!LSH103","v":0},{"$f":"'kros seznam'!LSI103","v":0},{"$f":"'kros seznam'!LSJ103","v":0},{"$f":"'kros seznam'!LSK103","v":0},{"$f":"'kros seznam'!LSL103","v":0},{"$f":"'kros seznam'!LSM103","v":0},{"$f":"'kros seznam'!LSN103","v":0},{"$f":"'kros seznam'!LSO103","v":0},{"$f":"'kros seznam'!LSP103","v":0},{"$f":"'kros seznam'!LSQ103","v":0},{"$f":"'kros seznam'!LSR103","v":0},{"$f":"'kros seznam'!LSS103","v":0},{"$f":"'kros seznam'!LST103","v":0},{"$f":"'kros seznam'!LSU103","v":0},{"$f":"'kros seznam'!LSV103","v":0},{"$f":"'kros seznam'!LSW103","v":0},{"$f":"'kros seznam'!LSX103","v":0},{"$f":"'kros seznam'!LSY103","v":0},{"$f":"'kros seznam'!LSZ103","v":0},{"$f":"'kros seznam'!LTA103","v":0},{"$f":"'kros seznam'!LTB103","v":0},{"$f":"'kros seznam'!LTC103","v":0},{"$f":"'kros seznam'!LTD103","v":0},{"$f":"'kros seznam'!LTE103","v":0},{"$f":"'kros seznam'!LTF103","v":0},{"$f":"'kros seznam'!LTG103","v":0},{"$f":"'kros seznam'!LTH103","v":0},{"$f":"'kros seznam'!LTI103","v":0},{"$f":"'kros seznam'!LTJ103","v":0},{"$f":"'kros seznam'!LTK103","v":0},{"$f":"'kros seznam'!LTL103","v":0},{"$f":"'kros seznam'!LTM103","v":0},{"$f":"'kros seznam'!LTN103","v":0},{"$f":"'kros seznam'!LTO103","v":0},{"$f":"'kros seznam'!LTP103","v":0},{"$f":"'kros seznam'!LTQ103","v":0},{"$f":"'kros seznam'!LTR103","v":0},{"$f":"'kros seznam'!LTS103","v":0},{"$f":"'kros seznam'!LTT103","v":0},{"$f":"'kros seznam'!LTU103","v":0},{"$f":"'kros seznam'!LTV103","v":0},{"$f":"'kros seznam'!LTW103","v":0},{"$f":"'kros seznam'!LTX103","v":0},{"$f":"'kros seznam'!LTY103","v":0},{"$f":"'kros seznam'!LTZ103","v":0},{"$f":"'kros seznam'!LUA103","v":0},{"$f":"'kros seznam'!LUB103","v":0},{"$f":"'kros seznam'!LUC103","v":0},{"$f":"'kros seznam'!LUD103","v":0},{"$f":"'kros seznam'!LUE103","v":0},{"$f":"'kros seznam'!LUF103","v":0},{"$f":"'kros seznam'!LUG103","v":0},{"$f":"'kros seznam'!LUH103","v":0},{"$f":"'kros seznam'!LUI103","v":0},{"$f":"'kros seznam'!LUJ103","v":0},{"$f":"'kros seznam'!LUK103","v":0},{"$f":"'kros seznam'!LUL103","v":0},{"$f":"'kros seznam'!LUM103","v":0},{"$f":"'kros seznam'!LUN103","v":0},{"$f":"'kros seznam'!LUO103","v":0},{"$f":"'kros seznam'!LUP103","v":0},{"$f":"'kros seznam'!LUQ103","v":0},{"$f":"'kros seznam'!LUR103","v":0},{"$f":"'kros seznam'!LUS103","v":0},{"$f":"'kros seznam'!LUT103","v":0},{"$f":"'kros seznam'!LUU103","v":0},{"$f":"'kros seznam'!LUV103","v":0},{"$f":"'kros seznam'!LUW103","v":0},{"$f":"'kros seznam'!LUX103","v":0},{"$f":"'kros seznam'!LUY103","v":0},{"$f":"'kros seznam'!LUZ103","v":0},{"$f":"'kros seznam'!LVA103","v":0},{"$f":"'kros seznam'!LVB103","v":0},{"$f":"'kros seznam'!LVC103","v":0},{"$f":"'kros seznam'!LVD103","v":0},{"$f":"'kros seznam'!LVE103","v":0},{"$f":"'kros seznam'!LVF103","v":0},{"$f":"'kros seznam'!LVG103","v":0},{"$f":"'kros seznam'!LVH103","v":0},{"$f":"'kros seznam'!LVI103","v":0},{"$f":"'kros seznam'!LVJ103","v":0},{"$f":"'kros seznam'!LVK103","v":0},{"$f":"'kros seznam'!LVL103","v":0},{"$f":"'kros seznam'!LVM103","v":0},{"$f":"'kros seznam'!LVN103","v":0},{"$f":"'kros seznam'!LVO103","v":0},{"$f":"'kros seznam'!LVP103","v":0},{"$f":"'kros seznam'!LVQ103","v":0},{"$f":"'kros seznam'!LVR103","v":0},{"$f":"'kros seznam'!LVS103","v":0},{"$f":"'kros seznam'!LVT103","v":0},{"$f":"'kros seznam'!LVU103","v":0},{"$f":"'kros seznam'!LVV103","v":0},{"$f":"'kros seznam'!LVW103","v":0},{"$f":"'kros seznam'!LVX103","v":0},{"$f":"'kros seznam'!LVY103","v":0},{"$f":"'kros seznam'!LVZ103","v":0},{"$f":"'kros seznam'!LWA103","v":0},{"$f":"'kros seznam'!LWB103","v":0},{"$f":"'kros seznam'!LWC103","v":0},{"$f":"'kros seznam'!LWD103","v":0},{"$f":"'kros seznam'!LWE103","v":0},{"$f":"'kros seznam'!LWF103","v":0},{"$f":"'kros seznam'!LWG103","v":0},{"$f":"'kros seznam'!LWH103","v":0},{"$f":"'kros seznam'!LWI103","v":0},{"$f":"'kros seznam'!LWJ103","v":0},{"$f":"'kros seznam'!LWK103","v":0},{"$f":"'kros seznam'!LWL103","v":0},{"$f":"'kros seznam'!LWM103","v":0},{"$f":"'kros seznam'!LWN103","v":0},{"$f":"'kros seznam'!LWO103","v":0},{"$f":"'kros seznam'!LWP103","v":0},{"$f":"'kros seznam'!LWQ103","v":0},{"$f":"'kros seznam'!LWR103","v":0},{"$f":"'kros seznam'!LWS103","v":0},{"$f":"'kros seznam'!LWT103","v":0},{"$f":"'kros seznam'!LWU103","v":0},{"$f":"'kros seznam'!LWV103","v":0},{"$f":"'kros seznam'!LWW103","v":0},{"$f":"'kros seznam'!LWX103","v":0},{"$f":"'kros seznam'!LWY103","v":0},{"$f":"'kros seznam'!LWZ103","v":0},{"$f":"'kros seznam'!LXA103","v":0},{"$f":"'kros seznam'!LXB103","v":0},{"$f":"'kros seznam'!LXC103","v":0},{"$f":"'kros seznam'!LXD103","v":0},{"$f":"'kros seznam'!LXE103","v":0},{"$f":"'kros seznam'!LXF103","v":0},{"$f":"'kros seznam'!LXG103","v":0},{"$f":"'kros seznam'!LXH103","v":0},{"$f":"'kros seznam'!LXI103","v":0},{"$f":"'kros seznam'!LXJ103","v":0},{"$f":"'kros seznam'!LXK103","v":0},{"$f":"'kros seznam'!LXL103","v":0},{"$f":"'kros seznam'!LXM103","v":0},{"$f":"'kros seznam'!LXN103","v":0},{"$f":"'kros seznam'!LXO103","v":0},{"$f":"'kros seznam'!LXP103","v":0},{"$f":"'kros seznam'!LXQ103","v":0},{"$f":"'kros seznam'!LXR103","v":0},{"$f":"'kros seznam'!LXS103","v":0},{"$f":"'kros seznam'!LXT103","v":0},{"$f":"'kros seznam'!LXU103","v":0},{"$f":"'kros seznam'!LXV103","v":0},{"$f":"'kros seznam'!LXW103","v":0},{"$f":"'kros seznam'!LXX103","v":0},{"$f":"'kros seznam'!LXY103","v":0},{"$f":"'kros seznam'!LXZ103","v":0},{"$f":"'kros seznam'!LYA103","v":0},{"$f":"'kros seznam'!LYB103","v":0},{"$f":"'kros seznam'!LYC103","v":0},{"$f":"'kros seznam'!LYD103","v":0},{"$f":"'kros seznam'!LYE103","v":0},{"$f":"'kros seznam'!LYF103","v":0},{"$f":"'kros seznam'!LYG103","v":0},{"$f":"'kros seznam'!LYH103","v":0},{"$f":"'kros seznam'!LYI103","v":0},{"$f":"'kros seznam'!LYJ103","v":0},{"$f":"'kros seznam'!LYK103","v":0},{"$f":"'kros seznam'!LYL103","v":0},{"$f":"'kros seznam'!LYM103","v":0},{"$f":"'kros seznam'!LYN103","v":0},{"$f":"'kros seznam'!LYO103","v":0},{"$f":"'kros seznam'!LYP103","v":0},{"$f":"'kros seznam'!LYQ103","v":0},{"$f":"'kros seznam'!LYR103","v":0},{"$f":"'kros seznam'!LYS103","v":0},{"$f":"'kros seznam'!LYT103","v":0},{"$f":"'kros seznam'!LYU103","v":0},{"$f":"'kros seznam'!LYV103","v":0},{"$f":"'kros seznam'!LYW103","v":0},{"$f":"'kros seznam'!LYX103","v":0},{"$f":"'kros seznam'!LYY103","v":0},{"$f":"'kros seznam'!LYZ103","v":0},{"$f":"'kros seznam'!LZA103","v":0},{"$f":"'kros seznam'!LZB103","v":0},{"$f":"'kros seznam'!LZC103","v":0},{"$f":"'kros seznam'!LZD103","v":0},{"$f":"'kros seznam'!LZE103","v":0},{"$f":"'kros seznam'!LZF103","v":0},{"$f":"'kros seznam'!LZG103","v":0},{"$f":"'kros seznam'!LZH103","v":0},{"$f":"'kros seznam'!LZI103","v":0},{"$f":"'kros seznam'!LZJ103","v":0},{"$f":"'kros seznam'!LZK103","v":0},{"$f":"'kros seznam'!LZL103","v":0},{"$f":"'kros seznam'!LZM103","v":0},{"$f":"'kros seznam'!LZN103","v":0},{"$f":"'kros seznam'!LZO103","v":0},{"$f":"'kros seznam'!LZP103","v":0},{"$f":"'kros seznam'!LZQ103","v":0},{"$f":"'kros seznam'!LZR103","v":0},{"$f":"'kros seznam'!LZS103","v":0},{"$f":"'kros seznam'!LZT103","v":0},{"$f":"'kros seznam'!LZU103","v":0},{"$f":"'kros seznam'!LZV103","v":0},{"$f":"'kros seznam'!LZW103","v":0},{"$f":"'kros seznam'!LZX103","v":0},{"$f":"'kros seznam'!LZY103","v":0},{"$f":"'kros seznam'!LZZ103","v":0},{"$f":"'kros seznam'!MAA103","v":0},{"$f":"'kros seznam'!MAB103","v":0},{"$f":"'kros seznam'!MAC103","v":0},{"$f":"'kros seznam'!MAD103","v":0},{"$f":"'kros seznam'!MAE103","v":0},{"$f":"'kros seznam'!MAF103","v":0},{"$f":"'kros seznam'!MAG103","v":0},{"$f":"'kros seznam'!MAH103","v":0},{"$f":"'kros seznam'!MAI103","v":0},{"$f":"'kros seznam'!MAJ103","v":0},{"$f":"'kros seznam'!MAK103","v":0},{"$f":"'kros seznam'!MAL103","v":0},{"$f":"'kros seznam'!MAM103","v":0},{"$f":"'kros seznam'!MAN103","v":0},{"$f":"'kros seznam'!MAO103","v":0},{"$f":"'kros seznam'!MAP103","v":0},{"$f":"'kros seznam'!MAQ103","v":0},{"$f":"'kros seznam'!MAR103","v":0},{"$f":"'kros seznam'!MAS103","v":0},{"$f":"'kros seznam'!MAT103","v":0},{"$f":"'kros seznam'!MAU103","v":0},{"$f":"'kros seznam'!MAV103","v":0},{"$f":"'kros seznam'!MAW103","v":0},{"$f":"'kros seznam'!MAX103","v":0},{"$f":"'kros seznam'!MAY103","v":0},{"$f":"'kros seznam'!MAZ103","v":0},{"$f":"'kros seznam'!MBA103","v":0},{"$f":"'kros seznam'!MBB103","v":0},{"$f":"'kros seznam'!MBC103","v":0},{"$f":"'kros seznam'!MBD103","v":0},{"$f":"'kros seznam'!MBE103","v":0},{"$f":"'kros seznam'!MBF103","v":0},{"$f":"'kros seznam'!MBG103","v":0},{"$f":"'kros seznam'!MBH103","v":0},{"$f":"'kros seznam'!MBI103","v":0},{"$f":"'kros seznam'!MBJ103","v":0},{"$f":"'kros seznam'!MBK103","v":0},{"$f":"'kros seznam'!MBL103","v":0},{"$f":"'kros seznam'!MBM103","v":0},{"$f":"'kros seznam'!MBN103","v":0},{"$f":"'kros seznam'!MBO103","v":0},{"$f":"'kros seznam'!MBP103","v":0},{"$f":"'kros seznam'!MBQ103","v":0},{"$f":"'kros seznam'!MBR103","v":0},{"$f":"'kros seznam'!MBS103","v":0},{"$f":"'kros seznam'!MBT103","v":0},{"$f":"'kros seznam'!MBU103","v":0},{"$f":"'kros seznam'!MBV103","v":0},{"$f":"'kros seznam'!MBW103","v":0},{"$f":"'kros seznam'!MBX103","v":0},{"$f":"'kros seznam'!MBY103","v":0},{"$f":"'kros seznam'!MBZ103","v":0},{"$f":"'kros seznam'!MCA103","v":0},{"$f":"'kros seznam'!MCB103","v":0},{"$f":"'kros seznam'!MCC103","v":0},{"$f":"'kros seznam'!MCD103","v":0},{"$f":"'kros seznam'!MCE103","v":0},{"$f":"'kros seznam'!MCF103","v":0},{"$f":"'kros seznam'!MCG103","v":0},{"$f":"'kros seznam'!MCH103","v":0},{"$f":"'kros seznam'!MCI103","v":0},{"$f":"'kros seznam'!MCJ103","v":0},{"$f":"'kros seznam'!MCK103","v":0},{"$f":"'kros seznam'!MCL103","v":0},{"$f":"'kros seznam'!MCM103","v":0},{"$f":"'kros seznam'!MCN103","v":0},{"$f":"'kros seznam'!MCO103","v":0},{"$f":"'kros seznam'!MCP103","v":0},{"$f":"'kros seznam'!MCQ103","v":0},{"$f":"'kros seznam'!MCR103","v":0},{"$f":"'kros seznam'!MCS103","v":0},{"$f":"'kros seznam'!MCT103","v":0},{"$f":"'kros seznam'!MCU103","v":0},{"$f":"'kros seznam'!MCV103","v":0},{"$f":"'kros seznam'!MCW103","v":0},{"$f":"'kros seznam'!MCX103","v":0},{"$f":"'kros seznam'!MCY103","v":0},{"$f":"'kros seznam'!MCZ103","v":0},{"$f":"'kros seznam'!MDA103","v":0},{"$f":"'kros seznam'!MDB103","v":0},{"$f":"'kros seznam'!MDC103","v":0},{"$f":"'kros seznam'!MDD103","v":0},{"$f":"'kros seznam'!MDE103","v":0},{"$f":"'kros seznam'!MDF103","v":0},{"$f":"'kros seznam'!MDG103","v":0},{"$f":"'kros seznam'!MDH103","v":0},{"$f":"'kros seznam'!MDI103","v":0},{"$f":"'kros seznam'!MDJ103","v":0},{"$f":"'kros seznam'!MDK103","v":0},{"$f":"'kros seznam'!MDL103","v":0},{"$f":"'kros seznam'!MDM103","v":0},{"$f":"'kros seznam'!MDN103","v":0},{"$f":"'kros seznam'!MDO103","v":0},{"$f":"'kros seznam'!MDP103","v":0},{"$f":"'kros seznam'!MDQ103","v":0},{"$f":"'kros seznam'!MDR103","v":0},{"$f":"'kros seznam'!MDS103","v":0},{"$f":"'kros seznam'!MDT103","v":0},{"$f":"'kros seznam'!MDU103","v":0},{"$f":"'kros seznam'!MDV103","v":0},{"$f":"'kros seznam'!MDW103","v":0},{"$f":"'kros seznam'!MDX103","v":0},{"$f":"'kros seznam'!MDY103","v":0},{"$f":"'kros seznam'!MDZ103","v":0},{"$f":"'kros seznam'!MEA103","v":0},{"$f":"'kros seznam'!MEB103","v":0},{"$f":"'kros seznam'!MEC103","v":0},{"$f":"'kros seznam'!MED103","v":0},{"$f":"'kros seznam'!MEE103","v":0},{"$f":"'kros seznam'!MEF103","v":0},{"$f":"'kros seznam'!MEG103","v":0},{"$f":"'kros seznam'!MEH103","v":0},{"$f":"'kros seznam'!MEI103","v":0},{"$f":"'kros seznam'!MEJ103","v":0},{"$f":"'kros seznam'!MEK103","v":0},{"$f":"'kros seznam'!MEL103","v":0},{"$f":"'kros seznam'!MEM103","v":0},{"$f":"'kros seznam'!MEN103","v":0},{"$f":"'kros seznam'!MEO103","v":0},{"$f":"'kros seznam'!MEP103","v":0},{"$f":"'kros seznam'!MEQ103","v":0},{"$f":"'kros seznam'!MER103","v":0},{"$f":"'kros seznam'!MES103","v":0},{"$f":"'kros seznam'!MET103","v":0},{"$f":"'kros seznam'!MEU103","v":0},{"$f":"'kros seznam'!MEV103","v":0},{"$f":"'kros seznam'!MEW103","v":0},{"$f":"'kros seznam'!MEX103","v":0},{"$f":"'kros seznam'!MEY103","v":0},{"$f":"'kros seznam'!MEZ103","v":0},{"$f":"'kros seznam'!MFA103","v":0},{"$f":"'kros seznam'!MFB103","v":0},{"$f":"'kros seznam'!MFC103","v":0},{"$f":"'kros seznam'!MFD103","v":0},{"$f":"'kros seznam'!MFE103","v":0},{"$f":"'kros seznam'!MFF103","v":0},{"$f":"'kros seznam'!MFG103","v":0},{"$f":"'kros seznam'!MFH103","v":0},{"$f":"'kros seznam'!MFI103","v":0},{"$f":"'kros seznam'!MFJ103","v":0},{"$f":"'kros seznam'!MFK103","v":0},{"$f":"'kros seznam'!MFL103","v":0},{"$f":"'kros seznam'!MFM103","v":0},{"$f":"'kros seznam'!MFN103","v":0},{"$f":"'kros seznam'!MFO103","v":0},{"$f":"'kros seznam'!MFP103","v":0},{"$f":"'kros seznam'!MFQ103","v":0},{"$f":"'kros seznam'!MFR103","v":0},{"$f":"'kros seznam'!MFS103","v":0},{"$f":"'kros seznam'!MFT103","v":0},{"$f":"'kros seznam'!MFU103","v":0},{"$f":"'kros seznam'!MFV103","v":0},{"$f":"'kros seznam'!MFW103","v":0},{"$f":"'kros seznam'!MFX103","v":0},{"$f":"'kros seznam'!MFY103","v":0},{"$f":"'kros seznam'!MFZ103","v":0},{"$f":"'kros seznam'!MGA103","v":0},{"$f":"'kros seznam'!MGB103","v":0},{"$f":"'kros seznam'!MGC103","v":0},{"$f":"'kros seznam'!MGD103","v":0},{"$f":"'kros seznam'!MGE103","v":0},{"$f":"'kros seznam'!MGF103","v":0},{"$f":"'kros seznam'!MGG103","v":0},{"$f":"'kros seznam'!MGH103","v":0},{"$f":"'kros seznam'!MGI103","v":0},{"$f":"'kros seznam'!MGJ103","v":0},{"$f":"'kros seznam'!MGK103","v":0},{"$f":"'kros seznam'!MGL103","v":0},{"$f":"'kros seznam'!MGM103","v":0},{"$f":"'kros seznam'!MGN103","v":0},{"$f":"'kros seznam'!MGO103","v":0},{"$f":"'kros seznam'!MGP103","v":0},{"$f":"'kros seznam'!MGQ103","v":0},{"$f":"'kros seznam'!MGR103","v":0},{"$f":"'kros seznam'!MGS103","v":0},{"$f":"'kros seznam'!MGT103","v":0},{"$f":"'kros seznam'!MGU103","v":0},{"$f":"'kros seznam'!MGV103","v":0},{"$f":"'kros seznam'!MGW103","v":0},{"$f":"'kros seznam'!MGX103","v":0},{"$f":"'kros seznam'!MGY103","v":0},{"$f":"'kros seznam'!MGZ103","v":0},{"$f":"'kros seznam'!MHA103","v":0},{"$f":"'kros seznam'!MHB103","v":0},{"$f":"'kros seznam'!MHC103","v":0},{"$f":"'kros seznam'!MHD103","v":0},{"$f":"'kros seznam'!MHE103","v":0},{"$f":"'kros seznam'!MHF103","v":0},{"$f":"'kros seznam'!MHG103","v":0},{"$f":"'kros seznam'!MHH103","v":0},{"$f":"'kros seznam'!MHI103","v":0},{"$f":"'kros seznam'!MHJ103","v":0},{"$f":"'kros seznam'!MHK103","v":0},{"$f":"'kros seznam'!MHL103","v":0},{"$f":"'kros seznam'!MHM103","v":0},{"$f":"'kros seznam'!MHN103","v":0},{"$f":"'kros seznam'!MHO103","v":0},{"$f":"'kros seznam'!MHP103","v":0},{"$f":"'kros seznam'!MHQ103","v":0},{"$f":"'kros seznam'!MHR103","v":0},{"$f":"'kros seznam'!MHS103","v":0},{"$f":"'kros seznam'!MHT103","v":0},{"$f":"'kros seznam'!MHU103","v":0},{"$f":"'kros seznam'!MHV103","v":0},{"$f":"'kros seznam'!MHW103","v":0},{"$f":"'kros seznam'!MHX103","v":0},{"$f":"'kros seznam'!MHY103","v":0},{"$f":"'kros seznam'!MHZ103","v":0},{"$f":"'kros seznam'!MIA103","v":0},{"$f":"'kros seznam'!MIB103","v":0},{"$f":"'kros seznam'!MIC103","v":0},{"$f":"'kros seznam'!MID103","v":0},{"$f":"'kros seznam'!MIE103","v":0},{"$f":"'kros seznam'!MIF103","v":0},{"$f":"'kros seznam'!MIG103","v":0},{"$f":"'kros seznam'!MIH103","v":0},{"$f":"'kros seznam'!MII103","v":0},{"$f":"'kros seznam'!MIJ103","v":0},{"$f":"'kros seznam'!MIK103","v":0},{"$f":"'kros seznam'!MIL103","v":0},{"$f":"'kros seznam'!MIM103","v":0},{"$f":"'kros seznam'!MIN103","v":0},{"$f":"'kros seznam'!MIO103","v":0},{"$f":"'kros seznam'!MIP103","v":0},{"$f":"'kros seznam'!MIQ103","v":0},{"$f":"'kros seznam'!MIR103","v":0},{"$f":"'kros seznam'!MIS103","v":0},{"$f":"'kros seznam'!MIT103","v":0},{"$f":"'kros seznam'!MIU103","v":0},{"$f":"'kros seznam'!MIV103","v":0},{"$f":"'kros seznam'!MIW103","v":0},{"$f":"'kros seznam'!MIX103","v":0},{"$f":"'kros seznam'!MIY103","v":0},{"$f":"'kros seznam'!MIZ103","v":0},{"$f":"'kros seznam'!MJA103","v":0},{"$f":"'kros seznam'!MJB103","v":0},{"$f":"'kros seznam'!MJC103","v":0},{"$f":"'kros seznam'!MJD103","v":0},{"$f":"'kros seznam'!MJE103","v":0},{"$f":"'kros seznam'!MJF103","v":0},{"$f":"'kros seznam'!MJG103","v":0},{"$f":"'kros seznam'!MJH103","v":0},{"$f":"'kros seznam'!MJI103","v":0},{"$f":"'kros seznam'!MJJ103","v":0},{"$f":"'kros seznam'!MJK103","v":0},{"$f":"'kros seznam'!MJL103","v":0},{"$f":"'kros seznam'!MJM103","v":0},{"$f":"'kros seznam'!MJN103","v":0},{"$f":"'kros seznam'!MJO103","v":0},{"$f":"'kros seznam'!MJP103","v":0},{"$f":"'kros seznam'!MJQ103","v":0},{"$f":"'kros seznam'!MJR103","v":0},{"$f":"'kros seznam'!MJS103","v":0},{"$f":"'kros seznam'!MJT103","v":0},{"$f":"'kros seznam'!MJU103","v":0},{"$f":"'kros seznam'!MJV103","v":0},{"$f":"'kros seznam'!MJW103","v":0},{"$f":"'kros seznam'!MJX103","v":0},{"$f":"'kros seznam'!MJY103","v":0},{"$f":"'kros seznam'!MJZ103","v":0},{"$f":"'kros seznam'!MKA103","v":0},{"$f":"'kros seznam'!MKB103","v":0},{"$f":"'kros seznam'!MKC103","v":0},{"$f":"'kros seznam'!MKD103","v":0},{"$f":"'kros seznam'!MKE103","v":0},{"$f":"'kros seznam'!MKF103","v":0},{"$f":"'kros seznam'!MKG103","v":0},{"$f":"'kros seznam'!MKH103","v":0},{"$f":"'kros seznam'!MKI103","v":0},{"$f":"'kros seznam'!MKJ103","v":0},{"$f":"'kros seznam'!MKK103","v":0},{"$f":"'kros seznam'!MKL103","v":0},{"$f":"'kros seznam'!MKM103","v":0},{"$f":"'kros seznam'!MKN103","v":0},{"$f":"'kros seznam'!MKO103","v":0},{"$f":"'kros seznam'!MKP103","v":0},{"$f":"'kros seznam'!MKQ103","v":0},{"$f":"'kros seznam'!MKR103","v":0},{"$f":"'kros seznam'!MKS103","v":0},{"$f":"'kros seznam'!MKT103","v":0},{"$f":"'kros seznam'!MKU103","v":0},{"$f":"'kros seznam'!MKV103","v":0},{"$f":"'kros seznam'!MKW103","v":0},{"$f":"'kros seznam'!MKX103","v":0},{"$f":"'kros seznam'!MKY103","v":0},{"$f":"'kros seznam'!MKZ103","v":0},{"$f":"'kros seznam'!MLA103","v":0},{"$f":"'kros seznam'!MLB103","v":0},{"$f":"'kros seznam'!MLC103","v":0},{"$f":"'kros seznam'!MLD103","v":0},{"$f":"'kros seznam'!MLE103","v":0},{"$f":"'kros seznam'!MLF103","v":0},{"$f":"'kros seznam'!MLG103","v":0},{"$f":"'kros seznam'!MLH103","v":0},{"$f":"'kros seznam'!MLI103","v":0},{"$f":"'kros seznam'!MLJ103","v":0},{"$f":"'kros seznam'!MLK103","v":0},{"$f":"'kros seznam'!MLL103","v":0},{"$f":"'kros seznam'!MLM103","v":0},{"$f":"'kros seznam'!MLN103","v":0},{"$f":"'kros seznam'!MLO103","v":0},{"$f":"'kros seznam'!MLP103","v":0},{"$f":"'kros seznam'!MLQ103","v":0},{"$f":"'kros seznam'!MLR103","v":0},{"$f":"'kros seznam'!MLS103","v":0},{"$f":"'kros seznam'!MLT103","v":0},{"$f":"'kros seznam'!MLU103","v":0},{"$f":"'kros seznam'!MLV103","v":0},{"$f":"'kros seznam'!MLW103","v":0},{"$f":"'kros seznam'!MLX103","v":0},{"$f":"'kros seznam'!MLY103","v":0},{"$f":"'kros seznam'!MLZ103","v":0},{"$f":"'kros seznam'!MMA103","v":0},{"$f":"'kros seznam'!MMB103","v":0},{"$f":"'kros seznam'!MMC103","v":0},{"$f":"'kros seznam'!MMD103","v":0},{"$f":"'kros seznam'!MME103","v":0},{"$f":"'kros seznam'!MMF103","v":0},{"$f":"'kros seznam'!MMG103","v":0},{"$f":"'kros seznam'!MMH103","v":0},{"$f":"'kros seznam'!MMI103","v":0},{"$f":"'kros seznam'!MMJ103","v":0},{"$f":"'kros seznam'!MMK103","v":0},{"$f":"'kros seznam'!MML103","v":0},{"$f":"'kros seznam'!MMM103","v":0},{"$f":"'kros seznam'!MMN103","v":0},{"$f":"'kros seznam'!MMO103","v":0},{"$f":"'kros seznam'!MMP103","v":0},{"$f":"'kros seznam'!MMQ103","v":0},{"$f":"'kros seznam'!MMR103","v":0},{"$f":"'kros seznam'!MMS103","v":0},{"$f":"'kros seznam'!MMT103","v":0},{"$f":"'kros seznam'!MMU103","v":0},{"$f":"'kros seznam'!MMV103","v":0},{"$f":"'kros seznam'!MMW103","v":0},{"$f":"'kros seznam'!MMX103","v":0},{"$f":"'kros seznam'!MMY103","v":0},{"$f":"'kros seznam'!MMZ103","v":0},{"$f":"'kros seznam'!MNA103","v":0},{"$f":"'kros seznam'!MNB103","v":0},{"$f":"'kros seznam'!MNC103","v":0},{"$f":"'kros seznam'!MND103","v":0},{"$f":"'kros seznam'!MNE103","v":0},{"$f":"'kros seznam'!MNF103","v":0},{"$f":"'kros seznam'!MNG103","v":0},{"$f":"'kros seznam'!MNH103","v":0},{"$f":"'kros seznam'!MNI103","v":0},{"$f":"'kros seznam'!MNJ103","v":0},{"$f":"'kros seznam'!MNK103","v":0},{"$f":"'kros seznam'!MNL103","v":0},{"$f":"'kros seznam'!MNM103","v":0},{"$f":"'kros seznam'!MNN103","v":0},{"$f":"'kros seznam'!MNO103","v":0},{"$f":"'kros seznam'!MNP103","v":0},{"$f":"'kros seznam'!MNQ103","v":0},{"$f":"'kros seznam'!MNR103","v":0},{"$f":"'kros seznam'!MNS103","v":0},{"$f":"'kros seznam'!MNT103","v":0},{"$f":"'kros seznam'!MNU103","v":0},{"$f":"'kros seznam'!MNV103","v":0},{"$f":"'kros seznam'!MNW103","v":0},{"$f":"'kros seznam'!MNX103","v":0},{"$f":"'kros seznam'!MNY103","v":0},{"$f":"'kros seznam'!MNZ103","v":0},{"$f":"'kros seznam'!MOA103","v":0},{"$f":"'kros seznam'!MOB103","v":0},{"$f":"'kros seznam'!MOC103","v":0},{"$f":"'kros seznam'!MOD103","v":0},{"$f":"'kros seznam'!MOE103","v":0},{"$f":"'kros seznam'!MOF103","v":0},{"$f":"'kros seznam'!MOG103","v":0},{"$f":"'kros seznam'!MOH103","v":0},{"$f":"'kros seznam'!MOI103","v":0},{"$f":"'kros seznam'!MOJ103","v":0},{"$f":"'kros seznam'!MOK103","v":0},{"$f":"'kros seznam'!MOL103","v":0},{"$f":"'kros seznam'!MOM103","v":0},{"$f":"'kros seznam'!MON103","v":0},{"$f":"'kros seznam'!MOO103","v":0},{"$f":"'kros seznam'!MOP103","v":0},{"$f":"'kros seznam'!MOQ103","v":0},{"$f":"'kros seznam'!MOR103","v":0},{"$f":"'kros seznam'!MOS103","v":0},{"$f":"'kros seznam'!MOT103","v":0},{"$f":"'kros seznam'!MOU103","v":0},{"$f":"'kros seznam'!MOV103","v":0},{"$f":"'kros seznam'!MOW103","v":0},{"$f":"'kros seznam'!MOX103","v":0},{"$f":"'kros seznam'!MOY103","v":0},{"$f":"'kros seznam'!MOZ103","v":0},{"$f":"'kros seznam'!MPA103","v":0},{"$f":"'kros seznam'!MPB103","v":0},{"$f":"'kros seznam'!MPC103","v":0},{"$f":"'kros seznam'!MPD103","v":0},{"$f":"'kros seznam'!MPE103","v":0},{"$f":"'kros seznam'!MPF103","v":0},{"$f":"'kros seznam'!MPG103","v":0},{"$f":"'kros seznam'!MPH103","v":0},{"$f":"'kros seznam'!MPI103","v":0},{"$f":"'kros seznam'!MPJ103","v":0},{"$f":"'kros seznam'!MPK103","v":0},{"$f":"'kros seznam'!MPL103","v":0},{"$f":"'kros seznam'!MPM103","v":0},{"$f":"'kros seznam'!MPN103","v":0},{"$f":"'kros seznam'!MPO103","v":0},{"$f":"'kros seznam'!MPP103","v":0},{"$f":"'kros seznam'!MPQ103","v":0},{"$f":"'kros seznam'!MPR103","v":0},{"$f":"'kros seznam'!MPS103","v":0},{"$f":"'kros seznam'!MPT103","v":0},{"$f":"'kros seznam'!MPU103","v":0},{"$f":"'kros seznam'!MPV103","v":0},{"$f":"'kros seznam'!MPW103","v":0},{"$f":"'kros seznam'!MPX103","v":0},{"$f":"'kros seznam'!MPY103","v":0},{"$f":"'kros seznam'!MPZ103","v":0},{"$f":"'kros seznam'!MQA103","v":0},{"$f":"'kros seznam'!MQB103","v":0},{"$f":"'kros seznam'!MQC103","v":0},{"$f":"'kros seznam'!MQD103","v":0},{"$f":"'kros seznam'!MQE103","v":0},{"$f":"'kros seznam'!MQF103","v":0},{"$f":"'kros seznam'!MQG103","v":0},{"$f":"'kros seznam'!MQH103","v":0},{"$f":"'kros seznam'!MQI103","v":0},{"$f":"'kros seznam'!MQJ103","v":0},{"$f":"'kros seznam'!MQK103","v":0},{"$f":"'kros seznam'!MQL103","v":0},{"$f":"'kros seznam'!MQM103","v":0},{"$f":"'kros seznam'!MQN103","v":0},{"$f":"'kros seznam'!MQO103","v":0},{"$f":"'kros seznam'!MQP103","v":0},{"$f":"'kros seznam'!MQQ103","v":0},{"$f":"'kros seznam'!MQR103","v":0},{"$f":"'kros seznam'!MQS103","v":0},{"$f":"'kros seznam'!MQT103","v":0},{"$f":"'kros seznam'!MQU103","v":0},{"$f":"'kros seznam'!MQV103","v":0},{"$f":"'kros seznam'!MQW103","v":0},{"$f":"'kros seznam'!MQX103","v":0},{"$f":"'kros seznam'!MQY103","v":0},{"$f":"'kros seznam'!MQZ103","v":0},{"$f":"'kros seznam'!MRA103","v":0},{"$f":"'kros seznam'!MRB103","v":0},{"$f":"'kros seznam'!MRC103","v":0},{"$f":"'kros seznam'!MRD103","v":0},{"$f":"'kros seznam'!MRE103","v":0},{"$f":"'kros seznam'!MRF103","v":0},{"$f":"'kros seznam'!MRG103","v":0},{"$f":"'kros seznam'!MRH103","v":0},{"$f":"'kros seznam'!MRI103","v":0},{"$f":"'kros seznam'!MRJ103","v":0},{"$f":"'kros seznam'!MRK103","v":0},{"$f":"'kros seznam'!MRL103","v":0},{"$f":"'kros seznam'!MRM103","v":0},{"$f":"'kros seznam'!MRN103","v":0},{"$f":"'kros seznam'!MRO103","v":0},{"$f":"'kros seznam'!MRP103","v":0},{"$f":"'kros seznam'!MRQ103","v":0},{"$f":"'kros seznam'!MRR103","v":0},{"$f":"'kros seznam'!MRS103","v":0},{"$f":"'kros seznam'!MRT103","v":0},{"$f":"'kros seznam'!MRU103","v":0},{"$f":"'kros seznam'!MRV103","v":0},{"$f":"'kros seznam'!MRW103","v":0},{"$f":"'kros seznam'!MRX103","v":0},{"$f":"'kros seznam'!MRY103","v":0},{"$f":"'kros seznam'!MRZ103","v":0},{"$f":"'kros seznam'!MSA103","v":0},{"$f":"'kros seznam'!MSB103","v":0},{"$f":"'kros seznam'!MSC103","v":0},{"$f":"'kros seznam'!MSD103","v":0},{"$f":"'kros seznam'!MSE103","v":0},{"$f":"'kros seznam'!MSF103","v":0},{"$f":"'kros seznam'!MSG103","v":0},{"$f":"'kros seznam'!MSH103","v":0},{"$f":"'kros seznam'!MSI103","v":0},{"$f":"'kros seznam'!MSJ103","v":0},{"$f":"'kros seznam'!MSK103","v":0},{"$f":"'kros seznam'!MSL103","v":0},{"$f":"'kros seznam'!MSM103","v":0},{"$f":"'kros seznam'!MSN103","v":0},{"$f":"'kros seznam'!MSO103","v":0},{"$f":"'kros seznam'!MSP103","v":0},{"$f":"'kros seznam'!MSQ103","v":0},{"$f":"'kros seznam'!MSR103","v":0},{"$f":"'kros seznam'!MSS103","v":0},{"$f":"'kros seznam'!MST103","v":0},{"$f":"'kros seznam'!MSU103","v":0},{"$f":"'kros seznam'!MSV103","v":0},{"$f":"'kros seznam'!MSW103","v":0},{"$f":"'kros seznam'!MSX103","v":0},{"$f":"'kros seznam'!MSY103","v":0},{"$f":"'kros seznam'!MSZ103","v":0},{"$f":"'kros seznam'!MTA103","v":0},{"$f":"'kros seznam'!MTB103","v":0},{"$f":"'kros seznam'!MTC103","v":0},{"$f":"'kros seznam'!MTD103","v":0},{"$f":"'kros seznam'!MTE103","v":0},{"$f":"'kros seznam'!MTF103","v":0},{"$f":"'kros seznam'!MTG103","v":0},{"$f":"'kros seznam'!MTH103","v":0},{"$f":"'kros seznam'!MTI103","v":0},{"$f":"'kros seznam'!MTJ103","v":0},{"$f":"'kros seznam'!MTK103","v":0},{"$f":"'kros seznam'!MTL103","v":0},{"$f":"'kros seznam'!MTM103","v":0},{"$f":"'kros seznam'!MTN103","v":0},{"$f":"'kros seznam'!MTO103","v":0},{"$f":"'kros seznam'!MTP103","v":0},{"$f":"'kros seznam'!MTQ103","v":0},{"$f":"'kros seznam'!MTR103","v":0},{"$f":"'kros seznam'!MTS103","v":0},{"$f":"'kros seznam'!MTT103","v":0},{"$f":"'kros seznam'!MTU103","v":0},{"$f":"'kros seznam'!MTV103","v":0},{"$f":"'kros seznam'!MTW103","v":0},{"$f":"'kros seznam'!MTX103","v":0},{"$f":"'kros seznam'!MTY103","v":0},{"$f":"'kros seznam'!MTZ103","v":0},{"$f":"'kros seznam'!MUA103","v":0},{"$f":"'kros seznam'!MUB103","v":0},{"$f":"'kros seznam'!MUC103","v":0},{"$f":"'kros seznam'!MUD103","v":0},{"$f":"'kros seznam'!MUE103","v":0},{"$f":"'kros seznam'!MUF103","v":0},{"$f":"'kros seznam'!MUG103","v":0},{"$f":"'kros seznam'!MUH103","v":0},{"$f":"'kros seznam'!MUI103","v":0},{"$f":"'kros seznam'!MUJ103","v":0},{"$f":"'kros seznam'!MUK103","v":0},{"$f":"'kros seznam'!MUL103","v":0},{"$f":"'kros seznam'!MUM103","v":0},{"$f":"'kros seznam'!MUN103","v":0},{"$f":"'kros seznam'!MUO103","v":0},{"$f":"'kros seznam'!MUP103","v":0},{"$f":"'kros seznam'!MUQ103","v":0},{"$f":"'kros seznam'!MUR103","v":0},{"$f":"'kros seznam'!MUS103","v":0},{"$f":"'kros seznam'!MUT103","v":0},{"$f":"'kros seznam'!MUU103","v":0},{"$f":"'kros seznam'!MUV103","v":0},{"$f":"'kros seznam'!MUW103","v":0},{"$f":"'kros seznam'!MUX103","v":0},{"$f":"'kros seznam'!MUY103","v":0},{"$f":"'kros seznam'!MUZ103","v":0},{"$f":"'kros seznam'!MVA103","v":0},{"$f":"'kros seznam'!MVB103","v":0},{"$f":"'kros seznam'!MVC103","v":0},{"$f":"'kros seznam'!MVD103","v":0},{"$f":"'kros seznam'!MVE103","v":0},{"$f":"'kros seznam'!MVF103","v":0},{"$f":"'kros seznam'!MVG103","v":0},{"$f":"'kros seznam'!MVH103","v":0},{"$f":"'kros seznam'!MVI103","v":0},{"$f":"'kros seznam'!MVJ103","v":0},{"$f":"'kros seznam'!MVK103","v":0},{"$f":"'kros seznam'!MVL103","v":0},{"$f":"'kros seznam'!MVM103","v":0},{"$f":"'kros seznam'!MVN103","v":0},{"$f":"'kros seznam'!MVO103","v":0},{"$f":"'kros seznam'!MVP103","v":0},{"$f":"'kros seznam'!MVQ103","v":0},{"$f":"'kros seznam'!MVR103","v":0},{"$f":"'kros seznam'!MVS103","v":0},{"$f":"'kros seznam'!MVT103","v":0},{"$f":"'kros seznam'!MVU103","v":0},{"$f":"'kros seznam'!MVV103","v":0},{"$f":"'kros seznam'!MVW103","v":0},{"$f":"'kros seznam'!MVX103","v":0},{"$f":"'kros seznam'!MVY103","v":0},{"$f":"'kros seznam'!MVZ103","v":0},{"$f":"'kros seznam'!MWA103","v":0},{"$f":"'kros seznam'!MWB103","v":0},{"$f":"'kros seznam'!MWC103","v":0},{"$f":"'kros seznam'!MWD103","v":0},{"$f":"'kros seznam'!MWE103","v":0},{"$f":"'kros seznam'!MWF103","v":0},{"$f":"'kros seznam'!MWG103","v":0},{"$f":"'kros seznam'!MWH103","v":0},{"$f":"'kros seznam'!MWI103","v":0},{"$f":"'kros seznam'!MWJ103","v":0},{"$f":"'kros seznam'!MWK103","v":0},{"$f":"'kros seznam'!MWL103","v":0},{"$f":"'kros seznam'!MWM103","v":0},{"$f":"'kros seznam'!MWN103","v":0},{"$f":"'kros seznam'!MWO103","v":0},{"$f":"'kros seznam'!MWP103","v":0},{"$f":"'kros seznam'!MWQ103","v":0},{"$f":"'kros seznam'!MWR103","v":0},{"$f":"'kros seznam'!MWS103","v":0},{"$f":"'kros seznam'!MWT103","v":0},{"$f":"'kros seznam'!MWU103","v":0},{"$f":"'kros seznam'!MWV103","v":0},{"$f":"'kros seznam'!MWW103","v":0},{"$f":"'kros seznam'!MWX103","v":0},{"$f":"'kros seznam'!MWY103","v":0},{"$f":"'kros seznam'!MWZ103","v":0},{"$f":"'kros seznam'!MXA103","v":0},{"$f":"'kros seznam'!MXB103","v":0},{"$f":"'kros seznam'!MXC103","v":0},{"$f":"'kros seznam'!MXD103","v":0},{"$f":"'kros seznam'!MXE103","v":0},{"$f":"'kros seznam'!MXF103","v":0},{"$f":"'kros seznam'!MXG103","v":0},{"$f":"'kros seznam'!MXH103","v":0},{"$f":"'kros seznam'!MXI103","v":0},{"$f":"'kros seznam'!MXJ103","v":0},{"$f":"'kros seznam'!MXK103","v":0},{"$f":"'kros seznam'!MXL103","v":0},{"$f":"'kros seznam'!MXM103","v":0},{"$f":"'kros seznam'!MXN103","v":0},{"$f":"'kros seznam'!MXO103","v":0},{"$f":"'kros seznam'!MXP103","v":0},{"$f":"'kros seznam'!MXQ103","v":0},{"$f":"'kros seznam'!MXR103","v":0},{"$f":"'kros seznam'!MXS103","v":0},{"$f":"'kros seznam'!MXT103","v":0},{"$f":"'kros seznam'!MXU103","v":0},{"$f":"'kros seznam'!MXV103","v":0},{"$f":"'kros seznam'!MXW103","v":0},{"$f":"'kros seznam'!MXX103","v":0},{"$f":"'kros seznam'!MXY103","v":0},{"$f":"'kros seznam'!MXZ103","v":0},{"$f":"'kros seznam'!MYA103","v":0},{"$f":"'kros seznam'!MYB103","v":0},{"$f":"'kros seznam'!MYC103","v":0},{"$f":"'kros seznam'!MYD103","v":0},{"$f":"'kros seznam'!MYE103","v":0},{"$f":"'kros seznam'!MYF103","v":0},{"$f":"'kros seznam'!MYG103","v":0},{"$f":"'kros seznam'!MYH103","v":0},{"$f":"'kros seznam'!MYI103","v":0},{"$f":"'kros seznam'!MYJ103","v":0},{"$f":"'kros seznam'!MYK103","v":0},{"$f":"'kros seznam'!MYL103","v":0},{"$f":"'kros seznam'!MYM103","v":0},{"$f":"'kros seznam'!MYN103","v":0},{"$f":"'kros seznam'!MYO103","v":0},{"$f":"'kros seznam'!MYP103","v":0},{"$f":"'kros seznam'!MYQ103","v":0},{"$f":"'kros seznam'!MYR103","v":0},{"$f":"'kros seznam'!MYS103","v":0},{"$f":"'kros seznam'!MYT103","v":0},{"$f":"'kros seznam'!MYU103","v":0},{"$f":"'kros seznam'!MYV103","v":0},{"$f":"'kros seznam'!MYW103","v":0},{"$f":"'kros seznam'!MYX103","v":0},{"$f":"'kros seznam'!MYY103","v":0},{"$f":"'kros seznam'!MYZ103","v":0},{"$f":"'kros seznam'!MZA103","v":0},{"$f":"'kros seznam'!MZB103","v":0},{"$f":"'kros seznam'!MZC103","v":0},{"$f":"'kros seznam'!MZD103","v":0},{"$f":"'kros seznam'!MZE103","v":0},{"$f":"'kros seznam'!MZF103","v":0},{"$f":"'kros seznam'!MZG103","v":0},{"$f":"'kros seznam'!MZH103","v":0},{"$f":"'kros seznam'!MZI103","v":0},{"$f":"'kros seznam'!MZJ103","v":0},{"$f":"'kros seznam'!MZK103","v":0},{"$f":"'kros seznam'!MZL103","v":0},{"$f":"'kros seznam'!MZM103","v":0},{"$f":"'kros seznam'!MZN103","v":0},{"$f":"'kros seznam'!MZO103","v":0},{"$f":"'kros seznam'!MZP103","v":0},{"$f":"'kros seznam'!MZQ103","v":0},{"$f":"'kros seznam'!MZR103","v":0},{"$f":"'kros seznam'!MZS103","v":0},{"$f":"'kros seznam'!MZT103","v":0},{"$f":"'kros seznam'!MZU103","v":0},{"$f":"'kros seznam'!MZV103","v":0},{"$f":"'kros seznam'!MZW103","v":0},{"$f":"'kros seznam'!MZX103","v":0},{"$f":"'kros seznam'!MZY103","v":0},{"$f":"'kros seznam'!MZZ103","v":0},{"$f":"'kros seznam'!NAA103","v":0},{"$f":"'kros seznam'!NAB103","v":0},{"$f":"'kros seznam'!NAC103","v":0},{"$f":"'kros seznam'!NAD103","v":0},{"$f":"'kros seznam'!NAE103","v":0},{"$f":"'kros seznam'!NAF103","v":0},{"$f":"'kros seznam'!NAG103","v":0},{"$f":"'kros seznam'!NAH103","v":0},{"$f":"'kros seznam'!NAI103","v":0},{"$f":"'kros seznam'!NAJ103","v":0},{"$f":"'kros seznam'!NAK103","v":0},{"$f":"'kros seznam'!NAL103","v":0},{"$f":"'kros seznam'!NAM103","v":0},{"$f":"'kros seznam'!NAN103","v":0},{"$f":"'kros seznam'!NAO103","v":0},{"$f":"'kros seznam'!NAP103","v":0},{"$f":"'kros seznam'!NAQ103","v":0},{"$f":"'kros seznam'!NAR103","v":0},{"$f":"'kros seznam'!NAS103","v":0},{"$f":"'kros seznam'!NAT103","v":0},{"$f":"'kros seznam'!NAU103","v":0},{"$f":"'kros seznam'!NAV103","v":0},{"$f":"'kros seznam'!NAW103","v":0},{"$f":"'kros seznam'!NAX103","v":0},{"$f":"'kros seznam'!NAY103","v":0},{"$f":"'kros seznam'!NAZ103","v":0},{"$f":"'kros seznam'!NBA103","v":0},{"$f":"'kros seznam'!NBB103","v":0},{"$f":"'kros seznam'!NBC103","v":0},{"$f":"'kros seznam'!NBD103","v":0},{"$f":"'kros seznam'!NBE103","v":0},{"$f":"'kros seznam'!NBF103","v":0},{"$f":"'kros seznam'!NBG103","v":0},{"$f":"'kros seznam'!NBH103","v":0},{"$f":"'kros seznam'!NBI103","v":0},{"$f":"'kros seznam'!NBJ103","v":0},{"$f":"'kros seznam'!NBK103","v":0},{"$f":"'kros seznam'!NBL103","v":0},{"$f":"'kros seznam'!NBM103","v":0},{"$f":"'kros seznam'!NBN103","v":0},{"$f":"'kros seznam'!NBO103","v":0},{"$f":"'kros seznam'!NBP103","v":0},{"$f":"'kros seznam'!NBQ103","v":0},{"$f":"'kros seznam'!NBR103","v":0},{"$f":"'kros seznam'!NBS103","v":0},{"$f":"'kros seznam'!NBT103","v":0},{"$f":"'kros seznam'!NBU103","v":0},{"$f":"'kros seznam'!NBV103","v":0},{"$f":"'kros seznam'!NBW103","v":0},{"$f":"'kros seznam'!NBX103","v":0},{"$f":"'kros seznam'!NBY103","v":0},{"$f":"'kros seznam'!NBZ103","v":0},{"$f":"'kros seznam'!NCA103","v":0},{"$f":"'kros seznam'!NCB103","v":0},{"$f":"'kros seznam'!NCC103","v":0},{"$f":"'kros seznam'!NCD103","v":0},{"$f":"'kros seznam'!NCE103","v":0},{"$f":"'kros seznam'!NCF103","v":0},{"$f":"'kros seznam'!NCG103","v":0},{"$f":"'kros seznam'!NCH103","v":0},{"$f":"'kros seznam'!NCI103","v":0},{"$f":"'kros seznam'!NCJ103","v":0},{"$f":"'kros seznam'!NCK103","v":0},{"$f":"'kros seznam'!NCL103","v":0},{"$f":"'kros seznam'!NCM103","v":0},{"$f":"'kros seznam'!NCN103","v":0},{"$f":"'kros seznam'!NCO103","v":0},{"$f":"'kros seznam'!NCP103","v":0},{"$f":"'kros seznam'!NCQ103","v":0},{"$f":"'kros seznam'!NCR103","v":0},{"$f":"'kros seznam'!NCS103","v":0},{"$f":"'kros seznam'!NCT103","v":0},{"$f":"'kros seznam'!NCU103","v":0},{"$f":"'kros seznam'!NCV103","v":0},{"$f":"'kros seznam'!NCW103","v":0},{"$f":"'kros seznam'!NCX103","v":0},{"$f":"'kros seznam'!NCY103","v":0},{"$f":"'kros seznam'!NCZ103","v":0},{"$f":"'kros seznam'!NDA103","v":0},{"$f":"'kros seznam'!NDB103","v":0},{"$f":"'kros seznam'!NDC103","v":0},{"$f":"'kros seznam'!NDD103","v":0},{"$f":"'kros seznam'!NDE103","v":0},{"$f":"'kros seznam'!NDF103","v":0},{"$f":"'kros seznam'!NDG103","v":0},{"$f":"'kros seznam'!NDH103","v":0},{"$f":"'kros seznam'!NDI103","v":0},{"$f":"'kros seznam'!NDJ103","v":0},{"$f":"'kros seznam'!NDK103","v":0},{"$f":"'kros seznam'!NDL103","v":0},{"$f":"'kros seznam'!NDM103","v":0},{"$f":"'kros seznam'!NDN103","v":0},{"$f":"'kros seznam'!NDO103","v":0},{"$f":"'kros seznam'!NDP103","v":0},{"$f":"'kros seznam'!NDQ103","v":0},{"$f":"'kros seznam'!NDR103","v":0},{"$f":"'kros seznam'!NDS103","v":0},{"$f":"'kros seznam'!NDT103","v":0},{"$f":"'kros seznam'!NDU103","v":0},{"$f":"'kros seznam'!NDV103","v":0},{"$f":"'kros seznam'!NDW103","v":0},{"$f":"'kros seznam'!NDX103","v":0},{"$f":"'kros seznam'!NDY103","v":0},{"$f":"'kros seznam'!NDZ103","v":0},{"$f":"'kros seznam'!NEA103","v":0},{"$f":"'kros seznam'!NEB103","v":0},{"$f":"'kros seznam'!NEC103","v":0},{"$f":"'kros seznam'!NED103","v":0},{"$f":"'kros seznam'!NEE103","v":0},{"$f":"'kros seznam'!NEF103","v":0},{"$f":"'kros seznam'!NEG103","v":0},{"$f":"'kros seznam'!NEH103","v":0},{"$f":"'kros seznam'!NEI103","v":0},{"$f":"'kros seznam'!NEJ103","v":0},{"$f":"'kros seznam'!NEK103","v":0},{"$f":"'kros seznam'!NEL103","v":0},{"$f":"'kros seznam'!NEM103","v":0},{"$f":"'kros seznam'!NEN103","v":0},{"$f":"'kros seznam'!NEO103","v":0},{"$f":"'kros seznam'!NEP103","v":0},{"$f":"'kros seznam'!NEQ103","v":0},{"$f":"'kros seznam'!NER103","v":0},{"$f":"'kros seznam'!NES103","v":0},{"$f":"'kros seznam'!NET103","v":0},{"$f":"'kros seznam'!NEU103","v":0},{"$f":"'kros seznam'!NEV103","v":0},{"$f":"'kros seznam'!NEW103","v":0},{"$f":"'kros seznam'!NEX103","v":0},{"$f":"'kros seznam'!NEY103","v":0},{"$f":"'kros seznam'!NEZ103","v":0},{"$f":"'kros seznam'!NFA103","v":0},{"$f":"'kros seznam'!NFB103","v":0},{"$f":"'kros seznam'!NFC103","v":0},{"$f":"'kros seznam'!NFD103","v":0},{"$f":"'kros seznam'!NFE103","v":0},{"$f":"'kros seznam'!NFF103","v":0},{"$f":"'kros seznam'!NFG103","v":0},{"$f":"'kros seznam'!NFH103","v":0},{"$f":"'kros seznam'!NFI103","v":0},{"$f":"'kros seznam'!NFJ103","v":0},{"$f":"'kros seznam'!NFK103","v":0},{"$f":"'kros seznam'!NFL103","v":0},{"$f":"'kros seznam'!NFM103","v":0},{"$f":"'kros seznam'!NFN103","v":0},{"$f":"'kros seznam'!NFO103","v":0},{"$f":"'kros seznam'!NFP103","v":0},{"$f":"'kros seznam'!NFQ103","v":0},{"$f":"'kros seznam'!NFR103","v":0},{"$f":"'kros seznam'!NFS103","v":0},{"$f":"'kros seznam'!NFT103","v":0},{"$f":"'kros seznam'!NFU103","v":0},{"$f":"'kros seznam'!NFV103","v":0},{"$f":"'kros seznam'!NFW103","v":0},{"$f":"'kros seznam'!NFX103","v":0},{"$f":"'kros seznam'!NFY103","v":0},{"$f":"'kros seznam'!NFZ103","v":0},{"$f":"'kros seznam'!NGA103","v":0},{"$f":"'kros seznam'!NGB103","v":0},{"$f":"'kros seznam'!NGC103","v":0},{"$f":"'kros seznam'!NGD103","v":0},{"$f":"'kros seznam'!NGE103","v":0},{"$f":"'kros seznam'!NGF103","v":0},{"$f":"'kros seznam'!NGG103","v":0},{"$f":"'kros seznam'!NGH103","v":0},{"$f":"'kros seznam'!NGI103","v":0},{"$f":"'kros seznam'!NGJ103","v":0},{"$f":"'kros seznam'!NGK103","v":0},{"$f":"'kros seznam'!NGL103","v":0},{"$f":"'kros seznam'!NGM103","v":0},{"$f":"'kros seznam'!NGN103","v":0},{"$f":"'kros seznam'!NGO103","v":0},{"$f":"'kros seznam'!NGP103","v":0},{"$f":"'kros seznam'!NGQ103","v":0},{"$f":"'kros seznam'!NGR103","v":0},{"$f":"'kros seznam'!NGS103","v":0},{"$f":"'kros seznam'!NGT103","v":0},{"$f":"'kros seznam'!NGU103","v":0},{"$f":"'kros seznam'!NGV103","v":0},{"$f":"'kros seznam'!NGW103","v":0},{"$f":"'kros seznam'!NGX103","v":0},{"$f":"'kros seznam'!NGY103","v":0},{"$f":"'kros seznam'!NGZ103","v":0},{"$f":"'kros seznam'!NHA103","v":0},{"$f":"'kros seznam'!NHB103","v":0},{"$f":"'kros seznam'!NHC103","v":0},{"$f":"'kros seznam'!NHD103","v":0},{"$f":"'kros seznam'!NHE103","v":0},{"$f":"'kros seznam'!NHF103","v":0},{"$f":"'kros seznam'!NHG103","v":0},{"$f":"'kros seznam'!NHH103","v":0},{"$f":"'kros seznam'!NHI103","v":0},{"$f":"'kros seznam'!NHJ103","v":0},{"$f":"'kros seznam'!NHK103","v":0},{"$f":"'kros seznam'!NHL103","v":0},{"$f":"'kros seznam'!NHM103","v":0},{"$f":"'kros seznam'!NHN103","v":0},{"$f":"'kros seznam'!NHO103","v":0},{"$f":"'kros seznam'!NHP103","v":0},{"$f":"'kros seznam'!NHQ103","v":0},{"$f":"'kros seznam'!NHR103","v":0},{"$f":"'kros seznam'!NHS103","v":0},{"$f":"'kros seznam'!NHT103","v":0},{"$f":"'kros seznam'!NHU103","v":0},{"$f":"'kros seznam'!NHV103","v":0},{"$f":"'kros seznam'!NHW103","v":0},{"$f":"'kros seznam'!NHX103","v":0},{"$f":"'kros seznam'!NHY103","v":0},{"$f":"'kros seznam'!NHZ103","v":0},{"$f":"'kros seznam'!NIA103","v":0},{"$f":"'kros seznam'!NIB103","v":0},{"$f":"'kros seznam'!NIC103","v":0},{"$f":"'kros seznam'!NID103","v":0},{"$f":"'kros seznam'!NIE103","v":0},{"$f":"'kros seznam'!NIF103","v":0},{"$f":"'kros seznam'!NIG103","v":0},{"$f":"'kros seznam'!NIH103","v":0},{"$f":"'kros seznam'!NII103","v":0},{"$f":"'kros seznam'!NIJ103","v":0},{"$f":"'kros seznam'!NIK103","v":0},{"$f":"'kros seznam'!NIL103","v":0},{"$f":"'kros seznam'!NIM103","v":0},{"$f":"'kros seznam'!NIN103","v":0},{"$f":"'kros seznam'!NIO103","v":0},{"$f":"'kros seznam'!NIP103","v":0},{"$f":"'kros seznam'!NIQ103","v":0},{"$f":"'kros seznam'!NIR103","v":0},{"$f":"'kros seznam'!NIS103","v":0},{"$f":"'kros seznam'!NIT103","v":0},{"$f":"'kros seznam'!NIU103","v":0},{"$f":"'kros seznam'!NIV103","v":0},{"$f":"'kros seznam'!NIW103","v":0},{"$f":"'kros seznam'!NIX103","v":0},{"$f":"'kros seznam'!NIY103","v":0},{"$f":"'kros seznam'!NIZ103","v":0},{"$f":"'kros seznam'!NJA103","v":0},{"$f":"'kros seznam'!NJB103","v":0},{"$f":"'kros seznam'!NJC103","v":0},{"$f":"'kros seznam'!NJD103","v":0},{"$f":"'kros seznam'!NJE103","v":0},{"$f":"'kros seznam'!NJF103","v":0},{"$f":"'kros seznam'!NJG103","v":0},{"$f":"'kros seznam'!NJH103","v":0},{"$f":"'kros seznam'!NJI103","v":0},{"$f":"'kros seznam'!NJJ103","v":0},{"$f":"'kros seznam'!NJK103","v":0},{"$f":"'kros seznam'!NJL103","v":0},{"$f":"'kros seznam'!NJM103","v":0},{"$f":"'kros seznam'!NJN103","v":0},{"$f":"'kros seznam'!NJO103","v":0},{"$f":"'kros seznam'!NJP103","v":0},{"$f":"'kros seznam'!NJQ103","v":0},{"$f":"'kros seznam'!NJR103","v":0},{"$f":"'kros seznam'!NJS103","v":0},{"$f":"'kros seznam'!NJT103","v":0},{"$f":"'kros seznam'!NJU103","v":0},{"$f":"'kros seznam'!NJV103","v":0},{"$f":"'kros seznam'!NJW103","v":0},{"$f":"'kros seznam'!NJX103","v":0},{"$f":"'kros seznam'!NJY103","v":0},{"$f":"'kros seznam'!NJZ103","v":0},{"$f":"'kros seznam'!NKA103","v":0},{"$f":"'kros seznam'!NKB103","v":0},{"$f":"'kros seznam'!NKC103","v":0},{"$f":"'kros seznam'!NKD103","v":0},{"$f":"'kros seznam'!NKE103","v":0},{"$f":"'kros seznam'!NKF103","v":0},{"$f":"'kros seznam'!NKG103","v":0},{"$f":"'kros seznam'!NKH103","v":0},{"$f":"'kros seznam'!NKI103","v":0},{"$f":"'kros seznam'!NKJ103","v":0},{"$f":"'kros seznam'!NKK103","v":0},{"$f":"'kros seznam'!NKL103","v":0},{"$f":"'kros seznam'!NKM103","v":0},{"$f":"'kros seznam'!NKN103","v":0},{"$f":"'kros seznam'!NKO103","v":0},{"$f":"'kros seznam'!NKP103","v":0},{"$f":"'kros seznam'!NKQ103","v":0},{"$f":"'kros seznam'!NKR103","v":0},{"$f":"'kros seznam'!NKS103","v":0},{"$f":"'kros seznam'!NKT103","v":0},{"$f":"'kros seznam'!NKU103","v":0},{"$f":"'kros seznam'!NKV103","v":0},{"$f":"'kros seznam'!NKW103","v":0},{"$f":"'kros seznam'!NKX103","v":0},{"$f":"'kros seznam'!NKY103","v":0},{"$f":"'kros seznam'!NKZ103","v":0},{"$f":"'kros seznam'!NLA103","v":0},{"$f":"'kros seznam'!NLB103","v":0},{"$f":"'kros seznam'!NLC103","v":0},{"$f":"'kros seznam'!NLD103","v":0},{"$f":"'kros seznam'!NLE103","v":0},{"$f":"'kros seznam'!NLF103","v":0},{"$f":"'kros seznam'!NLG103","v":0},{"$f":"'kros seznam'!NLH103","v":0},{"$f":"'kros seznam'!NLI103","v":0},{"$f":"'kros seznam'!NLJ103","v":0},{"$f":"'kros seznam'!NLK103","v":0},{"$f":"'kros seznam'!NLL103","v":0},{"$f":"'kros seznam'!NLM103","v":0},{"$f":"'kros seznam'!NLN103","v":0},{"$f":"'kros seznam'!NLO103","v":0},{"$f":"'kros seznam'!NLP103","v":0},{"$f":"'kros seznam'!NLQ103","v":0},{"$f":"'kros seznam'!NLR103","v":0},{"$f":"'kros seznam'!NLS103","v":0},{"$f":"'kros seznam'!NLT103","v":0},{"$f":"'kros seznam'!NLU103","v":0},{"$f":"'kros seznam'!NLV103","v":0},{"$f":"'kros seznam'!NLW103","v":0},{"$f":"'kros seznam'!NLX103","v":0},{"$f":"'kros seznam'!NLY103","v":0},{"$f":"'kros seznam'!NLZ103","v":0},{"$f":"'kros seznam'!NMA103","v":0},{"$f":"'kros seznam'!NMB103","v":0},{"$f":"'kros seznam'!NMC103","v":0},{"$f":"'kros seznam'!NMD103","v":0},{"$f":"'kros seznam'!NME103","v":0},{"$f":"'kros seznam'!NMF103","v":0},{"$f":"'kros seznam'!NMG103","v":0},{"$f":"'kros seznam'!NMH103","v":0},{"$f":"'kros seznam'!NMI103","v":0},{"$f":"'kros seznam'!NMJ103","v":0},{"$f":"'kros seznam'!NMK103","v":0},{"$f":"'kros seznam'!NML103","v":0},{"$f":"'kros seznam'!NMM103","v":0},{"$f":"'kros seznam'!NMN103","v":0},{"$f":"'kros seznam'!NMO103","v":0},{"$f":"'kros seznam'!NMP103","v":0},{"$f":"'kros seznam'!NMQ103","v":0},{"$f":"'kros seznam'!NMR103","v":0},{"$f":"'kros seznam'!NMS103","v":0},{"$f":"'kros seznam'!NMT103","v":0},{"$f":"'kros seznam'!NMU103","v":0},{"$f":"'kros seznam'!NMV103","v":0},{"$f":"'kros seznam'!NMW103","v":0},{"$f":"'kros seznam'!NMX103","v":0},{"$f":"'kros seznam'!NMY103","v":0},{"$f":"'kros seznam'!NMZ103","v":0},{"$f":"'kros seznam'!NNA103","v":0},{"$f":"'kros seznam'!NNB103","v":0},{"$f":"'kros seznam'!NNC103","v":0},{"$f":"'kros seznam'!NND103","v":0},{"$f":"'kros seznam'!NNE103","v":0},{"$f":"'kros seznam'!NNF103","v":0},{"$f":"'kros seznam'!NNG103","v":0},{"$f":"'kros seznam'!NNH103","v":0},{"$f":"'kros seznam'!NNI103","v":0},{"$f":"'kros seznam'!NNJ103","v":0},{"$f":"'kros seznam'!NNK103","v":0},{"$f":"'kros seznam'!NNL103","v":0},{"$f":"'kros seznam'!NNM103","v":0},{"$f":"'kros seznam'!NNN103","v":0},{"$f":"'kros seznam'!NNO103","v":0},{"$f":"'kros seznam'!NNP103","v":0},{"$f":"'kros seznam'!NNQ103","v":0},{"$f":"'kros seznam'!NNR103","v":0},{"$f":"'kros seznam'!NNS103","v":0},{"$f":"'kros seznam'!NNT103","v":0},{"$f":"'kros seznam'!NNU103","v":0},{"$f":"'kros seznam'!NNV103","v":0},{"$f":"'kros seznam'!NNW103","v":0},{"$f":"'kros seznam'!NNX103","v":0},{"$f":"'kros seznam'!NNY103","v":0},{"$f":"'kros seznam'!NNZ103","v":0},{"$f":"'kros seznam'!NOA103","v":0},{"$f":"'kros seznam'!NOB103","v":0},{"$f":"'kros seznam'!NOC103","v":0},{"$f":"'kros seznam'!NOD103","v":0},{"$f":"'kros seznam'!NOE103","v":0},{"$f":"'kros seznam'!NOF103","v":0},{"$f":"'kros seznam'!NOG103","v":0},{"$f":"'kros seznam'!NOH103","v":0},{"$f":"'kros seznam'!NOI103","v":0},{"$f":"'kros seznam'!NOJ103","v":0},{"$f":"'kros seznam'!NOK103","v":0},{"$f":"'kros seznam'!NOL103","v":0},{"$f":"'kros seznam'!NOM103","v":0},{"$f":"'kros seznam'!NON103","v":0},{"$f":"'kros seznam'!NOO103","v":0},{"$f":"'kros seznam'!NOP103","v":0},{"$f":"'kros seznam'!NOQ103","v":0},{"$f":"'kros seznam'!NOR103","v":0},{"$f":"'kros seznam'!NOS103","v":0},{"$f":"'kros seznam'!NOT103","v":0},{"$f":"'kros seznam'!NOU103","v":0},{"$f":"'kros seznam'!NOV103","v":0},{"$f":"'kros seznam'!NOW103","v":0},{"$f":"'kros seznam'!NOX103","v":0},{"$f":"'kros seznam'!NOY103","v":0},{"$f":"'kros seznam'!NOZ103","v":0},{"$f":"'kros seznam'!NPA103","v":0},{"$f":"'kros seznam'!NPB103","v":0},{"$f":"'kros seznam'!NPC103","v":0},{"$f":"'kros seznam'!NPD103","v":0},{"$f":"'kros seznam'!NPE103","v":0},{"$f":"'kros seznam'!NPF103","v":0},{"$f":"'kros seznam'!NPG103","v":0},{"$f":"'kros seznam'!NPH103","v":0},{"$f":"'kros seznam'!NPI103","v":0},{"$f":"'kros seznam'!NPJ103","v":0},{"$f":"'kros seznam'!NPK103","v":0},{"$f":"'kros seznam'!NPL103","v":0},{"$f":"'kros seznam'!NPM103","v":0},{"$f":"'kros seznam'!NPN103","v":0},{"$f":"'kros seznam'!NPO103","v":0},{"$f":"'kros seznam'!NPP103","v":0},{"$f":"'kros seznam'!NPQ103","v":0},{"$f":"'kros seznam'!NPR103","v":0},{"$f":"'kros seznam'!NPS103","v":0},{"$f":"'kros seznam'!NPT103","v":0},{"$f":"'kros seznam'!NPU103","v":0},{"$f":"'kros seznam'!NPV103","v":0},{"$f":"'kros seznam'!NPW103","v":0},{"$f":"'kros seznam'!NPX103","v":0},{"$f":"'kros seznam'!NPY103","v":0},{"$f":"'kros seznam'!NPZ103","v":0},{"$f":"'kros seznam'!NQA103","v":0},{"$f":"'kros seznam'!NQB103","v":0},{"$f":"'kros seznam'!NQC103","v":0},{"$f":"'kros seznam'!NQD103","v":0},{"$f":"'kros seznam'!NQE103","v":0},{"$f":"'kros seznam'!NQF103","v":0},{"$f":"'kros seznam'!NQG103","v":0},{"$f":"'kros seznam'!NQH103","v":0},{"$f":"'kros seznam'!NQI103","v":0},{"$f":"'kros seznam'!NQJ103","v":0},{"$f":"'kros seznam'!NQK103","v":0},{"$f":"'kros seznam'!NQL103","v":0},{"$f":"'kros seznam'!NQM103","v":0},{"$f":"'kros seznam'!NQN103","v":0},{"$f":"'kros seznam'!NQO103","v":0},{"$f":"'kros seznam'!NQP103","v":0},{"$f":"'kros seznam'!NQQ103","v":0},{"$f":"'kros seznam'!NQR103","v":0},{"$f":"'kros seznam'!NQS103","v":0},{"$f":"'kros seznam'!NQT103","v":0},{"$f":"'kros seznam'!NQU103","v":0},{"$f":"'kros seznam'!NQV103","v":0},{"$f":"'kros seznam'!NQW103","v":0},{"$f":"'kros seznam'!NQX103","v":0},{"$f":"'kros seznam'!NQY103","v":0},{"$f":"'kros seznam'!NQZ103","v":0},{"$f":"'kros seznam'!NRA103","v":0},{"$f":"'kros seznam'!NRB103","v":0},{"$f":"'kros seznam'!NRC103","v":0},{"$f":"'kros seznam'!NRD103","v":0},{"$f":"'kros seznam'!NRE103","v":0},{"$f":"'kros seznam'!NRF103","v":0},{"$f":"'kros seznam'!NRG103","v":0},{"$f":"'kros seznam'!NRH103","v":0},{"$f":"'kros seznam'!NRI103","v":0},{"$f":"'kros seznam'!NRJ103","v":0},{"$f":"'kros seznam'!NRK103","v":0},{"$f":"'kros seznam'!NRL103","v":0},{"$f":"'kros seznam'!NRM103","v":0},{"$f":"'kros seznam'!NRN103","v":0},{"$f":"'kros seznam'!NRO103","v":0},{"$f":"'kros seznam'!NRP103","v":0},{"$f":"'kros seznam'!NRQ103","v":0},{"$f":"'kros seznam'!NRR103","v":0},{"$f":"'kros seznam'!NRS103","v":0},{"$f":"'kros seznam'!NRT103","v":0},{"$f":"'kros seznam'!NRU103","v":0},{"$f":"'kros seznam'!NRV103","v":0},{"$f":"'kros seznam'!NRW103","v":0},{"$f":"'kros seznam'!NRX103","v":0},{"$f":"'kros seznam'!NRY103","v":0},{"$f":"'kros seznam'!NRZ103","v":0},{"$f":"'kros seznam'!NSA103","v":0},{"$f":"'kros seznam'!NSB103","v":0},{"$f":"'kros seznam'!NSC103","v":0},{"$f":"'kros seznam'!NSD103","v":0},{"$f":"'kros seznam'!NSE103","v":0},{"$f":"'kros seznam'!NSF103","v":0},{"$f":"'kros seznam'!NSG103","v":0},{"$f":"'kros seznam'!NSH103","v":0},{"$f":"'kros seznam'!NSI103","v":0},{"$f":"'kros seznam'!NSJ103","v":0},{"$f":"'kros seznam'!NSK103","v":0},{"$f":"'kros seznam'!NSL103","v":0},{"$f":"'kros seznam'!NSM103","v":0},{"$f":"'kros seznam'!NSN103","v":0},{"$f":"'kros seznam'!NSO103","v":0},{"$f":"'kros seznam'!NSP103","v":0},{"$f":"'kros seznam'!NSQ103","v":0},{"$f":"'kros seznam'!NSR103","v":0},{"$f":"'kros seznam'!NSS103","v":0},{"$f":"'kros seznam'!NST103","v":0},{"$f":"'kros seznam'!NSU103","v":0},{"$f":"'kros seznam'!NSV103","v":0},{"$f":"'kros seznam'!NSW103","v":0},{"$f":"'kros seznam'!NSX103","v":0},{"$f":"'kros seznam'!NSY103","v":0},{"$f":"'kros seznam'!NSZ103","v":0},{"$f":"'kros seznam'!NTA103","v":0},{"$f":"'kros seznam'!NTB103","v":0},{"$f":"'kros seznam'!NTC103","v":0},{"$f":"'kros seznam'!NTD103","v":0},{"$f":"'kros seznam'!NTE103","v":0},{"$f":"'kros seznam'!NTF103","v":0},{"$f":"'kros seznam'!NTG103","v":0},{"$f":"'kros seznam'!NTH103","v":0},{"$f":"'kros seznam'!NTI103","v":0},{"$f":"'kros seznam'!NTJ103","v":0},{"$f":"'kros seznam'!NTK103","v":0},{"$f":"'kros seznam'!NTL103","v":0},{"$f":"'kros seznam'!NTM103","v":0},{"$f":"'kros seznam'!NTN103","v":0},{"$f":"'kros seznam'!NTO103","v":0},{"$f":"'kros seznam'!NTP103","v":0},{"$f":"'kros seznam'!NTQ103","v":0},{"$f":"'kros seznam'!NTR103","v":0},{"$f":"'kros seznam'!NTS103","v":0},{"$f":"'kros seznam'!NTT103","v":0},{"$f":"'kros seznam'!NTU103","v":0},{"$f":"'kros seznam'!NTV103","v":0},{"$f":"'kros seznam'!NTW103","v":0},{"$f":"'kros seznam'!NTX103","v":0},{"$f":"'kros seznam'!NTY103","v":0},{"$f":"'kros seznam'!NTZ103","v":0},{"$f":"'kros seznam'!NUA103","v":0},{"$f":"'kros seznam'!NUB103","v":0},{"$f":"'kros seznam'!NUC103","v":0},{"$f":"'kros seznam'!NUD103","v":0},{"$f":"'kros seznam'!NUE103","v":0},{"$f":"'kros seznam'!NUF103","v":0},{"$f":"'kros seznam'!NUG103","v":0},{"$f":"'kros seznam'!NUH103","v":0},{"$f":"'kros seznam'!NUI103","v":0},{"$f":"'kros seznam'!NUJ103","v":0},{"$f":"'kros seznam'!NUK103","v":0},{"$f":"'kros seznam'!NUL103","v":0},{"$f":"'kros seznam'!NUM103","v":0},{"$f":"'kros seznam'!NUN103","v":0},{"$f":"'kros seznam'!NUO103","v":0},{"$f":"'kros seznam'!NUP103","v":0},{"$f":"'kros seznam'!NUQ103","v":0},{"$f":"'kros seznam'!NUR103","v":0},{"$f":"'kros seznam'!NUS103","v":0},{"$f":"'kros seznam'!NUT103","v":0},{"$f":"'kros seznam'!NUU103","v":0},{"$f":"'kros seznam'!NUV103","v":0},{"$f":"'kros seznam'!NUW103","v":0},{"$f":"'kros seznam'!NUX103","v":0},{"$f":"'kros seznam'!NUY103","v":0},{"$f":"'kros seznam'!NUZ103","v":0},{"$f":"'kros seznam'!NVA103","v":0},{"$f":"'kros seznam'!NVB103","v":0},{"$f":"'kros seznam'!NVC103","v":0},{"$f":"'kros seznam'!NVD103","v":0},{"$f":"'kros seznam'!NVE103","v":0},{"$f":"'kros seznam'!NVF103","v":0},{"$f":"'kros seznam'!NVG103","v":0},{"$f":"'kros seznam'!NVH103","v":0},{"$f":"'kros seznam'!NVI103","v":0},{"$f":"'kros seznam'!NVJ103","v":0},{"$f":"'kros seznam'!NVK103","v":0},{"$f":"'kros seznam'!NVL103","v":0},{"$f":"'kros seznam'!NVM103","v":0},{"$f":"'kros seznam'!NVN103","v":0},{"$f":"'kros seznam'!NVO103","v":0},{"$f":"'kros seznam'!NVP103","v":0},{"$f":"'kros seznam'!NVQ103","v":0},{"$f":"'kros seznam'!NVR103","v":0},{"$f":"'kros seznam'!NVS103","v":0},{"$f":"'kros seznam'!NVT103","v":0},{"$f":"'kros seznam'!NVU103","v":0},{"$f":"'kros seznam'!NVV103","v":0},{"$f":"'kros seznam'!NVW103","v":0},{"$f":"'kros seznam'!NVX103","v":0},{"$f":"'kros seznam'!NVY103","v":0},{"$f":"'kros seznam'!NVZ103","v":0},{"$f":"'kros seznam'!NWA103","v":0},{"$f":"'kros seznam'!NWB103","v":0},{"$f":"'kros seznam'!NWC103","v":0},{"$f":"'kros seznam'!NWD103","v":0},{"$f":"'kros seznam'!NWE103","v":0},{"$f":"'kros seznam'!NWF103","v":0},{"$f":"'kros seznam'!NWG103","v":0},{"$f":"'kros seznam'!NWH103","v":0},{"$f":"'kros seznam'!NWI103","v":0},{"$f":"'kros seznam'!NWJ103","v":0},{"$f":"'kros seznam'!NWK103","v":0},{"$f":"'kros seznam'!NWL103","v":0},{"$f":"'kros seznam'!NWM103","v":0},{"$f":"'kros seznam'!NWN103","v":0},{"$f":"'kros seznam'!NWO103","v":0},{"$f":"'kros seznam'!NWP103","v":0},{"$f":"'kros seznam'!NWQ103","v":0},{"$f":"'kros seznam'!NWR103","v":0},{"$f":"'kros seznam'!NWS103","v":0},{"$f":"'kros seznam'!NWT103","v":0},{"$f":"'kros seznam'!NWU103","v":0},{"$f":"'kros seznam'!NWV103","v":0},{"$f":"'kros seznam'!NWW103","v":0},{"$f":"'kros seznam'!NWX103","v":0},{"$f":"'kros seznam'!NWY103","v":0},{"$f":"'kros seznam'!NWZ103","v":0},{"$f":"'kros seznam'!NXA103","v":0},{"$f":"'kros seznam'!NXB103","v":0},{"$f":"'kros seznam'!NXC103","v":0},{"$f":"'kros seznam'!NXD103","v":0},{"$f":"'kros seznam'!NXE103","v":0},{"$f":"'kros seznam'!NXF103","v":0},{"$f":"'kros seznam'!NXG103","v":0},{"$f":"'kros seznam'!NXH103","v":0},{"$f":"'kros seznam'!NXI103","v":0},{"$f":"'kros seznam'!NXJ103","v":0},{"$f":"'kros seznam'!NXK103","v":0},{"$f":"'kros seznam'!NXL103","v":0},{"$f":"'kros seznam'!NXM103","v":0},{"$f":"'kros seznam'!NXN103","v":0},{"$f":"'kros seznam'!NXO103","v":0},{"$f":"'kros seznam'!NXP103","v":0},{"$f":"'kros seznam'!NXQ103","v":0},{"$f":"'kros seznam'!NXR103","v":0},{"$f":"'kros seznam'!NXS103","v":0},{"$f":"'kros seznam'!NXT103","v":0},{"$f":"'kros seznam'!NXU103","v":0},{"$f":"'kros seznam'!NXV103","v":0},{"$f":"'kros seznam'!NXW103","v":0},{"$f":"'kros seznam'!NXX103","v":0},{"$f":"'kros seznam'!NXY103","v":0},{"$f":"'kros seznam'!NXZ103","v":0},{"$f":"'kros seznam'!NYA103","v":0},{"$f":"'kros seznam'!NYB103","v":0},{"$f":"'kros seznam'!NYC103","v":0},{"$f":"'kros seznam'!NYD103","v":0},{"$f":"'kros seznam'!NYE103","v":0},{"$f":"'kros seznam'!NYF103","v":0},{"$f":"'kros seznam'!NYG103","v":0},{"$f":"'kros seznam'!NYH103","v":0},{"$f":"'kros seznam'!NYI103","v":0},{"$f":"'kros seznam'!NYJ103","v":0},{"$f":"'kros seznam'!NYK103","v":0},{"$f":"'kros seznam'!NYL103","v":0},{"$f":"'kros seznam'!NYM103","v":0},{"$f":"'kros seznam'!NYN103","v":0},{"$f":"'kros seznam'!NYO103","v":0},{"$f":"'kros seznam'!NYP103","v":0},{"$f":"'kros seznam'!NYQ103","v":0},{"$f":"'kros seznam'!NYR103","v":0},{"$f":"'kros seznam'!NYS103","v":0},{"$f":"'kros seznam'!NYT103","v":0},{"$f":"'kros seznam'!NYU103","v":0},{"$f":"'kros seznam'!NYV103","v":0},{"$f":"'kros seznam'!NYW103","v":0},{"$f":"'kros seznam'!NYX103","v":0},{"$f":"'kros seznam'!NYY103","v":0},{"$f":"'kros seznam'!NYZ103","v":0},{"$f":"'kros seznam'!NZA103","v":0},{"$f":"'kros seznam'!NZB103","v":0},{"$f":"'kros seznam'!NZC103","v":0},{"$f":"'kros seznam'!NZD103","v":0},{"$f":"'kros seznam'!NZE103","v":0},{"$f":"'kros seznam'!NZF103","v":0},{"$f":"'kros seznam'!NZG103","v":0},{"$f":"'kros seznam'!NZH103","v":0},{"$f":"'kros seznam'!NZI103","v":0},{"$f":"'kros seznam'!NZJ103","v":0},{"$f":"'kros seznam'!NZK103","v":0},{"$f":"'kros seznam'!NZL103","v":0},{"$f":"'kros seznam'!NZM103","v":0},{"$f":"'kros seznam'!NZN103","v":0},{"$f":"'kros seznam'!NZO103","v":0},{"$f":"'kros seznam'!NZP103","v":0},{"$f":"'kros seznam'!NZQ103","v":0},{"$f":"'kros seznam'!NZR103","v":0},{"$f":"'kros seznam'!NZS103","v":0},{"$f":"'kros seznam'!NZT103","v":0},{"$f":"'kros seznam'!NZU103","v":0},{"$f":"'kros seznam'!NZV103","v":0},{"$f":"'kros seznam'!NZW103","v":0},{"$f":"'kros seznam'!NZX103","v":0},{"$f":"'kros seznam'!NZY103","v":0},{"$f":"'kros seznam'!NZZ103","v":0},{"$f":"'kros seznam'!OAA103","v":0},{"$f":"'kros seznam'!OAB103","v":0},{"$f":"'kros seznam'!OAC103","v":0},{"$f":"'kros seznam'!OAD103","v":0},{"$f":"'kros seznam'!OAE103","v":0},{"$f":"'kros seznam'!OAF103","v":0},{"$f":"'kros seznam'!OAG103","v":0},{"$f":"'kros seznam'!OAH103","v":0},{"$f":"'kros seznam'!OAI103","v":0},{"$f":"'kros seznam'!OAJ103","v":0},{"$f":"'kros seznam'!OAK103","v":0},{"$f":"'kros seznam'!OAL103","v":0},{"$f":"'kros seznam'!OAM103","v":0},{"$f":"'kros seznam'!OAN103","v":0},{"$f":"'kros seznam'!OAO103","v":0},{"$f":"'kros seznam'!OAP103","v":0},{"$f":"'kros seznam'!OAQ103","v":0},{"$f":"'kros seznam'!OAR103","v":0},{"$f":"'kros seznam'!OAS103","v":0},{"$f":"'kros seznam'!OAT103","v":0},{"$f":"'kros seznam'!OAU103","v":0},{"$f":"'kros seznam'!OAV103","v":0},{"$f":"'kros seznam'!OAW103","v":0},{"$f":"'kros seznam'!OAX103","v":0},{"$f":"'kros seznam'!OAY103","v":0},{"$f":"'kros seznam'!OAZ103","v":0},{"$f":"'kros seznam'!OBA103","v":0},{"$f":"'kros seznam'!OBB103","v":0},{"$f":"'kros seznam'!OBC103","v":0},{"$f":"'kros seznam'!OBD103","v":0},{"$f":"'kros seznam'!OBE103","v":0},{"$f":"'kros seznam'!OBF103","v":0},{"$f":"'kros seznam'!OBG103","v":0},{"$f":"'kros seznam'!OBH103","v":0},{"$f":"'kros seznam'!OBI103","v":0},{"$f":"'kros seznam'!OBJ103","v":0},{"$f":"'kros seznam'!OBK103","v":0},{"$f":"'kros seznam'!OBL103","v":0},{"$f":"'kros seznam'!OBM103","v":0},{"$f":"'kros seznam'!OBN103","v":0},{"$f":"'kros seznam'!OBO103","v":0},{"$f":"'kros seznam'!OBP103","v":0},{"$f":"'kros seznam'!OBQ103","v":0},{"$f":"'kros seznam'!OBR103","v":0},{"$f":"'kros seznam'!OBS103","v":0},{"$f":"'kros seznam'!OBT103","v":0},{"$f":"'kros seznam'!OBU103","v":0},{"$f":"'kros seznam'!OBV103","v":0},{"$f":"'kros seznam'!OBW103","v":0},{"$f":"'kros seznam'!OBX103","v":0},{"$f":"'kros seznam'!OBY103","v":0},{"$f":"'kros seznam'!OBZ103","v":0},{"$f":"'kros seznam'!OCA103","v":0},{"$f":"'kros seznam'!OCB103","v":0},{"$f":"'kros seznam'!OCC103","v":0},{"$f":"'kros seznam'!OCD103","v":0},{"$f":"'kros seznam'!OCE103","v":0},{"$f":"'kros seznam'!OCF103","v":0},{"$f":"'kros seznam'!OCG103","v":0},{"$f":"'kros seznam'!OCH103","v":0},{"$f":"'kros seznam'!OCI103","v":0},{"$f":"'kros seznam'!OCJ103","v":0},{"$f":"'kros seznam'!OCK103","v":0},{"$f":"'kros seznam'!OCL103","v":0},{"$f":"'kros seznam'!OCM103","v":0},{"$f":"'kros seznam'!OCN103","v":0},{"$f":"'kros seznam'!OCO103","v":0},{"$f":"'kros seznam'!OCP103","v":0},{"$f":"'kros seznam'!OCQ103","v":0},{"$f":"'kros seznam'!OCR103","v":0},{"$f":"'kros seznam'!OCS103","v":0},{"$f":"'kros seznam'!OCT103","v":0},{"$f":"'kros seznam'!OCU103","v":0},{"$f":"'kros seznam'!OCV103","v":0},{"$f":"'kros seznam'!OCW103","v":0},{"$f":"'kros seznam'!OCX103","v":0},{"$f":"'kros seznam'!OCY103","v":0},{"$f":"'kros seznam'!OCZ103","v":0},{"$f":"'kros seznam'!ODA103","v":0},{"$f":"'kros seznam'!ODB103","v":0},{"$f":"'kros seznam'!ODC103","v":0},{"$f":"'kros seznam'!ODD103","v":0},{"$f":"'kros seznam'!ODE103","v":0},{"$f":"'kros seznam'!ODF103","v":0},{"$f":"'kros seznam'!ODG103","v":0},{"$f":"'kros seznam'!ODH103","v":0},{"$f":"'kros seznam'!ODI103","v":0},{"$f":"'kros seznam'!ODJ103","v":0},{"$f":"'kros seznam'!ODK103","v":0},{"$f":"'kros seznam'!ODL103","v":0},{"$f":"'kros seznam'!ODM103","v":0},{"$f":"'kros seznam'!ODN103","v":0},{"$f":"'kros seznam'!ODO103","v":0},{"$f":"'kros seznam'!ODP103","v":0},{"$f":"'kros seznam'!ODQ103","v":0},{"$f":"'kros seznam'!ODR103","v":0},{"$f":"'kros seznam'!ODS103","v":0},{"$f":"'kros seznam'!ODT103","v":0},{"$f":"'kros seznam'!ODU103","v":0},{"$f":"'kros seznam'!ODV103","v":0},{"$f":"'kros seznam'!ODW103","v":0},{"$f":"'kros seznam'!ODX103","v":0},{"$f":"'kros seznam'!ODY103","v":0},{"$f":"'kros seznam'!ODZ103","v":0},{"$f":"'kros seznam'!OEA103","v":0},{"$f":"'kros seznam'!OEB103","v":0},{"$f":"'kros seznam'!OEC103","v":0},{"$f":"'kros seznam'!OED103","v":0},{"$f":"'kros seznam'!OEE103","v":0},{"$f":"'kros seznam'!OEF103","v":0},{"$f":"'kros seznam'!OEG103","v":0},{"$f":"'kros seznam'!OEH103","v":0},{"$f":"'kros seznam'!OEI103","v":0},{"$f":"'kros seznam'!OEJ103","v":0},{"$f":"'kros seznam'!OEK103","v":0},{"$f":"'kros seznam'!OEL103","v":0},{"$f":"'kros seznam'!OEM103","v":0},{"$f":"'kros seznam'!OEN103","v":0},{"$f":"'kros seznam'!OEO103","v":0},{"$f":"'kros seznam'!OEP103","v":0},{"$f":"'kros seznam'!OEQ103","v":0},{"$f":"'kros seznam'!OER103","v":0},{"$f":"'kros seznam'!OES103","v":0},{"$f":"'kros seznam'!OET103","v":0},{"$f":"'kros seznam'!OEU103","v":0},{"$f":"'kros seznam'!OEV103","v":0},{"$f":"'kros seznam'!OEW103","v":0},{"$f":"'kros seznam'!OEX103","v":0},{"$f":"'kros seznam'!OEY103","v":0},{"$f":"'kros seznam'!OEZ103","v":0},{"$f":"'kros seznam'!OFA103","v":0},{"$f":"'kros seznam'!OFB103","v":0},{"$f":"'kros seznam'!OFC103","v":0},{"$f":"'kros seznam'!OFD103","v":0},{"$f":"'kros seznam'!OFE103","v":0},{"$f":"'kros seznam'!OFF103","v":0},{"$f":"'kros seznam'!OFG103","v":0},{"$f":"'kros seznam'!OFH103","v":0},{"$f":"'kros seznam'!OFI103","v":0},{"$f":"'kros seznam'!OFJ103","v":0},{"$f":"'kros seznam'!OFK103","v":0},{"$f":"'kros seznam'!OFL103","v":0},{"$f":"'kros seznam'!OFM103","v":0},{"$f":"'kros seznam'!OFN103","v":0},{"$f":"'kros seznam'!OFO103","v":0},{"$f":"'kros seznam'!OFP103","v":0},{"$f":"'kros seznam'!OFQ103","v":0},{"$f":"'kros seznam'!OFR103","v":0},{"$f":"'kros seznam'!OFS103","v":0},{"$f":"'kros seznam'!OFT103","v":0},{"$f":"'kros seznam'!OFU103","v":0},{"$f":"'kros seznam'!OFV103","v":0},{"$f":"'kros seznam'!OFW103","v":0},{"$f":"'kros seznam'!OFX103","v":0},{"$f":"'kros seznam'!OFY103","v":0},{"$f":"'kros seznam'!OFZ103","v":0},{"$f":"'kros seznam'!OGA103","v":0},{"$f":"'kros seznam'!OGB103","v":0},{"$f":"'kros seznam'!OGC103","v":0},{"$f":"'kros seznam'!OGD103","v":0},{"$f":"'kros seznam'!OGE103","v":0},{"$f":"'kros seznam'!OGF103","v":0},{"$f":"'kros seznam'!OGG103","v":0},{"$f":"'kros seznam'!OGH103","v":0},{"$f":"'kros seznam'!OGI103","v":0},{"$f":"'kros seznam'!OGJ103","v":0},{"$f":"'kros seznam'!OGK103","v":0},{"$f":"'kros seznam'!OGL103","v":0},{"$f":"'kros seznam'!OGM103","v":0},{"$f":"'kros seznam'!OGN103","v":0},{"$f":"'kros seznam'!OGO103","v":0},{"$f":"'kros seznam'!OGP103","v":0},{"$f":"'kros seznam'!OGQ103","v":0},{"$f":"'kros seznam'!OGR103","v":0},{"$f":"'kros seznam'!OGS103","v":0},{"$f":"'kros seznam'!OGT103","v":0},{"$f":"'kros seznam'!OGU103","v":0},{"$f":"'kros seznam'!OGV103","v":0},{"$f":"'kros seznam'!OGW103","v":0},{"$f":"'kros seznam'!OGX103","v":0},{"$f":"'kros seznam'!OGY103","v":0},{"$f":"'kros seznam'!OGZ103","v":0},{"$f":"'kros seznam'!OHA103","v":0},{"$f":"'kros seznam'!OHB103","v":0},{"$f":"'kros seznam'!OHC103","v":0},{"$f":"'kros seznam'!OHD103","v":0},{"$f":"'kros seznam'!OHE103","v":0},{"$f":"'kros seznam'!OHF103","v":0},{"$f":"'kros seznam'!OHG103","v":0},{"$f":"'kros seznam'!OHH103","v":0},{"$f":"'kros seznam'!OHI103","v":0},{"$f":"'kros seznam'!OHJ103","v":0},{"$f":"'kros seznam'!OHK103","v":0},{"$f":"'kros seznam'!OHL103","v":0},{"$f":"'kros seznam'!OHM103","v":0},{"$f":"'kros seznam'!OHN103","v":0},{"$f":"'kros seznam'!OHO103","v":0},{"$f":"'kros seznam'!OHP103","v":0},{"$f":"'kros seznam'!OHQ103","v":0},{"$f":"'kros seznam'!OHR103","v":0},{"$f":"'kros seznam'!OHS103","v":0},{"$f":"'kros seznam'!OHT103","v":0},{"$f":"'kros seznam'!OHU103","v":0},{"$f":"'kros seznam'!OHV103","v":0},{"$f":"'kros seznam'!OHW103","v":0},{"$f":"'kros seznam'!OHX103","v":0},{"$f":"'kros seznam'!OHY103","v":0},{"$f":"'kros seznam'!OHZ103","v":0},{"$f":"'kros seznam'!OIA103","v":0},{"$f":"'kros seznam'!OIB103","v":0},{"$f":"'kros seznam'!OIC103","v":0},{"$f":"'kros seznam'!OID103","v":0},{"$f":"'kros seznam'!OIE103","v":0},{"$f":"'kros seznam'!OIF103","v":0},{"$f":"'kros seznam'!OIG103","v":0},{"$f":"'kros seznam'!OIH103","v":0},{"$f":"'kros seznam'!OII103","v":0},{"$f":"'kros seznam'!OIJ103","v":0},{"$f":"'kros seznam'!OIK103","v":0},{"$f":"'kros seznam'!OIL103","v":0},{"$f":"'kros seznam'!OIM103","v":0},{"$f":"'kros seznam'!OIN103","v":0},{"$f":"'kros seznam'!OIO103","v":0},{"$f":"'kros seznam'!OIP103","v":0},{"$f":"'kros seznam'!OIQ103","v":0},{"$f":"'kros seznam'!OIR103","v":0},{"$f":"'kros seznam'!OIS103","v":0},{"$f":"'kros seznam'!OIT103","v":0},{"$f":"'kros seznam'!OIU103","v":0},{"$f":"'kros seznam'!OIV103","v":0},{"$f":"'kros seznam'!OIW103","v":0},{"$f":"'kros seznam'!OIX103","v":0},{"$f":"'kros seznam'!OIY103","v":0},{"$f":"'kros seznam'!OIZ103","v":0},{"$f":"'kros seznam'!OJA103","v":0},{"$f":"'kros seznam'!OJB103","v":0},{"$f":"'kros seznam'!OJC103","v":0},{"$f":"'kros seznam'!OJD103","v":0},{"$f":"'kros seznam'!OJE103","v":0},{"$f":"'kros seznam'!OJF103","v":0},{"$f":"'kros seznam'!OJG103","v":0},{"$f":"'kros seznam'!OJH103","v":0},{"$f":"'kros seznam'!OJI103","v":0},{"$f":"'kros seznam'!OJJ103","v":0},{"$f":"'kros seznam'!OJK103","v":0},{"$f":"'kros seznam'!OJL103","v":0},{"$f":"'kros seznam'!OJM103","v":0},{"$f":"'kros seznam'!OJN103","v":0},{"$f":"'kros seznam'!OJO103","v":0},{"$f":"'kros seznam'!OJP103","v":0},{"$f":"'kros seznam'!OJQ103","v":0},{"$f":"'kros seznam'!OJR103","v":0},{"$f":"'kros seznam'!OJS103","v":0},{"$f":"'kros seznam'!OJT103","v":0},{"$f":"'kros seznam'!OJU103","v":0},{"$f":"'kros seznam'!OJV103","v":0},{"$f":"'kros seznam'!OJW103","v":0},{"$f":"'kros seznam'!OJX103","v":0},{"$f":"'kros seznam'!OJY103","v":0},{"$f":"'kros seznam'!OJZ103","v":0},{"$f":"'kros seznam'!OKA103","v":0},{"$f":"'kros seznam'!OKB103","v":0},{"$f":"'kros seznam'!OKC103","v":0},{"$f":"'kros seznam'!OKD103","v":0},{"$f":"'kros seznam'!OKE103","v":0},{"$f":"'kros seznam'!OKF103","v":0},{"$f":"'kros seznam'!OKG103","v":0},{"$f":"'kros seznam'!OKH103","v":0},{"$f":"'kros seznam'!OKI103","v":0},{"$f":"'kros seznam'!OKJ103","v":0},{"$f":"'kros seznam'!OKK103","v":0},{"$f":"'kros seznam'!OKL103","v":0},{"$f":"'kros seznam'!OKM103","v":0},{"$f":"'kros seznam'!OKN103","v":0},{"$f":"'kros seznam'!OKO103","v":0},{"$f":"'kros seznam'!OKP103","v":0},{"$f":"'kros seznam'!OKQ103","v":0},{"$f":"'kros seznam'!OKR103","v":0},{"$f":"'kros seznam'!OKS103","v":0},{"$f":"'kros seznam'!OKT103","v":0},{"$f":"'kros seznam'!OKU103","v":0},{"$f":"'kros seznam'!OKV103","v":0},{"$f":"'kros seznam'!OKW103","v":0},{"$f":"'kros seznam'!OKX103","v":0},{"$f":"'kros seznam'!OKY103","v":0},{"$f":"'kros seznam'!OKZ103","v":0},{"$f":"'kros seznam'!OLA103","v":0},{"$f":"'kros seznam'!OLB103","v":0},{"$f":"'kros seznam'!OLC103","v":0},{"$f":"'kros seznam'!OLD103","v":0},{"$f":"'kros seznam'!OLE103","v":0},{"$f":"'kros seznam'!OLF103","v":0},{"$f":"'kros seznam'!OLG103","v":0},{"$f":"'kros seznam'!OLH103","v":0},{"$f":"'kros seznam'!OLI103","v":0},{"$f":"'kros seznam'!OLJ103","v":0},{"$f":"'kros seznam'!OLK103","v":0},{"$f":"'kros seznam'!OLL103","v":0},{"$f":"'kros seznam'!OLM103","v":0},{"$f":"'kros seznam'!OLN103","v":0},{"$f":"'kros seznam'!OLO103","v":0},{"$f":"'kros seznam'!OLP103","v":0},{"$f":"'kros seznam'!OLQ103","v":0},{"$f":"'kros seznam'!OLR103","v":0},{"$f":"'kros seznam'!OLS103","v":0},{"$f":"'kros seznam'!OLT103","v":0},{"$f":"'kros seznam'!OLU103","v":0},{"$f":"'kros seznam'!OLV103","v":0},{"$f":"'kros seznam'!OLW103","v":0},{"$f":"'kros seznam'!OLX103","v":0},{"$f":"'kros seznam'!OLY103","v":0},{"$f":"'kros seznam'!OLZ103","v":0},{"$f":"'kros seznam'!OMA103","v":0},{"$f":"'kros seznam'!OMB103","v":0},{"$f":"'kros seznam'!OMC103","v":0},{"$f":"'kros seznam'!OMD103","v":0},{"$f":"'kros seznam'!OME103","v":0},{"$f":"'kros seznam'!OMF103","v":0},{"$f":"'kros seznam'!OMG103","v":0},{"$f":"'kros seznam'!OMH103","v":0},{"$f":"'kros seznam'!OMI103","v":0},{"$f":"'kros seznam'!OMJ103","v":0},{"$f":"'kros seznam'!OMK103","v":0},{"$f":"'kros seznam'!OML103","v":0},{"$f":"'kros seznam'!OMM103","v":0},{"$f":"'kros seznam'!OMN103","v":0},{"$f":"'kros seznam'!OMO103","v":0},{"$f":"'kros seznam'!OMP103","v":0},{"$f":"'kros seznam'!OMQ103","v":0},{"$f":"'kros seznam'!OMR103","v":0},{"$f":"'kros seznam'!OMS103","v":0},{"$f":"'kros seznam'!OMT103","v":0},{"$f":"'kros seznam'!OMU103","v":0},{"$f":"'kros seznam'!OMV103","v":0},{"$f":"'kros seznam'!OMW103","v":0},{"$f":"'kros seznam'!OMX103","v":0},{"$f":"'kros seznam'!OMY103","v":0},{"$f":"'kros seznam'!OMZ103","v":0},{"$f":"'kros seznam'!ONA103","v":0},{"$f":"'kros seznam'!ONB103","v":0},{"$f":"'kros seznam'!ONC103","v":0},{"$f":"'kros seznam'!OND103","v":0},{"$f":"'kros seznam'!ONE103","v":0},{"$f":"'kros seznam'!ONF103","v":0},{"$f":"'kros seznam'!ONG103","v":0},{"$f":"'kros seznam'!ONH103","v":0},{"$f":"'kros seznam'!ONI103","v":0},{"$f":"'kros seznam'!ONJ103","v":0},{"$f":"'kros seznam'!ONK103","v":0},{"$f":"'kros seznam'!ONL103","v":0},{"$f":"'kros seznam'!ONM103","v":0},{"$f":"'kros seznam'!ONN103","v":0},{"$f":"'kros seznam'!ONO103","v":0},{"$f":"'kros seznam'!ONP103","v":0},{"$f":"'kros seznam'!ONQ103","v":0},{"$f":"'kros seznam'!ONR103","v":0},{"$f":"'kros seznam'!ONS103","v":0},{"$f":"'kros seznam'!ONT103","v":0},{"$f":"'kros seznam'!ONU103","v":0},{"$f":"'kros seznam'!ONV103","v":0},{"$f":"'kros seznam'!ONW103","v":0},{"$f":"'kros seznam'!ONX103","v":0},{"$f":"'kros seznam'!ONY103","v":0},{"$f":"'kros seznam'!ONZ103","v":0},{"$f":"'kros seznam'!OOA103","v":0},{"$f":"'kros seznam'!OOB103","v":0},{"$f":"'kros seznam'!OOC103","v":0},{"$f":"'kros seznam'!OOD103","v":0},{"$f":"'kros seznam'!OOE103","v":0},{"$f":"'kros seznam'!OOF103","v":0},{"$f":"'kros seznam'!OOG103","v":0},{"$f":"'kros seznam'!OOH103","v":0},{"$f":"'kros seznam'!OOI103","v":0},{"$f":"'kros seznam'!OOJ103","v":0},{"$f":"'kros seznam'!OOK103","v":0},{"$f":"'kros seznam'!OOL103","v":0},{"$f":"'kros seznam'!OOM103","v":0},{"$f":"'kros seznam'!OON103","v":0},{"$f":"'kros seznam'!OOO103","v":0},{"$f":"'kros seznam'!OOP103","v":0},{"$f":"'kros seznam'!OOQ103","v":0},{"$f":"'kros seznam'!OOR103","v":0},{"$f":"'kros seznam'!OOS103","v":0},{"$f":"'kros seznam'!OOT103","v":0},{"$f":"'kros seznam'!OOU103","v":0},{"$f":"'kros seznam'!OOV103","v":0},{"$f":"'kros seznam'!OOW103","v":0},{"$f":"'kros seznam'!OOX103","v":0},{"$f":"'kros seznam'!OOY103","v":0},{"$f":"'kros seznam'!OOZ103","v":0},{"$f":"'kros seznam'!OPA103","v":0},{"$f":"'kros seznam'!OPB103","v":0},{"$f":"'kros seznam'!OPC103","v":0},{"$f":"'kros seznam'!OPD103","v":0},{"$f":"'kros seznam'!OPE103","v":0},{"$f":"'kros seznam'!OPF103","v":0},{"$f":"'kros seznam'!OPG103","v":0},{"$f":"'kros seznam'!OPH103","v":0},{"$f":"'kros seznam'!OPI103","v":0},{"$f":"'kros seznam'!OPJ103","v":0},{"$f":"'kros seznam'!OPK103","v":0},{"$f":"'kros seznam'!OPL103","v":0},{"$f":"'kros seznam'!OPM103","v":0},{"$f":"'kros seznam'!OPN103","v":0},{"$f":"'kros seznam'!OPO103","v":0},{"$f":"'kros seznam'!OPP103","v":0},{"$f":"'kros seznam'!OPQ103","v":0},{"$f":"'kros seznam'!OPR103","v":0},{"$f":"'kros seznam'!OPS103","v":0},{"$f":"'kros seznam'!OPT103","v":0},{"$f":"'kros seznam'!OPU103","v":0},{"$f":"'kros seznam'!OPV103","v":0},{"$f":"'kros seznam'!OPW103","v":0},{"$f":"'kros seznam'!OPX103","v":0},{"$f":"'kros seznam'!OPY103","v":0},{"$f":"'kros seznam'!OPZ103","v":0},{"$f":"'kros seznam'!OQA103","v":0},{"$f":"'kros seznam'!OQB103","v":0},{"$f":"'kros seznam'!OQC103","v":0},{"$f":"'kros seznam'!OQD103","v":0},{"$f":"'kros seznam'!OQE103","v":0},{"$f":"'kros seznam'!OQF103","v":0},{"$f":"'kros seznam'!OQG103","v":0},{"$f":"'kros seznam'!OQH103","v":0},{"$f":"'kros seznam'!OQI103","v":0},{"$f":"'kros seznam'!OQJ103","v":0},{"$f":"'kros seznam'!OQK103","v":0},{"$f":"'kros seznam'!OQL103","v":0},{"$f":"'kros seznam'!OQM103","v":0},{"$f":"'kros seznam'!OQN103","v":0},{"$f":"'kros seznam'!OQO103","v":0},{"$f":"'kros seznam'!OQP103","v":0},{"$f":"'kros seznam'!OQQ103","v":0},{"$f":"'kros seznam'!OQR103","v":0},{"$f":"'kros seznam'!OQS103","v":0},{"$f":"'kros seznam'!OQT103","v":0},{"$f":"'kros seznam'!OQU103","v":0},{"$f":"'kros seznam'!OQV103","v":0},{"$f":"'kros seznam'!OQW103","v":0},{"$f":"'kros seznam'!OQX103","v":0},{"$f":"'kros seznam'!OQY103","v":0},{"$f":"'kros seznam'!OQZ103","v":0},{"$f":"'kros seznam'!ORA103","v":0},{"$f":"'kros seznam'!ORB103","v":0},{"$f":"'kros seznam'!ORC103","v":0},{"$f":"'kros seznam'!ORD103","v":0},{"$f":"'kros seznam'!ORE103","v":0},{"$f":"'kros seznam'!ORF103","v":0},{"$f":"'kros seznam'!ORG103","v":0},{"$f":"'kros seznam'!ORH103","v":0},{"$f":"'kros seznam'!ORI103","v":0},{"$f":"'kros seznam'!ORJ103","v":0},{"$f":"'kros seznam'!ORK103","v":0},{"$f":"'kros seznam'!ORL103","v":0},{"$f":"'kros seznam'!ORM103","v":0},{"$f":"'kros seznam'!ORN103","v":0},{"$f":"'kros seznam'!ORO103","v":0},{"$f":"'kros seznam'!ORP103","v":0},{"$f":"'kros seznam'!ORQ103","v":0},{"$f":"'kros seznam'!ORR103","v":0},{"$f":"'kros seznam'!ORS103","v":0},{"$f":"'kros seznam'!ORT103","v":0},{"$f":"'kros seznam'!ORU103","v":0},{"$f":"'kros seznam'!ORV103","v":0},{"$f":"'kros seznam'!ORW103","v":0},{"$f":"'kros seznam'!ORX103","v":0},{"$f":"'kros seznam'!ORY103","v":0},{"$f":"'kros seznam'!ORZ103","v":0},{"$f":"'kros seznam'!OSA103","v":0},{"$f":"'kros seznam'!OSB103","v":0},{"$f":"'kros seznam'!OSC103","v":0},{"$f":"'kros seznam'!OSD103","v":0},{"$f":"'kros seznam'!OSE103","v":0},{"$f":"'kros seznam'!OSF103","v":0},{"$f":"'kros seznam'!OSG103","v":0},{"$f":"'kros seznam'!OSH103","v":0},{"$f":"'kros seznam'!OSI103","v":0},{"$f":"'kros seznam'!OSJ103","v":0},{"$f":"'kros seznam'!OSK103","v":0},{"$f":"'kros seznam'!OSL103","v":0},{"$f":"'kros seznam'!OSM103","v":0},{"$f":"'kros seznam'!OSN103","v":0},{"$f":"'kros seznam'!OSO103","v":0},{"$f":"'kros seznam'!OSP103","v":0},{"$f":"'kros seznam'!OSQ103","v":0},{"$f":"'kros seznam'!OSR103","v":0},{"$f":"'kros seznam'!OSS103","v":0},{"$f":"'kros seznam'!OST103","v":0},{"$f":"'kros seznam'!OSU103","v":0},{"$f":"'kros seznam'!OSV103","v":0},{"$f":"'kros seznam'!OSW103","v":0},{"$f":"'kros seznam'!OSX103","v":0},{"$f":"'kros seznam'!OSY103","v":0},{"$f":"'kros seznam'!OSZ103","v":0},{"$f":"'kros seznam'!OTA103","v":0},{"$f":"'kros seznam'!OTB103","v":0},{"$f":"'kros seznam'!OTC103","v":0},{"$f":"'kros seznam'!OTD103","v":0},{"$f":"'kros seznam'!OTE103","v":0},{"$f":"'kros seznam'!OTF103","v":0},{"$f":"'kros seznam'!OTG103","v":0},{"$f":"'kros seznam'!OTH103","v":0},{"$f":"'kros seznam'!OTI103","v":0},{"$f":"'kros seznam'!OTJ103","v":0},{"$f":"'kros seznam'!OTK103","v":0},{"$f":"'kros seznam'!OTL103","v":0},{"$f":"'kros seznam'!OTM103","v":0},{"$f":"'kros seznam'!OTN103","v":0},{"$f":"'kros seznam'!OTO103","v":0},{"$f":"'kros seznam'!OTP103","v":0},{"$f":"'kros seznam'!OTQ103","v":0},{"$f":"'kros seznam'!OTR103","v":0},{"$f":"'kros seznam'!OTS103","v":0},{"$f":"'kros seznam'!OTT103","v":0},{"$f":"'kros seznam'!OTU103","v":0},{"$f":"'kros seznam'!OTV103","v":0},{"$f":"'kros seznam'!OTW103","v":0},{"$f":"'kros seznam'!OTX103","v":0},{"$f":"'kros seznam'!OTY103","v":0},{"$f":"'kros seznam'!OTZ103","v":0},{"$f":"'kros seznam'!OUA103","v":0},{"$f":"'kros seznam'!OUB103","v":0},{"$f":"'kros seznam'!OUC103","v":0},{"$f":"'kros seznam'!OUD103","v":0},{"$f":"'kros seznam'!OUE103","v":0},{"$f":"'kros seznam'!OUF103","v":0},{"$f":"'kros seznam'!OUG103","v":0},{"$f":"'kros seznam'!OUH103","v":0},{"$f":"'kros seznam'!OUI103","v":0},{"$f":"'kros seznam'!OUJ103","v":0},{"$f":"'kros seznam'!OUK103","v":0},{"$f":"'kros seznam'!OUL103","v":0},{"$f":"'kros seznam'!OUM103","v":0},{"$f":"'kros seznam'!OUN103","v":0},{"$f":"'kros seznam'!OUO103","v":0},{"$f":"'kros seznam'!OUP103","v":0},{"$f":"'kros seznam'!OUQ103","v":0},{"$f":"'kros seznam'!OUR103","v":0},{"$f":"'kros seznam'!OUS103","v":0},{"$f":"'kros seznam'!OUT103","v":0},{"$f":"'kros seznam'!OUU103","v":0},{"$f":"'kros seznam'!OUV103","v":0},{"$f":"'kros seznam'!OUW103","v":0},{"$f":"'kros seznam'!OUX103","v":0},{"$f":"'kros seznam'!OUY103","v":0},{"$f":"'kros seznam'!OUZ103","v":0},{"$f":"'kros seznam'!OVA103","v":0},{"$f":"'kros seznam'!OVB103","v":0},{"$f":"'kros seznam'!OVC103","v":0},{"$f":"'kros seznam'!OVD103","v":0},{"$f":"'kros seznam'!OVE103","v":0},{"$f":"'kros seznam'!OVF103","v":0},{"$f":"'kros seznam'!OVG103","v":0},{"$f":"'kros seznam'!OVH103","v":0},{"$f":"'kros seznam'!OVI103","v":0},{"$f":"'kros seznam'!OVJ103","v":0},{"$f":"'kros seznam'!OVK103","v":0},{"$f":"'kros seznam'!OVL103","v":0},{"$f":"'kros seznam'!OVM103","v":0},{"$f":"'kros seznam'!OVN103","v":0},{"$f":"'kros seznam'!OVO103","v":0},{"$f":"'kros seznam'!OVP103","v":0},{"$f":"'kros seznam'!OVQ103","v":0},{"$f":"'kros seznam'!OVR103","v":0},{"$f":"'kros seznam'!OVS103","v":0},{"$f":"'kros seznam'!OVT103","v":0},{"$f":"'kros seznam'!OVU103","v":0},{"$f":"'kros seznam'!OVV103","v":0},{"$f":"'kros seznam'!OVW103","v":0},{"$f":"'kros seznam'!OVX103","v":0},{"$f":"'kros seznam'!OVY103","v":0},{"$f":"'kros seznam'!OVZ103","v":0},{"$f":"'kros seznam'!OWA103","v":0},{"$f":"'kros seznam'!OWB103","v":0},{"$f":"'kros seznam'!OWC103","v":0},{"$f":"'kros seznam'!OWD103","v":0},{"$f":"'kros seznam'!OWE103","v":0},{"$f":"'kros seznam'!OWF103","v":0},{"$f":"'kros seznam'!OWG103","v":0},{"$f":"'kros seznam'!OWH103","v":0},{"$f":"'kros seznam'!OWI103","v":0},{"$f":"'kros seznam'!OWJ103","v":0},{"$f":"'kros seznam'!OWK103","v":0},{"$f":"'kros seznam'!OWL103","v":0},{"$f":"'kros seznam'!OWM103","v":0},{"$f":"'kros seznam'!OWN103","v":0},{"$f":"'kros seznam'!OWO103","v":0},{"$f":"'kros seznam'!OWP103","v":0},{"$f":"'kros seznam'!OWQ103","v":0},{"$f":"'kros seznam'!OWR103","v":0},{"$f":"'kros seznam'!OWS103","v":0},{"$f":"'kros seznam'!OWT103","v":0},{"$f":"'kros seznam'!OWU103","v":0},{"$f":"'kros seznam'!OWV103","v":0},{"$f":"'kros seznam'!OWW103","v":0},{"$f":"'kros seznam'!OWX103","v":0},{"$f":"'kros seznam'!OWY103","v":0},{"$f":"'kros seznam'!OWZ103","v":0},{"$f":"'kros seznam'!OXA103","v":0},{"$f":"'kros seznam'!OXB103","v":0},{"$f":"'kros seznam'!OXC103","v":0},{"$f":"'kros seznam'!OXD103","v":0},{"$f":"'kros seznam'!OXE103","v":0},{"$f":"'kros seznam'!OXF103","v":0},{"$f":"'kros seznam'!OXG103","v":0},{"$f":"'kros seznam'!OXH103","v":0},{"$f":"'kros seznam'!OXI103","v":0},{"$f":"'kros seznam'!OXJ103","v":0},{"$f":"'kros seznam'!OXK103","v":0},{"$f":"'kros seznam'!OXL103","v":0},{"$f":"'kros seznam'!OXM103","v":0},{"$f":"'kros seznam'!OXN103","v":0},{"$f":"'kros seznam'!OXO103","v":0},{"$f":"'kros seznam'!OXP103","v":0},{"$f":"'kros seznam'!OXQ103","v":0},{"$f":"'kros seznam'!OXR103","v":0},{"$f":"'kros seznam'!OXS103","v":0},{"$f":"'kros seznam'!OXT103","v":0},{"$f":"'kros seznam'!OXU103","v":0},{"$f":"'kros seznam'!OXV103","v":0},{"$f":"'kros seznam'!OXW103","v":0},{"$f":"'kros seznam'!OXX103","v":0},{"$f":"'kros seznam'!OXY103","v":0},{"$f":"'kros seznam'!OXZ103","v":0},{"$f":"'kros seznam'!OYA103","v":0},{"$f":"'kros seznam'!OYB103","v":0},{"$f":"'kros seznam'!OYC103","v":0},{"$f":"'kros seznam'!OYD103","v":0},{"$f":"'kros seznam'!OYE103","v":0},{"$f":"'kros seznam'!OYF103","v":0},{"$f":"'kros seznam'!OYG103","v":0},{"$f":"'kros seznam'!OYH103","v":0},{"$f":"'kros seznam'!OYI103","v":0},{"$f":"'kros seznam'!OYJ103","v":0},{"$f":"'kros seznam'!OYK103","v":0},{"$f":"'kros seznam'!OYL103","v":0},{"$f":"'kros seznam'!OYM103","v":0},{"$f":"'kros seznam'!OYN103","v":0},{"$f":"'kros seznam'!OYO103","v":0},{"$f":"'kros seznam'!OYP103","v":0},{"$f":"'kros seznam'!OYQ103","v":0},{"$f":"'kros seznam'!OYR103","v":0},{"$f":"'kros seznam'!OYS103","v":0},{"$f":"'kros seznam'!OYT103","v":0},{"$f":"'kros seznam'!OYU103","v":0},{"$f":"'kros seznam'!OYV103","v":0},{"$f":"'kros seznam'!OYW103","v":0},{"$f":"'kros seznam'!OYX103","v":0},{"$f":"'kros seznam'!OYY103","v":0},{"$f":"'kros seznam'!OYZ103","v":0},{"$f":"'kros seznam'!OZA103","v":0},{"$f":"'kros seznam'!OZB103","v":0},{"$f":"'kros seznam'!OZC103","v":0},{"$f":"'kros seznam'!OZD103","v":0},{"$f":"'kros seznam'!OZE103","v":0},{"$f":"'kros seznam'!OZF103","v":0},{"$f":"'kros seznam'!OZG103","v":0},{"$f":"'kros seznam'!OZH103","v":0},{"$f":"'kros seznam'!OZI103","v":0},{"$f":"'kros seznam'!OZJ103","v":0},{"$f":"'kros seznam'!OZK103","v":0},{"$f":"'kros seznam'!OZL103","v":0},{"$f":"'kros seznam'!OZM103","v":0},{"$f":"'kros seznam'!OZN103","v":0},{"$f":"'kros seznam'!OZO103","v":0},{"$f":"'kros seznam'!OZP103","v":0},{"$f":"'kros seznam'!OZQ103","v":0},{"$f":"'kros seznam'!OZR103","v":0},{"$f":"'kros seznam'!OZS103","v":0},{"$f":"'kros seznam'!OZT103","v":0},{"$f":"'kros seznam'!OZU103","v":0},{"$f":"'kros seznam'!OZV103","v":0},{"$f":"'kros seznam'!OZW103","v":0},{"$f":"'kros seznam'!OZX103","v":0},{"$f":"'kros seznam'!OZY103","v":0},{"$f":"'kros seznam'!OZZ103","v":0},{"$f":"'kros seznam'!PAA103","v":0},{"$f":"'kros seznam'!PAB103","v":0},{"$f":"'kros seznam'!PAC103","v":0},{"$f":"'kros seznam'!PAD103","v":0},{"$f":"'kros seznam'!PAE103","v":0},{"$f":"'kros seznam'!PAF103","v":0},{"$f":"'kros seznam'!PAG103","v":0},{"$f":"'kros seznam'!PAH103","v":0},{"$f":"'kros seznam'!PAI103","v":0},{"$f":"'kros seznam'!PAJ103","v":0},{"$f":"'kros seznam'!PAK103","v":0},{"$f":"'kros seznam'!PAL103","v":0},{"$f":"'kros seznam'!PAM103","v":0},{"$f":"'kros seznam'!PAN103","v":0},{"$f":"'kros seznam'!PAO103","v":0},{"$f":"'kros seznam'!PAP103","v":0},{"$f":"'kros seznam'!PAQ103","v":0},{"$f":"'kros seznam'!PAR103","v":0},{"$f":"'kros seznam'!PAS103","v":0},{"$f":"'kros seznam'!PAT103","v":0},{"$f":"'kros seznam'!PAU103","v":0},{"$f":"'kros seznam'!PAV103","v":0},{"$f":"'kros seznam'!PAW103","v":0},{"$f":"'kros seznam'!PAX103","v":0},{"$f":"'kros seznam'!PAY103","v":0},{"$f":"'kros seznam'!PAZ103","v":0},{"$f":"'kros seznam'!PBA103","v":0},{"$f":"'kros seznam'!PBB103","v":0},{"$f":"'kros seznam'!PBC103","v":0},{"$f":"'kros seznam'!PBD103","v":0},{"$f":"'kros seznam'!PBE103","v":0},{"$f":"'kros seznam'!PBF103","v":0},{"$f":"'kros seznam'!PBG103","v":0},{"$f":"'kros seznam'!PBH103","v":0},{"$f":"'kros seznam'!PBI103","v":0},{"$f":"'kros seznam'!PBJ103","v":0},{"$f":"'kros seznam'!PBK103","v":0},{"$f":"'kros seznam'!PBL103","v":0},{"$f":"'kros seznam'!PBM103","v":0},{"$f":"'kros seznam'!PBN103","v":0},{"$f":"'kros seznam'!PBO103","v":0},{"$f":"'kros seznam'!PBP103","v":0},{"$f":"'kros seznam'!PBQ103","v":0},{"$f":"'kros seznam'!PBR103","v":0},{"$f":"'kros seznam'!PBS103","v":0},{"$f":"'kros seznam'!PBT103","v":0},{"$f":"'kros seznam'!PBU103","v":0},{"$f":"'kros seznam'!PBV103","v":0},{"$f":"'kros seznam'!PBW103","v":0},{"$f":"'kros seznam'!PBX103","v":0},{"$f":"'kros seznam'!PBY103","v":0},{"$f":"'kros seznam'!PBZ103","v":0},{"$f":"'kros seznam'!PCA103","v":0},{"$f":"'kros seznam'!PCB103","v":0},{"$f":"'kros seznam'!PCC103","v":0},{"$f":"'kros seznam'!PCD103","v":0},{"$f":"'kros seznam'!PCE103","v":0},{"$f":"'kros seznam'!PCF103","v":0},{"$f":"'kros seznam'!PCG103","v":0},{"$f":"'kros seznam'!PCH103","v":0},{"$f":"'kros seznam'!PCI103","v":0},{"$f":"'kros seznam'!PCJ103","v":0},{"$f":"'kros seznam'!PCK103","v":0},{"$f":"'kros seznam'!PCL103","v":0},{"$f":"'kros seznam'!PCM103","v":0},{"$f":"'kros seznam'!PCN103","v":0},{"$f":"'kros seznam'!PCO103","v":0},{"$f":"'kros seznam'!PCP103","v":0},{"$f":"'kros seznam'!PCQ103","v":0},{"$f":"'kros seznam'!PCR103","v":0},{"$f":"'kros seznam'!PCS103","v":0},{"$f":"'kros seznam'!PCT103","v":0},{"$f":"'kros seznam'!PCU103","v":0},{"$f":"'kros seznam'!PCV103","v":0},{"$f":"'kros seznam'!PCW103","v":0},{"$f":"'kros seznam'!PCX103","v":0},{"$f":"'kros seznam'!PCY103","v":0},{"$f":"'kros seznam'!PCZ103","v":0},{"$f":"'kros seznam'!PDA103","v":0},{"$f":"'kros seznam'!PDB103","v":0},{"$f":"'kros seznam'!PDC103","v":0},{"$f":"'kros seznam'!PDD103","v":0},{"$f":"'kros seznam'!PDE103","v":0},{"$f":"'kros seznam'!PDF103","v":0},{"$f":"'kros seznam'!PDG103","v":0},{"$f":"'kros seznam'!PDH103","v":0},{"$f":"'kros seznam'!PDI103","v":0},{"$f":"'kros seznam'!PDJ103","v":0},{"$f":"'kros seznam'!PDK103","v":0},{"$f":"'kros seznam'!PDL103","v":0},{"$f":"'kros seznam'!PDM103","v":0},{"$f":"'kros seznam'!PDN103","v":0},{"$f":"'kros seznam'!PDO103","v":0},{"$f":"'kros seznam'!PDP103","v":0},{"$f":"'kros seznam'!PDQ103","v":0},{"$f":"'kros seznam'!PDR103","v":0},{"$f":"'kros seznam'!PDS103","v":0},{"$f":"'kros seznam'!PDT103","v":0},{"$f":"'kros seznam'!PDU103","v":0},{"$f":"'kros seznam'!PDV103","v":0},{"$f":"'kros seznam'!PDW103","v":0},{"$f":"'kros seznam'!PDX103","v":0},{"$f":"'kros seznam'!PDY103","v":0},{"$f":"'kros seznam'!PDZ103","v":0},{"$f":"'kros seznam'!PEA103","v":0},{"$f":"'kros seznam'!PEB103","v":0},{"$f":"'kros seznam'!PEC103","v":0},{"$f":"'kros seznam'!PED103","v":0},{"$f":"'kros seznam'!PEE103","v":0},{"$f":"'kros seznam'!PEF103","v":0},{"$f":"'kros seznam'!PEG103","v":0},{"$f":"'kros seznam'!PEH103","v":0},{"$f":"'kros seznam'!PEI103","v":0},{"$f":"'kros seznam'!PEJ103","v":0},{"$f":"'kros seznam'!PEK103","v":0},{"$f":"'kros seznam'!PEL103","v":0},{"$f":"'kros seznam'!PEM103","v":0},{"$f":"'kros seznam'!PEN103","v":0},{"$f":"'kros seznam'!PEO103","v":0},{"$f":"'kros seznam'!PEP103","v":0},{"$f":"'kros seznam'!PEQ103","v":0},{"$f":"'kros seznam'!PER103","v":0},{"$f":"'kros seznam'!PES103","v":0},{"$f":"'kros seznam'!PET103","v":0},{"$f":"'kros seznam'!PEU103","v":0},{"$f":"'kros seznam'!PEV103","v":0},{"$f":"'kros seznam'!PEW103","v":0},{"$f":"'kros seznam'!PEX103","v":0},{"$f":"'kros seznam'!PEY103","v":0},{"$f":"'kros seznam'!PEZ103","v":0},{"$f":"'kros seznam'!PFA103","v":0},{"$f":"'kros seznam'!PFB103","v":0},{"$f":"'kros seznam'!PFC103","v":0},{"$f":"'kros seznam'!PFD103","v":0},{"$f":"'kros seznam'!PFE103","v":0},{"$f":"'kros seznam'!PFF103","v":0},{"$f":"'kros seznam'!PFG103","v":0},{"$f":"'kros seznam'!PFH103","v":0},{"$f":"'kros seznam'!PFI103","v":0},{"$f":"'kros seznam'!PFJ103","v":0},{"$f":"'kros seznam'!PFK103","v":0},{"$f":"'kros seznam'!PFL103","v":0},{"$f":"'kros seznam'!PFM103","v":0},{"$f":"'kros seznam'!PFN103","v":0},{"$f":"'kros seznam'!PFO103","v":0},{"$f":"'kros seznam'!PFP103","v":0},{"$f":"'kros seznam'!PFQ103","v":0},{"$f":"'kros seznam'!PFR103","v":0},{"$f":"'kros seznam'!PFS103","v":0},{"$f":"'kros seznam'!PFT103","v":0},{"$f":"'kros seznam'!PFU103","v":0},{"$f":"'kros seznam'!PFV103","v":0},{"$f":"'kros seznam'!PFW103","v":0},{"$f":"'kros seznam'!PFX103","v":0},{"$f":"'kros seznam'!PFY103","v":0},{"$f":"'kros seznam'!PFZ103","v":0},{"$f":"'kros seznam'!PGA103","v":0},{"$f":"'kros seznam'!PGB103","v":0},{"$f":"'kros seznam'!PGC103","v":0},{"$f":"'kros seznam'!PGD103","v":0},{"$f":"'kros seznam'!PGE103","v":0},{"$f":"'kros seznam'!PGF103","v":0},{"$f":"'kros seznam'!PGG103","v":0},{"$f":"'kros seznam'!PGH103","v":0},{"$f":"'kros seznam'!PGI103","v":0},{"$f":"'kros seznam'!PGJ103","v":0},{"$f":"'kros seznam'!PGK103","v":0},{"$f":"'kros seznam'!PGL103","v":0},{"$f":"'kros seznam'!PGM103","v":0},{"$f":"'kros seznam'!PGN103","v":0},{"$f":"'kros seznam'!PGO103","v":0},{"$f":"'kros seznam'!PGP103","v":0},{"$f":"'kros seznam'!PGQ103","v":0},{"$f":"'kros seznam'!PGR103","v":0},{"$f":"'kros seznam'!PGS103","v":0},{"$f":"'kros seznam'!PGT103","v":0},{"$f":"'kros seznam'!PGU103","v":0},{"$f":"'kros seznam'!PGV103","v":0},{"$f":"'kros seznam'!PGW103","v":0},{"$f":"'kros seznam'!PGX103","v":0},{"$f":"'kros seznam'!PGY103","v":0},{"$f":"'kros seznam'!PGZ103","v":0},{"$f":"'kros seznam'!PHA103","v":0},{"$f":"'kros seznam'!PHB103","v":0},{"$f":"'kros seznam'!PHC103","v":0},{"$f":"'kros seznam'!PHD103","v":0},{"$f":"'kros seznam'!PHE103","v":0},{"$f":"'kros seznam'!PHF103","v":0},{"$f":"'kros seznam'!PHG103","v":0},{"$f":"'kros seznam'!PHH103","v":0},{"$f":"'kros seznam'!PHI103","v":0},{"$f":"'kros seznam'!PHJ103","v":0},{"$f":"'kros seznam'!PHK103","v":0},{"$f":"'kros seznam'!PHL103","v":0},{"$f":"'kros seznam'!PHM103","v":0},{"$f":"'kros seznam'!PHN103","v":0},{"$f":"'kros seznam'!PHO103","v":0},{"$f":"'kros seznam'!PHP103","v":0},{"$f":"'kros seznam'!PHQ103","v":0},{"$f":"'kros seznam'!PHR103","v":0},{"$f":"'kros seznam'!PHS103","v":0},{"$f":"'kros seznam'!PHT103","v":0},{"$f":"'kros seznam'!PHU103","v":0},{"$f":"'kros seznam'!PHV103","v":0},{"$f":"'kros seznam'!PHW103","v":0},{"$f":"'kros seznam'!PHX103","v":0},{"$f":"'kros seznam'!PHY103","v":0},{"$f":"'kros seznam'!PHZ103","v":0},{"$f":"'kros seznam'!PIA103","v":0},{"$f":"'kros seznam'!PIB103","v":0},{"$f":"'kros seznam'!PIC103","v":0},{"$f":"'kros seznam'!PID103","v":0},{"$f":"'kros seznam'!PIE103","v":0},{"$f":"'kros seznam'!PIF103","v":0},{"$f":"'kros seznam'!PIG103","v":0},{"$f":"'kros seznam'!PIH103","v":0},{"$f":"'kros seznam'!PII103","v":0},{"$f":"'kros seznam'!PIJ103","v":0},{"$f":"'kros seznam'!PIK103","v":0},{"$f":"'kros seznam'!PIL103","v":0},{"$f":"'kros seznam'!PIM103","v":0},{"$f":"'kros seznam'!PIN103","v":0},{"$f":"'kros seznam'!PIO103","v":0},{"$f":"'kros seznam'!PIP103","v":0},{"$f":"'kros seznam'!PIQ103","v":0},{"$f":"'kros seznam'!PIR103","v":0},{"$f":"'kros seznam'!PIS103","v":0},{"$f":"'kros seznam'!PIT103","v":0},{"$f":"'kros seznam'!PIU103","v":0},{"$f":"'kros seznam'!PIV103","v":0},{"$f":"'kros seznam'!PIW103","v":0},{"$f":"'kros seznam'!PIX103","v":0},{"$f":"'kros seznam'!PIY103","v":0},{"$f":"'kros seznam'!PIZ103","v":0},{"$f":"'kros seznam'!PJA103","v":0},{"$f":"'kros seznam'!PJB103","v":0},{"$f":"'kros seznam'!PJC103","v":0},{"$f":"'kros seznam'!PJD103","v":0},{"$f":"'kros seznam'!PJE103","v":0},{"$f":"'kros seznam'!PJF103","v":0},{"$f":"'kros seznam'!PJG103","v":0},{"$f":"'kros seznam'!PJH103","v":0},{"$f":"'kros seznam'!PJI103","v":0},{"$f":"'kros seznam'!PJJ103","v":0},{"$f":"'kros seznam'!PJK103","v":0},{"$f":"'kros seznam'!PJL103","v":0},{"$f":"'kros seznam'!PJM103","v":0},{"$f":"'kros seznam'!PJN103","v":0},{"$f":"'kros seznam'!PJO103","v":0},{"$f":"'kros seznam'!PJP103","v":0},{"$f":"'kros seznam'!PJQ103","v":0},{"$f":"'kros seznam'!PJR103","v":0},{"$f":"'kros seznam'!PJS103","v":0},{"$f":"'kros seznam'!PJT103","v":0},{"$f":"'kros seznam'!PJU103","v":0},{"$f":"'kros seznam'!PJV103","v":0},{"$f":"'kros seznam'!PJW103","v":0},{"$f":"'kros seznam'!PJX103","v":0},{"$f":"'kros seznam'!PJY103","v":0},{"$f":"'kros seznam'!PJZ103","v":0},{"$f":"'kros seznam'!PKA103","v":0},{"$f":"'kros seznam'!PKB103","v":0},{"$f":"'kros seznam'!PKC103","v":0},{"$f":"'kros seznam'!PKD103","v":0},{"$f":"'kros seznam'!PKE103","v":0},{"$f":"'kros seznam'!PKF103","v":0},{"$f":"'kros seznam'!PKG103","v":0},{"$f":"'kros seznam'!PKH103","v":0},{"$f":"'kros seznam'!PKI103","v":0},{"$f":"'kros seznam'!PKJ103","v":0},{"$f":"'kros seznam'!PKK103","v":0},{"$f":"'kros seznam'!PKL103","v":0},{"$f":"'kros seznam'!PKM103","v":0},{"$f":"'kros seznam'!PKN103","v":0},{"$f":"'kros seznam'!PKO103","v":0},{"$f":"'kros seznam'!PKP103","v":0},{"$f":"'kros seznam'!PKQ103","v":0},{"$f":"'kros seznam'!PKR103","v":0},{"$f":"'kros seznam'!PKS103","v":0},{"$f":"'kros seznam'!PKT103","v":0},{"$f":"'kros seznam'!PKU103","v":0},{"$f":"'kros seznam'!PKV103","v":0},{"$f":"'kros seznam'!PKW103","v":0},{"$f":"'kros seznam'!PKX103","v":0},{"$f":"'kros seznam'!PKY103","v":0},{"$f":"'kros seznam'!PKZ103","v":0},{"$f":"'kros seznam'!PLA103","v":0},{"$f":"'kros seznam'!PLB103","v":0},{"$f":"'kros seznam'!PLC103","v":0},{"$f":"'kros seznam'!PLD103","v":0},{"$f":"'kros seznam'!PLE103","v":0},{"$f":"'kros seznam'!PLF103","v":0},{"$f":"'kros seznam'!PLG103","v":0},{"$f":"'kros seznam'!PLH103","v":0},{"$f":"'kros seznam'!PLI103","v":0},{"$f":"'kros seznam'!PLJ103","v":0},{"$f":"'kros seznam'!PLK103","v":0},{"$f":"'kros seznam'!PLL103","v":0},{"$f":"'kros seznam'!PLM103","v":0},{"$f":"'kros seznam'!PLN103","v":0},{"$f":"'kros seznam'!PLO103","v":0},{"$f":"'kros seznam'!PLP103","v":0},{"$f":"'kros seznam'!PLQ103","v":0},{"$f":"'kros seznam'!PLR103","v":0},{"$f":"'kros seznam'!PLS103","v":0},{"$f":"'kros seznam'!PLT103","v":0},{"$f":"'kros seznam'!PLU103","v":0},{"$f":"'kros seznam'!PLV103","v":0},{"$f":"'kros seznam'!PLW103","v":0},{"$f":"'kros seznam'!PLX103","v":0},{"$f":"'kros seznam'!PLY103","v":0},{"$f":"'kros seznam'!PLZ103","v":0},{"$f":"'kros seznam'!PMA103","v":0},{"$f":"'kros seznam'!PMB103","v":0},{"$f":"'kros seznam'!PMC103","v":0},{"$f":"'kros seznam'!PMD103","v":0},{"$f":"'kros seznam'!PME103","v":0},{"$f":"'kros seznam'!PMF103","v":0},{"$f":"'kros seznam'!PMG103","v":0},{"$f":"'kros seznam'!PMH103","v":0},{"$f":"'kros seznam'!PMI103","v":0},{"$f":"'kros seznam'!PMJ103","v":0},{"$f":"'kros seznam'!PMK103","v":0},{"$f":"'kros seznam'!PML103","v":0},{"$f":"'kros seznam'!PMM103","v":0},{"$f":"'kros seznam'!PMN103","v":0},{"$f":"'kros seznam'!PMO103","v":0},{"$f":"'kros seznam'!PMP103","v":0},{"$f":"'kros seznam'!PMQ103","v":0},{"$f":"'kros seznam'!PMR103","v":0},{"$f":"'kros seznam'!PMS103","v":0},{"$f":"'kros seznam'!PMT103","v":0},{"$f":"'kros seznam'!PMU103","v":0},{"$f":"'kros seznam'!PMV103","v":0},{"$f":"'kros seznam'!PMW103","v":0},{"$f":"'kros seznam'!PMX103","v":0},{"$f":"'kros seznam'!PMY103","v":0},{"$f":"'kros seznam'!PMZ103","v":0},{"$f":"'kros seznam'!PNA103","v":0},{"$f":"'kros seznam'!PNB103","v":0},{"$f":"'kros seznam'!PNC103","v":0},{"$f":"'kros seznam'!PND103","v":0},{"$f":"'kros seznam'!PNE103","v":0},{"$f":"'kros seznam'!PNF103","v":0},{"$f":"'kros seznam'!PNG103","v":0},{"$f":"'kros seznam'!PNH103","v":0},{"$f":"'kros seznam'!PNI103","v":0},{"$f":"'kros seznam'!PNJ103","v":0},{"$f":"'kros seznam'!PNK103","v":0},{"$f":"'kros seznam'!PNL103","v":0},{"$f":"'kros seznam'!PNM103","v":0},{"$f":"'kros seznam'!PNN103","v":0},{"$f":"'kros seznam'!PNO103","v":0},{"$f":"'kros seznam'!PNP103","v":0},{"$f":"'kros seznam'!PNQ103","v":0},{"$f":"'kros seznam'!PNR103","v":0},{"$f":"'kros seznam'!PNS103","v":0},{"$f":"'kros seznam'!PNT103","v":0},{"$f":"'kros seznam'!PNU103","v":0},{"$f":"'kros seznam'!PNV103","v":0},{"$f":"'kros seznam'!PNW103","v":0},{"$f":"'kros seznam'!PNX103","v":0},{"$f":"'kros seznam'!PNY103","v":0},{"$f":"'kros seznam'!PNZ103","v":0},{"$f":"'kros seznam'!POA103","v":0},{"$f":"'kros seznam'!POB103","v":0},{"$f":"'kros seznam'!POC103","v":0},{"$f":"'kros seznam'!POD103","v":0},{"$f":"'kros seznam'!POE103","v":0},{"$f":"'kros seznam'!POF103","v":0},{"$f":"'kros seznam'!POG103","v":0},{"$f":"'kros seznam'!POH103","v":0},{"$f":"'kros seznam'!POI103","v":0},{"$f":"'kros seznam'!POJ103","v":0},{"$f":"'kros seznam'!POK103","v":0},{"$f":"'kros seznam'!POL103","v":0},{"$f":"'kros seznam'!POM103","v":0},{"$f":"'kros seznam'!PON103","v":0},{"$f":"'kros seznam'!POO103","v":0},{"$f":"'kros seznam'!POP103","v":0},{"$f":"'kros seznam'!POQ103","v":0},{"$f":"'kros seznam'!POR103","v":0},{"$f":"'kros seznam'!POS103","v":0},{"$f":"'kros seznam'!POT103","v":0},{"$f":"'kros seznam'!POU103","v":0},{"$f":"'kros seznam'!POV103","v":0},{"$f":"'kros seznam'!POW103","v":0},{"$f":"'kros seznam'!POX103","v":0},{"$f":"'kros seznam'!POY103","v":0},{"$f":"'kros seznam'!POZ103","v":0},{"$f":"'kros seznam'!PPA103","v":0},{"$f":"'kros seznam'!PPB103","v":0},{"$f":"'kros seznam'!PPC103","v":0},{"$f":"'kros seznam'!PPD103","v":0},{"$f":"'kros seznam'!PPE103","v":0},{"$f":"'kros seznam'!PPF103","v":0},{"$f":"'kros seznam'!PPG103","v":0},{"$f":"'kros seznam'!PPH103","v":0},{"$f":"'kros seznam'!PPI103","v":0},{"$f":"'kros seznam'!PPJ103","v":0},{"$f":"'kros seznam'!PPK103","v":0},{"$f":"'kros seznam'!PPL103","v":0},{"$f":"'kros seznam'!PPM103","v":0},{"$f":"'kros seznam'!PPN103","v":0},{"$f":"'kros seznam'!PPO103","v":0},{"$f":"'kros seznam'!PPP103","v":0},{"$f":"'kros seznam'!PPQ103","v":0},{"$f":"'kros seznam'!PPR103","v":0},{"$f":"'kros seznam'!PPS103","v":0},{"$f":"'kros seznam'!PPT103","v":0},{"$f":"'kros seznam'!PPU103","v":0},{"$f":"'kros seznam'!PPV103","v":0},{"$f":"'kros seznam'!PPW103","v":0},{"$f":"'kros seznam'!PPX103","v":0},{"$f":"'kros seznam'!PPY103","v":0},{"$f":"'kros seznam'!PPZ103","v":0},{"$f":"'kros seznam'!PQA103","v":0},{"$f":"'kros seznam'!PQB103","v":0},{"$f":"'kros seznam'!PQC103","v":0},{"$f":"'kros seznam'!PQD103","v":0},{"$f":"'kros seznam'!PQE103","v":0},{"$f":"'kros seznam'!PQF103","v":0},{"$f":"'kros seznam'!PQG103","v":0},{"$f":"'kros seznam'!PQH103","v":0},{"$f":"'kros seznam'!PQI103","v":0},{"$f":"'kros seznam'!PQJ103","v":0},{"$f":"'kros seznam'!PQK103","v":0},{"$f":"'kros seznam'!PQL103","v":0},{"$f":"'kros seznam'!PQM103","v":0},{"$f":"'kros seznam'!PQN103","v":0},{"$f":"'kros seznam'!PQO103","v":0},{"$f":"'kros seznam'!PQP103","v":0},{"$f":"'kros seznam'!PQQ103","v":0},{"$f":"'kros seznam'!PQR103","v":0},{"$f":"'kros seznam'!PQS103","v":0},{"$f":"'kros seznam'!PQT103","v":0},{"$f":"'kros seznam'!PQU103","v":0},{"$f":"'kros seznam'!PQV103","v":0},{"$f":"'kros seznam'!PQW103","v":0},{"$f":"'kros seznam'!PQX103","v":0},{"$f":"'kros seznam'!PQY103","v":0},{"$f":"'kros seznam'!PQZ103","v":0},{"$f":"'kros seznam'!PRA103","v":0},{"$f":"'kros seznam'!PRB103","v":0},{"$f":"'kros seznam'!PRC103","v":0},{"$f":"'kros seznam'!PRD103","v":0},{"$f":"'kros seznam'!PRE103","v":0},{"$f":"'kros seznam'!PRF103","v":0},{"$f":"'kros seznam'!PRG103","v":0},{"$f":"'kros seznam'!PRH103","v":0},{"$f":"'kros seznam'!PRI103","v":0},{"$f":"'kros seznam'!PRJ103","v":0},{"$f":"'kros seznam'!PRK103","v":0},{"$f":"'kros seznam'!PRL103","v":0},{"$f":"'kros seznam'!PRM103","v":0},{"$f":"'kros seznam'!PRN103","v":0},{"$f":"'kros seznam'!PRO103","v":0},{"$f":"'kros seznam'!PRP103","v":0},{"$f":"'kros seznam'!PRQ103","v":0},{"$f":"'kros seznam'!PRR103","v":0},{"$f":"'kros seznam'!PRS103","v":0},{"$f":"'kros seznam'!PRT103","v":0},{"$f":"'kros seznam'!PRU103","v":0},{"$f":"'kros seznam'!PRV103","v":0},{"$f":"'kros seznam'!PRW103","v":0},{"$f":"'kros seznam'!PRX103","v":0},{"$f":"'kros seznam'!PRY103","v":0},{"$f":"'kros seznam'!PRZ103","v":0},{"$f":"'kros seznam'!PSA103","v":0},{"$f":"'kros seznam'!PSB103","v":0},{"$f":"'kros seznam'!PSC103","v":0},{"$f":"'kros seznam'!PSD103","v":0},{"$f":"'kros seznam'!PSE103","v":0},{"$f":"'kros seznam'!PSF103","v":0},{"$f":"'kros seznam'!PSG103","v":0},{"$f":"'kros seznam'!PSH103","v":0},{"$f":"'kros seznam'!PSI103","v":0},{"$f":"'kros seznam'!PSJ103","v":0},{"$f":"'kros seznam'!PSK103","v":0},{"$f":"'kros seznam'!PSL103","v":0},{"$f":"'kros seznam'!PSM103","v":0},{"$f":"'kros seznam'!PSN103","v":0},{"$f":"'kros seznam'!PSO103","v":0},{"$f":"'kros seznam'!PSP103","v":0},{"$f":"'kros seznam'!PSQ103","v":0},{"$f":"'kros seznam'!PSR103","v":0},{"$f":"'kros seznam'!PSS103","v":0},{"$f":"'kros seznam'!PST103","v":0},{"$f":"'kros seznam'!PSU103","v":0},{"$f":"'kros seznam'!PSV103","v":0},{"$f":"'kros seznam'!PSW103","v":0},{"$f":"'kros seznam'!PSX103","v":0},{"$f":"'kros seznam'!PSY103","v":0},{"$f":"'kros seznam'!PSZ103","v":0},{"$f":"'kros seznam'!PTA103","v":0},{"$f":"'kros seznam'!PTB103","v":0},{"$f":"'kros seznam'!PTC103","v":0},{"$f":"'kros seznam'!PTD103","v":0},{"$f":"'kros seznam'!PTE103","v":0},{"$f":"'kros seznam'!PTF103","v":0},{"$f":"'kros seznam'!PTG103","v":0},{"$f":"'kros seznam'!PTH103","v":0},{"$f":"'kros seznam'!PTI103","v":0},{"$f":"'kros seznam'!PTJ103","v":0},{"$f":"'kros seznam'!PTK103","v":0},{"$f":"'kros seznam'!PTL103","v":0},{"$f":"'kros seznam'!PTM103","v":0},{"$f":"'kros seznam'!PTN103","v":0},{"$f":"'kros seznam'!PTO103","v":0},{"$f":"'kros seznam'!PTP103","v":0},{"$f":"'kros seznam'!PTQ103","v":0},{"$f":"'kros seznam'!PTR103","v":0},{"$f":"'kros seznam'!PTS103","v":0},{"$f":"'kros seznam'!PTT103","v":0},{"$f":"'kros seznam'!PTU103","v":0},{"$f":"'kros seznam'!PTV103","v":0},{"$f":"'kros seznam'!PTW103","v":0},{"$f":"'kros seznam'!PTX103","v":0},{"$f":"'kros seznam'!PTY103","v":0},{"$f":"'kros seznam'!PTZ103","v":0},{"$f":"'kros seznam'!PUA103","v":0},{"$f":"'kros seznam'!PUB103","v":0},{"$f":"'kros seznam'!PUC103","v":0},{"$f":"'kros seznam'!PUD103","v":0},{"$f":"'kros seznam'!PUE103","v":0},{"$f":"'kros seznam'!PUF103","v":0},{"$f":"'kros seznam'!PUG103","v":0},{"$f":"'kros seznam'!PUH103","v":0},{"$f":"'kros seznam'!PUI103","v":0},{"$f":"'kros seznam'!PUJ103","v":0},{"$f":"'kros seznam'!PUK103","v":0},{"$f":"'kros seznam'!PUL103","v":0},{"$f":"'kros seznam'!PUM103","v":0},{"$f":"'kros seznam'!PUN103","v":0},{"$f":"'kros seznam'!PUO103","v":0},{"$f":"'kros seznam'!PUP103","v":0},{"$f":"'kros seznam'!PUQ103","v":0},{"$f":"'kros seznam'!PUR103","v":0},{"$f":"'kros seznam'!PUS103","v":0},{"$f":"'kros seznam'!PUT103","v":0},{"$f":"'kros seznam'!PUU103","v":0},{"$f":"'kros seznam'!PUV103","v":0},{"$f":"'kros seznam'!PUW103","v":0},{"$f":"'kros seznam'!PUX103","v":0},{"$f":"'kros seznam'!PUY103","v":0},{"$f":"'kros seznam'!PUZ103","v":0},{"$f":"'kros seznam'!PVA103","v":0},{"$f":"'kros seznam'!PVB103","v":0},{"$f":"'kros seznam'!PVC103","v":0},{"$f":"'kros seznam'!PVD103","v":0},{"$f":"'kros seznam'!PVE103","v":0},{"$f":"'kros seznam'!PVF103","v":0},{"$f":"'kros seznam'!PVG103","v":0},{"$f":"'kros seznam'!PVH103","v":0},{"$f":"'kros seznam'!PVI103","v":0},{"$f":"'kros seznam'!PVJ103","v":0},{"$f":"'kros seznam'!PVK103","v":0},{"$f":"'kros seznam'!PVL103","v":0},{"$f":"'kros seznam'!PVM103","v":0},{"$f":"'kros seznam'!PVN103","v":0},{"$f":"'kros seznam'!PVO103","v":0},{"$f":"'kros seznam'!PVP103","v":0},{"$f":"'kros seznam'!PVQ103","v":0},{"$f":"'kros seznam'!PVR103","v":0},{"$f":"'kros seznam'!PVS103","v":0},{"$f":"'kros seznam'!PVT103","v":0},{"$f":"'kros seznam'!PVU103","v":0},{"$f":"'kros seznam'!PVV103","v":0},{"$f":"'kros seznam'!PVW103","v":0},{"$f":"'kros seznam'!PVX103","v":0},{"$f":"'kros seznam'!PVY103","v":0},{"$f":"'kros seznam'!PVZ103","v":0},{"$f":"'kros seznam'!PWA103","v":0},{"$f":"'kros seznam'!PWB103","v":0},{"$f":"'kros seznam'!PWC103","v":0},{"$f":"'kros seznam'!PWD103","v":0},{"$f":"'kros seznam'!PWE103","v":0},{"$f":"'kros seznam'!PWF103","v":0},{"$f":"'kros seznam'!PWG103","v":0},{"$f":"'kros seznam'!PWH103","v":0},{"$f":"'kros seznam'!PWI103","v":0},{"$f":"'kros seznam'!PWJ103","v":0},{"$f":"'kros seznam'!PWK103","v":0},{"$f":"'kros seznam'!PWL103","v":0},{"$f":"'kros seznam'!PWM103","v":0},{"$f":"'kros seznam'!PWN103","v":0},{"$f":"'kros seznam'!PWO103","v":0},{"$f":"'kros seznam'!PWP103","v":0},{"$f":"'kros seznam'!PWQ103","v":0},{"$f":"'kros seznam'!PWR103","v":0},{"$f":"'kros seznam'!PWS103","v":0},{"$f":"'kros seznam'!PWT103","v":0},{"$f":"'kros seznam'!PWU103","v":0},{"$f":"'kros seznam'!PWV103","v":0},{"$f":"'kros seznam'!PWW103","v":0},{"$f":"'kros seznam'!PWX103","v":0},{"$f":"'kros seznam'!PWY103","v":0},{"$f":"'kros seznam'!PWZ103","v":0},{"$f":"'kros seznam'!PXA103","v":0},{"$f":"'kros seznam'!PXB103","v":0},{"$f":"'kros seznam'!PXC103","v":0},{"$f":"'kros seznam'!PXD103","v":0},{"$f":"'kros seznam'!PXE103","v":0},{"$f":"'kros seznam'!PXF103","v":0},{"$f":"'kros seznam'!PXG103","v":0},{"$f":"'kros seznam'!PXH103","v":0},{"$f":"'kros seznam'!PXI103","v":0},{"$f":"'kros seznam'!PXJ103","v":0},{"$f":"'kros seznam'!PXK103","v":0},{"$f":"'kros seznam'!PXL103","v":0},{"$f":"'kros seznam'!PXM103","v":0},{"$f":"'kros seznam'!PXN103","v":0},{"$f":"'kros seznam'!PXO103","v":0},{"$f":"'kros seznam'!PXP103","v":0},{"$f":"'kros seznam'!PXQ103","v":0},{"$f":"'kros seznam'!PXR103","v":0},{"$f":"'kros seznam'!PXS103","v":0},{"$f":"'kros seznam'!PXT103","v":0},{"$f":"'kros seznam'!PXU103","v":0},{"$f":"'kros seznam'!PXV103","v":0},{"$f":"'kros seznam'!PXW103","v":0},{"$f":"'kros seznam'!PXX103","v":0},{"$f":"'kros seznam'!PXY103","v":0},{"$f":"'kros seznam'!PXZ103","v":0},{"$f":"'kros seznam'!PYA103","v":0},{"$f":"'kros seznam'!PYB103","v":0},{"$f":"'kros seznam'!PYC103","v":0},{"$f":"'kros seznam'!PYD103","v":0},{"$f":"'kros seznam'!PYE103","v":0},{"$f":"'kros seznam'!PYF103","v":0},{"$f":"'kros seznam'!PYG103","v":0},{"$f":"'kros seznam'!PYH103","v":0},{"$f":"'kros seznam'!PYI103","v":0},{"$f":"'kros seznam'!PYJ103","v":0},{"$f":"'kros seznam'!PYK103","v":0},{"$f":"'kros seznam'!PYL103","v":0},{"$f":"'kros seznam'!PYM103","v":0},{"$f":"'kros seznam'!PYN103","v":0},{"$f":"'kros seznam'!PYO103","v":0},{"$f":"'kros seznam'!PYP103","v":0},{"$f":"'kros seznam'!PYQ103","v":0},{"$f":"'kros seznam'!PYR103","v":0},{"$f":"'kros seznam'!PYS103","v":0},{"$f":"'kros seznam'!PYT103","v":0},{"$f":"'kros seznam'!PYU103","v":0},{"$f":"'kros seznam'!PYV103","v":0},{"$f":"'kros seznam'!PYW103","v":0},{"$f":"'kros seznam'!PYX103","v":0},{"$f":"'kros seznam'!PYY103","v":0},{"$f":"'kros seznam'!PYZ103","v":0},{"$f":"'kros seznam'!PZA103","v":0},{"$f":"'kros seznam'!PZB103","v":0},{"$f":"'kros seznam'!PZC103","v":0},{"$f":"'kros seznam'!PZD103","v":0},{"$f":"'kros seznam'!PZE103","v":0},{"$f":"'kros seznam'!PZF103","v":0},{"$f":"'kros seznam'!PZG103","v":0},{"$f":"'kros seznam'!PZH103","v":0},{"$f":"'kros seznam'!PZI103","v":0},{"$f":"'kros seznam'!PZJ103","v":0},{"$f":"'kros seznam'!PZK103","v":0},{"$f":"'kros seznam'!PZL103","v":0},{"$f":"'kros seznam'!PZM103","v":0},{"$f":"'kros seznam'!PZN103","v":0},{"$f":"'kros seznam'!PZO103","v":0},{"$f":"'kros seznam'!PZP103","v":0},{"$f":"'kros seznam'!PZQ103","v":0},{"$f":"'kros seznam'!PZR103","v":0},{"$f":"'kros seznam'!PZS103","v":0},{"$f":"'kros seznam'!PZT103","v":0},{"$f":"'kros seznam'!PZU103","v":0},{"$f":"'kros seznam'!PZV103","v":0},{"$f":"'kros seznam'!PZW103","v":0},{"$f":"'kros seznam'!PZX103","v":0},{"$f":"'kros seznam'!PZY103","v":0},{"$f":"'kros seznam'!PZZ103","v":0},{"$f":"'kros seznam'!QAA103","v":0},{"$f":"'kros seznam'!QAB103","v":0},{"$f":"'kros seznam'!QAC103","v":0},{"$f":"'kros seznam'!QAD103","v":0},{"$f":"'kros seznam'!QAE103","v":0},{"$f":"'kros seznam'!QAF103","v":0},{"$f":"'kros seznam'!QAG103","v":0},{"$f":"'kros seznam'!QAH103","v":0},{"$f":"'kros seznam'!QAI103","v":0},{"$f":"'kros seznam'!QAJ103","v":0},{"$f":"'kros seznam'!QAK103","v":0},{"$f":"'kros seznam'!QAL103","v":0},{"$f":"'kros seznam'!QAM103","v":0},{"$f":"'kros seznam'!QAN103","v":0},{"$f":"'kros seznam'!QAO103","v":0},{"$f":"'kros seznam'!QAP103","v":0},{"$f":"'kros seznam'!QAQ103","v":0},{"$f":"'kros seznam'!QAR103","v":0},{"$f":"'kros seznam'!QAS103","v":0},{"$f":"'kros seznam'!QAT103","v":0},{"$f":"'kros seznam'!QAU103","v":0},{"$f":"'kros seznam'!QAV103","v":0},{"$f":"'kros seznam'!QAW103","v":0},{"$f":"'kros seznam'!QAX103","v":0},{"$f":"'kros seznam'!QAY103","v":0},{"$f":"'kros seznam'!QAZ103","v":0},{"$f":"'kros seznam'!QBA103","v":0},{"$f":"'kros seznam'!QBB103","v":0},{"$f":"'kros seznam'!QBC103","v":0},{"$f":"'kros seznam'!QBD103","v":0},{"$f":"'kros seznam'!QBE103","v":0},{"$f":"'kros seznam'!QBF103","v":0},{"$f":"'kros seznam'!QBG103","v":0},{"$f":"'kros seznam'!QBH103","v":0},{"$f":"'kros seznam'!QBI103","v":0},{"$f":"'kros seznam'!QBJ103","v":0},{"$f":"'kros seznam'!QBK103","v":0},{"$f":"'kros seznam'!QBL103","v":0},{"$f":"'kros seznam'!QBM103","v":0},{"$f":"'kros seznam'!QBN103","v":0},{"$f":"'kros seznam'!QBO103","v":0},{"$f":"'kros seznam'!QBP103","v":0},{"$f":"'kros seznam'!QBQ103","v":0},{"$f":"'kros seznam'!QBR103","v":0},{"$f":"'kros seznam'!QBS103","v":0},{"$f":"'kros seznam'!QBT103","v":0},{"$f":"'kros seznam'!QBU103","v":0},{"$f":"'kros seznam'!QBV103","v":0},{"$f":"'kros seznam'!QBW103","v":0},{"$f":"'kros seznam'!QBX103","v":0},{"$f":"'kros seznam'!QBY103","v":0},{"$f":"'kros seznam'!QBZ103","v":0},{"$f":"'kros seznam'!QCA103","v":0},{"$f":"'kros seznam'!QCB103","v":0},{"$f":"'kros seznam'!QCC103","v":0},{"$f":"'kros seznam'!QCD103","v":0},{"$f":"'kros seznam'!QCE103","v":0},{"$f":"'kros seznam'!QCF103","v":0},{"$f":"'kros seznam'!QCG103","v":0},{"$f":"'kros seznam'!QCH103","v":0},{"$f":"'kros seznam'!QCI103","v":0},{"$f":"'kros seznam'!QCJ103","v":0},{"$f":"'kros seznam'!QCK103","v":0},{"$f":"'kros seznam'!QCL103","v":0},{"$f":"'kros seznam'!QCM103","v":0},{"$f":"'kros seznam'!QCN103","v":0},{"$f":"'kros seznam'!QCO103","v":0},{"$f":"'kros seznam'!QCP103","v":0},{"$f":"'kros seznam'!QCQ103","v":0},{"$f":"'kros seznam'!QCR103","v":0},{"$f":"'kros seznam'!QCS103","v":0},{"$f":"'kros seznam'!QCT103","v":0},{"$f":"'kros seznam'!QCU103","v":0},{"$f":"'kros seznam'!QCV103","v":0},{"$f":"'kros seznam'!QCW103","v":0},{"$f":"'kros seznam'!QCX103","v":0},{"$f":"'kros seznam'!QCY103","v":0},{"$f":"'kros seznam'!QCZ103","v":0},{"$f":"'kros seznam'!QDA103","v":0},{"$f":"'kros seznam'!QDB103","v":0},{"$f":"'kros seznam'!QDC103","v":0},{"$f":"'kros seznam'!QDD103","v":0},{"$f":"'kros seznam'!QDE103","v":0},{"$f":"'kros seznam'!QDF103","v":0},{"$f":"'kros seznam'!QDG103","v":0},{"$f":"'kros seznam'!QDH103","v":0},{"$f":"'kros seznam'!QDI103","v":0},{"$f":"'kros seznam'!QDJ103","v":0},{"$f":"'kros seznam'!QDK103","v":0},{"$f":"'kros seznam'!QDL103","v":0},{"$f":"'kros seznam'!QDM103","v":0},{"$f":"'kros seznam'!QDN103","v":0},{"$f":"'kros seznam'!QDO103","v":0},{"$f":"'kros seznam'!QDP103","v":0},{"$f":"'kros seznam'!QDQ103","v":0},{"$f":"'kros seznam'!QDR103","v":0},{"$f":"'kros seznam'!QDS103","v":0},{"$f":"'kros seznam'!QDT103","v":0},{"$f":"'kros seznam'!QDU103","v":0},{"$f":"'kros seznam'!QDV103","v":0},{"$f":"'kros seznam'!QDW103","v":0},{"$f":"'kros seznam'!QDX103","v":0},{"$f":"'kros seznam'!QDY103","v":0},{"$f":"'kros seznam'!QDZ103","v":0},{"$f":"'kros seznam'!QEA103","v":0},{"$f":"'kros seznam'!QEB103","v":0},{"$f":"'kros seznam'!QEC103","v":0},{"$f":"'kros seznam'!QED103","v":0},{"$f":"'kros seznam'!QEE103","v":0},{"$f":"'kros seznam'!QEF103","v":0},{"$f":"'kros seznam'!QEG103","v":0},{"$f":"'kros seznam'!QEH103","v":0},{"$f":"'kros seznam'!QEI103","v":0},{"$f":"'kros seznam'!QEJ103","v":0},{"$f":"'kros seznam'!QEK103","v":0},{"$f":"'kros seznam'!QEL103","v":0},{"$f":"'kros seznam'!QEM103","v":0},{"$f":"'kros seznam'!QEN103","v":0},{"$f":"'kros seznam'!QEO103","v":0},{"$f":"'kros seznam'!QEP103","v":0},{"$f":"'kros seznam'!QEQ103","v":0},{"$f":"'kros seznam'!QER103","v":0},{"$f":"'kros seznam'!QES103","v":0},{"$f":"'kros seznam'!QET103","v":0},{"$f":"'kros seznam'!QEU103","v":0},{"$f":"'kros seznam'!QEV103","v":0},{"$f":"'kros seznam'!QEW103","v":0},{"$f":"'kros seznam'!QEX103","v":0},{"$f":"'kros seznam'!QEY103","v":0},{"$f":"'kros seznam'!QEZ103","v":0},{"$f":"'kros seznam'!QFA103","v":0},{"$f":"'kros seznam'!QFB103","v":0},{"$f":"'kros seznam'!QFC103","v":0},{"$f":"'kros seznam'!QFD103","v":0},{"$f":"'kros seznam'!QFE103","v":0},{"$f":"'kros seznam'!QFF103","v":0},{"$f":"'kros seznam'!QFG103","v":0},{"$f":"'kros seznam'!QFH103","v":0},{"$f":"'kros seznam'!QFI103","v":0},{"$f":"'kros seznam'!QFJ103","v":0},{"$f":"'kros seznam'!QFK103","v":0},{"$f":"'kros seznam'!QFL103","v":0},{"$f":"'kros seznam'!QFM103","v":0},{"$f":"'kros seznam'!QFN103","v":0},{"$f":"'kros seznam'!QFO103","v":0},{"$f":"'kros seznam'!QFP103","v":0},{"$f":"'kros seznam'!QFQ103","v":0},{"$f":"'kros seznam'!QFR103","v":0},{"$f":"'kros seznam'!QFS103","v":0},{"$f":"'kros seznam'!QFT103","v":0},{"$f":"'kros seznam'!QFU103","v":0},{"$f":"'kros seznam'!QFV103","v":0},{"$f":"'kros seznam'!QFW103","v":0},{"$f":"'kros seznam'!QFX103","v":0},{"$f":"'kros seznam'!QFY103","v":0},{"$f":"'kros seznam'!QFZ103","v":0},{"$f":"'kros seznam'!QGA103","v":0},{"$f":"'kros seznam'!QGB103","v":0},{"$f":"'kros seznam'!QGC103","v":0},{"$f":"'kros seznam'!QGD103","v":0},{"$f":"'kros seznam'!QGE103","v":0},{"$f":"'kros seznam'!QGF103","v":0},{"$f":"'kros seznam'!QGG103","v":0},{"$f":"'kros seznam'!QGH103","v":0},{"$f":"'kros seznam'!QGI103","v":0},{"$f":"'kros seznam'!QGJ103","v":0},{"$f":"'kros seznam'!QGK103","v":0},{"$f":"'kros seznam'!QGL103","v":0},{"$f":"'kros seznam'!QGM103","v":0},{"$f":"'kros seznam'!QGN103","v":0},{"$f":"'kros seznam'!QGO103","v":0},{"$f":"'kros seznam'!QGP103","v":0},{"$f":"'kros seznam'!QGQ103","v":0},{"$f":"'kros seznam'!QGR103","v":0},{"$f":"'kros seznam'!QGS103","v":0},{"$f":"'kros seznam'!QGT103","v":0},{"$f":"'kros seznam'!QGU103","v":0},{"$f":"'kros seznam'!QGV103","v":0},{"$f":"'kros seznam'!QGW103","v":0},{"$f":"'kros seznam'!QGX103","v":0},{"$f":"'kros seznam'!QGY103","v":0},{"$f":"'kros seznam'!QGZ103","v":0},{"$f":"'kros seznam'!QHA103","v":0},{"$f":"'kros seznam'!QHB103","v":0},{"$f":"'kros seznam'!QHC103","v":0},{"$f":"'kros seznam'!QHD103","v":0},{"$f":"'kros seznam'!QHE103","v":0},{"$f":"'kros seznam'!QHF103","v":0},{"$f":"'kros seznam'!QHG103","v":0},{"$f":"'kros seznam'!QHH103","v":0},{"$f":"'kros seznam'!QHI103","v":0},{"$f":"'kros seznam'!QHJ103","v":0},{"$f":"'kros seznam'!QHK103","v":0},{"$f":"'kros seznam'!QHL103","v":0},{"$f":"'kros seznam'!QHM103","v":0},{"$f":"'kros seznam'!QHN103","v":0},{"$f":"'kros seznam'!QHO103","v":0},{"$f":"'kros seznam'!QHP103","v":0},{"$f":"'kros seznam'!QHQ103","v":0},{"$f":"'kros seznam'!QHR103","v":0},{"$f":"'kros seznam'!QHS103","v":0},{"$f":"'kros seznam'!QHT103","v":0},{"$f":"'kros seznam'!QHU103","v":0},{"$f":"'kros seznam'!QHV103","v":0},{"$f":"'kros seznam'!QHW103","v":0},{"$f":"'kros seznam'!QHX103","v":0},{"$f":"'kros seznam'!QHY103","v":0},{"$f":"'kros seznam'!QHZ103","v":0},{"$f":"'kros seznam'!QIA103","v":0},{"$f":"'kros seznam'!QIB103","v":0},{"$f":"'kros seznam'!QIC103","v":0},{"$f":"'kros seznam'!QID103","v":0},{"$f":"'kros seznam'!QIE103","v":0},{"$f":"'kros seznam'!QIF103","v":0},{"$f":"'kros seznam'!QIG103","v":0},{"$f":"'kros seznam'!QIH103","v":0},{"$f":"'kros seznam'!QII103","v":0},{"$f":"'kros seznam'!QIJ103","v":0},{"$f":"'kros seznam'!QIK103","v":0},{"$f":"'kros seznam'!QIL103","v":0},{"$f":"'kros seznam'!QIM103","v":0},{"$f":"'kros seznam'!QIN103","v":0},{"$f":"'kros seznam'!QIO103","v":0},{"$f":"'kros seznam'!QIP103","v":0},{"$f":"'kros seznam'!QIQ103","v":0},{"$f":"'kros seznam'!QIR103","v":0},{"$f":"'kros seznam'!QIS103","v":0},{"$f":"'kros seznam'!QIT103","v":0},{"$f":"'kros seznam'!QIU103","v":0},{"$f":"'kros seznam'!QIV103","v":0},{"$f":"'kros seznam'!QIW103","v":0},{"$f":"'kros seznam'!QIX103","v":0},{"$f":"'kros seznam'!QIY103","v":0},{"$f":"'kros seznam'!QIZ103","v":0},{"$f":"'kros seznam'!QJA103","v":0},{"$f":"'kros seznam'!QJB103","v":0},{"$f":"'kros seznam'!QJC103","v":0},{"$f":"'kros seznam'!QJD103","v":0},{"$f":"'kros seznam'!QJE103","v":0},{"$f":"'kros seznam'!QJF103","v":0},{"$f":"'kros seznam'!QJG103","v":0},{"$f":"'kros seznam'!QJH103","v":0},{"$f":"'kros seznam'!QJI103","v":0},{"$f":"'kros seznam'!QJJ103","v":0},{"$f":"'kros seznam'!QJK103","v":0},{"$f":"'kros seznam'!QJL103","v":0},{"$f":"'kros seznam'!QJM103","v":0},{"$f":"'kros seznam'!QJN103","v":0},{"$f":"'kros seznam'!QJO103","v":0},{"$f":"'kros seznam'!QJP103","v":0},{"$f":"'kros seznam'!QJQ103","v":0},{"$f":"'kros seznam'!QJR103","v":0},{"$f":"'kros seznam'!QJS103","v":0},{"$f":"'kros seznam'!QJT103","v":0},{"$f":"'kros seznam'!QJU103","v":0},{"$f":"'kros seznam'!QJV103","v":0},{"$f":"'kros seznam'!QJW103","v":0},{"$f":"'kros seznam'!QJX103","v":0},{"$f":"'kros seznam'!QJY103","v":0},{"$f":"'kros seznam'!QJZ103","v":0},{"$f":"'kros seznam'!QKA103","v":0},{"$f":"'kros seznam'!QKB103","v":0},{"$f":"'kros seznam'!QKC103","v":0},{"$f":"'kros seznam'!QKD103","v":0},{"$f":"'kros seznam'!QKE103","v":0},{"$f":"'kros seznam'!QKF103","v":0},{"$f":"'kros seznam'!QKG103","v":0},{"$f":"'kros seznam'!QKH103","v":0},{"$f":"'kros seznam'!QKI103","v":0},{"$f":"'kros seznam'!QKJ103","v":0},{"$f":"'kros seznam'!QKK103","v":0},{"$f":"'kros seznam'!QKL103","v":0},{"$f":"'kros seznam'!QKM103","v":0},{"$f":"'kros seznam'!QKN103","v":0},{"$f":"'kros seznam'!QKO103","v":0},{"$f":"'kros seznam'!QKP103","v":0},{"$f":"'kros seznam'!QKQ103","v":0},{"$f":"'kros seznam'!QKR103","v":0},{"$f":"'kros seznam'!QKS103","v":0},{"$f":"'kros seznam'!QKT103","v":0},{"$f":"'kros seznam'!QKU103","v":0},{"$f":"'kros seznam'!QKV103","v":0},{"$f":"'kros seznam'!QKW103","v":0},{"$f":"'kros seznam'!QKX103","v":0},{"$f":"'kros seznam'!QKY103","v":0},{"$f":"'kros seznam'!QKZ103","v":0},{"$f":"'kros seznam'!QLA103","v":0},{"$f":"'kros seznam'!QLB103","v":0},{"$f":"'kros seznam'!QLC103","v":0},{"$f":"'kros seznam'!QLD103","v":0},{"$f":"'kros seznam'!QLE103","v":0},{"$f":"'kros seznam'!QLF103","v":0},{"$f":"'kros seznam'!QLG103","v":0},{"$f":"'kros seznam'!QLH103","v":0},{"$f":"'kros seznam'!QLI103","v":0},{"$f":"'kros seznam'!QLJ103","v":0},{"$f":"'kros seznam'!QLK103","v":0},{"$f":"'kros seznam'!QLL103","v":0},{"$f":"'kros seznam'!QLM103","v":0},{"$f":"'kros seznam'!QLN103","v":0},{"$f":"'kros seznam'!QLO103","v":0},{"$f":"'kros seznam'!QLP103","v":0},{"$f":"'kros seznam'!QLQ103","v":0},{"$f":"'kros seznam'!QLR103","v":0},{"$f":"'kros seznam'!QLS103","v":0},{"$f":"'kros seznam'!QLT103","v":0},{"$f":"'kros seznam'!QLU103","v":0},{"$f":"'kros seznam'!QLV103","v":0},{"$f":"'kros seznam'!QLW103","v":0},{"$f":"'kros seznam'!QLX103","v":0},{"$f":"'kros seznam'!QLY103","v":0},{"$f":"'kros seznam'!QLZ103","v":0},{"$f":"'kros seznam'!QMA103","v":0},{"$f":"'kros seznam'!QMB103","v":0},{"$f":"'kros seznam'!QMC103","v":0},{"$f":"'kros seznam'!QMD103","v":0},{"$f":"'kros seznam'!QME103","v":0},{"$f":"'kros seznam'!QMF103","v":0},{"$f":"'kros seznam'!QMG103","v":0},{"$f":"'kros seznam'!QMH103","v":0},{"$f":"'kros seznam'!QMI103","v":0},{"$f":"'kros seznam'!QMJ103","v":0},{"$f":"'kros seznam'!QMK103","v":0},{"$f":"'kros seznam'!QML103","v":0},{"$f":"'kros seznam'!QMM103","v":0},{"$f":"'kros seznam'!QMN103","v":0},{"$f":"'kros seznam'!QMO103","v":0},{"$f":"'kros seznam'!QMP103","v":0},{"$f":"'kros seznam'!QMQ103","v":0},{"$f":"'kros seznam'!QMR103","v":0},{"$f":"'kros seznam'!QMS103","v":0},{"$f":"'kros seznam'!QMT103","v":0},{"$f":"'kros seznam'!QMU103","v":0},{"$f":"'kros seznam'!QMV103","v":0},{"$f":"'kros seznam'!QMW103","v":0},{"$f":"'kros seznam'!QMX103","v":0},{"$f":"'kros seznam'!QMY103","v":0},{"$f":"'kros seznam'!QMZ103","v":0},{"$f":"'kros seznam'!QNA103","v":0},{"$f":"'kros seznam'!QNB103","v":0},{"$f":"'kros seznam'!QNC103","v":0},{"$f":"'kros seznam'!QND103","v":0},{"$f":"'kros seznam'!QNE103","v":0},{"$f":"'kros seznam'!QNF103","v":0},{"$f":"'kros seznam'!QNG103","v":0},{"$f":"'kros seznam'!QNH103","v":0},{"$f":"'kros seznam'!QNI103","v":0},{"$f":"'kros seznam'!QNJ103","v":0},{"$f":"'kros seznam'!QNK103","v":0},{"$f":"'kros seznam'!QNL103","v":0},{"$f":"'kros seznam'!QNM103","v":0},{"$f":"'kros seznam'!QNN103","v":0},{"$f":"'kros seznam'!QNO103","v":0},{"$f":"'kros seznam'!QNP103","v":0},{"$f":"'kros seznam'!QNQ103","v":0},{"$f":"'kros seznam'!QNR103","v":0},{"$f":"'kros seznam'!QNS103","v":0},{"$f":"'kros seznam'!QNT103","v":0},{"$f":"'kros seznam'!QNU103","v":0},{"$f":"'kros seznam'!QNV103","v":0},{"$f":"'kros seznam'!QNW103","v":0},{"$f":"'kros seznam'!QNX103","v":0},{"$f":"'kros seznam'!QNY103","v":0},{"$f":"'kros seznam'!QNZ103","v":0},{"$f":"'kros seznam'!QOA103","v":0},{"$f":"'kros seznam'!QOB103","v":0},{"$f":"'kros seznam'!QOC103","v":0},{"$f":"'kros seznam'!QOD103","v":0},{"$f":"'kros seznam'!QOE103","v":0},{"$f":"'kros seznam'!QOF103","v":0},{"$f":"'kros seznam'!QOG103","v":0},{"$f":"'kros seznam'!QOH103","v":0},{"$f":"'kros seznam'!QOI103","v":0},{"$f":"'kros seznam'!QOJ103","v":0},{"$f":"'kros seznam'!QOK103","v":0},{"$f":"'kros seznam'!QOL103","v":0},{"$f":"'kros seznam'!QOM103","v":0},{"$f":"'kros seznam'!QON103","v":0},{"$f":"'kros seznam'!QOO103","v":0},{"$f":"'kros seznam'!QOP103","v":0},{"$f":"'kros seznam'!QOQ103","v":0},{"$f":"'kros seznam'!QOR103","v":0},{"$f":"'kros seznam'!QOS103","v":0},{"$f":"'kros seznam'!QOT103","v":0},{"$f":"'kros seznam'!QOU103","v":0},{"$f":"'kros seznam'!QOV103","v":0},{"$f":"'kros seznam'!QOW103","v":0},{"$f":"'kros seznam'!QOX103","v":0},{"$f":"'kros seznam'!QOY103","v":0},{"$f":"'kros seznam'!QOZ103","v":0},{"$f":"'kros seznam'!QPA103","v":0},{"$f":"'kros seznam'!QPB103","v":0},{"$f":"'kros seznam'!QPC103","v":0},{"$f":"'kros seznam'!QPD103","v":0},{"$f":"'kros seznam'!QPE103","v":0},{"$f":"'kros seznam'!QPF103","v":0},{"$f":"'kros seznam'!QPG103","v":0},{"$f":"'kros seznam'!QPH103","v":0},{"$f":"'kros seznam'!QPI103","v":0},{"$f":"'kros seznam'!QPJ103","v":0},{"$f":"'kros seznam'!QPK103","v":0},{"$f":"'kros seznam'!QPL103","v":0},{"$f":"'kros seznam'!QPM103","v":0},{"$f":"'kros seznam'!QPN103","v":0},{"$f":"'kros seznam'!QPO103","v":0},{"$f":"'kros seznam'!QPP103","v":0},{"$f":"'kros seznam'!QPQ103","v":0},{"$f":"'kros seznam'!QPR103","v":0},{"$f":"'kros seznam'!QPS103","v":0},{"$f":"'kros seznam'!QPT103","v":0},{"$f":"'kros seznam'!QPU103","v":0},{"$f":"'kros seznam'!QPV103","v":0},{"$f":"'kros seznam'!QPW103","v":0},{"$f":"'kros seznam'!QPX103","v":0},{"$f":"'kros seznam'!QPY103","v":0},{"$f":"'kros seznam'!QPZ103","v":0},{"$f":"'kros seznam'!QQA103","v":0},{"$f":"'kros seznam'!QQB103","v":0},{"$f":"'kros seznam'!QQC103","v":0},{"$f":"'kros seznam'!QQD103","v":0},{"$f":"'kros seznam'!QQE103","v":0},{"$f":"'kros seznam'!QQF103","v":0},{"$f":"'kros seznam'!QQG103","v":0},{"$f":"'kros seznam'!QQH103","v":0},{"$f":"'kros seznam'!QQI103","v":0},{"$f":"'kros seznam'!QQJ103","v":0},{"$f":"'kros seznam'!QQK103","v":0},{"$f":"'kros seznam'!QQL103","v":0},{"$f":"'kros seznam'!QQM103","v":0},{"$f":"'kros seznam'!QQN103","v":0},{"$f":"'kros seznam'!QQO103","v":0},{"$f":"'kros seznam'!QQP103","v":0},{"$f":"'kros seznam'!QQQ103","v":0},{"$f":"'kros seznam'!QQR103","v":0},{"$f":"'kros seznam'!QQS103","v":0},{"$f":"'kros seznam'!QQT103","v":0},{"$f":"'kros seznam'!QQU103","v":0},{"$f":"'kros seznam'!QQV103","v":0},{"$f":"'kros seznam'!QQW103","v":0},{"$f":"'kros seznam'!QQX103","v":0},{"$f":"'kros seznam'!QQY103","v":0},{"$f":"'kros seznam'!QQZ103","v":0},{"$f":"'kros seznam'!QRA103","v":0},{"$f":"'kros seznam'!QRB103","v":0},{"$f":"'kros seznam'!QRC103","v":0},{"$f":"'kros seznam'!QRD103","v":0},{"$f":"'kros seznam'!QRE103","v":0},{"$f":"'kros seznam'!QRF103","v":0},{"$f":"'kros seznam'!QRG103","v":0},{"$f":"'kros seznam'!QRH103","v":0},{"$f":"'kros seznam'!QRI103","v":0},{"$f":"'kros seznam'!QRJ103","v":0},{"$f":"'kros seznam'!QRK103","v":0},{"$f":"'kros seznam'!QRL103","v":0},{"$f":"'kros seznam'!QRM103","v":0},{"$f":"'kros seznam'!QRN103","v":0},{"$f":"'kros seznam'!QRO103","v":0},{"$f":"'kros seznam'!QRP103","v":0},{"$f":"'kros seznam'!QRQ103","v":0},{"$f":"'kros seznam'!QRR103","v":0},{"$f":"'kros seznam'!QRS103","v":0},{"$f":"'kros seznam'!QRT103","v":0},{"$f":"'kros seznam'!QRU103","v":0},{"$f":"'kros seznam'!QRV103","v":0},{"$f":"'kros seznam'!QRW103","v":0},{"$f":"'kros seznam'!QRX103","v":0},{"$f":"'kros seznam'!QRY103","v":0},{"$f":"'kros seznam'!QRZ103","v":0},{"$f":"'kros seznam'!QSA103","v":0},{"$f":"'kros seznam'!QSB103","v":0},{"$f":"'kros seznam'!QSC103","v":0},{"$f":"'kros seznam'!QSD103","v":0},{"$f":"'kros seznam'!QSE103","v":0},{"$f":"'kros seznam'!QSF103","v":0},{"$f":"'kros seznam'!QSG103","v":0},{"$f":"'kros seznam'!QSH103","v":0},{"$f":"'kros seznam'!QSI103","v":0},{"$f":"'kros seznam'!QSJ103","v":0},{"$f":"'kros seznam'!QSK103","v":0},{"$f":"'kros seznam'!QSL103","v":0},{"$f":"'kros seznam'!QSM103","v":0},{"$f":"'kros seznam'!QSN103","v":0},{"$f":"'kros seznam'!QSO103","v":0},{"$f":"'kros seznam'!QSP103","v":0},{"$f":"'kros seznam'!QSQ103","v":0},{"$f":"'kros seznam'!QSR103","v":0},{"$f":"'kros seznam'!QSS103","v":0},{"$f":"'kros seznam'!QST103","v":0},{"$f":"'kros seznam'!QSU103","v":0},{"$f":"'kros seznam'!QSV103","v":0},{"$f":"'kros seznam'!QSW103","v":0},{"$f":"'kros seznam'!QSX103","v":0},{"$f":"'kros seznam'!QSY103","v":0},{"$f":"'kros seznam'!QSZ103","v":0},{"$f":"'kros seznam'!QTA103","v":0},{"$f":"'kros seznam'!QTB103","v":0},{"$f":"'kros seznam'!QTC103","v":0},{"$f":"'kros seznam'!QTD103","v":0},{"$f":"'kros seznam'!QTE103","v":0},{"$f":"'kros seznam'!QTF103","v":0},{"$f":"'kros seznam'!QTG103","v":0},{"$f":"'kros seznam'!QTH103","v":0},{"$f":"'kros seznam'!QTI103","v":0},{"$f":"'kros seznam'!QTJ103","v":0},{"$f":"'kros seznam'!QTK103","v":0},{"$f":"'kros seznam'!QTL103","v":0},{"$f":"'kros seznam'!QTM103","v":0},{"$f":"'kros seznam'!QTN103","v":0},{"$f":"'kros seznam'!QTO103","v":0},{"$f":"'kros seznam'!QTP103","v":0},{"$f":"'kros seznam'!QTQ103","v":0},{"$f":"'kros seznam'!QTR103","v":0},{"$f":"'kros seznam'!QTS103","v":0},{"$f":"'kros seznam'!QTT103","v":0},{"$f":"'kros seznam'!QTU103","v":0},{"$f":"'kros seznam'!QTV103","v":0},{"$f":"'kros seznam'!QTW103","v":0},{"$f":"'kros seznam'!QTX103","v":0},{"$f":"'kros seznam'!QTY103","v":0},{"$f":"'kros seznam'!QTZ103","v":0},{"$f":"'kros seznam'!QUA103","v":0},{"$f":"'kros seznam'!QUB103","v":0},{"$f":"'kros seznam'!QUC103","v":0},{"$f":"'kros seznam'!QUD103","v":0},{"$f":"'kros seznam'!QUE103","v":0},{"$f":"'kros seznam'!QUF103","v":0},{"$f":"'kros seznam'!QUG103","v":0},{"$f":"'kros seznam'!QUH103","v":0},{"$f":"'kros seznam'!QUI103","v":0},{"$f":"'kros seznam'!QUJ103","v":0},{"$f":"'kros seznam'!QUK103","v":0},{"$f":"'kros seznam'!QUL103","v":0},{"$f":"'kros seznam'!QUM103","v":0},{"$f":"'kros seznam'!QUN103","v":0},{"$f":"'kros seznam'!QUO103","v":0},{"$f":"'kros seznam'!QUP103","v":0},{"$f":"'kros seznam'!QUQ103","v":0},{"$f":"'kros seznam'!QUR103","v":0},{"$f":"'kros seznam'!QUS103","v":0},{"$f":"'kros seznam'!QUT103","v":0},{"$f":"'kros seznam'!QUU103","v":0},{"$f":"'kros seznam'!QUV103","v":0},{"$f":"'kros seznam'!QUW103","v":0},{"$f":"'kros seznam'!QUX103","v":0},{"$f":"'kros seznam'!QUY103","v":0},{"$f":"'kros seznam'!QUZ103","v":0},{"$f":"'kros seznam'!QVA103","v":0},{"$f":"'kros seznam'!QVB103","v":0},{"$f":"'kros seznam'!QVC103","v":0},{"$f":"'kros seznam'!QVD103","v":0},{"$f":"'kros seznam'!QVE103","v":0},{"$f":"'kros seznam'!QVF103","v":0},{"$f":"'kros seznam'!QVG103","v":0},{"$f":"'kros seznam'!QVH103","v":0},{"$f":"'kros seznam'!QVI103","v":0},{"$f":"'kros seznam'!QVJ103","v":0},{"$f":"'kros seznam'!QVK103","v":0},{"$f":"'kros seznam'!QVL103","v":0},{"$f":"'kros seznam'!QVM103","v":0},{"$f":"'kros seznam'!QVN103","v":0},{"$f":"'kros seznam'!QVO103","v":0},{"$f":"'kros seznam'!QVP103","v":0},{"$f":"'kros seznam'!QVQ103","v":0},{"$f":"'kros seznam'!QVR103","v":0},{"$f":"'kros seznam'!QVS103","v":0},{"$f":"'kros seznam'!QVT103","v":0},{"$f":"'kros seznam'!QVU103","v":0},{"$f":"'kros seznam'!QVV103","v":0},{"$f":"'kros seznam'!QVW103","v":0},{"$f":"'kros seznam'!QVX103","v":0},{"$f":"'kros seznam'!QVY103","v":0},{"$f":"'kros seznam'!QVZ103","v":0},{"$f":"'kros seznam'!QWA103","v":0},{"$f":"'kros seznam'!QWB103","v":0},{"$f":"'kros seznam'!QWC103","v":0},{"$f":"'kros seznam'!QWD103","v":0},{"$f":"'kros seznam'!QWE103","v":0},{"$f":"'kros seznam'!QWF103","v":0},{"$f":"'kros seznam'!QWG103","v":0},{"$f":"'kros seznam'!QWH103","v":0},{"$f":"'kros seznam'!QWI103","v":0},{"$f":"'kros seznam'!QWJ103","v":0},{"$f":"'kros seznam'!QWK103","v":0},{"$f":"'kros seznam'!QWL103","v":0},{"$f":"'kros seznam'!QWM103","v":0},{"$f":"'kros seznam'!QWN103","v":0},{"$f":"'kros seznam'!QWO103","v":0},{"$f":"'kros seznam'!QWP103","v":0},{"$f":"'kros seznam'!QWQ103","v":0},{"$f":"'kros seznam'!QWR103","v":0},{"$f":"'kros seznam'!QWS103","v":0},{"$f":"'kros seznam'!QWT103","v":0},{"$f":"'kros seznam'!QWU103","v":0},{"$f":"'kros seznam'!QWV103","v":0},{"$f":"'kros seznam'!QWW103","v":0},{"$f":"'kros seznam'!QWX103","v":0},{"$f":"'kros seznam'!QWY103","v":0},{"$f":"'kros seznam'!QWZ103","v":0},{"$f":"'kros seznam'!QXA103","v":0},{"$f":"'kros seznam'!QXB103","v":0},{"$f":"'kros seznam'!QXC103","v":0},{"$f":"'kros seznam'!QXD103","v":0},{"$f":"'kros seznam'!QXE103","v":0},{"$f":"'kros seznam'!QXF103","v":0},{"$f":"'kros seznam'!QXG103","v":0},{"$f":"'kros seznam'!QXH103","v":0},{"$f":"'kros seznam'!QXI103","v":0},{"$f":"'kros seznam'!QXJ103","v":0},{"$f":"'kros seznam'!QXK103","v":0},{"$f":"'kros seznam'!QXL103","v":0},{"$f":"'kros seznam'!QXM103","v":0},{"$f":"'kros seznam'!QXN103","v":0},{"$f":"'kros seznam'!QXO103","v":0},{"$f":"'kros seznam'!QXP103","v":0},{"$f":"'kros seznam'!QXQ103","v":0},{"$f":"'kros seznam'!QXR103","v":0},{"$f":"'kros seznam'!QXS103","v":0},{"$f":"'kros seznam'!QXT103","v":0},{"$f":"'kros seznam'!QXU103","v":0},{"$f":"'kros seznam'!QXV103","v":0},{"$f":"'kros seznam'!QXW103","v":0},{"$f":"'kros seznam'!QXX103","v":0},{"$f":"'kros seznam'!QXY103","v":0},{"$f":"'kros seznam'!QXZ103","v":0},{"$f":"'kros seznam'!QYA103","v":0},{"$f":"'kros seznam'!QYB103","v":0},{"$f":"'kros seznam'!QYC103","v":0},{"$f":"'kros seznam'!QYD103","v":0},{"$f":"'kros seznam'!QYE103","v":0},{"$f":"'kros seznam'!QYF103","v":0},{"$f":"'kros seznam'!QYG103","v":0},{"$f":"'kros seznam'!QYH103","v":0},{"$f":"'kros seznam'!QYI103","v":0},{"$f":"'kros seznam'!QYJ103","v":0},{"$f":"'kros seznam'!QYK103","v":0},{"$f":"'kros seznam'!QYL103","v":0},{"$f":"'kros seznam'!QYM103","v":0},{"$f":"'kros seznam'!QYN103","v":0},{"$f":"'kros seznam'!QYO103","v":0},{"$f":"'kros seznam'!QYP103","v":0},{"$f":"'kros seznam'!QYQ103","v":0},{"$f":"'kros seznam'!QYR103","v":0},{"$f":"'kros seznam'!QYS103","v":0},{"$f":"'kros seznam'!QYT103","v":0},{"$f":"'kros seznam'!QYU103","v":0},{"$f":"'kros seznam'!QYV103","v":0},{"$f":"'kros seznam'!QYW103","v":0},{"$f":"'kros seznam'!QYX103","v":0},{"$f":"'kros seznam'!QYY103","v":0},{"$f":"'kros seznam'!QYZ103","v":0},{"$f":"'kros seznam'!QZA103","v":0},{"$f":"'kros seznam'!QZB103","v":0},{"$f":"'kros seznam'!QZC103","v":0},{"$f":"'kros seznam'!QZD103","v":0},{"$f":"'kros seznam'!QZE103","v":0},{"$f":"'kros seznam'!QZF103","v":0},{"$f":"'kros seznam'!QZG103","v":0},{"$f":"'kros seznam'!QZH103","v":0},{"$f":"'kros seznam'!QZI103","v":0},{"$f":"'kros seznam'!QZJ103","v":0},{"$f":"'kros seznam'!QZK103","v":0},{"$f":"'kros seznam'!QZL103","v":0},{"$f":"'kros seznam'!QZM103","v":0},{"$f":"'kros seznam'!QZN103","v":0},{"$f":"'kros seznam'!QZO103","v":0},{"$f":"'kros seznam'!QZP103","v":0},{"$f":"'kros seznam'!QZQ103","v":0},{"$f":"'kros seznam'!QZR103","v":0},{"$f":"'kros seznam'!QZS103","v":0},{"$f":"'kros seznam'!QZT103","v":0},{"$f":"'kros seznam'!QZU103","v":0},{"$f":"'kros seznam'!QZV103","v":0},{"$f":"'kros seznam'!QZW103","v":0},{"$f":"'kros seznam'!QZX103","v":0},{"$f":"'kros seznam'!QZY103","v":0},{"$f":"'kros seznam'!QZZ103","v":0},{"$f":"'kros seznam'!RAA103","v":0},{"$f":"'kros seznam'!RAB103","v":0},{"$f":"'kros seznam'!RAC103","v":0},{"$f":"'kros seznam'!RAD103","v":0},{"$f":"'kros seznam'!RAE103","v":0},{"$f":"'kros seznam'!RAF103","v":0},{"$f":"'kros seznam'!RAG103","v":0},{"$f":"'kros seznam'!RAH103","v":0},{"$f":"'kros seznam'!RAI103","v":0},{"$f":"'kros seznam'!RAJ103","v":0},{"$f":"'kros seznam'!RAK103","v":0},{"$f":"'kros seznam'!RAL103","v":0},{"$f":"'kros seznam'!RAM103","v":0},{"$f":"'kros seznam'!RAN103","v":0},{"$f":"'kros seznam'!RAO103","v":0},{"$f":"'kros seznam'!RAP103","v":0},{"$f":"'kros seznam'!RAQ103","v":0},{"$f":"'kros seznam'!RAR103","v":0},{"$f":"'kros seznam'!RAS103","v":0},{"$f":"'kros seznam'!RAT103","v":0},{"$f":"'kros seznam'!RAU103","v":0},{"$f":"'kros seznam'!RAV103","v":0},{"$f":"'kros seznam'!RAW103","v":0},{"$f":"'kros seznam'!RAX103","v":0},{"$f":"'kros seznam'!RAY103","v":0},{"$f":"'kros seznam'!RAZ103","v":0},{"$f":"'kros seznam'!RBA103","v":0},{"$f":"'kros seznam'!RBB103","v":0},{"$f":"'kros seznam'!RBC103","v":0},{"$f":"'kros seznam'!RBD103","v":0},{"$f":"'kros seznam'!RBE103","v":0},{"$f":"'kros seznam'!RBF103","v":0},{"$f":"'kros seznam'!RBG103","v":0},{"$f":"'kros seznam'!RBH103","v":0},{"$f":"'kros seznam'!RBI103","v":0},{"$f":"'kros seznam'!RBJ103","v":0},{"$f":"'kros seznam'!RBK103","v":0},{"$f":"'kros seznam'!RBL103","v":0},{"$f":"'kros seznam'!RBM103","v":0},{"$f":"'kros seznam'!RBN103","v":0},{"$f":"'kros seznam'!RBO103","v":0},{"$f":"'kros seznam'!RBP103","v":0},{"$f":"'kros seznam'!RBQ103","v":0},{"$f":"'kros seznam'!RBR103","v":0},{"$f":"'kros seznam'!RBS103","v":0},{"$f":"'kros seznam'!RBT103","v":0},{"$f":"'kros seznam'!RBU103","v":0},{"$f":"'kros seznam'!RBV103","v":0},{"$f":"'kros seznam'!RBW103","v":0},{"$f":"'kros seznam'!RBX103","v":0},{"$f":"'kros seznam'!RBY103","v":0},{"$f":"'kros seznam'!RBZ103","v":0},{"$f":"'kros seznam'!RCA103","v":0},{"$f":"'kros seznam'!RCB103","v":0},{"$f":"'kros seznam'!RCC103","v":0},{"$f":"'kros seznam'!RCD103","v":0},{"$f":"'kros seznam'!RCE103","v":0},{"$f":"'kros seznam'!RCF103","v":0},{"$f":"'kros seznam'!RCG103","v":0},{"$f":"'kros seznam'!RCH103","v":0},{"$f":"'kros seznam'!RCI103","v":0},{"$f":"'kros seznam'!RCJ103","v":0},{"$f":"'kros seznam'!RCK103","v":0},{"$f":"'kros seznam'!RCL103","v":0},{"$f":"'kros seznam'!RCM103","v":0},{"$f":"'kros seznam'!RCN103","v":0},{"$f":"'kros seznam'!RCO103","v":0},{"$f":"'kros seznam'!RCP103","v":0},{"$f":"'kros seznam'!RCQ103","v":0},{"$f":"'kros seznam'!RCR103","v":0},{"$f":"'kros seznam'!RCS103","v":0},{"$f":"'kros seznam'!RCT103","v":0},{"$f":"'kros seznam'!RCU103","v":0},{"$f":"'kros seznam'!RCV103","v":0},{"$f":"'kros seznam'!RCW103","v":0},{"$f":"'kros seznam'!RCX103","v":0},{"$f":"'kros seznam'!RCY103","v":0},{"$f":"'kros seznam'!RCZ103","v":0},{"$f":"'kros seznam'!RDA103","v":0},{"$f":"'kros seznam'!RDB103","v":0},{"$f":"'kros seznam'!RDC103","v":0},{"$f":"'kros seznam'!RDD103","v":0},{"$f":"'kros seznam'!RDE103","v":0},{"$f":"'kros seznam'!RDF103","v":0},{"$f":"'kros seznam'!RDG103","v":0},{"$f":"'kros seznam'!RDH103","v":0},{"$f":"'kros seznam'!RDI103","v":0},{"$f":"'kros seznam'!RDJ103","v":0},{"$f":"'kros seznam'!RDK103","v":0},{"$f":"'kros seznam'!RDL103","v":0},{"$f":"'kros seznam'!RDM103","v":0},{"$f":"'kros seznam'!RDN103","v":0},{"$f":"'kros seznam'!RDO103","v":0},{"$f":"'kros seznam'!RDP103","v":0},{"$f":"'kros seznam'!RDQ103","v":0},{"$f":"'kros seznam'!RDR103","v":0},{"$f":"'kros seznam'!RDS103","v":0},{"$f":"'kros seznam'!RDT103","v":0},{"$f":"'kros seznam'!RDU103","v":0},{"$f":"'kros seznam'!RDV103","v":0},{"$f":"'kros seznam'!RDW103","v":0},{"$f":"'kros seznam'!RDX103","v":0},{"$f":"'kros seznam'!RDY103","v":0},{"$f":"'kros seznam'!RDZ103","v":0},{"$f":"'kros seznam'!REA103","v":0},{"$f":"'kros seznam'!REB103","v":0},{"$f":"'kros seznam'!REC103","v":0},{"$f":"'kros seznam'!RED103","v":0},{"$f":"'kros seznam'!REE103","v":0},{"$f":"'kros seznam'!REF103","v":0},{"$f":"'kros seznam'!REG103","v":0},{"$f":"'kros seznam'!REH103","v":0},{"$f":"'kros seznam'!REI103","v":0},{"$f":"'kros seznam'!REJ103","v":0},{"$f":"'kros seznam'!REK103","v":0},{"$f":"'kros seznam'!REL103","v":0},{"$f":"'kros seznam'!REM103","v":0},{"$f":"'kros seznam'!REN103","v":0},{"$f":"'kros seznam'!REO103","v":0},{"$f":"'kros seznam'!REP103","v":0},{"$f":"'kros seznam'!REQ103","v":0},{"$f":"'kros seznam'!RER103","v":0},{"$f":"'kros seznam'!RES103","v":0},{"$f":"'kros seznam'!RET103","v":0},{"$f":"'kros seznam'!REU103","v":0},{"$f":"'kros seznam'!REV103","v":0},{"$f":"'kros seznam'!REW103","v":0},{"$f":"'kros seznam'!REX103","v":0},{"$f":"'kros seznam'!REY103","v":0},{"$f":"'kros seznam'!REZ103","v":0},{"$f":"'kros seznam'!RFA103","v":0},{"$f":"'kros seznam'!RFB103","v":0},{"$f":"'kros seznam'!RFC103","v":0},{"$f":"'kros seznam'!RFD103","v":0},{"$f":"'kros seznam'!RFE103","v":0},{"$f":"'kros seznam'!RFF103","v":0},{"$f":"'kros seznam'!RFG103","v":0},{"$f":"'kros seznam'!RFH103","v":0},{"$f":"'kros seznam'!RFI103","v":0},{"$f":"'kros seznam'!RFJ103","v":0},{"$f":"'kros seznam'!RFK103","v":0},{"$f":"'kros seznam'!RFL103","v":0},{"$f":"'kros seznam'!RFM103","v":0},{"$f":"'kros seznam'!RFN103","v":0},{"$f":"'kros seznam'!RFO103","v":0},{"$f":"'kros seznam'!RFP103","v":0},{"$f":"'kros seznam'!RFQ103","v":0},{"$f":"'kros seznam'!RFR103","v":0},{"$f":"'kros seznam'!RFS103","v":0},{"$f":"'kros seznam'!RFT103","v":0},{"$f":"'kros seznam'!RFU103","v":0},{"$f":"'kros seznam'!RFV103","v":0},{"$f":"'kros seznam'!RFW103","v":0},{"$f":"'kros seznam'!RFX103","v":0},{"$f":"'kros seznam'!RFY103","v":0},{"$f":"'kros seznam'!RFZ103","v":0},{"$f":"'kros seznam'!RGA103","v":0},{"$f":"'kros seznam'!RGB103","v":0},{"$f":"'kros seznam'!RGC103","v":0},{"$f":"'kros seznam'!RGD103","v":0},{"$f":"'kros seznam'!RGE103","v":0},{"$f":"'kros seznam'!RGF103","v":0},{"$f":"'kros seznam'!RGG103","v":0},{"$f":"'kros seznam'!RGH103","v":0},{"$f":"'kros seznam'!RGI103","v":0},{"$f":"'kros seznam'!RGJ103","v":0},{"$f":"'kros seznam'!RGK103","v":0},{"$f":"'kros seznam'!RGL103","v":0},{"$f":"'kros seznam'!RGM103","v":0},{"$f":"'kros seznam'!RGN103","v":0},{"$f":"'kros seznam'!RGO103","v":0},{"$f":"'kros seznam'!RGP103","v":0},{"$f":"'kros seznam'!RGQ103","v":0},{"$f":"'kros seznam'!RGR103","v":0},{"$f":"'kros seznam'!RGS103","v":0},{"$f":"'kros seznam'!RGT103","v":0},{"$f":"'kros seznam'!RGU103","v":0},{"$f":"'kros seznam'!RGV103","v":0},{"$f":"'kros seznam'!RGW103","v":0},{"$f":"'kros seznam'!RGX103","v":0},{"$f":"'kros seznam'!RGY103","v":0},{"$f":"'kros seznam'!RGZ103","v":0},{"$f":"'kros seznam'!RHA103","v":0},{"$f":"'kros seznam'!RHB103","v":0},{"$f":"'kros seznam'!RHC103","v":0},{"$f":"'kros seznam'!RHD103","v":0},{"$f":"'kros seznam'!RHE103","v":0},{"$f":"'kros seznam'!RHF103","v":0},{"$f":"'kros seznam'!RHG103","v":0},{"$f":"'kros seznam'!RHH103","v":0},{"$f":"'kros seznam'!RHI103","v":0},{"$f":"'kros seznam'!RHJ103","v":0},{"$f":"'kros seznam'!RHK103","v":0},{"$f":"'kros seznam'!RHL103","v":0},{"$f":"'kros seznam'!RHM103","v":0},{"$f":"'kros seznam'!RHN103","v":0},{"$f":"'kros seznam'!RHO103","v":0},{"$f":"'kros seznam'!RHP103","v":0},{"$f":"'kros seznam'!RHQ103","v":0},{"$f":"'kros seznam'!RHR103","v":0},{"$f":"'kros seznam'!RHS103","v":0},{"$f":"'kros seznam'!RHT103","v":0},{"$f":"'kros seznam'!RHU103","v":0},{"$f":"'kros seznam'!RHV103","v":0},{"$f":"'kros seznam'!RHW103","v":0},{"$f":"'kros seznam'!RHX103","v":0},{"$f":"'kros seznam'!RHY103","v":0},{"$f":"'kros seznam'!RHZ103","v":0},{"$f":"'kros seznam'!RIA103","v":0},{"$f":"'kros seznam'!RIB103","v":0},{"$f":"'kros seznam'!RIC103","v":0},{"$f":"'kros seznam'!RID103","v":0},{"$f":"'kros seznam'!RIE103","v":0},{"$f":"'kros seznam'!RIF103","v":0},{"$f":"'kros seznam'!RIG103","v":0},{"$f":"'kros seznam'!RIH103","v":0},{"$f":"'kros seznam'!RII103","v":0},{"$f":"'kros seznam'!RIJ103","v":0},{"$f":"'kros seznam'!RIK103","v":0},{"$f":"'kros seznam'!RIL103","v":0},{"$f":"'kros seznam'!RIM103","v":0},{"$f":"'kros seznam'!RIN103","v":0},{"$f":"'kros seznam'!RIO103","v":0},{"$f":"'kros seznam'!RIP103","v":0},{"$f":"'kros seznam'!RIQ103","v":0},{"$f":"'kros seznam'!RIR103","v":0},{"$f":"'kros seznam'!RIS103","v":0},{"$f":"'kros seznam'!RIT103","v":0},{"$f":"'kros seznam'!RIU103","v":0},{"$f":"'kros seznam'!RIV103","v":0},{"$f":"'kros seznam'!RIW103","v":0},{"$f":"'kros seznam'!RIX103","v":0},{"$f":"'kros seznam'!RIY103","v":0},{"$f":"'kros seznam'!RIZ103","v":0},{"$f":"'kros seznam'!RJA103","v":0},{"$f":"'kros seznam'!RJB103","v":0},{"$f":"'kros seznam'!RJC103","v":0},{"$f":"'kros seznam'!RJD103","v":0},{"$f":"'kros seznam'!RJE103","v":0},{"$f":"'kros seznam'!RJF103","v":0},{"$f":"'kros seznam'!RJG103","v":0},{"$f":"'kros seznam'!RJH103","v":0},{"$f":"'kros seznam'!RJI103","v":0},{"$f":"'kros seznam'!RJJ103","v":0},{"$f":"'kros seznam'!RJK103","v":0},{"$f":"'kros seznam'!RJL103","v":0},{"$f":"'kros seznam'!RJM103","v":0},{"$f":"'kros seznam'!RJN103","v":0},{"$f":"'kros seznam'!RJO103","v":0},{"$f":"'kros seznam'!RJP103","v":0},{"$f":"'kros seznam'!RJQ103","v":0},{"$f":"'kros seznam'!RJR103","v":0},{"$f":"'kros seznam'!RJS103","v":0},{"$f":"'kros seznam'!RJT103","v":0},{"$f":"'kros seznam'!RJU103","v":0},{"$f":"'kros seznam'!RJV103","v":0},{"$f":"'kros seznam'!RJW103","v":0},{"$f":"'kros seznam'!RJX103","v":0},{"$f":"'kros seznam'!RJY103","v":0},{"$f":"'kros seznam'!RJZ103","v":0},{"$f":"'kros seznam'!RKA103","v":0},{"$f":"'kros seznam'!RKB103","v":0},{"$f":"'kros seznam'!RKC103","v":0},{"$f":"'kros seznam'!RKD103","v":0},{"$f":"'kros seznam'!RKE103","v":0},{"$f":"'kros seznam'!RKF103","v":0},{"$f":"'kros seznam'!RKG103","v":0},{"$f":"'kros seznam'!RKH103","v":0},{"$f":"'kros seznam'!RKI103","v":0},{"$f":"'kros seznam'!RKJ103","v":0},{"$f":"'kros seznam'!RKK103","v":0},{"$f":"'kros seznam'!RKL103","v":0},{"$f":"'kros seznam'!RKM103","v":0},{"$f":"'kros seznam'!RKN103","v":0},{"$f":"'kros seznam'!RKO103","v":0},{"$f":"'kros seznam'!RKP103","v":0},{"$f":"'kros seznam'!RKQ103","v":0},{"$f":"'kros seznam'!RKR103","v":0},{"$f":"'kros seznam'!RKS103","v":0},{"$f":"'kros seznam'!RKT103","v":0},{"$f":"'kros seznam'!RKU103","v":0},{"$f":"'kros seznam'!RKV103","v":0},{"$f":"'kros seznam'!RKW103","v":0},{"$f":"'kros seznam'!RKX103","v":0},{"$f":"'kros seznam'!RKY103","v":0},{"$f":"'kros seznam'!RKZ103","v":0},{"$f":"'kros seznam'!RLA103","v":0},{"$f":"'kros seznam'!RLB103","v":0},{"$f":"'kros seznam'!RLC103","v":0},{"$f":"'kros seznam'!RLD103","v":0},{"$f":"'kros seznam'!RLE103","v":0},{"$f":"'kros seznam'!RLF103","v":0},{"$f":"'kros seznam'!RLG103","v":0},{"$f":"'kros seznam'!RLH103","v":0},{"$f":"'kros seznam'!RLI103","v":0},{"$f":"'kros seznam'!RLJ103","v":0},{"$f":"'kros seznam'!RLK103","v":0},{"$f":"'kros seznam'!RLL103","v":0},{"$f":"'kros seznam'!RLM103","v":0},{"$f":"'kros seznam'!RLN103","v":0},{"$f":"'kros seznam'!RLO103","v":0},{"$f":"'kros seznam'!RLP103","v":0},{"$f":"'kros seznam'!RLQ103","v":0},{"$f":"'kros seznam'!RLR103","v":0},{"$f":"'kros seznam'!RLS103","v":0},{"$f":"'kros seznam'!RLT103","v":0},{"$f":"'kros seznam'!RLU103","v":0},{"$f":"'kros seznam'!RLV103","v":0},{"$f":"'kros seznam'!RLW103","v":0},{"$f":"'kros seznam'!RLX103","v":0},{"$f":"'kros seznam'!RLY103","v":0},{"$f":"'kros seznam'!RLZ103","v":0},{"$f":"'kros seznam'!RMA103","v":0},{"$f":"'kros seznam'!RMB103","v":0},{"$f":"'kros seznam'!RMC103","v":0},{"$f":"'kros seznam'!RMD103","v":0},{"$f":"'kros seznam'!RME103","v":0},{"$f":"'kros seznam'!RMF103","v":0},{"$f":"'kros seznam'!RMG103","v":0},{"$f":"'kros seznam'!RMH103","v":0},{"$f":"'kros seznam'!RMI103","v":0},{"$f":"'kros seznam'!RMJ103","v":0},{"$f":"'kros seznam'!RMK103","v":0},{"$f":"'kros seznam'!RML103","v":0},{"$f":"'kros seznam'!RMM103","v":0},{"$f":"'kros seznam'!RMN103","v":0},{"$f":"'kros seznam'!RMO103","v":0},{"$f":"'kros seznam'!RMP103","v":0},{"$f":"'kros seznam'!RMQ103","v":0},{"$f":"'kros seznam'!RMR103","v":0},{"$f":"'kros seznam'!RMS103","v":0},{"$f":"'kros seznam'!RMT103","v":0},{"$f":"'kros seznam'!RMU103","v":0},{"$f":"'kros seznam'!RMV103","v":0},{"$f":"'kros seznam'!RMW103","v":0},{"$f":"'kros seznam'!RMX103","v":0},{"$f":"'kros seznam'!RMY103","v":0},{"$f":"'kros seznam'!RMZ103","v":0},{"$f":"'kros seznam'!RNA103","v":0},{"$f":"'kros seznam'!RNB103","v":0},{"$f":"'kros seznam'!RNC103","v":0},{"$f":"'kros seznam'!RND103","v":0},{"$f":"'kros seznam'!RNE103","v":0},{"$f":"'kros seznam'!RNF103","v":0},{"$f":"'kros seznam'!RNG103","v":0},{"$f":"'kros seznam'!RNH103","v":0},{"$f":"'kros seznam'!RNI103","v":0},{"$f":"'kros seznam'!RNJ103","v":0},{"$f":"'kros seznam'!RNK103","v":0},{"$f":"'kros seznam'!RNL103","v":0},{"$f":"'kros seznam'!RNM103","v":0},{"$f":"'kros seznam'!RNN103","v":0},{"$f":"'kros seznam'!RNO103","v":0},{"$f":"'kros seznam'!RNP103","v":0},{"$f":"'kros seznam'!RNQ103","v":0},{"$f":"'kros seznam'!RNR103","v":0},{"$f":"'kros seznam'!RNS103","v":0},{"$f":"'kros seznam'!RNT103","v":0},{"$f":"'kros seznam'!RNU103","v":0},{"$f":"'kros seznam'!RNV103","v":0},{"$f":"'kros seznam'!RNW103","v":0},{"$f":"'kros seznam'!RNX103","v":0},{"$f":"'kros seznam'!RNY103","v":0},{"$f":"'kros seznam'!RNZ103","v":0},{"$f":"'kros seznam'!ROA103","v":0},{"$f":"'kros seznam'!ROB103","v":0},{"$f":"'kros seznam'!ROC103","v":0},{"$f":"'kros seznam'!ROD103","v":0},{"$f":"'kros seznam'!ROE103","v":0},{"$f":"'kros seznam'!ROF103","v":0},{"$f":"'kros seznam'!ROG103","v":0},{"$f":"'kros seznam'!ROH103","v":0},{"$f":"'kros seznam'!ROI103","v":0},{"$f":"'kros seznam'!ROJ103","v":0},{"$f":"'kros seznam'!ROK103","v":0},{"$f":"'kros seznam'!ROL103","v":0},{"$f":"'kros seznam'!ROM103","v":0},{"$f":"'kros seznam'!RON103","v":0},{"$f":"'kros seznam'!ROO103","v":0},{"$f":"'kros seznam'!ROP103","v":0},{"$f":"'kros seznam'!ROQ103","v":0},{"$f":"'kros seznam'!ROR103","v":0},{"$f":"'kros seznam'!ROS103","v":0},{"$f":"'kros seznam'!ROT103","v":0},{"$f":"'kros seznam'!ROU103","v":0},{"$f":"'kros seznam'!ROV103","v":0},{"$f":"'kros seznam'!ROW103","v":0},{"$f":"'kros seznam'!ROX103","v":0},{"$f":"'kros seznam'!ROY103","v":0},{"$f":"'kros seznam'!ROZ103","v":0},{"$f":"'kros seznam'!RPA103","v":0},{"$f":"'kros seznam'!RPB103","v":0},{"$f":"'kros seznam'!RPC103","v":0},{"$f":"'kros seznam'!RPD103","v":0},{"$f":"'kros seznam'!RPE103","v":0},{"$f":"'kros seznam'!RPF103","v":0},{"$f":"'kros seznam'!RPG103","v":0},{"$f":"'kros seznam'!RPH103","v":0},{"$f":"'kros seznam'!RPI103","v":0},{"$f":"'kros seznam'!RPJ103","v":0},{"$f":"'kros seznam'!RPK103","v":0},{"$f":"'kros seznam'!RPL103","v":0},{"$f":"'kros seznam'!RPM103","v":0},{"$f":"'kros seznam'!RPN103","v":0},{"$f":"'kros seznam'!RPO103","v":0},{"$f":"'kros seznam'!RPP103","v":0},{"$f":"'kros seznam'!RPQ103","v":0},{"$f":"'kros seznam'!RPR103","v":0},{"$f":"'kros seznam'!RPS103","v":0},{"$f":"'kros seznam'!RPT103","v":0},{"$f":"'kros seznam'!RPU103","v":0},{"$f":"'kros seznam'!RPV103","v":0},{"$f":"'kros seznam'!RPW103","v":0},{"$f":"'kros seznam'!RPX103","v":0},{"$f":"'kros seznam'!RPY103","v":0},{"$f":"'kros seznam'!RPZ103","v":0},{"$f":"'kros seznam'!RQA103","v":0},{"$f":"'kros seznam'!RQB103","v":0},{"$f":"'kros seznam'!RQC103","v":0},{"$f":"'kros seznam'!RQD103","v":0},{"$f":"'kros seznam'!RQE103","v":0},{"$f":"'kros seznam'!RQF103","v":0},{"$f":"'kros seznam'!RQG103","v":0},{"$f":"'kros seznam'!RQH103","v":0},{"$f":"'kros seznam'!RQI103","v":0},{"$f":"'kros seznam'!RQJ103","v":0},{"$f":"'kros seznam'!RQK103","v":0},{"$f":"'kros seznam'!RQL103","v":0},{"$f":"'kros seznam'!RQM103","v":0},{"$f":"'kros seznam'!RQN103","v":0},{"$f":"'kros seznam'!RQO103","v":0},{"$f":"'kros seznam'!RQP103","v":0},{"$f":"'kros seznam'!RQQ103","v":0},{"$f":"'kros seznam'!RQR103","v":0},{"$f":"'kros seznam'!RQS103","v":0},{"$f":"'kros seznam'!RQT103","v":0},{"$f":"'kros seznam'!RQU103","v":0},{"$f":"'kros seznam'!RQV103","v":0},{"$f":"'kros seznam'!RQW103","v":0},{"$f":"'kros seznam'!RQX103","v":0},{"$f":"'kros seznam'!RQY103","v":0},{"$f":"'kros seznam'!RQZ103","v":0},{"$f":"'kros seznam'!RRA103","v":0},{"$f":"'kros seznam'!RRB103","v":0},{"$f":"'kros seznam'!RRC103","v":0},{"$f":"'kros seznam'!RRD103","v":0},{"$f":"'kros seznam'!RRE103","v":0},{"$f":"'kros seznam'!RRF103","v":0},{"$f":"'kros seznam'!RRG103","v":0},{"$f":"'kros seznam'!RRH103","v":0},{"$f":"'kros seznam'!RRI103","v":0},{"$f":"'kros seznam'!RRJ103","v":0},{"$f":"'kros seznam'!RRK103","v":0},{"$f":"'kros seznam'!RRL103","v":0},{"$f":"'kros seznam'!RRM103","v":0},{"$f":"'kros seznam'!RRN103","v":0},{"$f":"'kros seznam'!RRO103","v":0},{"$f":"'kros seznam'!RRP103","v":0},{"$f":"'kros seznam'!RRQ103","v":0},{"$f":"'kros seznam'!RRR103","v":0},{"$f":"'kros seznam'!RRS103","v":0},{"$f":"'kros seznam'!RRT103","v":0},{"$f":"'kros seznam'!RRU103","v":0},{"$f":"'kros seznam'!RRV103","v":0},{"$f":"'kros seznam'!RRW103","v":0},{"$f":"'kros seznam'!RRX103","v":0},{"$f":"'kros seznam'!RRY103","v":0},{"$f":"'kros seznam'!RRZ103","v":0},{"$f":"'kros seznam'!RSA103","v":0},{"$f":"'kros seznam'!RSB103","v":0},{"$f":"'kros seznam'!RSC103","v":0},{"$f":"'kros seznam'!RSD103","v":0},{"$f":"'kros seznam'!RSE103","v":0},{"$f":"'kros seznam'!RSF103","v":0},{"$f":"'kros seznam'!RSG103","v":0},{"$f":"'kros seznam'!RSH103","v":0},{"$f":"'kros seznam'!RSI103","v":0},{"$f":"'kros seznam'!RSJ103","v":0},{"$f":"'kros seznam'!RSK103","v":0},{"$f":"'kros seznam'!RSL103","v":0},{"$f":"'kros seznam'!RSM103","v":0},{"$f":"'kros seznam'!RSN103","v":0},{"$f":"'kros seznam'!RSO103","v":0},{"$f":"'kros seznam'!RSP103","v":0},{"$f":"'kros seznam'!RSQ103","v":0},{"$f":"'kros seznam'!RSR103","v":0},{"$f":"'kros seznam'!RSS103","v":0},{"$f":"'kros seznam'!RST103","v":0},{"$f":"'kros seznam'!RSU103","v":0},{"$f":"'kros seznam'!RSV103","v":0},{"$f":"'kros seznam'!RSW103","v":0},{"$f":"'kros seznam'!RSX103","v":0},{"$f":"'kros seznam'!RSY103","v":0},{"$f":"'kros seznam'!RSZ103","v":0},{"$f":"'kros seznam'!RTA103","v":0},{"$f":"'kros seznam'!RTB103","v":0},{"$f":"'kros seznam'!RTC103","v":0},{"$f":"'kros seznam'!RTD103","v":0},{"$f":"'kros seznam'!RTE103","v":0},{"$f":"'kros seznam'!RTF103","v":0},{"$f":"'kros seznam'!RTG103","v":0},{"$f":"'kros seznam'!RTH103","v":0},{"$f":"'kros seznam'!RTI103","v":0},{"$f":"'kros seznam'!RTJ103","v":0},{"$f":"'kros seznam'!RTK103","v":0},{"$f":"'kros seznam'!RTL103","v":0},{"$f":"'kros seznam'!RTM103","v":0},{"$f":"'kros seznam'!RTN103","v":0},{"$f":"'kros seznam'!RTO103","v":0},{"$f":"'kros seznam'!RTP103","v":0},{"$f":"'kros seznam'!RTQ103","v":0},{"$f":"'kros seznam'!RTR103","v":0},{"$f":"'kros seznam'!RTS103","v":0},{"$f":"'kros seznam'!RTT103","v":0},{"$f":"'kros seznam'!RTU103","v":0},{"$f":"'kros seznam'!RTV103","v":0},{"$f":"'kros seznam'!RTW103","v":0},{"$f":"'kros seznam'!RTX103","v":0},{"$f":"'kros seznam'!RTY103","v":0},{"$f":"'kros seznam'!RTZ103","v":0},{"$f":"'kros seznam'!RUA103","v":0},{"$f":"'kros seznam'!RUB103","v":0},{"$f":"'kros seznam'!RUC103","v":0},{"$f":"'kros seznam'!RUD103","v":0},{"$f":"'kros seznam'!RUE103","v":0},{"$f":"'kros seznam'!RUF103","v":0},{"$f":"'kros seznam'!RUG103","v":0},{"$f":"'kros seznam'!RUH103","v":0},{"$f":"'kros seznam'!RUI103","v":0},{"$f":"'kros seznam'!RUJ103","v":0},{"$f":"'kros seznam'!RUK103","v":0},{"$f":"'kros seznam'!RUL103","v":0},{"$f":"'kros seznam'!RUM103","v":0},{"$f":"'kros seznam'!RUN103","v":0},{"$f":"'kros seznam'!RUO103","v":0},{"$f":"'kros seznam'!RUP103","v":0},{"$f":"'kros seznam'!RUQ103","v":0},{"$f":"'kros seznam'!RUR103","v":0},{"$f":"'kros seznam'!RUS103","v":0},{"$f":"'kros seznam'!RUT103","v":0},{"$f":"'kros seznam'!RUU103","v":0},{"$f":"'kros seznam'!RUV103","v":0},{"$f":"'kros seznam'!RUW103","v":0},{"$f":"'kros seznam'!RUX103","v":0},{"$f":"'kros seznam'!RUY103","v":0},{"$f":"'kros seznam'!RUZ103","v":0},{"$f":"'kros seznam'!RVA103","v":0},{"$f":"'kros seznam'!RVB103","v":0},{"$f":"'kros seznam'!RVC103","v":0},{"$f":"'kros seznam'!RVD103","v":0},{"$f":"'kros seznam'!RVE103","v":0},{"$f":"'kros seznam'!RVF103","v":0},{"$f":"'kros seznam'!RVG103","v":0},{"$f":"'kros seznam'!RVH103","v":0},{"$f":"'kros seznam'!RVI103","v":0},{"$f":"'kros seznam'!RVJ103","v":0},{"$f":"'kros seznam'!RVK103","v":0},{"$f":"'kros seznam'!RVL103","v":0},{"$f":"'kros seznam'!RVM103","v":0},{"$f":"'kros seznam'!RVN103","v":0},{"$f":"'kros seznam'!RVO103","v":0},{"$f":"'kros seznam'!RVP103","v":0},{"$f":"'kros seznam'!RVQ103","v":0},{"$f":"'kros seznam'!RVR103","v":0},{"$f":"'kros seznam'!RVS103","v":0},{"$f":"'kros seznam'!RVT103","v":0},{"$f":"'kros seznam'!RVU103","v":0},{"$f":"'kros seznam'!RVV103","v":0},{"$f":"'kros seznam'!RVW103","v":0},{"$f":"'kros seznam'!RVX103","v":0},{"$f":"'kros seznam'!RVY103","v":0},{"$f":"'kros seznam'!RVZ103","v":0},{"$f":"'kros seznam'!RWA103","v":0},{"$f":"'kros seznam'!RWB103","v":0},{"$f":"'kros seznam'!RWC103","v":0},{"$f":"'kros seznam'!RWD103","v":0},{"$f":"'kros seznam'!RWE103","v":0},{"$f":"'kros seznam'!RWF103","v":0},{"$f":"'kros seznam'!RWG103","v":0},{"$f":"'kros seznam'!RWH103","v":0},{"$f":"'kros seznam'!RWI103","v":0},{"$f":"'kros seznam'!RWJ103","v":0},{"$f":"'kros seznam'!RWK103","v":0},{"$f":"'kros seznam'!RWL103","v":0},{"$f":"'kros seznam'!RWM103","v":0},{"$f":"'kros seznam'!RWN103","v":0},{"$f":"'kros seznam'!RWO103","v":0},{"$f":"'kros seznam'!RWP103","v":0},{"$f":"'kros seznam'!RWQ103","v":0},{"$f":"'kros seznam'!RWR103","v":0},{"$f":"'kros seznam'!RWS103","v":0},{"$f":"'kros seznam'!RWT103","v":0},{"$f":"'kros seznam'!RWU103","v":0},{"$f":"'kros seznam'!RWV103","v":0},{"$f":"'kros seznam'!RWW103","v":0},{"$f":"'kros seznam'!RWX103","v":0},{"$f":"'kros seznam'!RWY103","v":0},{"$f":"'kros seznam'!RWZ103","v":0},{"$f":"'kros seznam'!RXA103","v":0},{"$f":"'kros seznam'!RXB103","v":0},{"$f":"'kros seznam'!RXC103","v":0},{"$f":"'kros seznam'!RXD103","v":0},{"$f":"'kros seznam'!RXE103","v":0},{"$f":"'kros seznam'!RXF103","v":0},{"$f":"'kros seznam'!RXG103","v":0},{"$f":"'kros seznam'!RXH103","v":0},{"$f":"'kros seznam'!RXI103","v":0},{"$f":"'kros seznam'!RXJ103","v":0},{"$f":"'kros seznam'!RXK103","v":0},{"$f":"'kros seznam'!RXL103","v":0},{"$f":"'kros seznam'!RXM103","v":0},{"$f":"'kros seznam'!RXN103","v":0},{"$f":"'kros seznam'!RXO103","v":0},{"$f":"'kros seznam'!RXP103","v":0},{"$f":"'kros seznam'!RXQ103","v":0},{"$f":"'kros seznam'!RXR103","v":0},{"$f":"'kros seznam'!RXS103","v":0},{"$f":"'kros seznam'!RXT103","v":0},{"$f":"'kros seznam'!RXU103","v":0},{"$f":"'kros seznam'!RXV103","v":0},{"$f":"'kros seznam'!RXW103","v":0},{"$f":"'kros seznam'!RXX103","v":0},{"$f":"'kros seznam'!RXY103","v":0},{"$f":"'kros seznam'!RXZ103","v":0},{"$f":"'kros seznam'!RYA103","v":0},{"$f":"'kros seznam'!RYB103","v":0},{"$f":"'kros seznam'!RYC103","v":0},{"$f":"'kros seznam'!RYD103","v":0},{"$f":"'kros seznam'!RYE103","v":0},{"$f":"'kros seznam'!RYF103","v":0},{"$f":"'kros seznam'!RYG103","v":0},{"$f":"'kros seznam'!RYH103","v":0},{"$f":"'kros seznam'!RYI103","v":0},{"$f":"'kros seznam'!RYJ103","v":0},{"$f":"'kros seznam'!RYK103","v":0},{"$f":"'kros seznam'!RYL103","v":0},{"$f":"'kros seznam'!RYM103","v":0},{"$f":"'kros seznam'!RYN103","v":0},{"$f":"'kros seznam'!RYO103","v":0},{"$f":"'kros seznam'!RYP103","v":0},{"$f":"'kros seznam'!RYQ103","v":0},{"$f":"'kros seznam'!RYR103","v":0},{"$f":"'kros seznam'!RYS103","v":0},{"$f":"'kros seznam'!RYT103","v":0},{"$f":"'kros seznam'!RYU103","v":0},{"$f":"'kros seznam'!RYV103","v":0},{"$f":"'kros seznam'!RYW103","v":0},{"$f":"'kros seznam'!RYX103","v":0},{"$f":"'kros seznam'!RYY103","v":0},{"$f":"'kros seznam'!RYZ103","v":0},{"$f":"'kros seznam'!RZA103","v":0},{"$f":"'kros seznam'!RZB103","v":0},{"$f":"'kros seznam'!RZC103","v":0},{"$f":"'kros seznam'!RZD103","v":0},{"$f":"'kros seznam'!RZE103","v":0},{"$f":"'kros seznam'!RZF103","v":0},{"$f":"'kros seznam'!RZG103","v":0},{"$f":"'kros seznam'!RZH103","v":0},{"$f":"'kros seznam'!RZI103","v":0},{"$f":"'kros seznam'!RZJ103","v":0},{"$f":"'kros seznam'!RZK103","v":0},{"$f":"'kros seznam'!RZL103","v":0},{"$f":"'kros seznam'!RZM103","v":0},{"$f":"'kros seznam'!RZN103","v":0},{"$f":"'kros seznam'!RZO103","v":0},{"$f":"'kros seznam'!RZP103","v":0},{"$f":"'kros seznam'!RZQ103","v":0},{"$f":"'kros seznam'!RZR103","v":0},{"$f":"'kros seznam'!RZS103","v":0},{"$f":"'kros seznam'!RZT103","v":0},{"$f":"'kros seznam'!RZU103","v":0},{"$f":"'kros seznam'!RZV103","v":0},{"$f":"'kros seznam'!RZW103","v":0},{"$f":"'kros seznam'!RZX103","v":0},{"$f":"'kros seznam'!RZY103","v":0},{"$f":"'kros seznam'!RZZ103","v":0},{"$f":"'kros seznam'!SAA103","v":0},{"$f":"'kros seznam'!SAB103","v":0},{"$f":"'kros seznam'!SAC103","v":0},{"$f":"'kros seznam'!SAD103","v":0},{"$f":"'kros seznam'!SAE103","v":0},{"$f":"'kros seznam'!SAF103","v":0},{"$f":"'kros seznam'!SAG103","v":0},{"$f":"'kros seznam'!SAH103","v":0},{"$f":"'kros seznam'!SAI103","v":0},{"$f":"'kros seznam'!SAJ103","v":0},{"$f":"'kros seznam'!SAK103","v":0},{"$f":"'kros seznam'!SAL103","v":0},{"$f":"'kros seznam'!SAM103","v":0},{"$f":"'kros seznam'!SAN103","v":0},{"$f":"'kros seznam'!SAO103","v":0},{"$f":"'kros seznam'!SAP103","v":0},{"$f":"'kros seznam'!SAQ103","v":0},{"$f":"'kros seznam'!SAR103","v":0},{"$f":"'kros seznam'!SAS103","v":0},{"$f":"'kros seznam'!SAT103","v":0},{"$f":"'kros seznam'!SAU103","v":0},{"$f":"'kros seznam'!SAV103","v":0},{"$f":"'kros seznam'!SAW103","v":0},{"$f":"'kros seznam'!SAX103","v":0},{"$f":"'kros seznam'!SAY103","v":0},{"$f":"'kros seznam'!SAZ103","v":0},{"$f":"'kros seznam'!SBA103","v":0},{"$f":"'kros seznam'!SBB103","v":0},{"$f":"'kros seznam'!SBC103","v":0},{"$f":"'kros seznam'!SBD103","v":0},{"$f":"'kros seznam'!SBE103","v":0},{"$f":"'kros seznam'!SBF103","v":0},{"$f":"'kros seznam'!SBG103","v":0},{"$f":"'kros seznam'!SBH103","v":0},{"$f":"'kros seznam'!SBI103","v":0},{"$f":"'kros seznam'!SBJ103","v":0},{"$f":"'kros seznam'!SBK103","v":0},{"$f":"'kros seznam'!SBL103","v":0},{"$f":"'kros seznam'!SBM103","v":0},{"$f":"'kros seznam'!SBN103","v":0},{"$f":"'kros seznam'!SBO103","v":0},{"$f":"'kros seznam'!SBP103","v":0},{"$f":"'kros seznam'!SBQ103","v":0},{"$f":"'kros seznam'!SBR103","v":0},{"$f":"'kros seznam'!SBS103","v":0},{"$f":"'kros seznam'!SBT103","v":0},{"$f":"'kros seznam'!SBU103","v":0},{"$f":"'kros seznam'!SBV103","v":0},{"$f":"'kros seznam'!SBW103","v":0},{"$f":"'kros seznam'!SBX103","v":0},{"$f":"'kros seznam'!SBY103","v":0},{"$f":"'kros seznam'!SBZ103","v":0},{"$f":"'kros seznam'!SCA103","v":0},{"$f":"'kros seznam'!SCB103","v":0},{"$f":"'kros seznam'!SCC103","v":0},{"$f":"'kros seznam'!SCD103","v":0},{"$f":"'kros seznam'!SCE103","v":0},{"$f":"'kros seznam'!SCF103","v":0},{"$f":"'kros seznam'!SCG103","v":0},{"$f":"'kros seznam'!SCH103","v":0},{"$f":"'kros seznam'!SCI103","v":0},{"$f":"'kros seznam'!SCJ103","v":0},{"$f":"'kros seznam'!SCK103","v":0},{"$f":"'kros seznam'!SCL103","v":0},{"$f":"'kros seznam'!SCM103","v":0},{"$f":"'kros seznam'!SCN103","v":0},{"$f":"'kros seznam'!SCO103","v":0},{"$f":"'kros seznam'!SCP103","v":0},{"$f":"'kros seznam'!SCQ103","v":0},{"$f":"'kros seznam'!SCR103","v":0},{"$f":"'kros seznam'!SCS103","v":0},{"$f":"'kros seznam'!SCT103","v":0},{"$f":"'kros seznam'!SCU103","v":0},{"$f":"'kros seznam'!SCV103","v":0},{"$f":"'kros seznam'!SCW103","v":0},{"$f":"'kros seznam'!SCX103","v":0},{"$f":"'kros seznam'!SCY103","v":0},{"$f":"'kros seznam'!SCZ103","v":0},{"$f":"'kros seznam'!SDA103","v":0},{"$f":"'kros seznam'!SDB103","v":0},{"$f":"'kros seznam'!SDC103","v":0},{"$f":"'kros seznam'!SDD103","v":0},{"$f":"'kros seznam'!SDE103","v":0},{"$f":"'kros seznam'!SDF103","v":0},{"$f":"'kros seznam'!SDG103","v":0},{"$f":"'kros seznam'!SDH103","v":0},{"$f":"'kros seznam'!SDI103","v":0},{"$f":"'kros seznam'!SDJ103","v":0},{"$f":"'kros seznam'!SDK103","v":0},{"$f":"'kros seznam'!SDL103","v":0},{"$f":"'kros seznam'!SDM103","v":0},{"$f":"'kros seznam'!SDN103","v":0},{"$f":"'kros seznam'!SDO103","v":0},{"$f":"'kros seznam'!SDP103","v":0},{"$f":"'kros seznam'!SDQ103","v":0},{"$f":"'kros seznam'!SDR103","v":0},{"$f":"'kros seznam'!SDS103","v":0},{"$f":"'kros seznam'!SDT103","v":0},{"$f":"'kros seznam'!SDU103","v":0},{"$f":"'kros seznam'!SDV103","v":0},{"$f":"'kros seznam'!SDW103","v":0},{"$f":"'kros seznam'!SDX103","v":0},{"$f":"'kros seznam'!SDY103","v":0},{"$f":"'kros seznam'!SDZ103","v":0},{"$f":"'kros seznam'!SEA103","v":0},{"$f":"'kros seznam'!SEB103","v":0},{"$f":"'kros seznam'!SEC103","v":0},{"$f":"'kros seznam'!SED103","v":0},{"$f":"'kros seznam'!SEE103","v":0},{"$f":"'kros seznam'!SEF103","v":0},{"$f":"'kros seznam'!SEG103","v":0},{"$f":"'kros seznam'!SEH103","v":0},{"$f":"'kros seznam'!SEI103","v":0},{"$f":"'kros seznam'!SEJ103","v":0},{"$f":"'kros seznam'!SEK103","v":0},{"$f":"'kros seznam'!SEL103","v":0},{"$f":"'kros seznam'!SEM103","v":0},{"$f":"'kros seznam'!SEN103","v":0},{"$f":"'kros seznam'!SEO103","v":0},{"$f":"'kros seznam'!SEP103","v":0},{"$f":"'kros seznam'!SEQ103","v":0},{"$f":"'kros seznam'!SER103","v":0},{"$f":"'kros seznam'!SES103","v":0},{"$f":"'kros seznam'!SET103","v":0},{"$f":"'kros seznam'!SEU103","v":0},{"$f":"'kros seznam'!SEV103","v":0},{"$f":"'kros seznam'!SEW103","v":0},{"$f":"'kros seznam'!SEX103","v":0},{"$f":"'kros seznam'!SEY103","v":0},{"$f":"'kros seznam'!SEZ103","v":0},{"$f":"'kros seznam'!SFA103","v":0},{"$f":"'kros seznam'!SFB103","v":0},{"$f":"'kros seznam'!SFC103","v":0},{"$f":"'kros seznam'!SFD103","v":0},{"$f":"'kros seznam'!SFE103","v":0},{"$f":"'kros seznam'!SFF103","v":0},{"$f":"'kros seznam'!SFG103","v":0},{"$f":"'kros seznam'!SFH103","v":0},{"$f":"'kros seznam'!SFI103","v":0},{"$f":"'kros seznam'!SFJ103","v":0},{"$f":"'kros seznam'!SFK103","v":0},{"$f":"'kros seznam'!SFL103","v":0},{"$f":"'kros seznam'!SFM103","v":0},{"$f":"'kros seznam'!SFN103","v":0},{"$f":"'kros seznam'!SFO103","v":0},{"$f":"'kros seznam'!SFP103","v":0},{"$f":"'kros seznam'!SFQ103","v":0},{"$f":"'kros seznam'!SFR103","v":0},{"$f":"'kros seznam'!SFS103","v":0},{"$f":"'kros seznam'!SFT103","v":0},{"$f":"'kros seznam'!SFU103","v":0},{"$f":"'kros seznam'!SFV103","v":0},{"$f":"'kros seznam'!SFW103","v":0},{"$f":"'kros seznam'!SFX103","v":0},{"$f":"'kros seznam'!SFY103","v":0},{"$f":"'kros seznam'!SFZ103","v":0},{"$f":"'kros seznam'!SGA103","v":0},{"$f":"'kros seznam'!SGB103","v":0},{"$f":"'kros seznam'!SGC103","v":0},{"$f":"'kros seznam'!SGD103","v":0},{"$f":"'kros seznam'!SGE103","v":0},{"$f":"'kros seznam'!SGF103","v":0},{"$f":"'kros seznam'!SGG103","v":0},{"$f":"'kros seznam'!SGH103","v":0},{"$f":"'kros seznam'!SGI103","v":0},{"$f":"'kros seznam'!SGJ103","v":0},{"$f":"'kros seznam'!SGK103","v":0},{"$f":"'kros seznam'!SGL103","v":0},{"$f":"'kros seznam'!SGM103","v":0},{"$f":"'kros seznam'!SGN103","v":0},{"$f":"'kros seznam'!SGO103","v":0},{"$f":"'kros seznam'!SGP103","v":0},{"$f":"'kros seznam'!SGQ103","v":0},{"$f":"'kros seznam'!SGR103","v":0},{"$f":"'kros seznam'!SGS103","v":0},{"$f":"'kros seznam'!SGT103","v":0},{"$f":"'kros seznam'!SGU103","v":0},{"$f":"'kros seznam'!SGV103","v":0},{"$f":"'kros seznam'!SGW103","v":0},{"$f":"'kros seznam'!SGX103","v":0},{"$f":"'kros seznam'!SGY103","v":0},{"$f":"'kros seznam'!SGZ103","v":0},{"$f":"'kros seznam'!SHA103","v":0},{"$f":"'kros seznam'!SHB103","v":0},{"$f":"'kros seznam'!SHC103","v":0},{"$f":"'kros seznam'!SHD103","v":0},{"$f":"'kros seznam'!SHE103","v":0},{"$f":"'kros seznam'!SHF103","v":0},{"$f":"'kros seznam'!SHG103","v":0},{"$f":"'kros seznam'!SHH103","v":0},{"$f":"'kros seznam'!SHI103","v":0},{"$f":"'kros seznam'!SHJ103","v":0},{"$f":"'kros seznam'!SHK103","v":0},{"$f":"'kros seznam'!SHL103","v":0},{"$f":"'kros seznam'!SHM103","v":0},{"$f":"'kros seznam'!SHN103","v":0},{"$f":"'kros seznam'!SHO103","v":0},{"$f":"'kros seznam'!SHP103","v":0},{"$f":"'kros seznam'!SHQ103","v":0},{"$f":"'kros seznam'!SHR103","v":0},{"$f":"'kros seznam'!SHS103","v":0},{"$f":"'kros seznam'!SHT103","v":0},{"$f":"'kros seznam'!SHU103","v":0},{"$f":"'kros seznam'!SHV103","v":0},{"$f":"'kros seznam'!SHW103","v":0},{"$f":"'kros seznam'!SHX103","v":0},{"$f":"'kros seznam'!SHY103","v":0},{"$f":"'kros seznam'!SHZ103","v":0},{"$f":"'kros seznam'!SIA103","v":0},{"$f":"'kros seznam'!SIB103","v":0},{"$f":"'kros seznam'!SIC103","v":0},{"$f":"'kros seznam'!SID103","v":0},{"$f":"'kros seznam'!SIE103","v":0},{"$f":"'kros seznam'!SIF103","v":0},{"$f":"'kros seznam'!SIG103","v":0},{"$f":"'kros seznam'!SIH103","v":0},{"$f":"'kros seznam'!SII103","v":0},{"$f":"'kros seznam'!SIJ103","v":0},{"$f":"'kros seznam'!SIK103","v":0},{"$f":"'kros seznam'!SIL103","v":0},{"$f":"'kros seznam'!SIM103","v":0},{"$f":"'kros seznam'!SIN103","v":0},{"$f":"'kros seznam'!SIO103","v":0},{"$f":"'kros seznam'!SIP103","v":0},{"$f":"'kros seznam'!SIQ103","v":0},{"$f":"'kros seznam'!SIR103","v":0},{"$f":"'kros seznam'!SIS103","v":0},{"$f":"'kros seznam'!SIT103","v":0},{"$f":"'kros seznam'!SIU103","v":0},{"$f":"'kros seznam'!SIV103","v":0},{"$f":"'kros seznam'!SIW103","v":0},{"$f":"'kros seznam'!SIX103","v":0},{"$f":"'kros seznam'!SIY103","v":0},{"$f":"'kros seznam'!SIZ103","v":0},{"$f":"'kros seznam'!SJA103","v":0},{"$f":"'kros seznam'!SJB103","v":0},{"$f":"'kros seznam'!SJC103","v":0},{"$f":"'kros seznam'!SJD103","v":0},{"$f":"'kros seznam'!SJE103","v":0},{"$f":"'kros seznam'!SJF103","v":0},{"$f":"'kros seznam'!SJG103","v":0},{"$f":"'kros seznam'!SJH103","v":0},{"$f":"'kros seznam'!SJI103","v":0},{"$f":"'kros seznam'!SJJ103","v":0},{"$f":"'kros seznam'!SJK103","v":0},{"$f":"'kros seznam'!SJL103","v":0},{"$f":"'kros seznam'!SJM103","v":0},{"$f":"'kros seznam'!SJN103","v":0},{"$f":"'kros seznam'!SJO103","v":0},{"$f":"'kros seznam'!SJP103","v":0},{"$f":"'kros seznam'!SJQ103","v":0},{"$f":"'kros seznam'!SJR103","v":0},{"$f":"'kros seznam'!SJS103","v":0},{"$f":"'kros seznam'!SJT103","v":0},{"$f":"'kros seznam'!SJU103","v":0},{"$f":"'kros seznam'!SJV103","v":0},{"$f":"'kros seznam'!SJW103","v":0},{"$f":"'kros seznam'!SJX103","v":0},{"$f":"'kros seznam'!SJY103","v":0},{"$f":"'kros seznam'!SJZ103","v":0},{"$f":"'kros seznam'!SKA103","v":0},{"$f":"'kros seznam'!SKB103","v":0},{"$f":"'kros seznam'!SKC103","v":0},{"$f":"'kros seznam'!SKD103","v":0},{"$f":"'kros seznam'!SKE103","v":0},{"$f":"'kros seznam'!SKF103","v":0},{"$f":"'kros seznam'!SKG103","v":0},{"$f":"'kros seznam'!SKH103","v":0},{"$f":"'kros seznam'!SKI103","v":0},{"$f":"'kros seznam'!SKJ103","v":0},{"$f":"'kros seznam'!SKK103","v":0},{"$f":"'kros seznam'!SKL103","v":0},{"$f":"'kros seznam'!SKM103","v":0},{"$f":"'kros seznam'!SKN103","v":0},{"$f":"'kros seznam'!SKO103","v":0},{"$f":"'kros seznam'!SKP103","v":0},{"$f":"'kros seznam'!SKQ103","v":0},{"$f":"'kros seznam'!SKR103","v":0},{"$f":"'kros seznam'!SKS103","v":0},{"$f":"'kros seznam'!SKT103","v":0},{"$f":"'kros seznam'!SKU103","v":0},{"$f":"'kros seznam'!SKV103","v":0},{"$f":"'kros seznam'!SKW103","v":0},{"$f":"'kros seznam'!SKX103","v":0},{"$f":"'kros seznam'!SKY103","v":0},{"$f":"'kros seznam'!SKZ103","v":0},{"$f":"'kros seznam'!SLA103","v":0},{"$f":"'kros seznam'!SLB103","v":0},{"$f":"'kros seznam'!SLC103","v":0},{"$f":"'kros seznam'!SLD103","v":0},{"$f":"'kros seznam'!SLE103","v":0},{"$f":"'kros seznam'!SLF103","v":0},{"$f":"'kros seznam'!SLG103","v":0},{"$f":"'kros seznam'!SLH103","v":0},{"$f":"'kros seznam'!SLI103","v":0},{"$f":"'kros seznam'!SLJ103","v":0},{"$f":"'kros seznam'!SLK103","v":0},{"$f":"'kros seznam'!SLL103","v":0},{"$f":"'kros seznam'!SLM103","v":0},{"$f":"'kros seznam'!SLN103","v":0},{"$f":"'kros seznam'!SLO103","v":0},{"$f":"'kros seznam'!SLP103","v":0},{"$f":"'kros seznam'!SLQ103","v":0},{"$f":"'kros seznam'!SLR103","v":0},{"$f":"'kros seznam'!SLS103","v":0},{"$f":"'kros seznam'!SLT103","v":0},{"$f":"'kros seznam'!SLU103","v":0},{"$f":"'kros seznam'!SLV103","v":0},{"$f":"'kros seznam'!SLW103","v":0},{"$f":"'kros seznam'!SLX103","v":0},{"$f":"'kros seznam'!SLY103","v":0},{"$f":"'kros seznam'!SLZ103","v":0},{"$f":"'kros seznam'!SMA103","v":0},{"$f":"'kros seznam'!SMB103","v":0},{"$f":"'kros seznam'!SMC103","v":0},{"$f":"'kros seznam'!SMD103","v":0},{"$f":"'kros seznam'!SME103","v":0},{"$f":"'kros seznam'!SMF103","v":0},{"$f":"'kros seznam'!SMG103","v":0},{"$f":"'kros seznam'!SMH103","v":0},{"$f":"'kros seznam'!SMI103","v":0},{"$f":"'kros seznam'!SMJ103","v":0},{"$f":"'kros seznam'!SMK103","v":0},{"$f":"'kros seznam'!SML103","v":0},{"$f":"'kros seznam'!SMM103","v":0},{"$f":"'kros seznam'!SMN103","v":0},{"$f":"'kros seznam'!SMO103","v":0},{"$f":"'kros seznam'!SMP103","v":0},{"$f":"'kros seznam'!SMQ103","v":0},{"$f":"'kros seznam'!SMR103","v":0},{"$f":"'kros seznam'!SMS103","v":0},{"$f":"'kros seznam'!SMT103","v":0},{"$f":"'kros seznam'!SMU103","v":0},{"$f":"'kros seznam'!SMV103","v":0},{"$f":"'kros seznam'!SMW103","v":0},{"$f":"'kros seznam'!SMX103","v":0},{"$f":"'kros seznam'!SMY103","v":0},{"$f":"'kros seznam'!SMZ103","v":0},{"$f":"'kros seznam'!SNA103","v":0},{"$f":"'kros seznam'!SNB103","v":0},{"$f":"'kros seznam'!SNC103","v":0},{"$f":"'kros seznam'!SND103","v":0},{"$f":"'kros seznam'!SNE103","v":0},{"$f":"'kros seznam'!SNF103","v":0},{"$f":"'kros seznam'!SNG103","v":0},{"$f":"'kros seznam'!SNH103","v":0},{"$f":"'kros seznam'!SNI103","v":0},{"$f":"'kros seznam'!SNJ103","v":0},{"$f":"'kros seznam'!SNK103","v":0},{"$f":"'kros seznam'!SNL103","v":0},{"$f":"'kros seznam'!SNM103","v":0},{"$f":"'kros seznam'!SNN103","v":0},{"$f":"'kros seznam'!SNO103","v":0},{"$f":"'kros seznam'!SNP103","v":0},{"$f":"'kros seznam'!SNQ103","v":0},{"$f":"'kros seznam'!SNR103","v":0},{"$f":"'kros seznam'!SNS103","v":0},{"$f":"'kros seznam'!SNT103","v":0},{"$f":"'kros seznam'!SNU103","v":0},{"$f":"'kros seznam'!SNV103","v":0},{"$f":"'kros seznam'!SNW103","v":0},{"$f":"'kros seznam'!SNX103","v":0},{"$f":"'kros seznam'!SNY103","v":0},{"$f":"'kros seznam'!SNZ103","v":0},{"$f":"'kros seznam'!SOA103","v":0},{"$f":"'kros seznam'!SOB103","v":0},{"$f":"'kros seznam'!SOC103","v":0},{"$f":"'kros seznam'!SOD103","v":0},{"$f":"'kros seznam'!SOE103","v":0},{"$f":"'kros seznam'!SOF103","v":0},{"$f":"'kros seznam'!SOG103","v":0},{"$f":"'kros seznam'!SOH103","v":0},{"$f":"'kros seznam'!SOI103","v":0},{"$f":"'kros seznam'!SOJ103","v":0},{"$f":"'kros seznam'!SOK103","v":0},{"$f":"'kros seznam'!SOL103","v":0},{"$f":"'kros seznam'!SOM103","v":0},{"$f":"'kros seznam'!SON103","v":0},{"$f":"'kros seznam'!SOO103","v":0},{"$f":"'kros seznam'!SOP103","v":0},{"$f":"'kros seznam'!SOQ103","v":0},{"$f":"'kros seznam'!SOR103","v":0},{"$f":"'kros seznam'!SOS103","v":0},{"$f":"'kros seznam'!SOT103","v":0},{"$f":"'kros seznam'!SOU103","v":0},{"$f":"'kros seznam'!SOV103","v":0},{"$f":"'kros seznam'!SOW103","v":0},{"$f":"'kros seznam'!SOX103","v":0},{"$f":"'kros seznam'!SOY103","v":0},{"$f":"'kros seznam'!SOZ103","v":0},{"$f":"'kros seznam'!SPA103","v":0},{"$f":"'kros seznam'!SPB103","v":0},{"$f":"'kros seznam'!SPC103","v":0},{"$f":"'kros seznam'!SPD103","v":0},{"$f":"'kros seznam'!SPE103","v":0},{"$f":"'kros seznam'!SPF103","v":0},{"$f":"'kros seznam'!SPG103","v":0},{"$f":"'kros seznam'!SPH103","v":0},{"$f":"'kros seznam'!SPI103","v":0},{"$f":"'kros seznam'!SPJ103","v":0},{"$f":"'kros seznam'!SPK103","v":0},{"$f":"'kros seznam'!SPL103","v":0},{"$f":"'kros seznam'!SPM103","v":0},{"$f":"'kros seznam'!SPN103","v":0},{"$f":"'kros seznam'!SPO103","v":0},{"$f":"'kros seznam'!SPP103","v":0},{"$f":"'kros seznam'!SPQ103","v":0},{"$f":"'kros seznam'!SPR103","v":0},{"$f":"'kros seznam'!SPS103","v":0},{"$f":"'kros seznam'!SPT103","v":0},{"$f":"'kros seznam'!SPU103","v":0},{"$f":"'kros seznam'!SPV103","v":0},{"$f":"'kros seznam'!SPW103","v":0},{"$f":"'kros seznam'!SPX103","v":0},{"$f":"'kros seznam'!SPY103","v":0},{"$f":"'kros seznam'!SPZ103","v":0},{"$f":"'kros seznam'!SQA103","v":0},{"$f":"'kros seznam'!SQB103","v":0},{"$f":"'kros seznam'!SQC103","v":0},{"$f":"'kros seznam'!SQD103","v":0},{"$f":"'kros seznam'!SQE103","v":0},{"$f":"'kros seznam'!SQF103","v":0},{"$f":"'kros seznam'!SQG103","v":0},{"$f":"'kros seznam'!SQH103","v":0},{"$f":"'kros seznam'!SQI103","v":0},{"$f":"'kros seznam'!SQJ103","v":0},{"$f":"'kros seznam'!SQK103","v":0},{"$f":"'kros seznam'!SQL103","v":0},{"$f":"'kros seznam'!SQM103","v":0},{"$f":"'kros seznam'!SQN103","v":0},{"$f":"'kros seznam'!SQO103","v":0},{"$f":"'kros seznam'!SQP103","v":0},{"$f":"'kros seznam'!SQQ103","v":0},{"$f":"'kros seznam'!SQR103","v":0},{"$f":"'kros seznam'!SQS103","v":0},{"$f":"'kros seznam'!SQT103","v":0},{"$f":"'kros seznam'!SQU103","v":0},{"$f":"'kros seznam'!SQV103","v":0},{"$f":"'kros seznam'!SQW103","v":0},{"$f":"'kros seznam'!SQX103","v":0},{"$f":"'kros seznam'!SQY103","v":0},{"$f":"'kros seznam'!SQZ103","v":0},{"$f":"'kros seznam'!SRA103","v":0},{"$f":"'kros seznam'!SRB103","v":0},{"$f":"'kros seznam'!SRC103","v":0},{"$f":"'kros seznam'!SRD103","v":0},{"$f":"'kros seznam'!SRE103","v":0},{"$f":"'kros seznam'!SRF103","v":0},{"$f":"'kros seznam'!SRG103","v":0},{"$f":"'kros seznam'!SRH103","v":0},{"$f":"'kros seznam'!SRI103","v":0},{"$f":"'kros seznam'!SRJ103","v":0},{"$f":"'kros seznam'!SRK103","v":0},{"$f":"'kros seznam'!SRL103","v":0},{"$f":"'kros seznam'!SRM103","v":0},{"$f":"'kros seznam'!SRN103","v":0},{"$f":"'kros seznam'!SRO103","v":0},{"$f":"'kros seznam'!SRP103","v":0},{"$f":"'kros seznam'!SRQ103","v":0},{"$f":"'kros seznam'!SRR103","v":0},{"$f":"'kros seznam'!SRS103","v":0},{"$f":"'kros seznam'!SRT103","v":0},{"$f":"'kros seznam'!SRU103","v":0},{"$f":"'kros seznam'!SRV103","v":0},{"$f":"'kros seznam'!SRW103","v":0},{"$f":"'kros seznam'!SRX103","v":0},{"$f":"'kros seznam'!SRY103","v":0},{"$f":"'kros seznam'!SRZ103","v":0},{"$f":"'kros seznam'!SSA103","v":0},{"$f":"'kros seznam'!SSB103","v":0},{"$f":"'kros seznam'!SSC103","v":0},{"$f":"'kros seznam'!SSD103","v":0},{"$f":"'kros seznam'!SSE103","v":0},{"$f":"'kros seznam'!SSF103","v":0},{"$f":"'kros seznam'!SSG103","v":0},{"$f":"'kros seznam'!SSH103","v":0},{"$f":"'kros seznam'!SSI103","v":0},{"$f":"'kros seznam'!SSJ103","v":0},{"$f":"'kros seznam'!SSK103","v":0},{"$f":"'kros seznam'!SSL103","v":0},{"$f":"'kros seznam'!SSM103","v":0},{"$f":"'kros seznam'!SSN103","v":0},{"$f":"'kros seznam'!SSO103","v":0},{"$f":"'kros seznam'!SSP103","v":0},{"$f":"'kros seznam'!SSQ103","v":0},{"$f":"'kros seznam'!SSR103","v":0},{"$f":"'kros seznam'!SSS103","v":0},{"$f":"'kros seznam'!SST103","v":0},{"$f":"'kros seznam'!SSU103","v":0},{"$f":"'kros seznam'!SSV103","v":0},{"$f":"'kros seznam'!SSW103","v":0},{"$f":"'kros seznam'!SSX103","v":0},{"$f":"'kros seznam'!SSY103","v":0},{"$f":"'kros seznam'!SSZ103","v":0},{"$f":"'kros seznam'!STA103","v":0},{"$f":"'kros seznam'!STB103","v":0},{"$f":"'kros seznam'!STC103","v":0},{"$f":"'kros seznam'!STD103","v":0},{"$f":"'kros seznam'!STE103","v":0},{"$f":"'kros seznam'!STF103","v":0},{"$f":"'kros seznam'!STG103","v":0},{"$f":"'kros seznam'!STH103","v":0},{"$f":"'kros seznam'!STI103","v":0},{"$f":"'kros seznam'!STJ103","v":0},{"$f":"'kros seznam'!STK103","v":0},{"$f":"'kros seznam'!STL103","v":0},{"$f":"'kros seznam'!STM103","v":0},{"$f":"'kros seznam'!STN103","v":0},{"$f":"'kros seznam'!STO103","v":0},{"$f":"'kros seznam'!STP103","v":0},{"$f":"'kros seznam'!STQ103","v":0},{"$f":"'kros seznam'!STR103","v":0},{"$f":"'kros seznam'!STS103","v":0},{"$f":"'kros seznam'!STT103","v":0},{"$f":"'kros seznam'!STU103","v":0},{"$f":"'kros seznam'!STV103","v":0},{"$f":"'kros seznam'!STW103","v":0},{"$f":"'kros seznam'!STX103","v":0},{"$f":"'kros seznam'!STY103","v":0},{"$f":"'kros seznam'!STZ103","v":0},{"$f":"'kros seznam'!SUA103","v":0},{"$f":"'kros seznam'!SUB103","v":0},{"$f":"'kros seznam'!SUC103","v":0},{"$f":"'kros seznam'!SUD103","v":0},{"$f":"'kros seznam'!SUE103","v":0},{"$f":"'kros seznam'!SUF103","v":0},{"$f":"'kros seznam'!SUG103","v":0},{"$f":"'kros seznam'!SUH103","v":0},{"$f":"'kros seznam'!SUI103","v":0},{"$f":"'kros seznam'!SUJ103","v":0},{"$f":"'kros seznam'!SUK103","v":0},{"$f":"'kros seznam'!SUL103","v":0},{"$f":"'kros seznam'!SUM103","v":0},{"$f":"'kros seznam'!SUN103","v":0},{"$f":"'kros seznam'!SUO103","v":0},{"$f":"'kros seznam'!SUP103","v":0},{"$f":"'kros seznam'!SUQ103","v":0},{"$f":"'kros seznam'!SUR103","v":0},{"$f":"'kros seznam'!SUS103","v":0},{"$f":"'kros seznam'!SUT103","v":0},{"$f":"'kros seznam'!SUU103","v":0},{"$f":"'kros seznam'!SUV103","v":0},{"$f":"'kros seznam'!SUW103","v":0},{"$f":"'kros seznam'!SUX103","v":0},{"$f":"'kros seznam'!SUY103","v":0},{"$f":"'kros seznam'!SUZ103","v":0},{"$f":"'kros seznam'!SVA103","v":0},{"$f":"'kros seznam'!SVB103","v":0},{"$f":"'kros seznam'!SVC103","v":0},{"$f":"'kros seznam'!SVD103","v":0},{"$f":"'kros seznam'!SVE103","v":0},{"$f":"'kros seznam'!SVF103","v":0},{"$f":"'kros seznam'!SVG103","v":0},{"$f":"'kros seznam'!SVH103","v":0},{"$f":"'kros seznam'!SVI103","v":0},{"$f":"'kros seznam'!SVJ103","v":0},{"$f":"'kros seznam'!SVK103","v":0},{"$f":"'kros seznam'!SVL103","v":0},{"$f":"'kros seznam'!SVM103","v":0},{"$f":"'kros seznam'!SVN103","v":0},{"$f":"'kros seznam'!SVO103","v":0},{"$f":"'kros seznam'!SVP103","v":0},{"$f":"'kros seznam'!SVQ103","v":0},{"$f":"'kros seznam'!SVR103","v":0},{"$f":"'kros seznam'!SVS103","v":0},{"$f":"'kros seznam'!SVT103","v":0},{"$f":"'kros seznam'!SVU103","v":0},{"$f":"'kros seznam'!SVV103","v":0},{"$f":"'kros seznam'!SVW103","v":0},{"$f":"'kros seznam'!SVX103","v":0},{"$f":"'kros seznam'!SVY103","v":0},{"$f":"'kros seznam'!SVZ103","v":0},{"$f":"'kros seznam'!SWA103","v":0},{"$f":"'kros seznam'!SWB103","v":0},{"$f":"'kros seznam'!SWC103","v":0},{"$f":"'kros seznam'!SWD103","v":0},{"$f":"'kros seznam'!SWE103","v":0},{"$f":"'kros seznam'!SWF103","v":0},{"$f":"'kros seznam'!SWG103","v":0},{"$f":"'kros seznam'!SWH103","v":0},{"$f":"'kros seznam'!SWI103","v":0},{"$f":"'kros seznam'!SWJ103","v":0},{"$f":"'kros seznam'!SWK103","v":0},{"$f":"'kros seznam'!SWL103","v":0},{"$f":"'kros seznam'!SWM103","v":0},{"$f":"'kros seznam'!SWN103","v":0},{"$f":"'kros seznam'!SWO103","v":0},{"$f":"'kros seznam'!SWP103","v":0},{"$f":"'kros seznam'!SWQ103","v":0},{"$f":"'kros seznam'!SWR103","v":0},{"$f":"'kros seznam'!SWS103","v":0},{"$f":"'kros seznam'!SWT103","v":0},{"$f":"'kros seznam'!SWU103","v":0},{"$f":"'kros seznam'!SWV103","v":0},{"$f":"'kros seznam'!SWW103","v":0},{"$f":"'kros seznam'!SWX103","v":0},{"$f":"'kros seznam'!SWY103","v":0},{"$f":"'kros seznam'!SWZ103","v":0},{"$f":"'kros seznam'!SXA103","v":0},{"$f":"'kros seznam'!SXB103","v":0},{"$f":"'kros seznam'!SXC103","v":0},{"$f":"'kros seznam'!SXD103","v":0},{"$f":"'kros seznam'!SXE103","v":0},{"$f":"'kros seznam'!SXF103","v":0},{"$f":"'kros seznam'!SXG103","v":0},{"$f":"'kros seznam'!SXH103","v":0},{"$f":"'kros seznam'!SXI103","v":0},{"$f":"'kros seznam'!SXJ103","v":0},{"$f":"'kros seznam'!SXK103","v":0},{"$f":"'kros seznam'!SXL103","v":0},{"$f":"'kros seznam'!SXM103","v":0},{"$f":"'kros seznam'!SXN103","v":0},{"$f":"'kros seznam'!SXO103","v":0},{"$f":"'kros seznam'!SXP103","v":0},{"$f":"'kros seznam'!SXQ103","v":0},{"$f":"'kros seznam'!SXR103","v":0},{"$f":"'kros seznam'!SXS103","v":0},{"$f":"'kros seznam'!SXT103","v":0},{"$f":"'kros seznam'!SXU103","v":0},{"$f":"'kros seznam'!SXV103","v":0},{"$f":"'kros seznam'!SXW103","v":0},{"$f":"'kros seznam'!SXX103","v":0},{"$f":"'kros seznam'!SXY103","v":0},{"$f":"'kros seznam'!SXZ103","v":0},{"$f":"'kros seznam'!SYA103","v":0},{"$f":"'kros seznam'!SYB103","v":0},{"$f":"'kros seznam'!SYC103","v":0},{"$f":"'kros seznam'!SYD103","v":0},{"$f":"'kros seznam'!SYE103","v":0},{"$f":"'kros seznam'!SYF103","v":0},{"$f":"'kros seznam'!SYG103","v":0},{"$f":"'kros seznam'!SYH103","v":0},{"$f":"'kros seznam'!SYI103","v":0},{"$f":"'kros seznam'!SYJ103","v":0},{"$f":"'kros seznam'!SYK103","v":0},{"$f":"'kros seznam'!SYL103","v":0},{"$f":"'kros seznam'!SYM103","v":0},{"$f":"'kros seznam'!SYN103","v":0},{"$f":"'kros seznam'!SYO103","v":0},{"$f":"'kros seznam'!SYP103","v":0},{"$f":"'kros seznam'!SYQ103","v":0},{"$f":"'kros seznam'!SYR103","v":0},{"$f":"'kros seznam'!SYS103","v":0},{"$f":"'kros seznam'!SYT103","v":0},{"$f":"'kros seznam'!SYU103","v":0},{"$f":"'kros seznam'!SYV103","v":0},{"$f":"'kros seznam'!SYW103","v":0},{"$f":"'kros seznam'!SYX103","v":0},{"$f":"'kros seznam'!SYY103","v":0},{"$f":"'kros seznam'!SYZ103","v":0},{"$f":"'kros seznam'!SZA103","v":0},{"$f":"'kros seznam'!SZB103","v":0},{"$f":"'kros seznam'!SZC103","v":0},{"$f":"'kros seznam'!SZD103","v":0},{"$f":"'kros seznam'!SZE103","v":0},{"$f":"'kros seznam'!SZF103","v":0},{"$f":"'kros seznam'!SZG103","v":0},{"$f":"'kros seznam'!SZH103","v":0},{"$f":"'kros seznam'!SZI103","v":0},{"$f":"'kros seznam'!SZJ103","v":0},{"$f":"'kros seznam'!SZK103","v":0},{"$f":"'kros seznam'!SZL103","v":0},{"$f":"'kros seznam'!SZM103","v":0},{"$f":"'kros seznam'!SZN103","v":0},{"$f":"'kros seznam'!SZO103","v":0},{"$f":"'kros seznam'!SZP103","v":0},{"$f":"'kros seznam'!SZQ103","v":0},{"$f":"'kros seznam'!SZR103","v":0},{"$f":"'kros seznam'!SZS103","v":0},{"$f":"'kros seznam'!SZT103","v":0},{"$f":"'kros seznam'!SZU103","v":0},{"$f":"'kros seznam'!SZV103","v":0},{"$f":"'kros seznam'!SZW103","v":0},{"$f":"'kros seznam'!SZX103","v":0},{"$f":"'kros seznam'!SZY103","v":0},{"$f":"'kros seznam'!SZZ103","v":0},{"$f":"'kros seznam'!TAA103","v":0},{"$f":"'kros seznam'!TAB103","v":0},{"$f":"'kros seznam'!TAC103","v":0},{"$f":"'kros seznam'!TAD103","v":0},{"$f":"'kros seznam'!TAE103","v":0},{"$f":"'kros seznam'!TAF103","v":0},{"$f":"'kros seznam'!TAG103","v":0},{"$f":"'kros seznam'!TAH103","v":0},{"$f":"'kros seznam'!TAI103","v":0},{"$f":"'kros seznam'!TAJ103","v":0},{"$f":"'kros seznam'!TAK103","v":0},{"$f":"'kros seznam'!TAL103","v":0},{"$f":"'kros seznam'!TAM103","v":0},{"$f":"'kros seznam'!TAN103","v":0},{"$f":"'kros seznam'!TAO103","v":0},{"$f":"'kros seznam'!TAP103","v":0},{"$f":"'kros seznam'!TAQ103","v":0},{"$f":"'kros seznam'!TAR103","v":0},{"$f":"'kros seznam'!TAS103","v":0},{"$f":"'kros seznam'!TAT103","v":0},{"$f":"'kros seznam'!TAU103","v":0},{"$f":"'kros seznam'!TAV103","v":0},{"$f":"'kros seznam'!TAW103","v":0},{"$f":"'kros seznam'!TAX103","v":0},{"$f":"'kros seznam'!TAY103","v":0},{"$f":"'kros seznam'!TAZ103","v":0},{"$f":"'kros seznam'!TBA103","v":0},{"$f":"'kros seznam'!TBB103","v":0},{"$f":"'kros seznam'!TBC103","v":0},{"$f":"'kros seznam'!TBD103","v":0},{"$f":"'kros seznam'!TBE103","v":0},{"$f":"'kros seznam'!TBF103","v":0},{"$f":"'kros seznam'!TBG103","v":0},{"$f":"'kros seznam'!TBH103","v":0},{"$f":"'kros seznam'!TBI103","v":0},{"$f":"'kros seznam'!TBJ103","v":0},{"$f":"'kros seznam'!TBK103","v":0},{"$f":"'kros seznam'!TBL103","v":0},{"$f":"'kros seznam'!TBM103","v":0},{"$f":"'kros seznam'!TBN103","v":0},{"$f":"'kros seznam'!TBO103","v":0},{"$f":"'kros seznam'!TBP103","v":0},{"$f":"'kros seznam'!TBQ103","v":0},{"$f":"'kros seznam'!TBR103","v":0},{"$f":"'kros seznam'!TBS103","v":0},{"$f":"'kros seznam'!TBT103","v":0},{"$f":"'kros seznam'!TBU103","v":0},{"$f":"'kros seznam'!TBV103","v":0},{"$f":"'kros seznam'!TBW103","v":0},{"$f":"'kros seznam'!TBX103","v":0},{"$f":"'kros seznam'!TBY103","v":0},{"$f":"'kros seznam'!TBZ103","v":0},{"$f":"'kros seznam'!TCA103","v":0},{"$f":"'kros seznam'!TCB103","v":0},{"$f":"'kros seznam'!TCC103","v":0},{"$f":"'kros seznam'!TCD103","v":0},{"$f":"'kros seznam'!TCE103","v":0},{"$f":"'kros seznam'!TCF103","v":0},{"$f":"'kros seznam'!TCG103","v":0},{"$f":"'kros seznam'!TCH103","v":0},{"$f":"'kros seznam'!TCI103","v":0},{"$f":"'kros seznam'!TCJ103","v":0},{"$f":"'kros seznam'!TCK103","v":0},{"$f":"'kros seznam'!TCL103","v":0},{"$f":"'kros seznam'!TCM103","v":0},{"$f":"'kros seznam'!TCN103","v":0},{"$f":"'kros seznam'!TCO103","v":0},{"$f":"'kros seznam'!TCP103","v":0},{"$f":"'kros seznam'!TCQ103","v":0},{"$f":"'kros seznam'!TCR103","v":0},{"$f":"'kros seznam'!TCS103","v":0},{"$f":"'kros seznam'!TCT103","v":0},{"$f":"'kros seznam'!TCU103","v":0},{"$f":"'kros seznam'!TCV103","v":0},{"$f":"'kros seznam'!TCW103","v":0},{"$f":"'kros seznam'!TCX103","v":0},{"$f":"'kros seznam'!TCY103","v":0},{"$f":"'kros seznam'!TCZ103","v":0},{"$f":"'kros seznam'!TDA103","v":0},{"$f":"'kros seznam'!TDB103","v":0},{"$f":"'kros seznam'!TDC103","v":0},{"$f":"'kros seznam'!TDD103","v":0},{"$f":"'kros seznam'!TDE103","v":0},{"$f":"'kros seznam'!TDF103","v":0},{"$f":"'kros seznam'!TDG103","v":0},{"$f":"'kros seznam'!TDH103","v":0},{"$f":"'kros seznam'!TDI103","v":0},{"$f":"'kros seznam'!TDJ103","v":0},{"$f":"'kros seznam'!TDK103","v":0},{"$f":"'kros seznam'!TDL103","v":0},{"$f":"'kros seznam'!TDM103","v":0},{"$f":"'kros seznam'!TDN103","v":0},{"$f":"'kros seznam'!TDO103","v":0},{"$f":"'kros seznam'!TDP103","v":0},{"$f":"'kros seznam'!TDQ103","v":0},{"$f":"'kros seznam'!TDR103","v":0},{"$f":"'kros seznam'!TDS103","v":0},{"$f":"'kros seznam'!TDT103","v":0},{"$f":"'kros seznam'!TDU103","v":0},{"$f":"'kros seznam'!TDV103","v":0},{"$f":"'kros seznam'!TDW103","v":0},{"$f":"'kros seznam'!TDX103","v":0},{"$f":"'kros seznam'!TDY103","v":0},{"$f":"'kros seznam'!TDZ103","v":0},{"$f":"'kros seznam'!TEA103","v":0},{"$f":"'kros seznam'!TEB103","v":0},{"$f":"'kros seznam'!TEC103","v":0},{"$f":"'kros seznam'!TED103","v":0},{"$f":"'kros seznam'!TEE103","v":0},{"$f":"'kros seznam'!TEF103","v":0},{"$f":"'kros seznam'!TEG103","v":0},{"$f":"'kros seznam'!TEH103","v":0},{"$f":"'kros seznam'!TEI103","v":0},{"$f":"'kros seznam'!TEJ103","v":0},{"$f":"'kros seznam'!TEK103","v":0},{"$f":"'kros seznam'!TEL103","v":0},{"$f":"'kros seznam'!TEM103","v":0},{"$f":"'kros seznam'!TEN103","v":0},{"$f":"'kros seznam'!TEO103","v":0},{"$f":"'kros seznam'!TEP103","v":0},{"$f":"'kros seznam'!TEQ103","v":0},{"$f":"'kros seznam'!TER103","v":0},{"$f":"'kros seznam'!TES103","v":0},{"$f":"'kros seznam'!TET103","v":0},{"$f":"'kros seznam'!TEU103","v":0},{"$f":"'kros seznam'!TEV103","v":0},{"$f":"'kros seznam'!TEW103","v":0},{"$f":"'kros seznam'!TEX103","v":0},{"$f":"'kros seznam'!TEY103","v":0},{"$f":"'kros seznam'!TEZ103","v":0},{"$f":"'kros seznam'!TFA103","v":0},{"$f":"'kros seznam'!TFB103","v":0},{"$f":"'kros seznam'!TFC103","v":0},{"$f":"'kros seznam'!TFD103","v":0},{"$f":"'kros seznam'!TFE103","v":0},{"$f":"'kros seznam'!TFF103","v":0},{"$f":"'kros seznam'!TFG103","v":0},{"$f":"'kros seznam'!TFH103","v":0},{"$f":"'kros seznam'!TFI103","v":0},{"$f":"'kros seznam'!TFJ103","v":0},{"$f":"'kros seznam'!TFK103","v":0},{"$f":"'kros seznam'!TFL103","v":0},{"$f":"'kros seznam'!TFM103","v":0},{"$f":"'kros seznam'!TFN103","v":0},{"$f":"'kros seznam'!TFO103","v":0},{"$f":"'kros seznam'!TFP103","v":0},{"$f":"'kros seznam'!TFQ103","v":0},{"$f":"'kros seznam'!TFR103","v":0},{"$f":"'kros seznam'!TFS103","v":0},{"$f":"'kros seznam'!TFT103","v":0},{"$f":"'kros seznam'!TFU103","v":0},{"$f":"'kros seznam'!TFV103","v":0},{"$f":"'kros seznam'!TFW103","v":0},{"$f":"'kros seznam'!TFX103","v":0},{"$f":"'kros seznam'!TFY103","v":0},{"$f":"'kros seznam'!TFZ103","v":0},{"$f":"'kros seznam'!TGA103","v":0},{"$f":"'kros seznam'!TGB103","v":0},{"$f":"'kros seznam'!TGC103","v":0},{"$f":"'kros seznam'!TGD103","v":0},{"$f":"'kros seznam'!TGE103","v":0},{"$f":"'kros seznam'!TGF103","v":0},{"$f":"'kros seznam'!TGG103","v":0},{"$f":"'kros seznam'!TGH103","v":0},{"$f":"'kros seznam'!TGI103","v":0},{"$f":"'kros seznam'!TGJ103","v":0},{"$f":"'kros seznam'!TGK103","v":0},{"$f":"'kros seznam'!TGL103","v":0},{"$f":"'kros seznam'!TGM103","v":0},{"$f":"'kros seznam'!TGN103","v":0},{"$f":"'kros seznam'!TGO103","v":0},{"$f":"'kros seznam'!TGP103","v":0},{"$f":"'kros seznam'!TGQ103","v":0},{"$f":"'kros seznam'!TGR103","v":0},{"$f":"'kros seznam'!TGS103","v":0},{"$f":"'kros seznam'!TGT103","v":0},{"$f":"'kros seznam'!TGU103","v":0},{"$f":"'kros seznam'!TGV103","v":0},{"$f":"'kros seznam'!TGW103","v":0},{"$f":"'kros seznam'!TGX103","v":0},{"$f":"'kros seznam'!TGY103","v":0},{"$f":"'kros seznam'!TGZ103","v":0},{"$f":"'kros seznam'!THA103","v":0},{"$f":"'kros seznam'!THB103","v":0},{"$f":"'kros seznam'!THC103","v":0},{"$f":"'kros seznam'!THD103","v":0},{"$f":"'kros seznam'!THE103","v":0},{"$f":"'kros seznam'!THF103","v":0},{"$f":"'kros seznam'!THG103","v":0},{"$f":"'kros seznam'!THH103","v":0},{"$f":"'kros seznam'!THI103","v":0},{"$f":"'kros seznam'!THJ103","v":0},{"$f":"'kros seznam'!THK103","v":0},{"$f":"'kros seznam'!THL103","v":0},{"$f":"'kros seznam'!THM103","v":0},{"$f":"'kros seznam'!THN103","v":0},{"$f":"'kros seznam'!THO103","v":0},{"$f":"'kros seznam'!THP103","v":0},{"$f":"'kros seznam'!THQ103","v":0},{"$f":"'kros seznam'!THR103","v":0},{"$f":"'kros seznam'!THS103","v":0},{"$f":"'kros seznam'!THT103","v":0},{"$f":"'kros seznam'!THU103","v":0},{"$f":"'kros seznam'!THV103","v":0},{"$f":"'kros seznam'!THW103","v":0},{"$f":"'kros seznam'!THX103","v":0},{"$f":"'kros seznam'!THY103","v":0},{"$f":"'kros seznam'!THZ103","v":0},{"$f":"'kros seznam'!TIA103","v":0},{"$f":"'kros seznam'!TIB103","v":0},{"$f":"'kros seznam'!TIC103","v":0},{"$f":"'kros seznam'!TID103","v":0},{"$f":"'kros seznam'!TIE103","v":0},{"$f":"'kros seznam'!TIF103","v":0},{"$f":"'kros seznam'!TIG103","v":0},{"$f":"'kros seznam'!TIH103","v":0},{"$f":"'kros seznam'!TII103","v":0},{"$f":"'kros seznam'!TIJ103","v":0},{"$f":"'kros seznam'!TIK103","v":0},{"$f":"'kros seznam'!TIL103","v":0},{"$f":"'kros seznam'!TIM103","v":0},{"$f":"'kros seznam'!TIN103","v":0},{"$f":"'kros seznam'!TIO103","v":0},{"$f":"'kros seznam'!TIP103","v":0},{"$f":"'kros seznam'!TIQ103","v":0},{"$f":"'kros seznam'!TIR103","v":0},{"$f":"'kros seznam'!TIS103","v":0},{"$f":"'kros seznam'!TIT103","v":0},{"$f":"'kros seznam'!TIU103","v":0},{"$f":"'kros seznam'!TIV103","v":0},{"$f":"'kros seznam'!TIW103","v":0},{"$f":"'kros seznam'!TIX103","v":0},{"$f":"'kros seznam'!TIY103","v":0},{"$f":"'kros seznam'!TIZ103","v":0},{"$f":"'kros seznam'!TJA103","v":0},{"$f":"'kros seznam'!TJB103","v":0},{"$f":"'kros seznam'!TJC103","v":0},{"$f":"'kros seznam'!TJD103","v":0},{"$f":"'kros seznam'!TJE103","v":0},{"$f":"'kros seznam'!TJF103","v":0},{"$f":"'kros seznam'!TJG103","v":0},{"$f":"'kros seznam'!TJH103","v":0},{"$f":"'kros seznam'!TJI103","v":0},{"$f":"'kros seznam'!TJJ103","v":0},{"$f":"'kros seznam'!TJK103","v":0},{"$f":"'kros seznam'!TJL103","v":0},{"$f":"'kros seznam'!TJM103","v":0},{"$f":"'kros seznam'!TJN103","v":0},{"$f":"'kros seznam'!TJO103","v":0},{"$f":"'kros seznam'!TJP103","v":0},{"$f":"'kros seznam'!TJQ103","v":0},{"$f":"'kros seznam'!TJR103","v":0},{"$f":"'kros seznam'!TJS103","v":0},{"$f":"'kros seznam'!TJT103","v":0},{"$f":"'kros seznam'!TJU103","v":0},{"$f":"'kros seznam'!TJV103","v":0},{"$f":"'kros seznam'!TJW103","v":0},{"$f":"'kros seznam'!TJX103","v":0},{"$f":"'kros seznam'!TJY103","v":0},{"$f":"'kros seznam'!TJZ103","v":0},{"$f":"'kros seznam'!TKA103","v":0},{"$f":"'kros seznam'!TKB103","v":0},{"$f":"'kros seznam'!TKC103","v":0},{"$f":"'kros seznam'!TKD103","v":0},{"$f":"'kros seznam'!TKE103","v":0},{"$f":"'kros seznam'!TKF103","v":0},{"$f":"'kros seznam'!TKG103","v":0},{"$f":"'kros seznam'!TKH103","v":0},{"$f":"'kros seznam'!TKI103","v":0},{"$f":"'kros seznam'!TKJ103","v":0},{"$f":"'kros seznam'!TKK103","v":0},{"$f":"'kros seznam'!TKL103","v":0},{"$f":"'kros seznam'!TKM103","v":0},{"$f":"'kros seznam'!TKN103","v":0},{"$f":"'kros seznam'!TKO103","v":0},{"$f":"'kros seznam'!TKP103","v":0},{"$f":"'kros seznam'!TKQ103","v":0},{"$f":"'kros seznam'!TKR103","v":0},{"$f":"'kros seznam'!TKS103","v":0},{"$f":"'kros seznam'!TKT103","v":0},{"$f":"'kros seznam'!TKU103","v":0},{"$f":"'kros seznam'!TKV103","v":0},{"$f":"'kros seznam'!TKW103","v":0},{"$f":"'kros seznam'!TKX103","v":0},{"$f":"'kros seznam'!TKY103","v":0},{"$f":"'kros seznam'!TKZ103","v":0},{"$f":"'kros seznam'!TLA103","v":0},{"$f":"'kros seznam'!TLB103","v":0},{"$f":"'kros seznam'!TLC103","v":0},{"$f":"'kros seznam'!TLD103","v":0},{"$f":"'kros seznam'!TLE103","v":0},{"$f":"'kros seznam'!TLF103","v":0},{"$f":"'kros seznam'!TLG103","v":0},{"$f":"'kros seznam'!TLH103","v":0},{"$f":"'kros seznam'!TLI103","v":0},{"$f":"'kros seznam'!TLJ103","v":0},{"$f":"'kros seznam'!TLK103","v":0},{"$f":"'kros seznam'!TLL103","v":0},{"$f":"'kros seznam'!TLM103","v":0},{"$f":"'kros seznam'!TLN103","v":0},{"$f":"'kros seznam'!TLO103","v":0},{"$f":"'kros seznam'!TLP103","v":0},{"$f":"'kros seznam'!TLQ103","v":0},{"$f":"'kros seznam'!TLR103","v":0},{"$f":"'kros seznam'!TLS103","v":0},{"$f":"'kros seznam'!TLT103","v":0},{"$f":"'kros seznam'!TLU103","v":0},{"$f":"'kros seznam'!TLV103","v":0},{"$f":"'kros seznam'!TLW103","v":0},{"$f":"'kros seznam'!TLX103","v":0},{"$f":"'kros seznam'!TLY103","v":0},{"$f":"'kros seznam'!TLZ103","v":0},{"$f":"'kros seznam'!TMA103","v":0},{"$f":"'kros seznam'!TMB103","v":0},{"$f":"'kros seznam'!TMC103","v":0},{"$f":"'kros seznam'!TMD103","v":0},{"$f":"'kros seznam'!TME103","v":0},{"$f":"'kros seznam'!TMF103","v":0},{"$f":"'kros seznam'!TMG103","v":0},{"$f":"'kros seznam'!TMH103","v":0},{"$f":"'kros seznam'!TMI103","v":0},{"$f":"'kros seznam'!TMJ103","v":0},{"$f":"'kros seznam'!TMK103","v":0},{"$f":"'kros seznam'!TML103","v":0},{"$f":"'kros seznam'!TMM103","v":0},{"$f":"'kros seznam'!TMN103","v":0},{"$f":"'kros seznam'!TMO103","v":0},{"$f":"'kros seznam'!TMP103","v":0},{"$f":"'kros seznam'!TMQ103","v":0},{"$f":"'kros seznam'!TMR103","v":0},{"$f":"'kros seznam'!TMS103","v":0},{"$f":"'kros seznam'!TMT103","v":0},{"$f":"'kros seznam'!TMU103","v":0},{"$f":"'kros seznam'!TMV103","v":0},{"$f":"'kros seznam'!TMW103","v":0},{"$f":"'kros seznam'!TMX103","v":0},{"$f":"'kros seznam'!TMY103","v":0},{"$f":"'kros seznam'!TMZ103","v":0},{"$f":"'kros seznam'!TNA103","v":0},{"$f":"'kros seznam'!TNB103","v":0},{"$f":"'kros seznam'!TNC103","v":0},{"$f":"'kros seznam'!TND103","v":0},{"$f":"'kros seznam'!TNE103","v":0},{"$f":"'kros seznam'!TNF103","v":0},{"$f":"'kros seznam'!TNG103","v":0},{"$f":"'kros seznam'!TNH103","v":0},{"$f":"'kros seznam'!TNI103","v":0},{"$f":"'kros seznam'!TNJ103","v":0},{"$f":"'kros seznam'!TNK103","v":0},{"$f":"'kros seznam'!TNL103","v":0},{"$f":"'kros seznam'!TNM103","v":0},{"$f":"'kros seznam'!TNN103","v":0},{"$f":"'kros seznam'!TNO103","v":0},{"$f":"'kros seznam'!TNP103","v":0},{"$f":"'kros seznam'!TNQ103","v":0},{"$f":"'kros seznam'!TNR103","v":0},{"$f":"'kros seznam'!TNS103","v":0},{"$f":"'kros seznam'!TNT103","v":0},{"$f":"'kros seznam'!TNU103","v":0},{"$f":"'kros seznam'!TNV103","v":0},{"$f":"'kros seznam'!TNW103","v":0},{"$f":"'kros seznam'!TNX103","v":0},{"$f":"'kros seznam'!TNY103","v":0},{"$f":"'kros seznam'!TNZ103","v":0},{"$f":"'kros seznam'!TOA103","v":0},{"$f":"'kros seznam'!TOB103","v":0},{"$f":"'kros seznam'!TOC103","v":0},{"$f":"'kros seznam'!TOD103","v":0},{"$f":"'kros seznam'!TOE103","v":0},{"$f":"'kros seznam'!TOF103","v":0},{"$f":"'kros seznam'!TOG103","v":0},{"$f":"'kros seznam'!TOH103","v":0},{"$f":"'kros seznam'!TOI103","v":0},{"$f":"'kros seznam'!TOJ103","v":0},{"$f":"'kros seznam'!TOK103","v":0},{"$f":"'kros seznam'!TOL103","v":0},{"$f":"'kros seznam'!TOM103","v":0},{"$f":"'kros seznam'!TON103","v":0},{"$f":"'kros seznam'!TOO103","v":0},{"$f":"'kros seznam'!TOP103","v":0},{"$f":"'kros seznam'!TOQ103","v":0},{"$f":"'kros seznam'!TOR103","v":0},{"$f":"'kros seznam'!TOS103","v":0},{"$f":"'kros seznam'!TOT103","v":0},{"$f":"'kros seznam'!TOU103","v":0},{"$f":"'kros seznam'!TOV103","v":0},{"$f":"'kros seznam'!TOW103","v":0},{"$f":"'kros seznam'!TOX103","v":0},{"$f":"'kros seznam'!TOY103","v":0},{"$f":"'kros seznam'!TOZ103","v":0},{"$f":"'kros seznam'!TPA103","v":0},{"$f":"'kros seznam'!TPB103","v":0},{"$f":"'kros seznam'!TPC103","v":0},{"$f":"'kros seznam'!TPD103","v":0},{"$f":"'kros seznam'!TPE103","v":0},{"$f":"'kros seznam'!TPF103","v":0},{"$f":"'kros seznam'!TPG103","v":0},{"$f":"'kros seznam'!TPH103","v":0},{"$f":"'kros seznam'!TPI103","v":0},{"$f":"'kros seznam'!TPJ103","v":0},{"$f":"'kros seznam'!TPK103","v":0},{"$f":"'kros seznam'!TPL103","v":0},{"$f":"'kros seznam'!TPM103","v":0},{"$f":"'kros seznam'!TPN103","v":0},{"$f":"'kros seznam'!TPO103","v":0},{"$f":"'kros seznam'!TPP103","v":0},{"$f":"'kros seznam'!TPQ103","v":0},{"$f":"'kros seznam'!TPR103","v":0},{"$f":"'kros seznam'!TPS103","v":0},{"$f":"'kros seznam'!TPT103","v":0},{"$f":"'kros seznam'!TPU103","v":0},{"$f":"'kros seznam'!TPV103","v":0},{"$f":"'kros seznam'!TPW103","v":0},{"$f":"'kros seznam'!TPX103","v":0},{"$f":"'kros seznam'!TPY103","v":0},{"$f":"'kros seznam'!TPZ103","v":0},{"$f":"'kros seznam'!TQA103","v":0},{"$f":"'kros seznam'!TQB103","v":0},{"$f":"'kros seznam'!TQC103","v":0},{"$f":"'kros seznam'!TQD103","v":0},{"$f":"'kros seznam'!TQE103","v":0},{"$f":"'kros seznam'!TQF103","v":0},{"$f":"'kros seznam'!TQG103","v":0},{"$f":"'kros seznam'!TQH103","v":0},{"$f":"'kros seznam'!TQI103","v":0},{"$f":"'kros seznam'!TQJ103","v":0},{"$f":"'kros seznam'!TQK103","v":0},{"$f":"'kros seznam'!TQL103","v":0},{"$f":"'kros seznam'!TQM103","v":0},{"$f":"'kros seznam'!TQN103","v":0},{"$f":"'kros seznam'!TQO103","v":0},{"$f":"'kros seznam'!TQP103","v":0},{"$f":"'kros seznam'!TQQ103","v":0},{"$f":"'kros seznam'!TQR103","v":0},{"$f":"'kros seznam'!TQS103","v":0},{"$f":"'kros seznam'!TQT103","v":0},{"$f":"'kros seznam'!TQU103","v":0},{"$f":"'kros seznam'!TQV103","v":0},{"$f":"'kros seznam'!TQW103","v":0},{"$f":"'kros seznam'!TQX103","v":0},{"$f":"'kros seznam'!TQY103","v":0},{"$f":"'kros seznam'!TQZ103","v":0},{"$f":"'kros seznam'!TRA103","v":0},{"$f":"'kros seznam'!TRB103","v":0},{"$f":"'kros seznam'!TRC103","v":0},{"$f":"'kros seznam'!TRD103","v":0},{"$f":"'kros seznam'!TRE103","v":0},{"$f":"'kros seznam'!TRF103","v":0},{"$f":"'kros seznam'!TRG103","v":0},{"$f":"'kros seznam'!TRH103","v":0},{"$f":"'kros seznam'!TRI103","v":0},{"$f":"'kros seznam'!TRJ103","v":0},{"$f":"'kros seznam'!TRK103","v":0},{"$f":"'kros seznam'!TRL103","v":0},{"$f":"'kros seznam'!TRM103","v":0},{"$f":"'kros seznam'!TRN103","v":0},{"$f":"'kros seznam'!TRO103","v":0},{"$f":"'kros seznam'!TRP103","v":0},{"$f":"'kros seznam'!TRQ103","v":0},{"$f":"'kros seznam'!TRR103","v":0},{"$f":"'kros seznam'!TRS103","v":0},{"$f":"'kros seznam'!TRT103","v":0},{"$f":"'kros seznam'!TRU103","v":0},{"$f":"'kros seznam'!TRV103","v":0},{"$f":"'kros seznam'!TRW103","v":0},{"$f":"'kros seznam'!TRX103","v":0},{"$f":"'kros seznam'!TRY103","v":0},{"$f":"'kros seznam'!TRZ103","v":0},{"$f":"'kros seznam'!TSA103","v":0},{"$f":"'kros seznam'!TSB103","v":0},{"$f":"'kros seznam'!TSC103","v":0},{"$f":"'kros seznam'!TSD103","v":0},{"$f":"'kros seznam'!TSE103","v":0},{"$f":"'kros seznam'!TSF103","v":0},{"$f":"'kros seznam'!TSG103","v":0},{"$f":"'kros seznam'!TSH103","v":0},{"$f":"'kros seznam'!TSI103","v":0},{"$f":"'kros seznam'!TSJ103","v":0},{"$f":"'kros seznam'!TSK103","v":0},{"$f":"'kros seznam'!TSL103","v":0},{"$f":"'kros seznam'!TSM103","v":0},{"$f":"'kros seznam'!TSN103","v":0},{"$f":"'kros seznam'!TSO103","v":0},{"$f":"'kros seznam'!TSP103","v":0},{"$f":"'kros seznam'!TSQ103","v":0},{"$f":"'kros seznam'!TSR103","v":0},{"$f":"'kros seznam'!TSS103","v":0},{"$f":"'kros seznam'!TST103","v":0},{"$f":"'kros seznam'!TSU103","v":0},{"$f":"'kros seznam'!TSV103","v":0},{"$f":"'kros seznam'!TSW103","v":0},{"$f":"'kros seznam'!TSX103","v":0},{"$f":"'kros seznam'!TSY103","v":0},{"$f":"'kros seznam'!TSZ103","v":0},{"$f":"'kros seznam'!TTA103","v":0},{"$f":"'kros seznam'!TTB103","v":0},{"$f":"'kros seznam'!TTC103","v":0},{"$f":"'kros seznam'!TTD103","v":0},{"$f":"'kros seznam'!TTE103","v":0},{"$f":"'kros seznam'!TTF103","v":0},{"$f":"'kros seznam'!TTG103","v":0},{"$f":"'kros seznam'!TTH103","v":0},{"$f":"'kros seznam'!TTI103","v":0},{"$f":"'kros seznam'!TTJ103","v":0},{"$f":"'kros seznam'!TTK103","v":0},{"$f":"'kros seznam'!TTL103","v":0},{"$f":"'kros seznam'!TTM103","v":0},{"$f":"'kros seznam'!TTN103","v":0},{"$f":"'kros seznam'!TTO103","v":0},{"$f":"'kros seznam'!TTP103","v":0},{"$f":"'kros seznam'!TTQ103","v":0},{"$f":"'kros seznam'!TTR103","v":0},{"$f":"'kros seznam'!TTS103","v":0},{"$f":"'kros seznam'!TTT103","v":0},{"$f":"'kros seznam'!TTU103","v":0},{"$f":"'kros seznam'!TTV103","v":0},{"$f":"'kros seznam'!TTW103","v":0},{"$f":"'kros seznam'!TTX103","v":0},{"$f":"'kros seznam'!TTY103","v":0},{"$f":"'kros seznam'!TTZ103","v":0},{"$f":"'kros seznam'!TUA103","v":0},{"$f":"'kros seznam'!TUB103","v":0},{"$f":"'kros seznam'!TUC103","v":0},{"$f":"'kros seznam'!TUD103","v":0},{"$f":"'kros seznam'!TUE103","v":0},{"$f":"'kros seznam'!TUF103","v":0},{"$f":"'kros seznam'!TUG103","v":0},{"$f":"'kros seznam'!TUH103","v":0},{"$f":"'kros seznam'!TUI103","v":0},{"$f":"'kros seznam'!TUJ103","v":0},{"$f":"'kros seznam'!TUK103","v":0},{"$f":"'kros seznam'!TUL103","v":0},{"$f":"'kros seznam'!TUM103","v":0},{"$f":"'kros seznam'!TUN103","v":0},{"$f":"'kros seznam'!TUO103","v":0},{"$f":"'kros seznam'!TUP103","v":0},{"$f":"'kros seznam'!TUQ103","v":0},{"$f":"'kros seznam'!TUR103","v":0},{"$f":"'kros seznam'!TUS103","v":0},{"$f":"'kros seznam'!TUT103","v":0},{"$f":"'kros seznam'!TUU103","v":0},{"$f":"'kros seznam'!TUV103","v":0},{"$f":"'kros seznam'!TUW103","v":0},{"$f":"'kros seznam'!TUX103","v":0},{"$f":"'kros seznam'!TUY103","v":0},{"$f":"'kros seznam'!TUZ103","v":0},{"$f":"'kros seznam'!TVA103","v":0},{"$f":"'kros seznam'!TVB103","v":0},{"$f":"'kros seznam'!TVC103","v":0},{"$f":"'kros seznam'!TVD103","v":0},{"$f":"'kros seznam'!TVE103","v":0},{"$f":"'kros seznam'!TVF103","v":0},{"$f":"'kros seznam'!TVG103","v":0},{"$f":"'kros seznam'!TVH103","v":0},{"$f":"'kros seznam'!TVI103","v":0},{"$f":"'kros seznam'!TVJ103","v":0},{"$f":"'kros seznam'!TVK103","v":0},{"$f":"'kros seznam'!TVL103","v":0},{"$f":"'kros seznam'!TVM103","v":0},{"$f":"'kros seznam'!TVN103","v":0},{"$f":"'kros seznam'!TVO103","v":0},{"$f":"'kros seznam'!TVP103","v":0},{"$f":"'kros seznam'!TVQ103","v":0},{"$f":"'kros seznam'!TVR103","v":0},{"$f":"'kros seznam'!TVS103","v":0},{"$f":"'kros seznam'!TVT103","v":0},{"$f":"'kros seznam'!TVU103","v":0},{"$f":"'kros seznam'!TVV103","v":0},{"$f":"'kros seznam'!TVW103","v":0},{"$f":"'kros seznam'!TVX103","v":0},{"$f":"'kros seznam'!TVY103","v":0},{"$f":"'kros seznam'!TVZ103","v":0},{"$f":"'kros seznam'!TWA103","v":0},{"$f":"'kros seznam'!TWB103","v":0},{"$f":"'kros seznam'!TWC103","v":0},{"$f":"'kros seznam'!TWD103","v":0},{"$f":"'kros seznam'!TWE103","v":0},{"$f":"'kros seznam'!TWF103","v":0},{"$f":"'kros seznam'!TWG103","v":0},{"$f":"'kros seznam'!TWH103","v":0},{"$f":"'kros seznam'!TWI103","v":0},{"$f":"'kros seznam'!TWJ103","v":0},{"$f":"'kros seznam'!TWK103","v":0},{"$f":"'kros seznam'!TWL103","v":0},{"$f":"'kros seznam'!TWM103","v":0},{"$f":"'kros seznam'!TWN103","v":0},{"$f":"'kros seznam'!TWO103","v":0},{"$f":"'kros seznam'!TWP103","v":0},{"$f":"'kros seznam'!TWQ103","v":0},{"$f":"'kros seznam'!TWR103","v":0},{"$f":"'kros seznam'!TWS103","v":0},{"$f":"'kros seznam'!TWT103","v":0},{"$f":"'kros seznam'!TWU103","v":0},{"$f":"'kros seznam'!TWV103","v":0},{"$f":"'kros seznam'!TWW103","v":0},{"$f":"'kros seznam'!TWX103","v":0},{"$f":"'kros seznam'!TWY103","v":0},{"$f":"'kros seznam'!TWZ103","v":0},{"$f":"'kros seznam'!TXA103","v":0},{"$f":"'kros seznam'!TXB103","v":0},{"$f":"'kros seznam'!TXC103","v":0},{"$f":"'kros seznam'!TXD103","v":0},{"$f":"'kros seznam'!TXE103","v":0},{"$f":"'kros seznam'!TXF103","v":0},{"$f":"'kros seznam'!TXG103","v":0},{"$f":"'kros seznam'!TXH103","v":0},{"$f":"'kros seznam'!TXI103","v":0},{"$f":"'kros seznam'!TXJ103","v":0},{"$f":"'kros seznam'!TXK103","v":0},{"$f":"'kros seznam'!TXL103","v":0},{"$f":"'kros seznam'!TXM103","v":0},{"$f":"'kros seznam'!TXN103","v":0},{"$f":"'kros seznam'!TXO103","v":0},{"$f":"'kros seznam'!TXP103","v":0},{"$f":"'kros seznam'!TXQ103","v":0},{"$f":"'kros seznam'!TXR103","v":0},{"$f":"'kros seznam'!TXS103","v":0},{"$f":"'kros seznam'!TXT103","v":0},{"$f":"'kros seznam'!TXU103","v":0},{"$f":"'kros seznam'!TXV103","v":0},{"$f":"'kros seznam'!TXW103","v":0},{"$f":"'kros seznam'!TXX103","v":0},{"$f":"'kros seznam'!TXY103","v":0},{"$f":"'kros seznam'!TXZ103","v":0},{"$f":"'kros seznam'!TYA103","v":0},{"$f":"'kros seznam'!TYB103","v":0},{"$f":"'kros seznam'!TYC103","v":0},{"$f":"'kros seznam'!TYD103","v":0},{"$f":"'kros seznam'!TYE103","v":0},{"$f":"'kros seznam'!TYF103","v":0},{"$f":"'kros seznam'!TYG103","v":0},{"$f":"'kros seznam'!TYH103","v":0},{"$f":"'kros seznam'!TYI103","v":0},{"$f":"'kros seznam'!TYJ103","v":0},{"$f":"'kros seznam'!TYK103","v":0},{"$f":"'kros seznam'!TYL103","v":0},{"$f":"'kros seznam'!TYM103","v":0},{"$f":"'kros seznam'!TYN103","v":0},{"$f":"'kros seznam'!TYO103","v":0},{"$f":"'kros seznam'!TYP103","v":0},{"$f":"'kros seznam'!TYQ103","v":0},{"$f":"'kros seznam'!TYR103","v":0},{"$f":"'kros seznam'!TYS103","v":0},{"$f":"'kros seznam'!TYT103","v":0},{"$f":"'kros seznam'!TYU103","v":0},{"$f":"'kros seznam'!TYV103","v":0},{"$f":"'kros seznam'!TYW103","v":0},{"$f":"'kros seznam'!TYX103","v":0},{"$f":"'kros seznam'!TYY103","v":0},{"$f":"'kros seznam'!TYZ103","v":0},{"$f":"'kros seznam'!TZA103","v":0},{"$f":"'kros seznam'!TZB103","v":0},{"$f":"'kros seznam'!TZC103","v":0},{"$f":"'kros seznam'!TZD103","v":0},{"$f":"'kros seznam'!TZE103","v":0},{"$f":"'kros seznam'!TZF103","v":0},{"$f":"'kros seznam'!TZG103","v":0},{"$f":"'kros seznam'!TZH103","v":0},{"$f":"'kros seznam'!TZI103","v":0},{"$f":"'kros seznam'!TZJ103","v":0},{"$f":"'kros seznam'!TZK103","v":0},{"$f":"'kros seznam'!TZL103","v":0},{"$f":"'kros seznam'!TZM103","v":0},{"$f":"'kros seznam'!TZN103","v":0},{"$f":"'kros seznam'!TZO103","v":0},{"$f":"'kros seznam'!TZP103","v":0},{"$f":"'kros seznam'!TZQ103","v":0},{"$f":"'kros seznam'!TZR103","v":0},{"$f":"'kros seznam'!TZS103","v":0},{"$f":"'kros seznam'!TZT103","v":0},{"$f":"'kros seznam'!TZU103","v":0},{"$f":"'kros seznam'!TZV103","v":0},{"$f":"'kros seznam'!TZW103","v":0},{"$f":"'kros seznam'!TZX103","v":0},{"$f":"'kros seznam'!TZY103","v":0},{"$f":"'kros seznam'!TZZ103","v":0},{"$f":"'kros seznam'!UAA103","v":0},{"$f":"'kros seznam'!UAB103","v":0},{"$f":"'kros seznam'!UAC103","v":0},{"$f":"'kros seznam'!UAD103","v":0},{"$f":"'kros seznam'!UAE103","v":0},{"$f":"'kros seznam'!UAF103","v":0},{"$f":"'kros seznam'!UAG103","v":0},{"$f":"'kros seznam'!UAH103","v":0},{"$f":"'kros seznam'!UAI103","v":0},{"$f":"'kros seznam'!UAJ103","v":0},{"$f":"'kros seznam'!UAK103","v":0},{"$f":"'kros seznam'!UAL103","v":0},{"$f":"'kros seznam'!UAM103","v":0},{"$f":"'kros seznam'!UAN103","v":0},{"$f":"'kros seznam'!UAO103","v":0},{"$f":"'kros seznam'!UAP103","v":0},{"$f":"'kros seznam'!UAQ103","v":0},{"$f":"'kros seznam'!UAR103","v":0},{"$f":"'kros seznam'!UAS103","v":0},{"$f":"'kros seznam'!UAT103","v":0},{"$f":"'kros seznam'!UAU103","v":0},{"$f":"'kros seznam'!UAV103","v":0},{"$f":"'kros seznam'!UAW103","v":0},{"$f":"'kros seznam'!UAX103","v":0},{"$f":"'kros seznam'!UAY103","v":0},{"$f":"'kros seznam'!UAZ103","v":0},{"$f":"'kros seznam'!UBA103","v":0},{"$f":"'kros seznam'!UBB103","v":0},{"$f":"'kros seznam'!UBC103","v":0},{"$f":"'kros seznam'!UBD103","v":0},{"$f":"'kros seznam'!UBE103","v":0},{"$f":"'kros seznam'!UBF103","v":0},{"$f":"'kros seznam'!UBG103","v":0},{"$f":"'kros seznam'!UBH103","v":0},{"$f":"'kros seznam'!UBI103","v":0},{"$f":"'kros seznam'!UBJ103","v":0},{"$f":"'kros seznam'!UBK103","v":0},{"$f":"'kros seznam'!UBL103","v":0},{"$f":"'kros seznam'!UBM103","v":0},{"$f":"'kros seznam'!UBN103","v":0},{"$f":"'kros seznam'!UBO103","v":0},{"$f":"'kros seznam'!UBP103","v":0},{"$f":"'kros seznam'!UBQ103","v":0},{"$f":"'kros seznam'!UBR103","v":0},{"$f":"'kros seznam'!UBS103","v":0},{"$f":"'kros seznam'!UBT103","v":0},{"$f":"'kros seznam'!UBU103","v":0},{"$f":"'kros seznam'!UBV103","v":0},{"$f":"'kros seznam'!UBW103","v":0},{"$f":"'kros seznam'!UBX103","v":0},{"$f":"'kros seznam'!UBY103","v":0},{"$f":"'kros seznam'!UBZ103","v":0},{"$f":"'kros seznam'!UCA103","v":0},{"$f":"'kros seznam'!UCB103","v":0},{"$f":"'kros seznam'!UCC103","v":0},{"$f":"'kros seznam'!UCD103","v":0},{"$f":"'kros seznam'!UCE103","v":0},{"$f":"'kros seznam'!UCF103","v":0},{"$f":"'kros seznam'!UCG103","v":0},{"$f":"'kros seznam'!UCH103","v":0},{"$f":"'kros seznam'!UCI103","v":0},{"$f":"'kros seznam'!UCJ103","v":0},{"$f":"'kros seznam'!UCK103","v":0},{"$f":"'kros seznam'!UCL103","v":0},{"$f":"'kros seznam'!UCM103","v":0},{"$f":"'kros seznam'!UCN103","v":0},{"$f":"'kros seznam'!UCO103","v":0},{"$f":"'kros seznam'!UCP103","v":0},{"$f":"'kros seznam'!UCQ103","v":0},{"$f":"'kros seznam'!UCR103","v":0},{"$f":"'kros seznam'!UCS103","v":0},{"$f":"'kros seznam'!UCT103","v":0},{"$f":"'kros seznam'!UCU103","v":0},{"$f":"'kros seznam'!UCV103","v":0},{"$f":"'kros seznam'!UCW103","v":0},{"$f":"'kros seznam'!UCX103","v":0},{"$f":"'kros seznam'!UCY103","v":0},{"$f":"'kros seznam'!UCZ103","v":0},{"$f":"'kros seznam'!UDA103","v":0},{"$f":"'kros seznam'!UDB103","v":0},{"$f":"'kros seznam'!UDC103","v":0},{"$f":"'kros seznam'!UDD103","v":0},{"$f":"'kros seznam'!UDE103","v":0},{"$f":"'kros seznam'!UDF103","v":0},{"$f":"'kros seznam'!UDG103","v":0},{"$f":"'kros seznam'!UDH103","v":0},{"$f":"'kros seznam'!UDI103","v":0},{"$f":"'kros seznam'!UDJ103","v":0},{"$f":"'kros seznam'!UDK103","v":0},{"$f":"'kros seznam'!UDL103","v":0},{"$f":"'kros seznam'!UDM103","v":0},{"$f":"'kros seznam'!UDN103","v":0},{"$f":"'kros seznam'!UDO103","v":0},{"$f":"'kros seznam'!UDP103","v":0},{"$f":"'kros seznam'!UDQ103","v":0},{"$f":"'kros seznam'!UDR103","v":0},{"$f":"'kros seznam'!UDS103","v":0},{"$f":"'kros seznam'!UDT103","v":0},{"$f":"'kros seznam'!UDU103","v":0},{"$f":"'kros seznam'!UDV103","v":0},{"$f":"'kros seznam'!UDW103","v":0},{"$f":"'kros seznam'!UDX103","v":0},{"$f":"'kros seznam'!UDY103","v":0},{"$f":"'kros seznam'!UDZ103","v":0},{"$f":"'kros seznam'!UEA103","v":0},{"$f":"'kros seznam'!UEB103","v":0},{"$f":"'kros seznam'!UEC103","v":0},{"$f":"'kros seznam'!UED103","v":0},{"$f":"'kros seznam'!UEE103","v":0},{"$f":"'kros seznam'!UEF103","v":0},{"$f":"'kros seznam'!UEG103","v":0},{"$f":"'kros seznam'!UEH103","v":0},{"$f":"'kros seznam'!UEI103","v":0},{"$f":"'kros seznam'!UEJ103","v":0},{"$f":"'kros seznam'!UEK103","v":0},{"$f":"'kros seznam'!UEL103","v":0},{"$f":"'kros seznam'!UEM103","v":0},{"$f":"'kros seznam'!UEN103","v":0},{"$f":"'kros seznam'!UEO103","v":0},{"$f":"'kros seznam'!UEP103","v":0},{"$f":"'kros seznam'!UEQ103","v":0},{"$f":"'kros seznam'!UER103","v":0},{"$f":"'kros seznam'!UES103","v":0},{"$f":"'kros seznam'!UET103","v":0},{"$f":"'kros seznam'!UEU103","v":0},{"$f":"'kros seznam'!UEV103","v":0},{"$f":"'kros seznam'!UEW103","v":0},{"$f":"'kros seznam'!UEX103","v":0},{"$f":"'kros seznam'!UEY103","v":0},{"$f":"'kros seznam'!UEZ103","v":0},{"$f":"'kros seznam'!UFA103","v":0},{"$f":"'kros seznam'!UFB103","v":0},{"$f":"'kros seznam'!UFC103","v":0},{"$f":"'kros seznam'!UFD103","v":0},{"$f":"'kros seznam'!UFE103","v":0},{"$f":"'kros seznam'!UFF103","v":0},{"$f":"'kros seznam'!UFG103","v":0},{"$f":"'kros seznam'!UFH103","v":0},{"$f":"'kros seznam'!UFI103","v":0},{"$f":"'kros seznam'!UFJ103","v":0},{"$f":"'kros seznam'!UFK103","v":0},{"$f":"'kros seznam'!UFL103","v":0},{"$f":"'kros seznam'!UFM103","v":0},{"$f":"'kros seznam'!UFN103","v":0},{"$f":"'kros seznam'!UFO103","v":0},{"$f":"'kros seznam'!UFP103","v":0},{"$f":"'kros seznam'!UFQ103","v":0},{"$f":"'kros seznam'!UFR103","v":0},{"$f":"'kros seznam'!UFS103","v":0},{"$f":"'kros seznam'!UFT103","v":0},{"$f":"'kros seznam'!UFU103","v":0},{"$f":"'kros seznam'!UFV103","v":0},{"$f":"'kros seznam'!UFW103","v":0},{"$f":"'kros seznam'!UFX103","v":0},{"$f":"'kros seznam'!UFY103","v":0},{"$f":"'kros seznam'!UFZ103","v":0},{"$f":"'kros seznam'!UGA103","v":0},{"$f":"'kros seznam'!UGB103","v":0},{"$f":"'kros seznam'!UGC103","v":0},{"$f":"'kros seznam'!UGD103","v":0},{"$f":"'kros seznam'!UGE103","v":0},{"$f":"'kros seznam'!UGF103","v":0},{"$f":"'kros seznam'!UGG103","v":0},{"$f":"'kros seznam'!UGH103","v":0},{"$f":"'kros seznam'!UGI103","v":0},{"$f":"'kros seznam'!UGJ103","v":0},{"$f":"'kros seznam'!UGK103","v":0},{"$f":"'kros seznam'!UGL103","v":0},{"$f":"'kros seznam'!UGM103","v":0},{"$f":"'kros seznam'!UGN103","v":0},{"$f":"'kros seznam'!UGO103","v":0},{"$f":"'kros seznam'!UGP103","v":0},{"$f":"'kros seznam'!UGQ103","v":0},{"$f":"'kros seznam'!UGR103","v":0},{"$f":"'kros seznam'!UGS103","v":0},{"$f":"'kros seznam'!UGT103","v":0},{"$f":"'kros seznam'!UGU103","v":0},{"$f":"'kros seznam'!UGV103","v":0},{"$f":"'kros seznam'!UGW103","v":0},{"$f":"'kros seznam'!UGX103","v":0},{"$f":"'kros seznam'!UGY103","v":0},{"$f":"'kros seznam'!UGZ103","v":0},{"$f":"'kros seznam'!UHA103","v":0},{"$f":"'kros seznam'!UHB103","v":0},{"$f":"'kros seznam'!UHC103","v":0},{"$f":"'kros seznam'!UHD103","v":0},{"$f":"'kros seznam'!UHE103","v":0},{"$f":"'kros seznam'!UHF103","v":0},{"$f":"'kros seznam'!UHG103","v":0},{"$f":"'kros seznam'!UHH103","v":0},{"$f":"'kros seznam'!UHI103","v":0},{"$f":"'kros seznam'!UHJ103","v":0},{"$f":"'kros seznam'!UHK103","v":0},{"$f":"'kros seznam'!UHL103","v":0},{"$f":"'kros seznam'!UHM103","v":0},{"$f":"'kros seznam'!UHN103","v":0},{"$f":"'kros seznam'!UHO103","v":0},{"$f":"'kros seznam'!UHP103","v":0},{"$f":"'kros seznam'!UHQ103","v":0},{"$f":"'kros seznam'!UHR103","v":0},{"$f":"'kros seznam'!UHS103","v":0},{"$f":"'kros seznam'!UHT103","v":0},{"$f":"'kros seznam'!UHU103","v":0},{"$f":"'kros seznam'!UHV103","v":0},{"$f":"'kros seznam'!UHW103","v":0},{"$f":"'kros seznam'!UHX103","v":0},{"$f":"'kros seznam'!UHY103","v":0},{"$f":"'kros seznam'!UHZ103","v":0},{"$f":"'kros seznam'!UIA103","v":0},{"$f":"'kros seznam'!UIB103","v":0},{"$f":"'kros seznam'!UIC103","v":0},{"$f":"'kros seznam'!UID103","v":0},{"$f":"'kros seznam'!UIE103","v":0},{"$f":"'kros seznam'!UIF103","v":0},{"$f":"'kros seznam'!UIG103","v":0},{"$f":"'kros seznam'!UIH103","v":0},{"$f":"'kros seznam'!UII103","v":0},{"$f":"'kros seznam'!UIJ103","v":0},{"$f":"'kros seznam'!UIK103","v":0},{"$f":"'kros seznam'!UIL103","v":0},{"$f":"'kros seznam'!UIM103","v":0},{"$f":"'kros seznam'!UIN103","v":0},{"$f":"'kros seznam'!UIO103","v":0},{"$f":"'kros seznam'!UIP103","v":0},{"$f":"'kros seznam'!UIQ103","v":0},{"$f":"'kros seznam'!UIR103","v":0},{"$f":"'kros seznam'!UIS103","v":0},{"$f":"'kros seznam'!UIT103","v":0},{"$f":"'kros seznam'!UIU103","v":0},{"$f":"'kros seznam'!UIV103","v":0},{"$f":"'kros seznam'!UIW103","v":0},{"$f":"'kros seznam'!UIX103","v":0},{"$f":"'kros seznam'!UIY103","v":0},{"$f":"'kros seznam'!UIZ103","v":0},{"$f":"'kros seznam'!UJA103","v":0},{"$f":"'kros seznam'!UJB103","v":0},{"$f":"'kros seznam'!UJC103","v":0},{"$f":"'kros seznam'!UJD103","v":0},{"$f":"'kros seznam'!UJE103","v":0},{"$f":"'kros seznam'!UJF103","v":0},{"$f":"'kros seznam'!UJG103","v":0},{"$f":"'kros seznam'!UJH103","v":0},{"$f":"'kros seznam'!UJI103","v":0},{"$f":"'kros seznam'!UJJ103","v":0},{"$f":"'kros seznam'!UJK103","v":0},{"$f":"'kros seznam'!UJL103","v":0},{"$f":"'kros seznam'!UJM103","v":0},{"$f":"'kros seznam'!UJN103","v":0},{"$f":"'kros seznam'!UJO103","v":0},{"$f":"'kros seznam'!UJP103","v":0},{"$f":"'kros seznam'!UJQ103","v":0},{"$f":"'kros seznam'!UJR103","v":0},{"$f":"'kros seznam'!UJS103","v":0},{"$f":"'kros seznam'!UJT103","v":0},{"$f":"'kros seznam'!UJU103","v":0},{"$f":"'kros seznam'!UJV103","v":0},{"$f":"'kros seznam'!UJW103","v":0},{"$f":"'kros seznam'!UJX103","v":0},{"$f":"'kros seznam'!UJY103","v":0},{"$f":"'kros seznam'!UJZ103","v":0},{"$f":"'kros seznam'!UKA103","v":0},{"$f":"'kros seznam'!UKB103","v":0},{"$f":"'kros seznam'!UKC103","v":0},{"$f":"'kros seznam'!UKD103","v":0},{"$f":"'kros seznam'!UKE103","v":0},{"$f":"'kros seznam'!UKF103","v":0},{"$f":"'kros seznam'!UKG103","v":0},{"$f":"'kros seznam'!UKH103","v":0},{"$f":"'kros seznam'!UKI103","v":0},{"$f":"'kros seznam'!UKJ103","v":0},{"$f":"'kros seznam'!UKK103","v":0},{"$f":"'kros seznam'!UKL103","v":0},{"$f":"'kros seznam'!UKM103","v":0},{"$f":"'kros seznam'!UKN103","v":0},{"$f":"'kros seznam'!UKO103","v":0},{"$f":"'kros seznam'!UKP103","v":0},{"$f":"'kros seznam'!UKQ103","v":0},{"$f":"'kros seznam'!UKR103","v":0},{"$f":"'kros seznam'!UKS103","v":0},{"$f":"'kros seznam'!UKT103","v":0},{"$f":"'kros seznam'!UKU103","v":0},{"$f":"'kros seznam'!UKV103","v":0},{"$f":"'kros seznam'!UKW103","v":0},{"$f":"'kros seznam'!UKX103","v":0},{"$f":"'kros seznam'!UKY103","v":0},{"$f":"'kros seznam'!UKZ103","v":0},{"$f":"'kros seznam'!ULA103","v":0},{"$f":"'kros seznam'!ULB103","v":0},{"$f":"'kros seznam'!ULC103","v":0},{"$f":"'kros seznam'!ULD103","v":0},{"$f":"'kros seznam'!ULE103","v":0},{"$f":"'kros seznam'!ULF103","v":0},{"$f":"'kros seznam'!ULG103","v":0},{"$f":"'kros seznam'!ULH103","v":0},{"$f":"'kros seznam'!ULI103","v":0},{"$f":"'kros seznam'!ULJ103","v":0},{"$f":"'kros seznam'!ULK103","v":0},{"$f":"'kros seznam'!ULL103","v":0},{"$f":"'kros seznam'!ULM103","v":0},{"$f":"'kros seznam'!ULN103","v":0},{"$f":"'kros seznam'!ULO103","v":0},{"$f":"'kros seznam'!ULP103","v":0},{"$f":"'kros seznam'!ULQ103","v":0},{"$f":"'kros seznam'!ULR103","v":0},{"$f":"'kros seznam'!ULS103","v":0},{"$f":"'kros seznam'!ULT103","v":0},{"$f":"'kros seznam'!ULU103","v":0},{"$f":"'kros seznam'!ULV103","v":0},{"$f":"'kros seznam'!ULW103","v":0},{"$f":"'kros seznam'!ULX103","v":0},{"$f":"'kros seznam'!ULY103","v":0},{"$f":"'kros seznam'!ULZ103","v":0},{"$f":"'kros seznam'!UMA103","v":0},{"$f":"'kros seznam'!UMB103","v":0},{"$f":"'kros seznam'!UMC103","v":0},{"$f":"'kros seznam'!UMD103","v":0},{"$f":"'kros seznam'!UME103","v":0},{"$f":"'kros seznam'!UMF103","v":0},{"$f":"'kros seznam'!UMG103","v":0},{"$f":"'kros seznam'!UMH103","v":0},{"$f":"'kros seznam'!UMI103","v":0},{"$f":"'kros seznam'!UMJ103","v":0},{"$f":"'kros seznam'!UMK103","v":0},{"$f":"'kros seznam'!UML103","v":0},{"$f":"'kros seznam'!UMM103","v":0},{"$f":"'kros seznam'!UMN103","v":0},{"$f":"'kros seznam'!UMO103","v":0},{"$f":"'kros seznam'!UMP103","v":0},{"$f":"'kros seznam'!UMQ103","v":0},{"$f":"'kros seznam'!UMR103","v":0},{"$f":"'kros seznam'!UMS103","v":0},{"$f":"'kros seznam'!UMT103","v":0},{"$f":"'kros seznam'!UMU103","v":0},{"$f":"'kros seznam'!UMV103","v":0},{"$f":"'kros seznam'!UMW103","v":0},{"$f":"'kros seznam'!UMX103","v":0},{"$f":"'kros seznam'!UMY103","v":0},{"$f":"'kros seznam'!UMZ103","v":0},{"$f":"'kros seznam'!UNA103","v":0},{"$f":"'kros seznam'!UNB103","v":0},{"$f":"'kros seznam'!UNC103","v":0},{"$f":"'kros seznam'!UND103","v":0},{"$f":"'kros seznam'!UNE103","v":0},{"$f":"'kros seznam'!UNF103","v":0},{"$f":"'kros seznam'!UNG103","v":0},{"$f":"'kros seznam'!UNH103","v":0},{"$f":"'kros seznam'!UNI103","v":0},{"$f":"'kros seznam'!UNJ103","v":0},{"$f":"'kros seznam'!UNK103","v":0},{"$f":"'kros seznam'!UNL103","v":0},{"$f":"'kros seznam'!UNM103","v":0},{"$f":"'kros seznam'!UNN103","v":0},{"$f":"'kros seznam'!UNO103","v":0},{"$f":"'kros seznam'!UNP103","v":0},{"$f":"'kros seznam'!UNQ103","v":0},{"$f":"'kros seznam'!UNR103","v":0},{"$f":"'kros seznam'!UNS103","v":0},{"$f":"'kros seznam'!UNT103","v":0},{"$f":"'kros seznam'!UNU103","v":0},{"$f":"'kros seznam'!UNV103","v":0},{"$f":"'kros seznam'!UNW103","v":0},{"$f":"'kros seznam'!UNX103","v":0},{"$f":"'kros seznam'!UNY103","v":0},{"$f":"'kros seznam'!UNZ103","v":0},{"$f":"'kros seznam'!UOA103","v":0},{"$f":"'kros seznam'!UOB103","v":0},{"$f":"'kros seznam'!UOC103","v":0},{"$f":"'kros seznam'!UOD103","v":0},{"$f":"'kros seznam'!UOE103","v":0},{"$f":"'kros seznam'!UOF103","v":0},{"$f":"'kros seznam'!UOG103","v":0},{"$f":"'kros seznam'!UOH103","v":0},{"$f":"'kros seznam'!UOI103","v":0},{"$f":"'kros seznam'!UOJ103","v":0},{"$f":"'kros seznam'!UOK103","v":0},{"$f":"'kros seznam'!UOL103","v":0},{"$f":"'kros seznam'!UOM103","v":0},{"$f":"'kros seznam'!UON103","v":0},{"$f":"'kros seznam'!UOO103","v":0},{"$f":"'kros seznam'!UOP103","v":0},{"$f":"'kros seznam'!UOQ103","v":0},{"$f":"'kros seznam'!UOR103","v":0},{"$f":"'kros seznam'!UOS103","v":0},{"$f":"'kros seznam'!UOT103","v":0},{"$f":"'kros seznam'!UOU103","v":0},{"$f":"'kros seznam'!UOV103","v":0},{"$f":"'kros seznam'!UOW103","v":0},{"$f":"'kros seznam'!UOX103","v":0},{"$f":"'kros seznam'!UOY103","v":0},{"$f":"'kros seznam'!UOZ103","v":0},{"$f":"'kros seznam'!UPA103","v":0},{"$f":"'kros seznam'!UPB103","v":0},{"$f":"'kros seznam'!UPC103","v":0},{"$f":"'kros seznam'!UPD103","v":0},{"$f":"'kros seznam'!UPE103","v":0},{"$f":"'kros seznam'!UPF103","v":0},{"$f":"'kros seznam'!UPG103","v":0},{"$f":"'kros seznam'!UPH103","v":0},{"$f":"'kros seznam'!UPI103","v":0},{"$f":"'kros seznam'!UPJ103","v":0},{"$f":"'kros seznam'!UPK103","v":0},{"$f":"'kros seznam'!UPL103","v":0},{"$f":"'kros seznam'!UPM103","v":0},{"$f":"'kros seznam'!UPN103","v":0},{"$f":"'kros seznam'!UPO103","v":0},{"$f":"'kros seznam'!UPP103","v":0},{"$f":"'kros seznam'!UPQ103","v":0},{"$f":"'kros seznam'!UPR103","v":0},{"$f":"'kros seznam'!UPS103","v":0},{"$f":"'kros seznam'!UPT103","v":0},{"$f":"'kros seznam'!UPU103","v":0},{"$f":"'kros seznam'!UPV103","v":0},{"$f":"'kros seznam'!UPW103","v":0},{"$f":"'kros seznam'!UPX103","v":0},{"$f":"'kros seznam'!UPY103","v":0},{"$f":"'kros seznam'!UPZ103","v":0},{"$f":"'kros seznam'!UQA103","v":0},{"$f":"'kros seznam'!UQB103","v":0},{"$f":"'kros seznam'!UQC103","v":0},{"$f":"'kros seznam'!UQD103","v":0},{"$f":"'kros seznam'!UQE103","v":0},{"$f":"'kros seznam'!UQF103","v":0},{"$f":"'kros seznam'!UQG103","v":0},{"$f":"'kros seznam'!UQH103","v":0},{"$f":"'kros seznam'!UQI103","v":0},{"$f":"'kros seznam'!UQJ103","v":0},{"$f":"'kros seznam'!UQK103","v":0},{"$f":"'kros seznam'!UQL103","v":0},{"$f":"'kros seznam'!UQM103","v":0},{"$f":"'kros seznam'!UQN103","v":0},{"$f":"'kros seznam'!UQO103","v":0},{"$f":"'kros seznam'!UQP103","v":0},{"$f":"'kros seznam'!UQQ103","v":0},{"$f":"'kros seznam'!UQR103","v":0},{"$f":"'kros seznam'!UQS103","v":0},{"$f":"'kros seznam'!UQT103","v":0},{"$f":"'kros seznam'!UQU103","v":0},{"$f":"'kros seznam'!UQV103","v":0},{"$f":"'kros seznam'!UQW103","v":0},{"$f":"'kros seznam'!UQX103","v":0},{"$f":"'kros seznam'!UQY103","v":0},{"$f":"'kros seznam'!UQZ103","v":0},{"$f":"'kros seznam'!URA103","v":0},{"$f":"'kros seznam'!URB103","v":0},{"$f":"'kros seznam'!URC103","v":0},{"$f":"'kros seznam'!URD103","v":0},{"$f":"'kros seznam'!URE103","v":0},{"$f":"'kros seznam'!URF103","v":0},{"$f":"'kros seznam'!URG103","v":0},{"$f":"'kros seznam'!URH103","v":0},{"$f":"'kros seznam'!URI103","v":0},{"$f":"'kros seznam'!URJ103","v":0},{"$f":"'kros seznam'!URK103","v":0},{"$f":"'kros seznam'!URL103","v":0},{"$f":"'kros seznam'!URM103","v":0},{"$f":"'kros seznam'!URN103","v":0},{"$f":"'kros seznam'!URO103","v":0},{"$f":"'kros seznam'!URP103","v":0},{"$f":"'kros seznam'!URQ103","v":0},{"$f":"'kros seznam'!URR103","v":0},{"$f":"'kros seznam'!URS103","v":0},{"$f":"'kros seznam'!URT103","v":0},{"$f":"'kros seznam'!URU103","v":0},{"$f":"'kros seznam'!URV103","v":0},{"$f":"'kros seznam'!URW103","v":0},{"$f":"'kros seznam'!URX103","v":0},{"$f":"'kros seznam'!URY103","v":0},{"$f":"'kros seznam'!URZ103","v":0},{"$f":"'kros seznam'!USA103","v":0},{"$f":"'kros seznam'!USB103","v":0},{"$f":"'kros seznam'!USC103","v":0},{"$f":"'kros seznam'!USD103","v":0},{"$f":"'kros seznam'!USE103","v":0},{"$f":"'kros seznam'!USF103","v":0},{"$f":"'kros seznam'!USG103","v":0},{"$f":"'kros seznam'!USH103","v":0},{"$f":"'kros seznam'!USI103","v":0},{"$f":"'kros seznam'!USJ103","v":0},{"$f":"'kros seznam'!USK103","v":0},{"$f":"'kros seznam'!USL103","v":0},{"$f":"'kros seznam'!USM103","v":0},{"$f":"'kros seznam'!USN103","v":0},{"$f":"'kros seznam'!USO103","v":0},{"$f":"'kros seznam'!USP103","v":0},{"$f":"'kros seznam'!USQ103","v":0},{"$f":"'kros seznam'!USR103","v":0},{"$f":"'kros seznam'!USS103","v":0},{"$f":"'kros seznam'!UST103","v":0},{"$f":"'kros seznam'!USU103","v":0},{"$f":"'kros seznam'!USV103","v":0},{"$f":"'kros seznam'!USW103","v":0},{"$f":"'kros seznam'!USX103","v":0},{"$f":"'kros seznam'!USY103","v":0},{"$f":"'kros seznam'!USZ103","v":0},{"$f":"'kros seznam'!UTA103","v":0},{"$f":"'kros seznam'!UTB103","v":0},{"$f":"'kros seznam'!UTC103","v":0},{"$f":"'kros seznam'!UTD103","v":0},{"$f":"'kros seznam'!UTE103","v":0},{"$f":"'kros seznam'!UTF103","v":0},{"$f":"'kros seznam'!UTG103","v":0},{"$f":"'kros seznam'!UTH103","v":0},{"$f":"'kros seznam'!UTI103","v":0},{"$f":"'kros seznam'!UTJ103","v":0},{"$f":"'kros seznam'!UTK103","v":0},{"$f":"'kros seznam'!UTL103","v":0},{"$f":"'kros seznam'!UTM103","v":0},{"$f":"'kros seznam'!UTN103","v":0},{"$f":"'kros seznam'!UTO103","v":0},{"$f":"'kros seznam'!UTP103","v":0},{"$f":"'kros seznam'!UTQ103","v":0},{"$f":"'kros seznam'!UTR103","v":0},{"$f":"'kros seznam'!UTS103","v":0},{"$f":"'kros seznam'!UTT103","v":0},{"$f":"'kros seznam'!UTU103","v":0},{"$f":"'kros seznam'!UTV103","v":0},{"$f":"'kros seznam'!UTW103","v":0},{"$f":"'kros seznam'!UTX103","v":0},{"$f":"'kros seznam'!UTY103","v":0},{"$f":"'kros seznam'!UTZ103","v":0},{"$f":"'kros seznam'!UUA103","v":0},{"$f":"'kros seznam'!UUB103","v":0},{"$f":"'kros seznam'!UUC103","v":0},{"$f":"'kros seznam'!UUD103","v":0},{"$f":"'kros seznam'!UUE103","v":0},{"$f":"'kros seznam'!UUF103","v":0},{"$f":"'kros seznam'!UUG103","v":0},{"$f":"'kros seznam'!UUH103","v":0},{"$f":"'kros seznam'!UUI103","v":0},{"$f":"'kros seznam'!UUJ103","v":0},{"$f":"'kros seznam'!UUK103","v":0},{"$f":"'kros seznam'!UUL103","v":0},{"$f":"'kros seznam'!UUM103","v":0},{"$f":"'kros seznam'!UUN103","v":0},{"$f":"'kros seznam'!UUO103","v":0},{"$f":"'kros seznam'!UUP103","v":0},{"$f":"'kros seznam'!UUQ103","v":0},{"$f":"'kros seznam'!UUR103","v":0},{"$f":"'kros seznam'!UUS103","v":0},{"$f":"'kros seznam'!UUT103","v":0},{"$f":"'kros seznam'!UUU103","v":0},{"$f":"'kros seznam'!UUV103","v":0},{"$f":"'kros seznam'!UUW103","v":0},{"$f":"'kros seznam'!UUX103","v":0},{"$f":"'kros seznam'!UUY103","v":0},{"$f":"'kros seznam'!UUZ103","v":0},{"$f":"'kros seznam'!UVA103","v":0},{"$f":"'kros seznam'!UVB103","v":0},{"$f":"'kros seznam'!UVC103","v":0},{"$f":"'kros seznam'!UVD103","v":0},{"$f":"'kros seznam'!UVE103","v":0},{"$f":"'kros seznam'!UVF103","v":0},{"$f":"'kros seznam'!UVG103","v":0},{"$f":"'kros seznam'!UVH103","v":0},{"$f":"'kros seznam'!UVI103","v":0},{"$f":"'kros seznam'!UVJ103","v":0},{"$f":"'kros seznam'!UVK103","v":0},{"$f":"'kros seznam'!UVL103","v":0},{"$f":"'kros seznam'!UVM103","v":0},{"$f":"'kros seznam'!UVN103","v":0},{"$f":"'kros seznam'!UVO103","v":0},{"$f":"'kros seznam'!UVP103","v":0},{"$f":"'kros seznam'!UVQ103","v":0},{"$f":"'kros seznam'!UVR103","v":0},{"$f":"'kros seznam'!UVS103","v":0},{"$f":"'kros seznam'!UVT103","v":0},{"$f":"'kros seznam'!UVU103","v":0},{"$f":"'kros seznam'!UVV103","v":0},{"$f":"'kros seznam'!UVW103","v":0},{"$f":"'kros seznam'!UVX103","v":0},{"$f":"'kros seznam'!UVY103","v":0},{"$f":"'kros seznam'!UVZ103","v":0},{"$f":"'kros seznam'!UWA103","v":0},{"$f":"'kros seznam'!UWB103","v":0},{"$f":"'kros seznam'!UWC103","v":0},{"$f":"'kros seznam'!UWD103","v":0},{"$f":"'kros seznam'!UWE103","v":0},{"$f":"'kros seznam'!UWF103","v":0},{"$f":"'kros seznam'!UWG103","v":0},{"$f":"'kros seznam'!UWH103","v":0},{"$f":"'kros seznam'!UWI103","v":0},{"$f":"'kros seznam'!UWJ103","v":0},{"$f":"'kros seznam'!UWK103","v":0},{"$f":"'kros seznam'!UWL103","v":0},{"$f":"'kros seznam'!UWM103","v":0},{"$f":"'kros seznam'!UWN103","v":0},{"$f":"'kros seznam'!UWO103","v":0},{"$f":"'kros seznam'!UWP103","v":0},{"$f":"'kros seznam'!UWQ103","v":0},{"$f":"'kros seznam'!UWR103","v":0},{"$f":"'kros seznam'!UWS103","v":0},{"$f":"'kros seznam'!UWT103","v":0},{"$f":"'kros seznam'!UWU103","v":0},{"$f":"'kros seznam'!UWV103","v":0},{"$f":"'kros seznam'!UWW103","v":0},{"$f":"'kros seznam'!UWX103","v":0},{"$f":"'kros seznam'!UWY103","v":0},{"$f":"'kros seznam'!UWZ103","v":0},{"$f":"'kros seznam'!UXA103","v":0},{"$f":"'kros seznam'!UXB103","v":0},{"$f":"'kros seznam'!UXC103","v":0},{"$f":"'kros seznam'!UXD103","v":0},{"$f":"'kros seznam'!UXE103","v":0},{"$f":"'kros seznam'!UXF103","v":0},{"$f":"'kros seznam'!UXG103","v":0},{"$f":"'kros seznam'!UXH103","v":0},{"$f":"'kros seznam'!UXI103","v":0},{"$f":"'kros seznam'!UXJ103","v":0},{"$f":"'kros seznam'!UXK103","v":0},{"$f":"'kros seznam'!UXL103","v":0},{"$f":"'kros seznam'!UXM103","v":0},{"$f":"'kros seznam'!UXN103","v":0},{"$f":"'kros seznam'!UXO103","v":0},{"$f":"'kros seznam'!UXP103","v":0},{"$f":"'kros seznam'!UXQ103","v":0},{"$f":"'kros seznam'!UXR103","v":0},{"$f":"'kros seznam'!UXS103","v":0},{"$f":"'kros seznam'!UXT103","v":0},{"$f":"'kros seznam'!UXU103","v":0},{"$f":"'kros seznam'!UXV103","v":0},{"$f":"'kros seznam'!UXW103","v":0},{"$f":"'kros seznam'!UXX103","v":0},{"$f":"'kros seznam'!UXY103","v":0},{"$f":"'kros seznam'!UXZ103","v":0},{"$f":"'kros seznam'!UYA103","v":0},{"$f":"'kros seznam'!UYB103","v":0},{"$f":"'kros seznam'!UYC103","v":0},{"$f":"'kros seznam'!UYD103","v":0},{"$f":"'kros seznam'!UYE103","v":0},{"$f":"'kros seznam'!UYF103","v":0},{"$f":"'kros seznam'!UYG103","v":0},{"$f":"'kros seznam'!UYH103","v":0},{"$f":"'kros seznam'!UYI103","v":0},{"$f":"'kros seznam'!UYJ103","v":0},{"$f":"'kros seznam'!UYK103","v":0},{"$f":"'kros seznam'!UYL103","v":0},{"$f":"'kros seznam'!UYM103","v":0},{"$f":"'kros seznam'!UYN103","v":0},{"$f":"'kros seznam'!UYO103","v":0},{"$f":"'kros seznam'!UYP103","v":0},{"$f":"'kros seznam'!UYQ103","v":0},{"$f":"'kros seznam'!UYR103","v":0},{"$f":"'kros seznam'!UYS103","v":0},{"$f":"'kros seznam'!UYT103","v":0},{"$f":"'kros seznam'!UYU103","v":0},{"$f":"'kros seznam'!UYV103","v":0},{"$f":"'kros seznam'!UYW103","v":0},{"$f":"'kros seznam'!UYX103","v":0},{"$f":"'kros seznam'!UYY103","v":0},{"$f":"'kros seznam'!UYZ103","v":0},{"$f":"'kros seznam'!UZA103","v":0},{"$f":"'kros seznam'!UZB103","v":0},{"$f":"'kros seznam'!UZC103","v":0},{"$f":"'kros seznam'!UZD103","v":0},{"$f":"'kros seznam'!UZE103","v":0},{"$f":"'kros seznam'!UZF103","v":0},{"$f":"'kros seznam'!UZG103","v":0},{"$f":"'kros seznam'!UZH103","v":0},{"$f":"'kros seznam'!UZI103","v":0},{"$f":"'kros seznam'!UZJ103","v":0},{"$f":"'kros seznam'!UZK103","v":0},{"$f":"'kros seznam'!UZL103","v":0},{"$f":"'kros seznam'!UZM103","v":0},{"$f":"'kros seznam'!UZN103","v":0},{"$f":"'kros seznam'!UZO103","v":0},{"$f":"'kros seznam'!UZP103","v":0},{"$f":"'kros seznam'!UZQ103","v":0},{"$f":"'kros seznam'!UZR103","v":0},{"$f":"'kros seznam'!UZS103","v":0},{"$f":"'kros seznam'!UZT103","v":0},{"$f":"'kros seznam'!UZU103","v":0},{"$f":"'kros seznam'!UZV103","v":0},{"$f":"'kros seznam'!UZW103","v":0},{"$f":"'kros seznam'!UZX103","v":0},{"$f":"'kros seznam'!UZY103","v":0},{"$f":"'kros seznam'!UZZ103","v":0},{"$f":"'kros seznam'!VAA103","v":0},{"$f":"'kros seznam'!VAB103","v":0},{"$f":"'kros seznam'!VAC103","v":0},{"$f":"'kros seznam'!VAD103","v":0},{"$f":"'kros seznam'!VAE103","v":0},{"$f":"'kros seznam'!VAF103","v":0},{"$f":"'kros seznam'!VAG103","v":0},{"$f":"'kros seznam'!VAH103","v":0},{"$f":"'kros seznam'!VAI103","v":0},{"$f":"'kros seznam'!VAJ103","v":0},{"$f":"'kros seznam'!VAK103","v":0},{"$f":"'kros seznam'!VAL103","v":0},{"$f":"'kros seznam'!VAM103","v":0},{"$f":"'kros seznam'!VAN103","v":0},{"$f":"'kros seznam'!VAO103","v":0},{"$f":"'kros seznam'!VAP103","v":0},{"$f":"'kros seznam'!VAQ103","v":0},{"$f":"'kros seznam'!VAR103","v":0},{"$f":"'kros seznam'!VAS103","v":0},{"$f":"'kros seznam'!VAT103","v":0},{"$f":"'kros seznam'!VAU103","v":0},{"$f":"'kros seznam'!VAV103","v":0},{"$f":"'kros seznam'!VAW103","v":0},{"$f":"'kros seznam'!VAX103","v":0},{"$f":"'kros seznam'!VAY103","v":0},{"$f":"'kros seznam'!VAZ103","v":0},{"$f":"'kros seznam'!VBA103","v":0},{"$f":"'kros seznam'!VBB103","v":0},{"$f":"'kros seznam'!VBC103","v":0},{"$f":"'kros seznam'!VBD103","v":0},{"$f":"'kros seznam'!VBE103","v":0},{"$f":"'kros seznam'!VBF103","v":0},{"$f":"'kros seznam'!VBG103","v":0},{"$f":"'kros seznam'!VBH103","v":0},{"$f":"'kros seznam'!VBI103","v":0},{"$f":"'kros seznam'!VBJ103","v":0},{"$f":"'kros seznam'!VBK103","v":0},{"$f":"'kros seznam'!VBL103","v":0},{"$f":"'kros seznam'!VBM103","v":0},{"$f":"'kros seznam'!VBN103","v":0},{"$f":"'kros seznam'!VBO103","v":0},{"$f":"'kros seznam'!VBP103","v":0},{"$f":"'kros seznam'!VBQ103","v":0},{"$f":"'kros seznam'!VBR103","v":0},{"$f":"'kros seznam'!VBS103","v":0},{"$f":"'kros seznam'!VBT103","v":0},{"$f":"'kros seznam'!VBU103","v":0},{"$f":"'kros seznam'!VBV103","v":0},{"$f":"'kros seznam'!VBW103","v":0},{"$f":"'kros seznam'!VBX103","v":0},{"$f":"'kros seznam'!VBY103","v":0},{"$f":"'kros seznam'!VBZ103","v":0},{"$f":"'kros seznam'!VCA103","v":0},{"$f":"'kros seznam'!VCB103","v":0},{"$f":"'kros seznam'!VCC103","v":0},{"$f":"'kros seznam'!VCD103","v":0},{"$f":"'kros seznam'!VCE103","v":0},{"$f":"'kros seznam'!VCF103","v":0},{"$f":"'kros seznam'!VCG103","v":0},{"$f":"'kros seznam'!VCH103","v":0},{"$f":"'kros seznam'!VCI103","v":0},{"$f":"'kros seznam'!VCJ103","v":0},{"$f":"'kros seznam'!VCK103","v":0},{"$f":"'kros seznam'!VCL103","v":0},{"$f":"'kros seznam'!VCM103","v":0},{"$f":"'kros seznam'!VCN103","v":0},{"$f":"'kros seznam'!VCO103","v":0},{"$f":"'kros seznam'!VCP103","v":0},{"$f":"'kros seznam'!VCQ103","v":0},{"$f":"'kros seznam'!VCR103","v":0},{"$f":"'kros seznam'!VCS103","v":0},{"$f":"'kros seznam'!VCT103","v":0},{"$f":"'kros seznam'!VCU103","v":0},{"$f":"'kros seznam'!VCV103","v":0},{"$f":"'kros seznam'!VCW103","v":0},{"$f":"'kros seznam'!VCX103","v":0},{"$f":"'kros seznam'!VCY103","v":0},{"$f":"'kros seznam'!VCZ103","v":0},{"$f":"'kros seznam'!VDA103","v":0},{"$f":"'kros seznam'!VDB103","v":0},{"$f":"'kros seznam'!VDC103","v":0},{"$f":"'kros seznam'!VDD103","v":0},{"$f":"'kros seznam'!VDE103","v":0},{"$f":"'kros seznam'!VDF103","v":0},{"$f":"'kros seznam'!VDG103","v":0},{"$f":"'kros seznam'!VDH103","v":0},{"$f":"'kros seznam'!VDI103","v":0},{"$f":"'kros seznam'!VDJ103","v":0},{"$f":"'kros seznam'!VDK103","v":0},{"$f":"'kros seznam'!VDL103","v":0},{"$f":"'kros seznam'!VDM103","v":0},{"$f":"'kros seznam'!VDN103","v":0},{"$f":"'kros seznam'!VDO103","v":0},{"$f":"'kros seznam'!VDP103","v":0},{"$f":"'kros seznam'!VDQ103","v":0},{"$f":"'kros seznam'!VDR103","v":0},{"$f":"'kros seznam'!VDS103","v":0},{"$f":"'kros seznam'!VDT103","v":0},{"$f":"'kros seznam'!VDU103","v":0},{"$f":"'kros seznam'!VDV103","v":0},{"$f":"'kros seznam'!VDW103","v":0},{"$f":"'kros seznam'!VDX103","v":0},{"$f":"'kros seznam'!VDY103","v":0},{"$f":"'kros seznam'!VDZ103","v":0},{"$f":"'kros seznam'!VEA103","v":0},{"$f":"'kros seznam'!VEB103","v":0},{"$f":"'kros seznam'!VEC103","v":0},{"$f":"'kros seznam'!VED103","v":0},{"$f":"'kros seznam'!VEE103","v":0},{"$f":"'kros seznam'!VEF103","v":0},{"$f":"'kros seznam'!VEG103","v":0},{"$f":"'kros seznam'!VEH103","v":0},{"$f":"'kros seznam'!VEI103","v":0},{"$f":"'kros seznam'!VEJ103","v":0},{"$f":"'kros seznam'!VEK103","v":0},{"$f":"'kros seznam'!VEL103","v":0},{"$f":"'kros seznam'!VEM103","v":0},{"$f":"'kros seznam'!VEN103","v":0},{"$f":"'kros seznam'!VEO103","v":0},{"$f":"'kros seznam'!VEP103","v":0},{"$f":"'kros seznam'!VEQ103","v":0},{"$f":"'kros seznam'!VER103","v":0},{"$f":"'kros seznam'!VES103","v":0},{"$f":"'kros seznam'!VET103","v":0},{"$f":"'kros seznam'!VEU103","v":0},{"$f":"'kros seznam'!VEV103","v":0},{"$f":"'kros seznam'!VEW103","v":0},{"$f":"'kros seznam'!VEX103","v":0},{"$f":"'kros seznam'!VEY103","v":0},{"$f":"'kros seznam'!VEZ103","v":0},{"$f":"'kros seznam'!VFA103","v":0},{"$f":"'kros seznam'!VFB103","v":0},{"$f":"'kros seznam'!VFC103","v":0},{"$f":"'kros seznam'!VFD103","v":0},{"$f":"'kros seznam'!VFE103","v":0},{"$f":"'kros seznam'!VFF103","v":0},{"$f":"'kros seznam'!VFG103","v":0},{"$f":"'kros seznam'!VFH103","v":0},{"$f":"'kros seznam'!VFI103","v":0},{"$f":"'kros seznam'!VFJ103","v":0},{"$f":"'kros seznam'!VFK103","v":0},{"$f":"'kros seznam'!VFL103","v":0},{"$f":"'kros seznam'!VFM103","v":0},{"$f":"'kros seznam'!VFN103","v":0},{"$f":"'kros seznam'!VFO103","v":0},{"$f":"'kros seznam'!VFP103","v":0},{"$f":"'kros seznam'!VFQ103","v":0},{"$f":"'kros seznam'!VFR103","v":0},{"$f":"'kros seznam'!VFS103","v":0},{"$f":"'kros seznam'!VFT103","v":0},{"$f":"'kros seznam'!VFU103","v":0},{"$f":"'kros seznam'!VFV103","v":0},{"$f":"'kros seznam'!VFW103","v":0},{"$f":"'kros seznam'!VFX103","v":0},{"$f":"'kros seznam'!VFY103","v":0},{"$f":"'kros seznam'!VFZ103","v":0},{"$f":"'kros seznam'!VGA103","v":0},{"$f":"'kros seznam'!VGB103","v":0},{"$f":"'kros seznam'!VGC103","v":0},{"$f":"'kros seznam'!VGD103","v":0},{"$f":"'kros seznam'!VGE103","v":0},{"$f":"'kros seznam'!VGF103","v":0},{"$f":"'kros seznam'!VGG103","v":0},{"$f":"'kros seznam'!VGH103","v":0},{"$f":"'kros seznam'!VGI103","v":0},{"$f":"'kros seznam'!VGJ103","v":0},{"$f":"'kros seznam'!VGK103","v":0},{"$f":"'kros seznam'!VGL103","v":0},{"$f":"'kros seznam'!VGM103","v":0},{"$f":"'kros seznam'!VGN103","v":0},{"$f":"'kros seznam'!VGO103","v":0},{"$f":"'kros seznam'!VGP103","v":0},{"$f":"'kros seznam'!VGQ103","v":0},{"$f":"'kros seznam'!VGR103","v":0},{"$f":"'kros seznam'!VGS103","v":0},{"$f":"'kros seznam'!VGT103","v":0},{"$f":"'kros seznam'!VGU103","v":0},{"$f":"'kros seznam'!VGV103","v":0},{"$f":"'kros seznam'!VGW103","v":0},{"$f":"'kros seznam'!VGX103","v":0},{"$f":"'kros seznam'!VGY103","v":0},{"$f":"'kros seznam'!VGZ103","v":0},{"$f":"'kros seznam'!VHA103","v":0},{"$f":"'kros seznam'!VHB103","v":0},{"$f":"'kros seznam'!VHC103","v":0},{"$f":"'kros seznam'!VHD103","v":0},{"$f":"'kros seznam'!VHE103","v":0},{"$f":"'kros seznam'!VHF103","v":0},{"$f":"'kros seznam'!VHG103","v":0},{"$f":"'kros seznam'!VHH103","v":0},{"$f":"'kros seznam'!VHI103","v":0},{"$f":"'kros seznam'!VHJ103","v":0},{"$f":"'kros seznam'!VHK103","v":0},{"$f":"'kros seznam'!VHL103","v":0},{"$f":"'kros seznam'!VHM103","v":0},{"$f":"'kros seznam'!VHN103","v":0},{"$f":"'kros seznam'!VHO103","v":0},{"$f":"'kros seznam'!VHP103","v":0},{"$f":"'kros seznam'!VHQ103","v":0},{"$f":"'kros seznam'!VHR103","v":0},{"$f":"'kros seznam'!VHS103","v":0},{"$f":"'kros seznam'!VHT103","v":0},{"$f":"'kros seznam'!VHU103","v":0},{"$f":"'kros seznam'!VHV103","v":0},{"$f":"'kros seznam'!VHW103","v":0},{"$f":"'kros seznam'!VHX103","v":0},{"$f":"'kros seznam'!VHY103","v":0},{"$f":"'kros seznam'!VHZ103","v":0},{"$f":"'kros seznam'!VIA103","v":0},{"$f":"'kros seznam'!VIB103","v":0},{"$f":"'kros seznam'!VIC103","v":0},{"$f":"'kros seznam'!VID103","v":0},{"$f":"'kros seznam'!VIE103","v":0},{"$f":"'kros seznam'!VIF103","v":0},{"$f":"'kros seznam'!VIG103","v":0},{"$f":"'kros seznam'!VIH103","v":0},{"$f":"'kros seznam'!VII103","v":0},{"$f":"'kros seznam'!VIJ103","v":0},{"$f":"'kros seznam'!VIK103","v":0},{"$f":"'kros seznam'!VIL103","v":0},{"$f":"'kros seznam'!VIM103","v":0},{"$f":"'kros seznam'!VIN103","v":0},{"$f":"'kros seznam'!VIO103","v":0},{"$f":"'kros seznam'!VIP103","v":0},{"$f":"'kros seznam'!VIQ103","v":0},{"$f":"'kros seznam'!VIR103","v":0},{"$f":"'kros seznam'!VIS103","v":0},{"$f":"'kros seznam'!VIT103","v":0},{"$f":"'kros seznam'!VIU103","v":0},{"$f":"'kros seznam'!VIV103","v":0},{"$f":"'kros seznam'!VIW103","v":0},{"$f":"'kros seznam'!VIX103","v":0},{"$f":"'kros seznam'!VIY103","v":0},{"$f":"'kros seznam'!VIZ103","v":0},{"$f":"'kros seznam'!VJA103","v":0},{"$f":"'kros seznam'!VJB103","v":0},{"$f":"'kros seznam'!VJC103","v":0},{"$f":"'kros seznam'!VJD103","v":0},{"$f":"'kros seznam'!VJE103","v":0},{"$f":"'kros seznam'!VJF103","v":0},{"$f":"'kros seznam'!VJG103","v":0},{"$f":"'kros seznam'!VJH103","v":0},{"$f":"'kros seznam'!VJI103","v":0},{"$f":"'kros seznam'!VJJ103","v":0},{"$f":"'kros seznam'!VJK103","v":0},{"$f":"'kros seznam'!VJL103","v":0},{"$f":"'kros seznam'!VJM103","v":0},{"$f":"'kros seznam'!VJN103","v":0},{"$f":"'kros seznam'!VJO103","v":0},{"$f":"'kros seznam'!VJP103","v":0},{"$f":"'kros seznam'!VJQ103","v":0},{"$f":"'kros seznam'!VJR103","v":0},{"$f":"'kros seznam'!VJS103","v":0},{"$f":"'kros seznam'!VJT103","v":0},{"$f":"'kros seznam'!VJU103","v":0},{"$f":"'kros seznam'!VJV103","v":0},{"$f":"'kros seznam'!VJW103","v":0},{"$f":"'kros seznam'!VJX103","v":0},{"$f":"'kros seznam'!VJY103","v":0},{"$f":"'kros seznam'!VJZ103","v":0},{"$f":"'kros seznam'!VKA103","v":0},{"$f":"'kros seznam'!VKB103","v":0},{"$f":"'kros seznam'!VKC103","v":0},{"$f":"'kros seznam'!VKD103","v":0},{"$f":"'kros seznam'!VKE103","v":0},{"$f":"'kros seznam'!VKF103","v":0},{"$f":"'kros seznam'!VKG103","v":0},{"$f":"'kros seznam'!VKH103","v":0},{"$f":"'kros seznam'!VKI103","v":0},{"$f":"'kros seznam'!VKJ103","v":0},{"$f":"'kros seznam'!VKK103","v":0},{"$f":"'kros seznam'!VKL103","v":0},{"$f":"'kros seznam'!VKM103","v":0},{"$f":"'kros seznam'!VKN103","v":0},{"$f":"'kros seznam'!VKO103","v":0},{"$f":"'kros seznam'!VKP103","v":0},{"$f":"'kros seznam'!VKQ103","v":0},{"$f":"'kros seznam'!VKR103","v":0},{"$f":"'kros seznam'!VKS103","v":0},{"$f":"'kros seznam'!VKT103","v":0},{"$f":"'kros seznam'!VKU103","v":0},{"$f":"'kros seznam'!VKV103","v":0},{"$f":"'kros seznam'!VKW103","v":0},{"$f":"'kros seznam'!VKX103","v":0},{"$f":"'kros seznam'!VKY103","v":0},{"$f":"'kros seznam'!VKZ103","v":0},{"$f":"'kros seznam'!VLA103","v":0},{"$f":"'kros seznam'!VLB103","v":0},{"$f":"'kros seznam'!VLC103","v":0},{"$f":"'kros seznam'!VLD103","v":0},{"$f":"'kros seznam'!VLE103","v":0},{"$f":"'kros seznam'!VLF103","v":0},{"$f":"'kros seznam'!VLG103","v":0},{"$f":"'kros seznam'!VLH103","v":0},{"$f":"'kros seznam'!VLI103","v":0},{"$f":"'kros seznam'!VLJ103","v":0},{"$f":"'kros seznam'!VLK103","v":0},{"$f":"'kros seznam'!VLL103","v":0},{"$f":"'kros seznam'!VLM103","v":0},{"$f":"'kros seznam'!VLN103","v":0},{"$f":"'kros seznam'!VLO103","v":0},{"$f":"'kros seznam'!VLP103","v":0},{"$f":"'kros seznam'!VLQ103","v":0},{"$f":"'kros seznam'!VLR103","v":0},{"$f":"'kros seznam'!VLS103","v":0},{"$f":"'kros seznam'!VLT103","v":0},{"$f":"'kros seznam'!VLU103","v":0},{"$f":"'kros seznam'!VLV103","v":0},{"$f":"'kros seznam'!VLW103","v":0},{"$f":"'kros seznam'!VLX103","v":0},{"$f":"'kros seznam'!VLY103","v":0},{"$f":"'kros seznam'!VLZ103","v":0},{"$f":"'kros seznam'!VMA103","v":0},{"$f":"'kros seznam'!VMB103","v":0},{"$f":"'kros seznam'!VMC103","v":0},{"$f":"'kros seznam'!VMD103","v":0},{"$f":"'kros seznam'!VME103","v":0},{"$f":"'kros seznam'!VMF103","v":0},{"$f":"'kros seznam'!VMG103","v":0},{"$f":"'kros seznam'!VMH103","v":0},{"$f":"'kros seznam'!VMI103","v":0},{"$f":"'kros seznam'!VMJ103","v":0},{"$f":"'kros seznam'!VMK103","v":0},{"$f":"'kros seznam'!VML103","v":0},{"$f":"'kros seznam'!VMM103","v":0},{"$f":"'kros seznam'!VMN103","v":0},{"$f":"'kros seznam'!VMO103","v":0},{"$f":"'kros seznam'!VMP103","v":0},{"$f":"'kros seznam'!VMQ103","v":0},{"$f":"'kros seznam'!VMR103","v":0},{"$f":"'kros seznam'!VMS103","v":0},{"$f":"'kros seznam'!VMT103","v":0},{"$f":"'kros seznam'!VMU103","v":0},{"$f":"'kros seznam'!VMV103","v":0},{"$f":"'kros seznam'!VMW103","v":0},{"$f":"'kros seznam'!VMX103","v":0},{"$f":"'kros seznam'!VMY103","v":0},{"$f":"'kros seznam'!VMZ103","v":0},{"$f":"'kros seznam'!VNA103","v":0},{"$f":"'kros seznam'!VNB103","v":0},{"$f":"'kros seznam'!VNC103","v":0},{"$f":"'kros seznam'!VND103","v":0},{"$f":"'kros seznam'!VNE103","v":0},{"$f":"'kros seznam'!VNF103","v":0},{"$f":"'kros seznam'!VNG103","v":0},{"$f":"'kros seznam'!VNH103","v":0},{"$f":"'kros seznam'!VNI103","v":0},{"$f":"'kros seznam'!VNJ103","v":0},{"$f":"'kros seznam'!VNK103","v":0},{"$f":"'kros seznam'!VNL103","v":0},{"$f":"'kros seznam'!VNM103","v":0},{"$f":"'kros seznam'!VNN103","v":0},{"$f":"'kros seznam'!VNO103","v":0},{"$f":"'kros seznam'!VNP103","v":0},{"$f":"'kros seznam'!VNQ103","v":0},{"$f":"'kros seznam'!VNR103","v":0},{"$f":"'kros seznam'!VNS103","v":0},{"$f":"'kros seznam'!VNT103","v":0},{"$f":"'kros seznam'!VNU103","v":0},{"$f":"'kros seznam'!VNV103","v":0},{"$f":"'kros seznam'!VNW103","v":0},{"$f":"'kros seznam'!VNX103","v":0},{"$f":"'kros seznam'!VNY103","v":0},{"$f":"'kros seznam'!VNZ103","v":0},{"$f":"'kros seznam'!VOA103","v":0},{"$f":"'kros seznam'!VOB103","v":0},{"$f":"'kros seznam'!VOC103","v":0},{"$f":"'kros seznam'!VOD103","v":0},{"$f":"'kros seznam'!VOE103","v":0},{"$f":"'kros seznam'!VOF103","v":0},{"$f":"'kros seznam'!VOG103","v":0},{"$f":"'kros seznam'!VOH103","v":0},{"$f":"'kros seznam'!VOI103","v":0},{"$f":"'kros seznam'!VOJ103","v":0},{"$f":"'kros seznam'!VOK103","v":0},{"$f":"'kros seznam'!VOL103","v":0},{"$f":"'kros seznam'!VOM103","v":0},{"$f":"'kros seznam'!VON103","v":0},{"$f":"'kros seznam'!VOO103","v":0},{"$f":"'kros seznam'!VOP103","v":0},{"$f":"'kros seznam'!VOQ103","v":0},{"$f":"'kros seznam'!VOR103","v":0},{"$f":"'kros seznam'!VOS103","v":0},{"$f":"'kros seznam'!VOT103","v":0},{"$f":"'kros seznam'!VOU103","v":0},{"$f":"'kros seznam'!VOV103","v":0},{"$f":"'kros seznam'!VOW103","v":0},{"$f":"'kros seznam'!VOX103","v":0},{"$f":"'kros seznam'!VOY103","v":0},{"$f":"'kros seznam'!VOZ103","v":0},{"$f":"'kros seznam'!VPA103","v":0},{"$f":"'kros seznam'!VPB103","v":0},{"$f":"'kros seznam'!VPC103","v":0},{"$f":"'kros seznam'!VPD103","v":0},{"$f":"'kros seznam'!VPE103","v":0},{"$f":"'kros seznam'!VPF103","v":0},{"$f":"'kros seznam'!VPG103","v":0},{"$f":"'kros seznam'!VPH103","v":0},{"$f":"'kros seznam'!VPI103","v":0},{"$f":"'kros seznam'!VPJ103","v":0},{"$f":"'kros seznam'!VPK103","v":0},{"$f":"'kros seznam'!VPL103","v":0},{"$f":"'kros seznam'!VPM103","v":0},{"$f":"'kros seznam'!VPN103","v":0},{"$f":"'kros seznam'!VPO103","v":0},{"$f":"'kros seznam'!VPP103","v":0},{"$f":"'kros seznam'!VPQ103","v":0},{"$f":"'kros seznam'!VPR103","v":0},{"$f":"'kros seznam'!VPS103","v":0},{"$f":"'kros seznam'!VPT103","v":0},{"$f":"'kros seznam'!VPU103","v":0},{"$f":"'kros seznam'!VPV103","v":0},{"$f":"'kros seznam'!VPW103","v":0},{"$f":"'kros seznam'!VPX103","v":0},{"$f":"'kros seznam'!VPY103","v":0},{"$f":"'kros seznam'!VPZ103","v":0},{"$f":"'kros seznam'!VQA103","v":0},{"$f":"'kros seznam'!VQB103","v":0},{"$f":"'kros seznam'!VQC103","v":0},{"$f":"'kros seznam'!VQD103","v":0},{"$f":"'kros seznam'!VQE103","v":0},{"$f":"'kros seznam'!VQF103","v":0},{"$f":"'kros seznam'!VQG103","v":0},{"$f":"'kros seznam'!VQH103","v":0},{"$f":"'kros seznam'!VQI103","v":0},{"$f":"'kros seznam'!VQJ103","v":0},{"$f":"'kros seznam'!VQK103","v":0},{"$f":"'kros seznam'!VQL103","v":0},{"$f":"'kros seznam'!VQM103","v":0},{"$f":"'kros seznam'!VQN103","v":0},{"$f":"'kros seznam'!VQO103","v":0},{"$f":"'kros seznam'!VQP103","v":0},{"$f":"'kros seznam'!VQQ103","v":0},{"$f":"'kros seznam'!VQR103","v":0},{"$f":"'kros seznam'!VQS103","v":0},{"$f":"'kros seznam'!VQT103","v":0},{"$f":"'kros seznam'!VQU103","v":0},{"$f":"'kros seznam'!VQV103","v":0},{"$f":"'kros seznam'!VQW103","v":0},{"$f":"'kros seznam'!VQX103","v":0},{"$f":"'kros seznam'!VQY103","v":0},{"$f":"'kros seznam'!VQZ103","v":0},{"$f":"'kros seznam'!VRA103","v":0},{"$f":"'kros seznam'!VRB103","v":0},{"$f":"'kros seznam'!VRC103","v":0},{"$f":"'kros seznam'!VRD103","v":0},{"$f":"'kros seznam'!VRE103","v":0},{"$f":"'kros seznam'!VRF103","v":0},{"$f":"'kros seznam'!VRG103","v":0},{"$f":"'kros seznam'!VRH103","v":0},{"$f":"'kros seznam'!VRI103","v":0},{"$f":"'kros seznam'!VRJ103","v":0},{"$f":"'kros seznam'!VRK103","v":0},{"$f":"'kros seznam'!VRL103","v":0},{"$f":"'kros seznam'!VRM103","v":0},{"$f":"'kros seznam'!VRN103","v":0},{"$f":"'kros seznam'!VRO103","v":0},{"$f":"'kros seznam'!VRP103","v":0},{"$f":"'kros seznam'!VRQ103","v":0},{"$f":"'kros seznam'!VRR103","v":0},{"$f":"'kros seznam'!VRS103","v":0},{"$f":"'kros seznam'!VRT103","v":0},{"$f":"'kros seznam'!VRU103","v":0},{"$f":"'kros seznam'!VRV103","v":0},{"$f":"'kros seznam'!VRW103","v":0},{"$f":"'kros seznam'!VRX103","v":0},{"$f":"'kros seznam'!VRY103","v":0},{"$f":"'kros seznam'!VRZ103","v":0},{"$f":"'kros seznam'!VSA103","v":0},{"$f":"'kros seznam'!VSB103","v":0},{"$f":"'kros seznam'!VSC103","v":0},{"$f":"'kros seznam'!VSD103","v":0},{"$f":"'kros seznam'!VSE103","v":0},{"$f":"'kros seznam'!VSF103","v":0},{"$f":"'kros seznam'!VSG103","v":0},{"$f":"'kros seznam'!VSH103","v":0},{"$f":"'kros seznam'!VSI103","v":0},{"$f":"'kros seznam'!VSJ103","v":0},{"$f":"'kros seznam'!VSK103","v":0},{"$f":"'kros seznam'!VSL103","v":0},{"$f":"'kros seznam'!VSM103","v":0},{"$f":"'kros seznam'!VSN103","v":0},{"$f":"'kros seznam'!VSO103","v":0},{"$f":"'kros seznam'!VSP103","v":0},{"$f":"'kros seznam'!VSQ103","v":0},{"$f":"'kros seznam'!VSR103","v":0},{"$f":"'kros seznam'!VSS103","v":0},{"$f":"'kros seznam'!VST103","v":0},{"$f":"'kros seznam'!VSU103","v":0},{"$f":"'kros seznam'!VSV103","v":0},{"$f":"'kros seznam'!VSW103","v":0},{"$f":"'kros seznam'!VSX103","v":0},{"$f":"'kros seznam'!VSY103","v":0},{"$f":"'kros seznam'!VSZ103","v":0},{"$f":"'kros seznam'!VTA103","v":0},{"$f":"'kros seznam'!VTB103","v":0},{"$f":"'kros seznam'!VTC103","v":0},{"$f":"'kros seznam'!VTD103","v":0},{"$f":"'kros seznam'!VTE103","v":0},{"$f":"'kros seznam'!VTF103","v":0},{"$f":"'kros seznam'!VTG103","v":0},{"$f":"'kros seznam'!VTH103","v":0},{"$f":"'kros seznam'!VTI103","v":0},{"$f":"'kros seznam'!VTJ103","v":0},{"$f":"'kros seznam'!VTK103","v":0},{"$f":"'kros seznam'!VTL103","v":0},{"$f":"'kros seznam'!VTM103","v":0},{"$f":"'kros seznam'!VTN103","v":0},{"$f":"'kros seznam'!VTO103","v":0},{"$f":"'kros seznam'!VTP103","v":0},{"$f":"'kros seznam'!VTQ103","v":0},{"$f":"'kros seznam'!VTR103","v":0},{"$f":"'kros seznam'!VTS103","v":0},{"$f":"'kros seznam'!VTT103","v":0},{"$f":"'kros seznam'!VTU103","v":0},{"$f":"'kros seznam'!VTV103","v":0},{"$f":"'kros seznam'!VTW103","v":0},{"$f":"'kros seznam'!VTX103","v":0},{"$f":"'kros seznam'!VTY103","v":0},{"$f":"'kros seznam'!VTZ103","v":0},{"$f":"'kros seznam'!VUA103","v":0},{"$f":"'kros seznam'!VUB103","v":0},{"$f":"'kros seznam'!VUC103","v":0},{"$f":"'kros seznam'!VUD103","v":0},{"$f":"'kros seznam'!VUE103","v":0},{"$f":"'kros seznam'!VUF103","v":0},{"$f":"'kros seznam'!VUG103","v":0},{"$f":"'kros seznam'!VUH103","v":0},{"$f":"'kros seznam'!VUI103","v":0},{"$f":"'kros seznam'!VUJ103","v":0},{"$f":"'kros seznam'!VUK103","v":0},{"$f":"'kros seznam'!VUL103","v":0},{"$f":"'kros seznam'!VUM103","v":0},{"$f":"'kros seznam'!VUN103","v":0},{"$f":"'kros seznam'!VUO103","v":0},{"$f":"'kros seznam'!VUP103","v":0},{"$f":"'kros seznam'!VUQ103","v":0},{"$f":"'kros seznam'!VUR103","v":0},{"$f":"'kros seznam'!VUS103","v":0},{"$f":"'kros seznam'!VUT103","v":0},{"$f":"'kros seznam'!VUU103","v":0},{"$f":"'kros seznam'!VUV103","v":0},{"$f":"'kros seznam'!VUW103","v":0},{"$f":"'kros seznam'!VUX103","v":0},{"$f":"'kros seznam'!VUY103","v":0},{"$f":"'kros seznam'!VUZ103","v":0},{"$f":"'kros seznam'!VVA103","v":0},{"$f":"'kros seznam'!VVB103","v":0},{"$f":"'kros seznam'!VVC103","v":0},{"$f":"'kros seznam'!VVD103","v":0},{"$f":"'kros seznam'!VVE103","v":0},{"$f":"'kros seznam'!VVF103","v":0},{"$f":"'kros seznam'!VVG103","v":0},{"$f":"'kros seznam'!VVH103","v":0},{"$f":"'kros seznam'!VVI103","v":0},{"$f":"'kros seznam'!VVJ103","v":0},{"$f":"'kros seznam'!VVK103","v":0},{"$f":"'kros seznam'!VVL103","v":0},{"$f":"'kros seznam'!VVM103","v":0},{"$f":"'kros seznam'!VVN103","v":0},{"$f":"'kros seznam'!VVO103","v":0},{"$f":"'kros seznam'!VVP103","v":0},{"$f":"'kros seznam'!VVQ103","v":0},{"$f":"'kros seznam'!VVR103","v":0},{"$f":"'kros seznam'!VVS103","v":0},{"$f":"'kros seznam'!VVT103","v":0},{"$f":"'kros seznam'!VVU103","v":0},{"$f":"'kros seznam'!VVV103","v":0},{"$f":"'kros seznam'!VVW103","v":0},{"$f":"'kros seznam'!VVX103","v":0},{"$f":"'kros seznam'!VVY103","v":0},{"$f":"'kros seznam'!VVZ103","v":0},{"$f":"'kros seznam'!VWA103","v":0},{"$f":"'kros seznam'!VWB103","v":0},{"$f":"'kros seznam'!VWC103","v":0},{"$f":"'kros seznam'!VWD103","v":0},{"$f":"'kros seznam'!VWE103","v":0},{"$f":"'kros seznam'!VWF103","v":0},{"$f":"'kros seznam'!VWG103","v":0},{"$f":"'kros seznam'!VWH103","v":0},{"$f":"'kros seznam'!VWI103","v":0},{"$f":"'kros seznam'!VWJ103","v":0},{"$f":"'kros seznam'!VWK103","v":0},{"$f":"'kros seznam'!VWL103","v":0},{"$f":"'kros seznam'!VWM103","v":0},{"$f":"'kros seznam'!VWN103","v":0},{"$f":"'kros seznam'!VWO103","v":0},{"$f":"'kros seznam'!VWP103","v":0},{"$f":"'kros seznam'!VWQ103","v":0},{"$f":"'kros seznam'!VWR103","v":0},{"$f":"'kros seznam'!VWS103","v":0},{"$f":"'kros seznam'!VWT103","v":0},{"$f":"'kros seznam'!VWU103","v":0},{"$f":"'kros seznam'!VWV103","v":0},{"$f":"'kros seznam'!VWW103","v":0},{"$f":"'kros seznam'!VWX103","v":0},{"$f":"'kros seznam'!VWY103","v":0},{"$f":"'kros seznam'!VWZ103","v":0},{"$f":"'kros seznam'!VXA103","v":0},{"$f":"'kros seznam'!VXB103","v":0},{"$f":"'kros seznam'!VXC103","v":0},{"$f":"'kros seznam'!VXD103","v":0},{"$f":"'kros seznam'!VXE103","v":0},{"$f":"'kros seznam'!VXF103","v":0},{"$f":"'kros seznam'!VXG103","v":0},{"$f":"'kros seznam'!VXH103","v":0},{"$f":"'kros seznam'!VXI103","v":0},{"$f":"'kros seznam'!VXJ103","v":0},{"$f":"'kros seznam'!VXK103","v":0},{"$f":"'kros seznam'!VXL103","v":0},{"$f":"'kros seznam'!VXM103","v":0},{"$f":"'kros seznam'!VXN103","v":0},{"$f":"'kros seznam'!VXO103","v":0},{"$f":"'kros seznam'!VXP103","v":0},{"$f":"'kros seznam'!VXQ103","v":0},{"$f":"'kros seznam'!VXR103","v":0},{"$f":"'kros seznam'!VXS103","v":0},{"$f":"'kros seznam'!VXT103","v":0},{"$f":"'kros seznam'!VXU103","v":0},{"$f":"'kros seznam'!VXV103","v":0},{"$f":"'kros seznam'!VXW103","v":0},{"$f":"'kros seznam'!VXX103","v":0},{"$f":"'kros seznam'!VXY103","v":0},{"$f":"'kros seznam'!VXZ103","v":0},{"$f":"'kros seznam'!VYA103","v":0},{"$f":"'kros seznam'!VYB103","v":0},{"$f":"'kros seznam'!VYC103","v":0},{"$f":"'kros seznam'!VYD103","v":0},{"$f":"'kros seznam'!VYE103","v":0},{"$f":"'kros seznam'!VYF103","v":0},{"$f":"'kros seznam'!VYG103","v":0},{"$f":"'kros seznam'!VYH103","v":0},{"$f":"'kros seznam'!VYI103","v":0},{"$f":"'kros seznam'!VYJ103","v":0},{"$f":"'kros seznam'!VYK103","v":0},{"$f":"'kros seznam'!VYL103","v":0},{"$f":"'kros seznam'!VYM103","v":0},{"$f":"'kros seznam'!VYN103","v":0},{"$f":"'kros seznam'!VYO103","v":0},{"$f":"'kros seznam'!VYP103","v":0},{"$f":"'kros seznam'!VYQ103","v":0},{"$f":"'kros seznam'!VYR103","v":0},{"$f":"'kros seznam'!VYS103","v":0},{"$f":"'kros seznam'!VYT103","v":0},{"$f":"'kros seznam'!VYU103","v":0},{"$f":"'kros seznam'!VYV103","v":0},{"$f":"'kros seznam'!VYW103","v":0},{"$f":"'kros seznam'!VYX103","v":0},{"$f":"'kros seznam'!VYY103","v":0},{"$f":"'kros seznam'!VYZ103","v":0},{"$f":"'kros seznam'!VZA103","v":0},{"$f":"'kros seznam'!VZB103","v":0},{"$f":"'kros seznam'!VZC103","v":0},{"$f":"'kros seznam'!VZD103","v":0},{"$f":"'kros seznam'!VZE103","v":0},{"$f":"'kros seznam'!VZF103","v":0},{"$f":"'kros seznam'!VZG103","v":0},{"$f":"'kros seznam'!VZH103","v":0},{"$f":"'kros seznam'!VZI103","v":0},{"$f":"'kros seznam'!VZJ103","v":0},{"$f":"'kros seznam'!VZK103","v":0},{"$f":"'kros seznam'!VZL103","v":0},{"$f":"'kros seznam'!VZM103","v":0},{"$f":"'kros seznam'!VZN103","v":0},{"$f":"'kros seznam'!VZO103","v":0},{"$f":"'kros seznam'!VZP103","v":0},{"$f":"'kros seznam'!VZQ103","v":0},{"$f":"'kros seznam'!VZR103","v":0},{"$f":"'kros seznam'!VZS103","v":0},{"$f":"'kros seznam'!VZT103","v":0},{"$f":"'kros seznam'!VZU103","v":0},{"$f":"'kros seznam'!VZV103","v":0},{"$f":"'kros seznam'!VZW103","v":0},{"$f":"'kros seznam'!VZX103","v":0},{"$f":"'kros seznam'!VZY103","v":0},{"$f":"'kros seznam'!VZZ103","v":0},{"$f":"'kros seznam'!WAA103","v":0},{"$f":"'kros seznam'!WAB103","v":0},{"$f":"'kros seznam'!WAC103","v":0},{"$f":"'kros seznam'!WAD103","v":0},{"$f":"'kros seznam'!WAE103","v":0},{"$f":"'kros seznam'!WAF103","v":0},{"$f":"'kros seznam'!WAG103","v":0},{"$f":"'kros seznam'!WAH103","v":0},{"$f":"'kros seznam'!WAI103","v":0},{"$f":"'kros seznam'!WAJ103","v":0},{"$f":"'kros seznam'!WAK103","v":0},{"$f":"'kros seznam'!WAL103","v":0},{"$f":"'kros seznam'!WAM103","v":0},{"$f":"'kros seznam'!WAN103","v":0},{"$f":"'kros seznam'!WAO103","v":0},{"$f":"'kros seznam'!WAP103","v":0},{"$f":"'kros seznam'!WAQ103","v":0},{"$f":"'kros seznam'!WAR103","v":0},{"$f":"'kros seznam'!WAS103","v":0},{"$f":"'kros seznam'!WAT103","v":0},{"$f":"'kros seznam'!WAU103","v":0},{"$f":"'kros seznam'!WAV103","v":0},{"$f":"'kros seznam'!WAW103","v":0},{"$f":"'kros seznam'!WAX103","v":0},{"$f":"'kros seznam'!WAY103","v":0},{"$f":"'kros seznam'!WAZ103","v":0},{"$f":"'kros seznam'!WBA103","v":0},{"$f":"'kros seznam'!WBB103","v":0},{"$f":"'kros seznam'!WBC103","v":0},{"$f":"'kros seznam'!WBD103","v":0},{"$f":"'kros seznam'!WBE103","v":0},{"$f":"'kros seznam'!WBF103","v":0},{"$f":"'kros seznam'!WBG103","v":0},{"$f":"'kros seznam'!WBH103","v":0},{"$f":"'kros seznam'!WBI103","v":0},{"$f":"'kros seznam'!WBJ103","v":0},{"$f":"'kros seznam'!WBK103","v":0},{"$f":"'kros seznam'!WBL103","v":0},{"$f":"'kros seznam'!WBM103","v":0},{"$f":"'kros seznam'!WBN103","v":0},{"$f":"'kros seznam'!WBO103","v":0},{"$f":"'kros seznam'!WBP103","v":0},{"$f":"'kros seznam'!WBQ103","v":0},{"$f":"'kros seznam'!WBR103","v":0},{"$f":"'kros seznam'!WBS103","v":0},{"$f":"'kros seznam'!WBT103","v":0},{"$f":"'kros seznam'!WBU103","v":0},{"$f":"'kros seznam'!WBV103","v":0},{"$f":"'kros seznam'!WBW103","v":0},{"$f":"'kros seznam'!WBX103","v":0},{"$f":"'kros seznam'!WBY103","v":0},{"$f":"'kros seznam'!WBZ103","v":0},{"$f":"'kros seznam'!WCA103","v":0},{"$f":"'kros seznam'!WCB103","v":0},{"$f":"'kros seznam'!WCC103","v":0},{"$f":"'kros seznam'!WCD103","v":0},{"$f":"'kros seznam'!WCE103","v":0},{"$f":"'kros seznam'!WCF103","v":0},{"$f":"'kros seznam'!WCG103","v":0},{"$f":"'kros seznam'!WCH103","v":0},{"$f":"'kros seznam'!WCI103","v":0},{"$f":"'kros seznam'!WCJ103","v":0},{"$f":"'kros seznam'!WCK103","v":0},{"$f":"'kros seznam'!WCL103","v":0},{"$f":"'kros seznam'!WCM103","v":0},{"$f":"'kros seznam'!WCN103","v":0},{"$f":"'kros seznam'!WCO103","v":0},{"$f":"'kros seznam'!WCP103","v":0},{"$f":"'kros seznam'!WCQ103","v":0},{"$f":"'kros seznam'!WCR103","v":0},{"$f":"'kros seznam'!WCS103","v":0},{"$f":"'kros seznam'!WCT103","v":0},{"$f":"'kros seznam'!WCU103","v":0},{"$f":"'kros seznam'!WCV103","v":0},{"$f":"'kros seznam'!WCW103","v":0},{"$f":"'kros seznam'!WCX103","v":0},{"$f":"'kros seznam'!WCY103","v":0},{"$f":"'kros seznam'!WCZ103","v":0},{"$f":"'kros seznam'!WDA103","v":0},{"$f":"'kros seznam'!WDB103","v":0},{"$f":"'kros seznam'!WDC103","v":0},{"$f":"'kros seznam'!WDD103","v":0},{"$f":"'kros seznam'!WDE103","v":0},{"$f":"'kros seznam'!WDF103","v":0},{"$f":"'kros seznam'!WDG103","v":0},{"$f":"'kros seznam'!WDH103","v":0},{"$f":"'kros seznam'!WDI103","v":0},{"$f":"'kros seznam'!WDJ103","v":0},{"$f":"'kros seznam'!WDK103","v":0},{"$f":"'kros seznam'!WDL103","v":0},{"$f":"'kros seznam'!WDM103","v":0},{"$f":"'kros seznam'!WDN103","v":0},{"$f":"'kros seznam'!WDO103","v":0},{"$f":"'kros seznam'!WDP103","v":0},{"$f":"'kros seznam'!WDQ103","v":0},{"$f":"'kros seznam'!WDR103","v":0},{"$f":"'kros seznam'!WDS103","v":0},{"$f":"'kros seznam'!WDT103","v":0},{"$f":"'kros seznam'!WDU103","v":0},{"$f":"'kros seznam'!WDV103","v":0},{"$f":"'kros seznam'!WDW103","v":0},{"$f":"'kros seznam'!WDX103","v":0},{"$f":"'kros seznam'!WDY103","v":0},{"$f":"'kros seznam'!WDZ103","v":0},{"$f":"'kros seznam'!WEA103","v":0},{"$f":"'kros seznam'!WEB103","v":0},{"$f":"'kros seznam'!WEC103","v":0},{"$f":"'kros seznam'!WED103","v":0},{"$f":"'kros seznam'!WEE103","v":0},{"$f":"'kros seznam'!WEF103","v":0},{"$f":"'kros seznam'!WEG103","v":0},{"$f":"'kros seznam'!WEH103","v":0},{"$f":"'kros seznam'!WEI103","v":0},{"$f":"'kros seznam'!WEJ103","v":0},{"$f":"'kros seznam'!WEK103","v":0},{"$f":"'kros seznam'!WEL103","v":0},{"$f":"'kros seznam'!WEM103","v":0},{"$f":"'kros seznam'!WEN103","v":0},{"$f":"'kros seznam'!WEO103","v":0},{"$f":"'kros seznam'!WEP103","v":0},{"$f":"'kros seznam'!WEQ103","v":0},{"$f":"'kros seznam'!WER103","v":0},{"$f":"'kros seznam'!WES103","v":0},{"$f":"'kros seznam'!WET103","v":0},{"$f":"'kros seznam'!WEU103","v":0},{"$f":"'kros seznam'!WEV103","v":0},{"$f":"'kros seznam'!WEW103","v":0},{"$f":"'kros seznam'!WEX103","v":0},{"$f":"'kros seznam'!WEY103","v":0},{"$f":"'kros seznam'!WEZ103","v":0},{"$f":"'kros seznam'!WFA103","v":0},{"$f":"'kros seznam'!WFB103","v":0},{"$f":"'kros seznam'!WFC103","v":0},{"$f":"'kros seznam'!WFD103","v":0},{"$f":"'kros seznam'!WFE103","v":0},{"$f":"'kros seznam'!WFF103","v":0},{"$f":"'kros seznam'!WFG103","v":0},{"$f":"'kros seznam'!WFH103","v":0},{"$f":"'kros seznam'!WFI103","v":0},{"$f":"'kros seznam'!WFJ103","v":0},{"$f":"'kros seznam'!WFK103","v":0},{"$f":"'kros seznam'!WFL103","v":0},{"$f":"'kros seznam'!WFM103","v":0},{"$f":"'kros seznam'!WFN103","v":0},{"$f":"'kros seznam'!WFO103","v":0},{"$f":"'kros seznam'!WFP103","v":0},{"$f":"'kros seznam'!WFQ103","v":0},{"$f":"'kros seznam'!WFR103","v":0},{"$f":"'kros seznam'!WFS103","v":0},{"$f":"'kros seznam'!WFT103","v":0},{"$f":"'kros seznam'!WFU103","v":0},{"$f":"'kros seznam'!WFV103","v":0},{"$f":"'kros seznam'!WFW103","v":0},{"$f":"'kros seznam'!WFX103","v":0},{"$f":"'kros seznam'!WFY103","v":0},{"$f":"'kros seznam'!WFZ103","v":0},{"$f":"'kros seznam'!WGA103","v":0},{"$f":"'kros seznam'!WGB103","v":0},{"$f":"'kros seznam'!WGC103","v":0},{"$f":"'kros seznam'!WGD103","v":0},{"$f":"'kros seznam'!WGE103","v":0},{"$f":"'kros seznam'!WGF103","v":0},{"$f":"'kros seznam'!WGG103","v":0},{"$f":"'kros seznam'!WGH103","v":0},{"$f":"'kros seznam'!WGI103","v":0},{"$f":"'kros seznam'!WGJ103","v":0},{"$f":"'kros seznam'!WGK103","v":0},{"$f":"'kros seznam'!WGL103","v":0},{"$f":"'kros seznam'!WGM103","v":0},{"$f":"'kros seznam'!WGN103","v":0},{"$f":"'kros seznam'!WGO103","v":0},{"$f":"'kros seznam'!WGP103","v":0},{"$f":"'kros seznam'!WGQ103","v":0},{"$f":"'kros seznam'!WGR103","v":0},{"$f":"'kros seznam'!WGS103","v":0},{"$f":"'kros seznam'!WGT103","v":0},{"$f":"'kros seznam'!WGU103","v":0},{"$f":"'kros seznam'!WGV103","v":0},{"$f":"'kros seznam'!WGW103","v":0},{"$f":"'kros seznam'!WGX103","v":0},{"$f":"'kros seznam'!WGY103","v":0},{"$f":"'kros seznam'!WGZ103","v":0},{"$f":"'kros seznam'!WHA103","v":0},{"$f":"'kros seznam'!WHB103","v":0},{"$f":"'kros seznam'!WHC103","v":0},{"$f":"'kros seznam'!WHD103","v":0},{"$f":"'kros seznam'!WHE103","v":0},{"$f":"'kros seznam'!WHF103","v":0},{"$f":"'kros seznam'!WHG103","v":0},{"$f":"'kros seznam'!WHH103","v":0},{"$f":"'kros seznam'!WHI103","v":0},{"$f":"'kros seznam'!WHJ103","v":0},{"$f":"'kros seznam'!WHK103","v":0},{"$f":"'kros seznam'!WHL103","v":0},{"$f":"'kros seznam'!WHM103","v":0},{"$f":"'kros seznam'!WHN103","v":0},{"$f":"'kros seznam'!WHO103","v":0},{"$f":"'kros seznam'!WHP103","v":0},{"$f":"'kros seznam'!WHQ103","v":0},{"$f":"'kros seznam'!WHR103","v":0},{"$f":"'kros seznam'!WHS103","v":0},{"$f":"'kros seznam'!WHT103","v":0},{"$f":"'kros seznam'!WHU103","v":0},{"$f":"'kros seznam'!WHV103","v":0},{"$f":"'kros seznam'!WHW103","v":0},{"$f":"'kros seznam'!WHX103","v":0},{"$f":"'kros seznam'!WHY103","v":0},{"$f":"'kros seznam'!WHZ103","v":0},{"$f":"'kros seznam'!WIA103","v":0},{"$f":"'kros seznam'!WIB103","v":0},{"$f":"'kros seznam'!WIC103","v":0},{"$f":"'kros seznam'!WID103","v":0},{"$f":"'kros seznam'!WIE103","v":0},{"$f":"'kros seznam'!WIF103","v":0},{"$f":"'kros seznam'!WIG103","v":0},{"$f":"'kros seznam'!WIH103","v":0},{"$f":"'kros seznam'!WII103","v":0},{"$f":"'kros seznam'!WIJ103","v":0},{"$f":"'kros seznam'!WIK103","v":0},{"$f":"'kros seznam'!WIL103","v":0},{"$f":"'kros seznam'!WIM103","v":0},{"$f":"'kros seznam'!WIN103","v":0},{"$f":"'kros seznam'!WIO103","v":0},{"$f":"'kros seznam'!WIP103","v":0},{"$f":"'kros seznam'!WIQ103","v":0},{"$f":"'kros seznam'!WIR103","v":0},{"$f":"'kros seznam'!WIS103","v":0},{"$f":"'kros seznam'!WIT103","v":0},{"$f":"'kros seznam'!WIU103","v":0},{"$f":"'kros seznam'!WIV103","v":0},{"$f":"'kros seznam'!WIW103","v":0},{"$f":"'kros seznam'!WIX103","v":0},{"$f":"'kros seznam'!WIY103","v":0},{"$f":"'kros seznam'!WIZ103","v":0},{"$f":"'kros seznam'!WJA103","v":0},{"$f":"'kros seznam'!WJB103","v":0},{"$f":"'kros seznam'!WJC103","v":0},{"$f":"'kros seznam'!WJD103","v":0},{"$f":"'kros seznam'!WJE103","v":0},{"$f":"'kros seznam'!WJF103","v":0},{"$f":"'kros seznam'!WJG103","v":0},{"$f":"'kros seznam'!WJH103","v":0},{"$f":"'kros seznam'!WJI103","v":0},{"$f":"'kros seznam'!WJJ103","v":0},{"$f":"'kros seznam'!WJK103","v":0},{"$f":"'kros seznam'!WJL103","v":0},{"$f":"'kros seznam'!WJM103","v":0},{"$f":"'kros seznam'!WJN103","v":0},{"$f":"'kros seznam'!WJO103","v":0},{"$f":"'kros seznam'!WJP103","v":0},{"$f":"'kros seznam'!WJQ103","v":0},{"$f":"'kros seznam'!WJR103","v":0},{"$f":"'kros seznam'!WJS103","v":0},{"$f":"'kros seznam'!WJT103","v":0},{"$f":"'kros seznam'!WJU103","v":0},{"$f":"'kros seznam'!WJV103","v":0},{"$f":"'kros seznam'!WJW103","v":0},{"$f":"'kros seznam'!WJX103","v":0},{"$f":"'kros seznam'!WJY103","v":0},{"$f":"'kros seznam'!WJZ103","v":0},{"$f":"'kros seznam'!WKA103","v":0},{"$f":"'kros seznam'!WKB103","v":0},{"$f":"'kros seznam'!WKC103","v":0},{"$f":"'kros seznam'!WKD103","v":0},{"$f":"'kros seznam'!WKE103","v":0},{"$f":"'kros seznam'!WKF103","v":0},{"$f":"'kros seznam'!WKG103","v":0},{"$f":"'kros seznam'!WKH103","v":0},{"$f":"'kros seznam'!WKI103","v":0},{"$f":"'kros seznam'!WKJ103","v":0},{"$f":"'kros seznam'!WKK103","v":0},{"$f":"'kros seznam'!WKL103","v":0},{"$f":"'kros seznam'!WKM103","v":0},{"$f":"'kros seznam'!WKN103","v":0},{"$f":"'kros seznam'!WKO103","v":0},{"$f":"'kros seznam'!WKP103","v":0},{"$f":"'kros seznam'!WKQ103","v":0},{"$f":"'kros seznam'!WKR103","v":0},{"$f":"'kros seznam'!WKS103","v":0},{"$f":"'kros seznam'!WKT103","v":0},{"$f":"'kros seznam'!WKU103","v":0},{"$f":"'kros seznam'!WKV103","v":0},{"$f":"'kros seznam'!WKW103","v":0},{"$f":"'kros seznam'!WKX103","v":0},{"$f":"'kros seznam'!WKY103","v":0},{"$f":"'kros seznam'!WKZ103","v":0},{"$f":"'kros seznam'!WLA103","v":0},{"$f":"'kros seznam'!WLB103","v":0},{"$f":"'kros seznam'!WLC103","v":0},{"$f":"'kros seznam'!WLD103","v":0},{"$f":"'kros seznam'!WLE103","v":0},{"$f":"'kros seznam'!WLF103","v":0},{"$f":"'kros seznam'!WLG103","v":0},{"$f":"'kros seznam'!WLH103","v":0},{"$f":"'kros seznam'!WLI103","v":0},{"$f":"'kros seznam'!WLJ103","v":0},{"$f":"'kros seznam'!WLK103","v":0},{"$f":"'kros seznam'!WLL103","v":0},{"$f":"'kros seznam'!WLM103","v":0},{"$f":"'kros seznam'!WLN103","v":0},{"$f":"'kros seznam'!WLO103","v":0},{"$f":"'kros seznam'!WLP103","v":0},{"$f":"'kros seznam'!WLQ103","v":0},{"$f":"'kros seznam'!WLR103","v":0},{"$f":"'kros seznam'!WLS103","v":0},{"$f":"'kros seznam'!WLT103","v":0},{"$f":"'kros seznam'!WLU103","v":0},{"$f":"'kros seznam'!WLV103","v":0},{"$f":"'kros seznam'!WLW103","v":0},{"$f":"'kros seznam'!WLX103","v":0},{"$f":"'kros seznam'!WLY103","v":0},{"$f":"'kros seznam'!WLZ103","v":0},{"$f":"'kros seznam'!WMA103","v":0},{"$f":"'kros seznam'!WMB103","v":0},{"$f":"'kros seznam'!WMC103","v":0},{"$f":"'kros seznam'!WMD103","v":0},{"$f":"'kros seznam'!WME103","v":0},{"$f":"'kros seznam'!WMF103","v":0},{"$f":"'kros seznam'!WMG103","v":0},{"$f":"'kros seznam'!WMH103","v":0},{"$f":"'kros seznam'!WMI103","v":0},{"$f":"'kros seznam'!WMJ103","v":0},{"$f":"'kros seznam'!WMK103","v":0},{"$f":"'kros seznam'!WML103","v":0},{"$f":"'kros seznam'!WMM103","v":0},{"$f":"'kros seznam'!WMN103","v":0},{"$f":"'kros seznam'!WMO103","v":0},{"$f":"'kros seznam'!WMP103","v":0},{"$f":"'kros seznam'!WMQ103","v":0},{"$f":"'kros seznam'!WMR103","v":0},{"$f":"'kros seznam'!WMS103","v":0},{"$f":"'kros seznam'!WMT103","v":0},{"$f":"'kros seznam'!WMU103","v":0},{"$f":"'kros seznam'!WMV103","v":0},{"$f":"'kros seznam'!WMW103","v":0},{"$f":"'kros seznam'!WMX103","v":0},{"$f":"'kros seznam'!WMY103","v":0},{"$f":"'kros seznam'!WMZ103","v":0},{"$f":"'kros seznam'!WNA103","v":0},{"$f":"'kros seznam'!WNB103","v":0},{"$f":"'kros seznam'!WNC103","v":0},{"$f":"'kros seznam'!WND103","v":0},{"$f":"'kros seznam'!WNE103","v":0},{"$f":"'kros seznam'!WNF103","v":0},{"$f":"'kros seznam'!WNG103","v":0},{"$f":"'kros seznam'!WNH103","v":0},{"$f":"'kros seznam'!WNI103","v":0},{"$f":"'kros seznam'!WNJ103","v":0},{"$f":"'kros seznam'!WNK103","v":0},{"$f":"'kros seznam'!WNL103","v":0},{"$f":"'kros seznam'!WNM103","v":0},{"$f":"'kros seznam'!WNN103","v":0},{"$f":"'kros seznam'!WNO103","v":0},{"$f":"'kros seznam'!WNP103","v":0},{"$f":"'kros seznam'!WNQ103","v":0},{"$f":"'kros seznam'!WNR103","v":0},{"$f":"'kros seznam'!WNS103","v":0},{"$f":"'kros seznam'!WNT103","v":0},{"$f":"'kros seznam'!WNU103","v":0},{"$f":"'kros seznam'!WNV103","v":0},{"$f":"'kros seznam'!WNW103","v":0},{"$f":"'kros seznam'!WNX103","v":0},{"$f":"'kros seznam'!WNY103","v":0},{"$f":"'kros seznam'!WNZ103","v":0},{"$f":"'kros seznam'!WOA103","v":0},{"$f":"'kros seznam'!WOB103","v":0},{"$f":"'kros seznam'!WOC103","v":0},{"$f":"'kros seznam'!WOD103","v":0},{"$f":"'kros seznam'!WOE103","v":0},{"$f":"'kros seznam'!WOF103","v":0},{"$f":"'kros seznam'!WOG103","v":0},{"$f":"'kros seznam'!WOH103","v":0},{"$f":"'kros seznam'!WOI103","v":0},{"$f":"'kros seznam'!WOJ103","v":0},{"$f":"'kros seznam'!WOK103","v":0},{"$f":"'kros seznam'!WOL103","v":0},{"$f":"'kros seznam'!WOM103","v":0},{"$f":"'kros seznam'!WON103","v":0},{"$f":"'kros seznam'!WOO103","v":0},{"$f":"'kros seznam'!WOP103","v":0},{"$f":"'kros seznam'!WOQ103","v":0},{"$f":"'kros seznam'!WOR103","v":0},{"$f":"'kros seznam'!WOS103","v":0},{"$f":"'kros seznam'!WOT103","v":0},{"$f":"'kros seznam'!WOU103","v":0},{"$f":"'kros seznam'!WOV103","v":0},{"$f":"'kros seznam'!WOW103","v":0},{"$f":"'kros seznam'!WOX103","v":0},{"$f":"'kros seznam'!WOY103","v":0},{"$f":"'kros seznam'!WOZ103","v":0},{"$f":"'kros seznam'!WPA103","v":0},{"$f":"'kros seznam'!WPB103","v":0},{"$f":"'kros seznam'!WPC103","v":0},{"$f":"'kros seznam'!WPD103","v":0},{"$f":"'kros seznam'!WPE103","v":0},{"$f":"'kros seznam'!WPF103","v":0},{"$f":"'kros seznam'!WPG103","v":0},{"$f":"'kros seznam'!WPH103","v":0},{"$f":"'kros seznam'!WPI103","v":0},{"$f":"'kros seznam'!WPJ103","v":0},{"$f":"'kros seznam'!WPK103","v":0},{"$f":"'kros seznam'!WPL103","v":0},{"$f":"'kros seznam'!WPM103","v":0},{"$f":"'kros seznam'!WPN103","v":0},{"$f":"'kros seznam'!WPO103","v":0},{"$f":"'kros seznam'!WPP103","v":0},{"$f":"'kros seznam'!WPQ103","v":0},{"$f":"'kros seznam'!WPR103","v":0},{"$f":"'kros seznam'!WPS103","v":0},{"$f":"'kros seznam'!WPT103","v":0},{"$f":"'kros seznam'!WPU103","v":0},{"$f":"'kros seznam'!WPV103","v":0},{"$f":"'kros seznam'!WPW103","v":0},{"$f":"'kros seznam'!WPX103","v":0},{"$f":"'kros seznam'!WPY103","v":0},{"$f":"'kros seznam'!WPZ103","v":0},{"$f":"'kros seznam'!WQA103","v":0},{"$f":"'kros seznam'!WQB103","v":0},{"$f":"'kros seznam'!WQC103","v":0},{"$f":"'kros seznam'!WQD103","v":0},{"$f":"'kros seznam'!WQE103","v":0},{"$f":"'kros seznam'!WQF103","v":0},{"$f":"'kros seznam'!WQG103","v":0},{"$f":"'kros seznam'!WQH103","v":0},{"$f":"'kros seznam'!WQI103","v":0},{"$f":"'kros seznam'!WQJ103","v":0},{"$f":"'kros seznam'!WQK103","v":0},{"$f":"'kros seznam'!WQL103","v":0},{"$f":"'kros seznam'!WQM103","v":0},{"$f":"'kros seznam'!WQN103","v":0},{"$f":"'kros seznam'!WQO103","v":0},{"$f":"'kros seznam'!WQP103","v":0},{"$f":"'kros seznam'!WQQ103","v":0},{"$f":"'kros seznam'!WQR103","v":0},{"$f":"'kros seznam'!WQS103","v":0},{"$f":"'kros seznam'!WQT103","v":0},{"$f":"'kros seznam'!WQU103","v":0},{"$f":"'kros seznam'!WQV103","v":0},{"$f":"'kros seznam'!WQW103","v":0},{"$f":"'kros seznam'!WQX103","v":0},{"$f":"'kros seznam'!WQY103","v":0},{"$f":"'kros seznam'!WQZ103","v":0},{"$f":"'kros seznam'!WRA103","v":0},{"$f":"'kros seznam'!WRB103","v":0},{"$f":"'kros seznam'!WRC103","v":0},{"$f":"'kros seznam'!WRD103","v":0},{"$f":"'kros seznam'!WRE103","v":0},{"$f":"'kros seznam'!WRF103","v":0},{"$f":"'kros seznam'!WRG103","v":0},{"$f":"'kros seznam'!WRH103","v":0},{"$f":"'kros seznam'!WRI103","v":0},{"$f":"'kros seznam'!WRJ103","v":0},{"$f":"'kros seznam'!WRK103","v":0},{"$f":"'kros seznam'!WRL103","v":0},{"$f":"'kros seznam'!WRM103","v":0},{"$f":"'kros seznam'!WRN103","v":0},{"$f":"'kros seznam'!WRO103","v":0},{"$f":"'kros seznam'!WRP103","v":0},{"$f":"'kros seznam'!WRQ103","v":0},{"$f":"'kros seznam'!WRR103","v":0},{"$f":"'kros seznam'!WRS103","v":0},{"$f":"'kros seznam'!WRT103","v":0},{"$f":"'kros seznam'!WRU103","v":0},{"$f":"'kros seznam'!WRV103","v":0},{"$f":"'kros seznam'!WRW103","v":0},{"$f":"'kros seznam'!WRX103","v":0},{"$f":"'kros seznam'!WRY103","v":0},{"$f":"'kros seznam'!WRZ103","v":0},{"$f":"'kros seznam'!WSA103","v":0},{"$f":"'kros seznam'!WSB103","v":0},{"$f":"'kros seznam'!WSC103","v":0},{"$f":"'kros seznam'!WSD103","v":0},{"$f":"'kros seznam'!WSE103","v":0},{"$f":"'kros seznam'!WSF103","v":0},{"$f":"'kros seznam'!WSG103","v":0},{"$f":"'kros seznam'!WSH103","v":0},{"$f":"'kros seznam'!WSI103","v":0},{"$f":"'kros seznam'!WSJ103","v":0},{"$f":"'kros seznam'!WSK103","v":0},{"$f":"'kros seznam'!WSL103","v":0},{"$f":"'kros seznam'!WSM103","v":0},{"$f":"'kros seznam'!WSN103","v":0},{"$f":"'kros seznam'!WSO103","v":0},{"$f":"'kros seznam'!WSP103","v":0},{"$f":"'kros seznam'!WSQ103","v":0},{"$f":"'kros seznam'!WSR103","v":0},{"$f":"'kros seznam'!WSS103","v":0},{"$f":"'kros seznam'!WST103","v":0},{"$f":"'kros seznam'!WSU103","v":0},{"$f":"'kros seznam'!WSV103","v":0},{"$f":"'kros seznam'!WSW103","v":0},{"$f":"'kros seznam'!WSX103","v":0},{"$f":"'kros seznam'!WSY103","v":0},{"$f":"'kros seznam'!WSZ103","v":0},{"$f":"'kros seznam'!WTA103","v":0},{"$f":"'kros seznam'!WTB103","v":0},{"$f":"'kros seznam'!WTC103","v":0},{"$f":"'kros seznam'!WTD103","v":0},{"$f":"'kros seznam'!WTE103","v":0},{"$f":"'kros seznam'!WTF103","v":0},{"$f":"'kros seznam'!WTG103","v":0},{"$f":"'kros seznam'!WTH103","v":0},{"$f":"'kros seznam'!WTI103","v":0},{"$f":"'kros seznam'!WTJ103","v":0},{"$f":"'kros seznam'!WTK103","v":0},{"$f":"'kros seznam'!WTL103","v":0},{"$f":"'kros seznam'!WTM103","v":0},{"$f":"'kros seznam'!WTN103","v":0},{"$f":"'kros seznam'!WTO103","v":0},{"$f":"'kros seznam'!WTP103","v":0},{"$f":"'kros seznam'!WTQ103","v":0},{"$f":"'kros seznam'!WTR103","v":0},{"$f":"'kros seznam'!WTS103","v":0},{"$f":"'kros seznam'!WTT103","v":0},{"$f":"'kros seznam'!WTU103","v":0},{"$f":"'kros seznam'!WTV103","v":0},{"$f":"'kros seznam'!WTW103","v":0},{"$f":"'kros seznam'!WTX103","v":0},{"$f":"'kros seznam'!WTY103","v":0},{"$f":"'kros seznam'!WTZ103","v":0},{"$f":"'kros seznam'!WUA103","v":0},{"$f":"'kros seznam'!WUB103","v":0},{"$f":"'kros seznam'!WUC103","v":0},{"$f":"'kros seznam'!WUD103","v":0},{"$f":"'kros seznam'!WUE103","v":0},{"$f":"'kros seznam'!WUF103","v":0},{"$f":"'kros seznam'!WUG103","v":0},{"$f":"'kros seznam'!WUH103","v":0},{"$f":"'kros seznam'!WUI103","v":0},{"$f":"'kros seznam'!WUJ103","v":0},{"$f":"'kros seznam'!WUK103","v":0},{"$f":"'kros seznam'!WUL103","v":0},{"$f":"'kros seznam'!WUM103","v":0},{"$f":"'kros seznam'!WUN103","v":0},{"$f":"'kros seznam'!WUO103","v":0},{"$f":"'kros seznam'!WUP103","v":0},{"$f":"'kros seznam'!WUQ103","v":0},{"$f":"'kros seznam'!WUR103","v":0},{"$f":"'kros seznam'!WUS103","v":0},{"$f":"'kros seznam'!WUT103","v":0},{"$f":"'kros seznam'!WUU103","v":0},{"$f":"'kros seznam'!WUV103","v":0},{"$f":"'kros seznam'!WUW103","v":0},{"$f":"'kros seznam'!WUX103","v":0},{"$f":"'kros seznam'!WUY103","v":0},{"$f":"'kros seznam'!WUZ103","v":0},{"$f":"'kros seznam'!WVA103","v":0},{"$f":"'kros seznam'!WVB103","v":0},{"$f":"'kros seznam'!WVC103","v":0},{"$f":"'kros seznam'!WVD103","v":0},{"$f":"'kros seznam'!WVE103","v":0},{"$f":"'kros seznam'!WVF103","v":0},{"$f":"'kros seznam'!WVG103","v":0},{"$f":"'kros seznam'!WVH103","v":0},{"$f":"'kros seznam'!WVI103","v":0},{"$f":"'kros seznam'!WVJ103","v":0},{"$f":"'kros seznam'!WVK103","v":0},{"$f":"'kros seznam'!WVL103","v":0},{"$f":"'kros seznam'!WVM103","v":0},{"$f":"'kros seznam'!WVN103","v":0},{"$f":"'kros seznam'!WVO103","v":0},{"$f":"'kros seznam'!WVP103","v":0},{"$f":"'kros seznam'!WVQ103","v":0},{"$f":"'kros seznam'!WVR103","v":0},{"$f":"'kros seznam'!WVS103","v":0},{"$f":"'kros seznam'!WVT103","v":0},{"$f":"'kros seznam'!WVU103","v":0},{"$f":"'kros seznam'!WVV103","v":0},{"$f":"'kros seznam'!WVW103","v":0},{"$f":"'kros seznam'!WVX103","v":0},{"$f":"'kros seznam'!WVY103","v":0},{"$f":"'kros seznam'!WVZ103","v":0},{"$f":"'kros seznam'!WWA103","v":0},{"$f":"'kros seznam'!WWB103","v":0},{"$f":"'kros seznam'!WWC103","v":0},{"$f":"'kros seznam'!WWD103","v":0},{"$f":"'kros seznam'!WWE103","v":0},{"$f":"'kros seznam'!WWF103","v":0},{"$f":"'kros seznam'!WWG103","v":0},{"$f":"'kros seznam'!WWH103","v":0},{"$f":"'kros seznam'!WWI103","v":0},{"$f":"'kros seznam'!WWJ103","v":0},{"$f":"'kros seznam'!WWK103","v":0},{"$f":"'kros seznam'!WWL103","v":0},{"$f":"'kros seznam'!WWM103","v":0},{"$f":"'kros seznam'!WWN103","v":0},{"$f":"'kros seznam'!WWO103","v":0},{"$f":"'kros seznam'!WWP103","v":0},{"$f":"'kros seznam'!WWQ103","v":0},{"$f":"'kros seznam'!WWR103","v":0},{"$f":"'kros seznam'!WWS103","v":0},{"$f":"'kros seznam'!WWT103","v":0},{"$f":"'kros seznam'!WWU103","v":0},{"$f":"'kros seznam'!WWV103","v":0},{"$f":"'kros seznam'!WWW103","v":0},{"$f":"'kros seznam'!WWX103","v":0},{"$f":"'kros seznam'!WWY103","v":0},{"$f":"'kros seznam'!WWZ103","v":0},{"$f":"'kros seznam'!WXA103","v":0},{"$f":"'kros seznam'!WXB103","v":0},{"$f":"'kros seznam'!WXC103","v":0},{"$f":"'kros seznam'!WXD103","v":0},{"$f":"'kros seznam'!WXE103","v":0},{"$f":"'kros seznam'!WXF103","v":0},{"$f":"'kros seznam'!WXG103","v":0},{"$f":"'kros seznam'!WXH103","v":0},{"$f":"'kros seznam'!WXI103","v":0},{"$f":"'kros seznam'!WXJ103","v":0},{"$f":"'kros seznam'!WXK103","v":0},{"$f":"'kros seznam'!WXL103","v":0},{"$f":"'kros seznam'!WXM103","v":0},{"$f":"'kros seznam'!WXN103","v":0},{"$f":"'kros seznam'!WXO103","v":0},{"$f":"'kros seznam'!WXP103","v":0},{"$f":"'kros seznam'!WXQ103","v":0},{"$f":"'kros seznam'!WXR103","v":0},{"$f":"'kros seznam'!WXS103","v":0},{"$f":"'kros seznam'!WXT103","v":0},{"$f":"'kros seznam'!WXU103","v":0},{"$f":"'kros seznam'!WXV103","v":0},{"$f":"'kros seznam'!WXW103","v":0},{"$f":"'kros seznam'!WXX103","v":0},{"$f":"'kros seznam'!WXY103","v":0},{"$f":"'kros seznam'!WXZ103","v":0},{"$f":"'kros seznam'!WYA103","v":0},{"$f":"'kros seznam'!WYB103","v":0},{"$f":"'kros seznam'!WYC103","v":0},{"$f":"'kros seznam'!WYD103","v":0},{"$f":"'kros seznam'!WYE103","v":0},{"$f":"'kros seznam'!WYF103","v":0},{"$f":"'kros seznam'!WYG103","v":0},{"$f":"'kros seznam'!WYH103","v":0},{"$f":"'kros seznam'!WYI103","v":0},{"$f":"'kros seznam'!WYJ103","v":0},{"$f":"'kros seznam'!WYK103","v":0},{"$f":"'kros seznam'!WYL103","v":0},{"$f":"'kros seznam'!WYM103","v":0},{"$f":"'kros seznam'!WYN103","v":0},{"$f":"'kros seznam'!WYO103","v":0},{"$f":"'kros seznam'!WYP103","v":0},{"$f":"'kros seznam'!WYQ103","v":0},{"$f":"'kros seznam'!WYR103","v":0},{"$f":"'kros seznam'!WYS103","v":0},{"$f":"'kros seznam'!WYT103","v":0},{"$f":"'kros seznam'!WYU103","v":0},{"$f":"'kros seznam'!WYV103","v":0},{"$f":"'kros seznam'!WYW103","v":0},{"$f":"'kros seznam'!WYX103","v":0},{"$f":"'kros seznam'!WYY103","v":0},{"$f":"'kros seznam'!WYZ103","v":0},{"$f":"'kros seznam'!WZA103","v":0},{"$f":"'kros seznam'!WZB103","v":0},{"$f":"'kros seznam'!WZC103","v":0},{"$f":"'kros seznam'!WZD103","v":0},{"$f":"'kros seznam'!WZE103","v":0},{"$f":"'kros seznam'!WZF103","v":0},{"$f":"'kros seznam'!WZG103","v":0},{"$f":"'kros seznam'!WZH103","v":0},{"$f":"'kros seznam'!WZI103","v":0},{"$f":"'kros seznam'!WZJ103","v":0},{"$f":"'kros seznam'!WZK103","v":0},{"$f":"'kros seznam'!WZL103","v":0},{"$f":"'kros seznam'!WZM103","v":0},{"$f":"'kros seznam'!WZN103","v":0},{"$f":"'kros seznam'!WZO103","v":0},{"$f":"'kros seznam'!WZP103","v":0},{"$f":"'kros seznam'!WZQ103","v":0},{"$f":"'kros seznam'!WZR103","v":0},{"$f":"'kros seznam'!WZS103","v":0},{"$f":"'kros seznam'!WZT103","v":0},{"$f":"'kros seznam'!WZU103","v":0},{"$f":"'kros seznam'!WZV103","v":0},{"$f":"'kros seznam'!WZW103","v":0},{"$f":"'kros seznam'!WZX103","v":0},{"$f":"'kros seznam'!WZY103","v":0},{"$f":"'kros seznam'!WZZ103","v":0},{"$f":"'kros seznam'!XAA103","v":0},{"$f":"'kros seznam'!XAB103","v":0},{"$f":"'kros seznam'!XAC103","v":0},{"$f":"'kros seznam'!XAD103","v":0},{"$f":"'kros seznam'!XAE103","v":0},{"$f":"'kros seznam'!XAF103","v":0},{"$f":"'kros seznam'!XAG103","v":0},{"$f":"'kros seznam'!XAH103","v":0},{"$f":"'kros seznam'!XAI103","v":0},{"$f":"'kros seznam'!XAJ103","v":0},{"$f":"'kros seznam'!XAK103","v":0},{"$f":"'kros seznam'!XAL103","v":0},{"$f":"'kros seznam'!XAM103","v":0},{"$f":"'kros seznam'!XAN103","v":0},{"$f":"'kros seznam'!XAO103","v":0},{"$f":"'kros seznam'!XAP103","v":0},{"$f":"'kros seznam'!XAQ103","v":0},{"$f":"'kros seznam'!XAR103","v":0},{"$f":"'kros seznam'!XAS103","v":0},{"$f":"'kros seznam'!XAT103","v":0},{"$f":"'kros seznam'!XAU103","v":0},{"$f":"'kros seznam'!XAV103","v":0},{"$f":"'kros seznam'!XAW103","v":0},{"$f":"'kros seznam'!XAX103","v":0},{"$f":"'kros seznam'!XAY103","v":0},{"$f":"'kros seznam'!XAZ103","v":0},{"$f":"'kros seznam'!XBA103","v":0},{"$f":"'kros seznam'!XBB103","v":0},{"$f":"'kros seznam'!XBC103","v":0},{"$f":"'kros seznam'!XBD103","v":0},{"$f":"'kros seznam'!XBE103","v":0},{"$f":"'kros seznam'!XBF103","v":0},{"$f":"'kros seznam'!XBG103","v":0},{"$f":"'kros seznam'!XBH103","v":0},{"$f":"'kros seznam'!XBI103","v":0},{"$f":"'kros seznam'!XBJ103","v":0},{"$f":"'kros seznam'!XBK103","v":0},{"$f":"'kros seznam'!XBL103","v":0},{"$f":"'kros seznam'!XBM103","v":0},{"$f":"'kros seznam'!XBN103","v":0},{"$f":"'kros seznam'!XBO103","v":0},{"$f":"'kros seznam'!XBP103","v":0},{"$f":"'kros seznam'!XBQ103","v":0},{"$f":"'kros seznam'!XBR103","v":0},{"$f":"'kros seznam'!XBS103","v":0},{"$f":"'kros seznam'!XBT103","v":0},{"$f":"'kros seznam'!XBU103","v":0},{"$f":"'kros seznam'!XBV103","v":0},{"$f":"'kros seznam'!XBW103","v":0},{"$f":"'kros seznam'!XBX103","v":0},{"$f":"'kros seznam'!XBY103","v":0},{"$f":"'kros seznam'!XBZ103","v":0},{"$f":"'kros seznam'!XCA103","v":0},{"$f":"'kros seznam'!XCB103","v":0},{"$f":"'kros seznam'!XCC103","v":0},{"$f":"'kros seznam'!XCD103","v":0},{"$f":"'kros seznam'!XCE103","v":0},{"$f":"'kros seznam'!XCF103","v":0},{"$f":"'kros seznam'!XCG103","v":0},{"$f":"'kros seznam'!XCH103","v":0},{"$f":"'kros seznam'!XCI103","v":0},{"$f":"'kros seznam'!XCJ103","v":0},{"$f":"'kros seznam'!XCK103","v":0},{"$f":"'kros seznam'!XCL103","v":0},{"$f":"'kros seznam'!XCM103","v":0},{"$f":"'kros seznam'!XCN103","v":0},{"$f":"'kros seznam'!XCO103","v":0},{"$f":"'kros seznam'!XCP103","v":0},{"$f":"'kros seznam'!XCQ103","v":0},{"$f":"'kros seznam'!XCR103","v":0},{"$f":"'kros seznam'!XCS103","v":0},{"$f":"'kros seznam'!XCT103","v":0},{"$f":"'kros seznam'!XCU103","v":0},{"$f":"'kros seznam'!XCV103","v":0},{"$f":"'kros seznam'!XCW103","v":0},{"$f":"'kros seznam'!XCX103","v":0},{"$f":"'kros seznam'!XCY103","v":0},{"$f":"'kros seznam'!XCZ103","v":0},{"$f":"'kros seznam'!XDA103","v":0},{"$f":"'kros seznam'!XDB103","v":0},{"$f":"'kros seznam'!XDC103","v":0},{"$f":"'kros seznam'!XDD103","v":0},{"$f":"'kros seznam'!XDE103","v":0},{"$f":"'kros seznam'!XDF103","v":0},{"$f":"'kros seznam'!XDG103","v":0},{"$f":"'kros seznam'!XDH103","v":0},{"$f":"'kros seznam'!XDI103","v":0},{"$f":"'kros seznam'!XDJ103","v":0},{"$f":"'kros seznam'!XDK103","v":0},{"$f":"'kros seznam'!XDL103","v":0},{"$f":"'kros seznam'!XDM103","v":0},{"$f":"'kros seznam'!XDN103","v":0},{"$f":"'kros seznam'!XDO103","v":0},{"$f":"'kros seznam'!XDP103","v":0},{"$f":"'kros seznam'!XDQ103","v":0},{"$f":"'kros seznam'!XDR103","v":0},{"$f":"'kros seznam'!XDS103","v":0},{"$f":"'kros seznam'!XDT103","v":0},{"$f":"'kros seznam'!XDU103","v":0},{"$f":"'kros seznam'!XDV103","v":0},{"$f":"'kros seznam'!XDW103","v":0},{"$f":"'kros seznam'!XDX103","v":0},{"$f":"'kros seznam'!XDY103","v":0},{"$f":"'kros seznam'!XDZ103","v":0},{"$f":"'kros seznam'!XEA103","v":0},{"$f":"'kros seznam'!XEB103","v":0},{"$f":"'kros seznam'!XEC103","v":0},{"$f":"'kros seznam'!XED103","v":0},{"$f":"'kros seznam'!XEE103","v":0},{"$f":"'kros seznam'!XEF103","v":0},{"$f":"'kros seznam'!XEG103","v":0},{"$f":"'kros seznam'!XEH103","v":0},{"$f":"'kros seznam'!XEI103","v":0},{"$f":"'kros seznam'!XEJ103","v":0},{"$f":"'kros seznam'!XEK103","v":0},{"$f":"'kros seznam'!XEL103","v":0},{"$f":"'kros seznam'!XEM103","v":0},{"$f":"'kros seznam'!XEN103","v":0},{"$f":"'kros seznam'!XEO103","v":0},{"$f":"'kros seznam'!XEP103","v":0},{"$f":"'kros seznam'!XEQ103","v":0},{"$f":"'kros seznam'!XER103","v":0},{"$f":"'kros seznam'!XES103","v":0},{"$f":"'kros seznam'!XET103","v":0},{"$f":"'kros seznam'!XEU103","v":0},{"$f":"'kros seznam'!XEV103","v":0},{"$f":"'kros seznam'!XEW103","v":0},{"$f":"'kros seznam'!XEX103","v":0},{"$f":"'kros seznam'!XEY103","v":0},{"$f":"'kros seznam'!XEZ103","v":0},{"$f":"'kros seznam'!XFA103","v":0},{"$f":"'kros seznam'!XFB103","v":0},{"$f":"'kros seznam'!#REF!","v":{"$error":"#REF!"}}]
[{"$f":"'kros seznam'!B116","v":"K"},{"$f":"'kros seznam'!C116","v":725240812},{"$f":"'kros seznam'!D116","v":"Demontáž vaniček sprchových bez výtokových armatur"},{"$f":"'kros seznam'!E116","v":"soubor"},{"$f":"'Stávající stav - pomocný'!E6","v":0},{"$f":"'kros seznam'!G116","v":107},{"$f":"F198*E198","v":0},{"$f":"'kros seznam'!J116","v":0},{"$f":"E198*H198","v":0},{"$f":"'kros seznam'!K116","v":2.5000000000000001E-2},{"$f":"J198*E198","v":0},{"$f":"'kros seznam'!L116","v":0.38300000000000001},{"$f":"L198*E198","v":0}]
["K",725820802,"Demontáž baterie stojánkové","soubor",{"$f":"'Stávající stav - pomocný'!E6","v":0},62,{"$f":"F199*E199","v":0},0,{"$f":"E199*H199","v":0},8.5999999999999998E-4,{"$f":"J199*E199","v":0},0.222,{"$f":"L199*E199","v":0}]
[]
["DVEŘE POUZDROVÉ 60 cm ZDIVO"]
[{"$f":"'kros seznam'!B3","v":"D"},{"$f":"'kros seznam'!C3","v":"3"},{"$f":"'kros seznam'!D3","v":"Svislé a kompletní konstrukce"},null,null,null,{"$f":"SUM(G203)","v":1},{"$f":"SUM(H203)","v":2.4E-2},0,0,null,0.63600000000000001,0]
[{"$f":"'kros seznam'!B4","v":"K"},{"$f":"'kros seznam'!C4","v":"317144115"},{"$f":"'kros seznam'!D4","v":"Překlad dl 1740 mm (pouzdrové dveře š. 60cm)"},{"$f":"'kros seznam'!E4","v":"kus"},{"$f":"IF(A201='Navrhovaný stav - pomocný'!$C$51,'Navrhovaný stav - pomocný'!$E$51,0)+IF(A201='Navrhovaný stav - pomocný'!$C$52,'Navrhovaný stav - pomocný'!$E$52,0)","v":0},{"$f":"'kros seznam'!G4","v":560},{"$f":"'kros seznam'!H4","v":1},2.4E-2,{"$f":"E203*H203","v":0},{"$f":"'kros seznam'!K4","v":0},null,0.63600000000000001,{"$f":"L203*E203","v":0}]
[{"$f":"'kros seznam'!B16","v":"D"},{"$f":"'kros seznam'!C16","v":"6"},{"$f":"'kros seznam'!D16","v":"Úpravy povrchů, podlahy a osazování výplní"},null,null,null,{"$f":"SUM(G205:G206)","v":0},8.7620000000000003E-2,0,0,null,3.3809999999999998,0]
[{"$f":"'kros seznam'!B34","v":"K"},{"$f":"'kros seznam'!C34","v":"642946111"},{"$f":"'kros seznam'!D34","v":" Osazování pouzdra posuvných dveří s jednou kapsou pro jedno křídlo šířky do 800 mm do zděné příčky"},{"$f":"'kros seznam'!E34","v":"kus"},{"$f":"+E203","v":0},{"$f":"'kros seznam'!G34","v":879},{"$f":"F205*E205","v":0},{"$f":"'kros seznam'!J34","v":5.3620000000000001E-2},{"$f":"E205*H205","v":0},{"$f":"'kros seznam'!K34","v":0},null,{"$f":"'kros seznam'!L34","v":3.3809999999999998},{"$f":"L205*E205","v":0}]
[{"$f":"'kros seznam'!B35","v":"M"},{"$f":"'kros seznam'!C35","v":"553316100"},{"$f":"'kros seznam'!D35","v":" pouzdro stavební STANDARD S700-060 600 mm"},{"$f":"'kros seznam'!E35","v":"kus"},{"$f":"+E205","v":0},{"$f":"'kros seznam'!G35","v":5590},{"$f":"F206*E206","v":0},{"$f":"'kros seznam'!J35","v":3.4000000000000002E-2},{"$f":"E206*H206","v":0},{"$f":"'kros seznam'!K35","v":0},null,{"$f":"'kros seznam'!L35","v":0},{"$f":"L206*E206","v":0}]
[{"$f":"'kros seznam'!B159","v":"D"},{"$f":"'kros seznam'!C159","v":"766"},{"$f":"'kros seznam'!D159","v":"Konstrukce truhlářské"},null,null,null,{"$f":"SUM(G208:G212)","v":0},2.945E-2,0,0,null,4.7299999999999995,0]
[{"$f":"'kros seznam'!B160","v":"K"},{"$f":"'kros seznam'!C160","v":"766X"},{"$f":"'kros seznam'!D160","v":"Dveřního kování D+M"},{"$f":"'kros seznam'!E160","v":"kus"},{"$f":"+E206","v":0},{"$f":"'kros seznam'!G160","v":350},{"$f":"F208*E208","v":0},0,{"$f":"E208*H208","v":0},0,null,0,{"$f":"L208*E208","v":0}]
[{"$f":"'kros seznam'!B168","v":"K"},{"$f":"'kros seznam'!C168","v":"766660171"},{"$f":"'kros seznam'!D168","v":"Montáž dveřních křídel otvíravých 1křídlových š do 0,8 m do obložkové zárubně"},{"$f":"'kros seznam'!E168","v":"kus"},{"$f":"+E208","v":0},{"$f":"'kros seznam'!G168","v":538},{"$f":"F209*E209","v":0},{"$f":"'kros seznam'!J168","v":0},{"$f":"E209*H209","v":0},{"$f":"'kros seznam'!K168","v":0},null,{"$f":"'kros seznam'!L168","v":1.8049999999999999},{"$f":"L209*E209","v":0}]
[{"$f":"'kros seznam'!B169","v":"M"},{"$f":"'kros seznam'!C169","v":"611617130"},{"$f":"'kros seznam'!D169","v":"dveře vnitřní 1křídlové 60x197 cm"},{"$f":"'kros seznam'!E169","v":"kus"},{"$f":"+E209","v":0},{"$f":"'Navrhovaný stav'!L48","v":1500},{"$f":"F210*E210","v":0},{"$f":"'kros seznam'!J169","v":1.2999999999999999E-2},0,{"$f":"'kros seznam'!K169","v":0},null,{"$f":"'kros seznam'!L169","v":0},{"$f":"L210*E210","v":0}]
[{"$f":"'kros seznam'!B174","v":"K"},{"$f":"'kros seznam'!C174","v":"766682111"},{"$f":"'kros seznam'!D174","v":"Montáž zárubní obložkových pro dveře jednokřídlové tl stěny do 170 mm"},{"$f":"'kros seznam'!E174","v":"kus"},{"$f":"+E210","v":0},{"$f":"'kros seznam'!G174","v":945},{"$f":"F211*E211","v":0},{"$f":"'kros seznam'!J174","v":4.4999999999999999E-4},0,{"$f":"'kros seznam'!K174","v":0},null,{"$f":"'kros seznam'!L174","v":2.9249999999999998},{"$f":"L211*E211","v":0}]
[{"$f":"'kros seznam'!B175","v":"M"},{"$f":"'kros seznam'!C175","v":"611822580"},{"$f":"'kros seznam'!D175","v":" zárubeň obložková pro dveře 1křídlové 60,70,80,90x197 cm, tl. 8 - 17 cm"},{"$f":"'kros seznam'!E175","v":"kus"},{"$f":"+E211","v":0},{"$f":"'kros seznam'!G175","v":2870},0,{"$f":"'kros seznam'!J175","v":1.6E-2},0,{"$f":"'kros seznam'!K175","v":0},null,{"$f":"'kros seznam'!L175","v":0},0]
[]
["DVEŘE POUZDROVÉ 70 cm ZDIVO"]
[{"$f":"'kros seznam'!B3","v":"D"},{"$f":"'kros seznam'!C3","v":"3"},{"$f":"'kros seznam'!D3","v":"Svislé a kompletní konstrukce"},null,null,null,{"$f":"SUM(G216)","v":0},{"$f":"SUM(H216)","v":2.7E-2},0,0,null,0.64600000000000002,0]
[{"$f":"'kros seznam'!B5","v":"K"},{"$f":"'kros seznam'!C5","v":"317144116"},{"$f":"'kros seznam'!D5","v":"Překlad 1990 mm (pouzdrové dveře š 70cm)"},{"$f":"'kros seznam'!E5","v":"kus"},{"$f":"IF(A214='Navrhovaný stav - pomocný'!$C$51,'Navrhovaný stav - pomocný'!$E$51,0)+IF(A214='Navrhovaný stav - pomocný'!$C$52,'Navrhovaný stav - pomocný'!$E$52,0)","v":0},{"$f":"'kros seznam'!G5","v":616},{"$f":"F216*E216","v":0},2.7E-2,{"$f":"H216*E216","v":0},{"$f":"'kros seznam'!K5","v":0},null,0.64600000000000002,{"$f":"L216*E216","v":0}]
[{"$f":"'kros seznam'!B16","v":"D"},{"$f":"'kros seznam'!C16","v":"6"},{"$f":"'kros seznam'!D16","v":"Úpravy povrchů, podlahy a osazování výplní"},null,null,null,{"$f":"SUM(G218:G219)","v":0},{"$f":"SUM(H218:H219)","v":9.0620000000000006E-2},{"$f":"SUM(I218:I219)","v":0},{"$f":"SUM(J218:J219)","v":0},null,{"$f":"SUM(L218:L219)","v":3.3809999999999998},{"$f":"SUM(M218:M219)","v":0}]
[{"$f":"'kros seznam'!B34","v":"K"},{"$f":"'kros seznam'!C34","v":"642946111"},{"$f":"'kros seznam'!D34","v":" Osazování pouzdra posuvných dveří s jednou kapsou pro jedno křídlo šířky do 800 mm do zděné příčky"},{"$f":"'kros seznam'!E34","v":"kus"},{"$f":"+E216","v":0},{"$f":"'kros seznam'!G34","v":879},0,{"$f":"'kros seznam'!J34","v":5.3620000000000001E-2},0,{"$f":"'kros seznam'!K34","v":0},null,{"$f":"'kros seznam'!L34","v":3.3809999999999998},0]
[{"$f":"'kros seznam'!B36","v":"M"},{"$f":"'kros seznam'!C36","v":"553316110"},{"$f":"'kros seznam'!D36","v":" pouzdro stavební STANDARD S700-070 700 mm"},{"$f":"'kros seznam'!E36","v":"kus"},{"$f":"+E218","v":0},{"$f":"'kros seznam'!G36","v":5970},0,{"$f":"'kros seznam'!J36","v":3.6999999999999998E-2},0,{"$f":"'kros seznam'!K36","v":0},null,{"$f":"'kros seznam'!L36","v":0},0]
[{"$f":"'kros seznam'!B159","v":"D"},{"$f":"'kros seznam'!C159","v":"766"},{"$f":"'kros seznam'!D159","v":"Konstrukce truhlářské"},null,null,null,{"$f":"SUM(G221:G225)","v":0},3.0450000000000001E-2,0,0,null,4.7299999999999995,0]
[{"$f":"'kros seznam'!B160","v":"K"},{"$f":"'kros seznam'!C160","v":"766X"},{"$f":"'kros seznam'!D160","v":"Dveřního kování D+M"},{"$f":"'kros seznam'!E160","v":"kus"},{"$f":"E218","v":0},{"$f":"'kros seznam'!G160","v":350},0,0,0,0,null,0,0]
[{"$f":"'kros seznam'!B168","v":"K"},{"$f":"'kros seznam'!C168","v":"766660171"},{"$f":"'kros seznam'!D168","v":"Montáž dveřních křídel otvíravých 1křídlových š do 0,8 m do obložkové zárubně"},{"$f":"'kros seznam'!E168","v":"kus"},{"$f":"E221","v":0},{"$f":"'kros seznam'!G168","v":538},0,{"$f":"'kros seznam'!J168","v":0},0,{"$f":"'kros seznam'!K168","v":0},null,{"$f":"'kros seznam'!L168","v":1.8049999999999999},0]
[{"$f":"'kros seznam'!B170","v":"M"},{"$f":"'kros seznam'!C170","v":"611617170"},{"$f":"'kros seznam'!D170","v":"dveře vnitřní 1křídlové 70x197 cm"},{"$f":"'kros seznam'!E170","v":"kus"},{"$f":"E222","v":0},{"$f":"'Navrhovaný stav'!L48","v":1500},0,{"$f":"'kros seznam'!J170","v":1.4E-2},0,{"$f":"'kros seznam'!K170","v":0},null,{"$f":"'kros seznam'!L170","v":0},0]
[{"$f":"'kros seznam'!B174","v":"K"},{"$f":"'kros seznam'!C174","v":"766682111"},{"$f":"'kros seznam'!D174","v":"Montáž zárubní obložkových pro dveře jednokřídlové tl stěny do 170 mm"},{"$f":"'kros seznam'!E174","v":"kus"},{"$f":"E223","v":0},{"$f":"'kros seznam'!G174","v":945},0,{"$f":"'kros seznam'!J174","v":4.4999999999999999E-4},0,{"$f":"'kros seznam'!K174","v":0},null,{"$f":"'kros seznam'!L174","v":2.9249999999999998},0]
[{"$f":"'kros seznam'!B175","v":"M"},{"$f":"'kros seznam'!C175","v":"611822580"},{"$f":"'kros seznam'!D175","v":" zárubeň obložková pro dveře 1křídlové 60,70,80,90x197 cm, tl. 8 - 17 cm"},{"$f":"'kros seznam'!E175","v":"kus"},{"$f":"E224","v":0},{"$f":"'kros seznam'!G175","v":2870},0,{"$f":"'kros seznam'!J175","v":1.6E-2},0,{"$f":"'kros seznam'!K175","v":0},null,{"$f":"'kros seznam'!L175","v":0},0]
[]
["DVEŘE POUZDROVÉ 80 cm ZDIVO"]
[{"$f":"'kros seznam'!B3","v":"D"},{"$f":"'kros seznam'!C3","v":"3"},{"$f":"'kros seznam'!D3","v":"Svislé a kompletní konstrukce"},null,null,null,{"$f":"SUM(G229)","v":0},{"$f":"SUM(H229)","v":0.03},0,0,null,0.64600000000000002,0]
[{"$f":"'kros seznam'!B6","v":"K"},{"$f":"'kros seznam'!C6","v":"317144117"},{"$f":"'kros seznam'!D6","v":"Překlad dl 2240 mm (pouzdrové dveře š. 80cm)"},{"$f":"'kros seznam'!E6","v":"kus"},{"$f":"IF(A227='Navrhovaný stav - pomocný'!$C$51,'Navrhovaný stav - pomocný'!$E$51,0)+IF(A227='Navrhovaný stav - pomocný'!$C$52,'Navrhovaný stav - pomocný'!$E$52,0)","v":0},{"$f":"'kros seznam'!G6","v":660},{"$f":"F229*E229","v":0},0.03,{"$f":"E229*H229","v":0},{"$f":"'kros seznam'!K6","v":0},null,0.64600000000000002,{"$f":"L229*E229","v":0}]
[{"$f":"'kros seznam'!B16","v":"D"},{"$f":"'kros seznam'!C16","v":"6"},{"$f":"'kros seznam'!D16","v":"Úpravy povrchů, podlahy a osazování výplní"},null,null,null,{"$f":"SUM(G231:G232)","v":0},{"$f":"SUM(H231:H232)","v":9.6120000000000011E-2},{"$f":"SUM(I231:I232)","v":0},{"$f":"SUM(J231:J232)","v":0},null,{"$f":"SUM(L231:L232)","v":3.3809999999999998},{"$f":"SUM(M231:M232)","v":0}]
[{"$f":"'kros seznam'!B34","v":"K"},{"$f":"'kros seznam'!C34","v":"642946111"},{"$f":"'kros seznam'!D34","v":" Osazování pouzdra posuvných dveří s jednou kapsou pro jedno křídlo šířky do 800 mm do zděné příčky"},{"$f":"'kros seznam'!E34","v":"kus"},{"$f":"+E229","v":0},{"$f":"'kros seznam'!G34","v":879},0,{"$f":"'kros seznam'!J34","v":5.3620000000000001E-2},0,{"$f":"'kros seznam'!K34","v":0},null,{"$f":"'kros seznam'!L34","v":3.3809999999999998},0]
[{"$f":"'kros seznam'!B37","v":"M"},{"$f":"'kros seznam'!C37","v":"553316120"},{"$f":"'kros seznam'!D37","v":" pouzdro stavební STANDARD S700-080 800 mm"},{"$f":"'kros seznam'!E37","v":"kus"},{"$f":"E231","v":0},{"$f":"'kros seznam'!G37","v":6370},0,{"$f":"'kros seznam'!J37","v":4.2500000000000003E-2},0,{"$f":"'kros seznam'!K37","v":0},null,{"$f":"'kros seznam'!L37","v":0},0]
[{"$f":"'kros seznam'!B159","v":"D"},{"$f":"'kros seznam'!C159","v":"766"},{"$f":"'kros seznam'!D159","v":"Konstrukce truhlářské"},null,null,null,{"$f":"SUM(G234:G238)","v":0},3.245E-2,0,0,null,4.7299999999999995,0]
[{"$f":"'kros seznam'!B160","v":"K"},{"$f":"'kros seznam'!C160","v":"766X"},{"$f":"'kros seznam'!D160","v":"Dveřního kování D+M"},{"$f":"'kros seznam'!E160","v":"kus"},{"$f":"E231","v":0},{"$f":"'kros seznam'!G160","v":350},0,0,0,0,null,0,0]
[{"$f":"'kros seznam'!B168","v":"K"},{"$f":"'kros seznam'!C168","v":"766660171"},{"$f":"'kros seznam'!D168","v":"Montáž dveřních křídel otvíravých 1křídlových š do 0,8 m do obložkové zárubně"},{"$f":"'kros seznam'!E168","v":"kus"},{"$f":"E234","v":0},{"$f":"'kros seznam'!G168","v":538},0,{"$f":"'kros seznam'!J168","v":0},0,{"$f":"'kros seznam'!K168","v":0},null,{"$f":"'kros seznam'!L168","v":1.8049999999999999},0]
[{"$f":"'kros seznam'!B171","v":"M"},{"$f":"'kros seznam'!C171","v":"611617210"},{"$f":"'kros seznam'!D171","v":"dveře vnitřní 1křídlové 80x197 cm"},{"$f":"'kros seznam'!E171","v":"kus"},{"$f":"E235","v":0},{"$f":"'Navrhovaný stav'!L48","v":1500},0,{"$f":"'kros seznam'!J171","v":1.6E-2},0,{"$f":"'kros seznam'!K171","v":0},null,{"$f":"'kros seznam'!L171","v":0},0]
[{"$f":"'kros seznam'!B174","v":"K"},{"$f":"'kros seznam'!C174","v":"766682111"},{"$f":"'kros seznam'!D174","v":"Montáž zárubní obložkových pro dveře jednokřídlové tl stěny do 170 mm"},{"$f":"'kros seznam'!E174","v":"kus"},{"$f":"E236","v":0},{"$f":"'kros seznam'!G174","v":945},0,{"$f":"'kros seznam'!J174","v":4.4999999999999999E-4},0,{"$f":"'kros seznam'!K174","v":0},null,{"$f":"'kros seznam'!L174","v":2.9249999999999998},0]
[{"$f":"'kros seznam'!B175","v":"M"},{"$f":"'kros seznam'!C175","v":"611822580"},{"$f":"'kros seznam'!D175","v":" zárubeň obložková pro dveře 1křídlové 60,70,80,90x197 cm, tl. 8 - 17 cm"},{"$f":"'kros seznam'!E175","v":"kus"},{"$f":"E237","v":0},{"$f":"'kros seznam'!G175","v":2870},0,{"$f":"'kros seznam'!J175","v":1.6E-2},0,{"$f":"'kros seznam'!K175","v":0},null,{"$f":"'kros seznam'!L175","v":0},0]
[]
["DVEŘE POUZDROVÉ 90 cm ZDIVO"]
[{"$f":"'kros seznam'!B3","v":"D"},{"$f":"'kros seznam'!C3","v":"3"},{"$f":"'kros seznam'!D3","v":"Svislé a kompletní konstrukce"},null,null,null,{"$f":"SUM(G242)","v":0},{"$f":"SUM(H242)","v":3.4000000000000002E-2},{"$f":"SUM(I242)","v":0},{"$f":"SUM(J242)","v":0},null,{"$f":"SUM(L242)","v":0.66600000000000004},{"$f":"SUM(M242)","v":0}]
[{"$f":"'kros seznam'!B7","v":"K"},{"$f":"'kros seznam'!C7","v":"317144118"},{"$f":"'kros seznam'!D7","v":"Překlad dl 2490 mm (pouzdrové dveře š. 90cm)"},{"$f":"'kros seznam'!E7","v":"kus"},{"$f":"IF(A240='Navrhovaný stav - pomocný'!$C$51,'Navrhovaný stav - pomocný'!$E$51,0)+IF(A240='Navrhovaný stav - pomocný'!$C$52,'Navrhovaný stav - pomocný'!$E$52,0)","v":0},{"$f":"'kros seznam'!G7","v":704},{"$f":"F242*E242","v":0},3.4000000000000002E-2,{"$f":"H242*E242","v":0},{"$f":"'kros seznam'!K7","v":0},null,0.66600000000000004,{"$f":"L242*E242","v":0}]
[{"$f":"'kros seznam'!B16","v":"D"},{"$f":"'kros seznam'!C16","v":"6"},{"$f":"'kros seznam'!D16","v":"Úpravy povrchů, podlahy a osazování výplní"},null,null,null,{"$f":"SUM(G244:G245)","v":0},{"$f":"SUM(H244:H245)","v":9.8619999999999999E-2},{"$f":"SUM(I244:I245)","v":0},{"$f":"SUM(J244:J245)","v":0},null,{"$f":"SUM(L244:L245)","v":4.1139999999999999},{"$f":"SUM(M244:M245)","v":0}]
[{"$f":"'kros seznam'!B38","v":"K"},{"$f":"'kros seznam'!C38","v":"642946112"},{"$f":"'kros seznam'!D38","v":" Osazování pouzdra posuvných dveří s jednou kapsou pro jedno křídlo šířky do 1200 mm do zděné příčky"},{"$f":"'kros seznam'!E38","v":"kus"},{"$f":"+E242","v":0},{"$f":"'kros seznam'!G38","v":1060},0,{"$f":"'kros seznam'!J38","v":5.3620000000000001E-2},0,{"$f":"'kros seznam'!K38","v":0},null,{"$f":"'kros seznam'!L38","v":4.1139999999999999},0]
[{"$f":"'kros seznam'!B39","v":"M"},{"$f":"'kros seznam'!C39","v":"553316130"},{"$f":"'kros seznam'!D39","v":" pouzdro stavební STANDARD S700-090 900 mm"},{"$f":"'kros seznam'!E39","v":"kus"},{"$f":"E244","v":0},{"$f":"'kros seznam'!G39","v":6740},0,{"$f":"'kros seznam'!J39","v":4.4999999999999998E-2},0,{"$f":"'kros seznam'!K39","v":0},null,{"$f":"'kros seznam'!L39","v":0},0]
[{"$f":"'kros seznam'!B159","v":"D"},{"$f":"'kros seznam'!C159","v":"766"},{"$f":"'kros seznam'!D159","v":"Konstrukce truhlářské"},null,null,null,{"$f":"SUM(G247:G251)","v":0},3.5449999999999995E-2,0,0,null,4.8810000000000002,0]
[{"$f":"'kros seznam'!B160","v":"K"},{"$f":"'kros seznam'!C160","v":"766X"},{"$f":"'kros seznam'!D160","v":"Dveřního kování D+M"},{"$f":"'kros seznam'!E160","v":"kus"},{"$f":"E244","v":0},{"$f":"'kros seznam'!G160","v":350},0,0,0,0,null,0,0]
[{"$f":"'kros seznam'!B172","v":"K"},{"$f":"'kros seznam'!C172","v":"766660172"},{"$f":"'kros seznam'!D172","v":"Montáž dveřních křídel otvíravých 1křídlových š přes 0,8 m do obložkové zárubně"},{"$f":"'kros seznam'!E172","v":"kus"},{"$f":"E247","v":0},{"$f":"'kros seznam'!G172","v":574},0,{"$f":"'kros seznam'!J172","v":0},0,{"$f":"'kros seznam'!K172","v":0},null,{"$f":"'kros seznam'!L172","v":1.956},0]
[{"$f":"'kros seznam'!B173","v":"M"},{"$f":"'kros seznam'!C173","v":"611617250"},{"$f":"'kros seznam'!D173","v":"dveře vnitřní 1křídlové 90x197 cm"},{"$f":"'kros seznam'!E173","v":"kus"},{"$f":"E248","v":0},{"$f":"'Navrhovaný stav'!L48","v":1500},0,{"$f":"'kros seznam'!J173","v":1.9E-2},0,{"$f":"'kros seznam'!K173","v":0},null,{"$f":"'kros seznam'!L173","v":0},0]
[{"$f":"'kros seznam'!B174","v":"K"},{"$f":"'kros seznam'!C174","v":"766682111"},{"$f":"'kros seznam'!D174","v":"Montáž zárubní obložkových pro dveře jednokřídlové tl stěny do 170 mm"},{"$f":"'kros seznam'!E174","v":"kus"},{"$f":"E249","v":0},{"$f":"'kros seznam'!G174","v":945},0,{"$f":"'kros seznam'!J174","v":4.4999999999999999E-4},0,{"$f":"'kros seznam'!K174","v":0},null,{"$f":"'kros seznam'!L174","v":2.9249999999999998},0]
[{"$f":"'kros seznam'!B175","v":"M"},{"$f":"'kros seznam'!C175","v":"611822580"},{"$f":"'kros seznam'!D175","v":" zárubeň obložková pro dveře 1křídlové 60,70,80,90x197 cm, tl. 8 - 17 cm"},{"$f":"'kros seznam'!E175","v":"kus"},{"$f":"E250","v":0},{"$f":"'kros seznam'!G175","v":2870},0,{"$f":"'kros seznam'!J175","v":1.6E-2},0,{"$f":"'kros seznam'!K175","v":0},null,{"$f":"'kros seznam'!L175","v":0},0]
[]
["DVEŘE POUZDROVÉ 60 cm SDK"]
[{"$f":"'kros seznam'!B132","v":"D"},{"$f":"'kros seznam'!C132","v":"763"},{"$f":"'kros seznam'!D132","v":"Konstrukce montované z desek, dílců a panelů"},null,null,null,{"$f":"SUM(G255:G256)","v":0},{"$f":"SUM(H255:H256)","v":3.4000000000000002E-2},{"$f":"SUM(I255:I256)","v":0},{"$f":"SUM(J255:J256)","v":0},null,{"$f":"SUM(L255:L256)","v":2.7519999999999998},{"$f":"SUM(M255:M256)","v":0}]
[{"$f":"'kros seznam'!B141","v":"K"},{"$f":"'kros seznam'!C141","v":"763183111"},{"$f":"'kros seznam'!D141","v":"Montáž pouzdra posuvných dveří s jednou kapsou pro jedno křídlo šířky do 800 mm do SDK příčky"},{"$f":"'kros seznam'!E141","v":"kus"},{"$f":"IF(A253='Navrhovaný stav - pomocný'!$C$51,'Navrhovaný stav - pomocný'!$E$51,0)+IF(A253='Navrhovaný stav - pomocný'!$C$52,'Navrhovaný stav - pomocný'!$E$52,0)","v":0},{"$f":"'kros seznam'!G141","v":888},0,{"$f":"'kros seznam'!J141","v":0},0,{"$f":"'kros seznam'!K141","v":0},null,{"$f":"'kros seznam'!L141","v":2.7519999999999998},0]
[{"$f":"'kros seznam'!B142","v":"M"},{"$f":"'kros seznam'!C142","v":"553316100"},{"$f":"'kros seznam'!D142","v":"pouzdro stavební STANDARD S700-060 600 mm"},{"$f":"'kros seznam'!E142","v":"kus"},{"$f":"E255","v":0},{"$f":"'kros seznam'!G142","v":5590},0,{"$f":"'kros seznam'!J142","v":3.4000000000000002E-2},0,{"$f":"'kros seznam'!K142","v":0},null,{"$f":"'kros seznam'!L142","v":0},0]
[{"$f":"'kros seznam'!B159","v":"D"},{"$f":"'kros seznam'!C159","v":"766"},{"$f":"'kros seznam'!D159","v":"Konstrukce truhlářské"},null,null,null,{"$f":"SUM(G258:G262)","v":0},2.945E-2,0,0,null,4.7299999999999995,0]
[{"$f":"'kros seznam'!B160","v":"K"},{"$f":"'kros seznam'!C160","v":"766X"},{"$f":"'kros seznam'!D160","v":"Dveřního kování D+M"},{"$f":"'kros seznam'!E160","v":"kus"},{"$f":"E255","v":0},{"$f":"'kros seznam'!G160","v":350},0,0,0,0,null,0,0]
[{"$f":"'kros seznam'!B168","v":"K"},{"$f":"'kros seznam'!C168","v":"766660171"},{"$f":"'kros seznam'!D168","v":"Montáž dveřních křídel otvíravých 1křídlových š do 0,8 m do obložkové zárubně"},{"$f":"'kros seznam'!E168","v":"kus"},{"$f":"E258","v":0},{"$f":"'kros seznam'!G168","v":538},0,{"$f":"'kros seznam'!J168","v":0},0,{"$f":"'kros seznam'!K168","v":0},null,{"$f":"'kros seznam'!L168","v":1.8049999999999999},0]
[{"$f":"'kros seznam'!B169","v":"M"},{"$f":"'kros seznam'!C169","v":"611617130"},{"$f":"'kros seznam'!D169","v":"dveře vnitřní 1křídlové 60x197 cm"},{"$f":"'kros seznam'!E169","v":"kus"},{"$f":"E259","v":0},{"$f":"'Navrhovaný stav'!L48","v":1500},0,{"$f":"'kros seznam'!J169","v":1.2999999999999999E-2},0,{"$f":"'kros seznam'!K169","v":0},null,{"$f":"'kros seznam'!L169","v":0},0]
[{"$f":"'kros seznam'!B174","v":"K"},{"$f":"'kros seznam'!C174","v":"766682111"},{"$f":"'kros seznam'!D174","v":"Montáž zárubní obložkových pro dveře jednokřídlové tl stěny do 170 mm"},{"$f":"'kros seznam'!E174","v":"kus"},{"$f":"E260","v":0},{"$f":"'kros seznam'!G174","v":945},0,{"$f":"'kros seznam'!J174","v":4.4999999999999999E-4},0,{"$f":"'kros seznam'!K174","v":0},null,{"$f":"'kros seznam'!L174","v":2.9249999999999998},0]
[{"$f":"'kros seznam'!B175","v":"M"},{"$f":"'kros seznam'!C175","v":"611822580"},{"$f":"'kros seznam'!D175","v":" zárubeň obložková pro dveře 1křídlové 60,70,80,90x197 cm, tl. 8 - 17 cm"},{"$f":"'kros seznam'!E175","v":"kus"},{"$f":"E261","v":0},{"$f":"'kros seznam'!G175","v":2870},0,{"$f":"'kros seznam'!J175","v":1.6E-2},0,{"$f":"'kros seznam'!K175","v":0},null,{"$f":"'kros seznam'!L175","v":0},0]
[]
["DVEŘE POUZDROVÉ 70 cm SDK"]
[{"$f":"'kros seznam'!B132","v":"D"},{"$f":"'kros seznam'!C132","v":"763"},{"$f":"'kros seznam'!D132","v":"Konstrukce montované z desek, dílců a panelů"},null,null,null,{"$f":"SUM(G266:G267)","v":6858},{"$f":"SUM(H266:H267)","v":3.6999999999999998E-2},{"$f":"SUM(I266:I267)","v":3.6999999999999998E-2},{"$f":"SUM(J266:J267)","v":0},null,{"$f":"SUM(L266:L267)","v":2.7519999999999998},{"$f":"SUM(M266:M267)","v":2.7519999999999998}]
[{"$f":"'kros seznam'!B141","v":"K"},{"$f":"'kros seznam'!C141","v":"763183111"},{"$f":"'kros seznam'!D141","v":"Montáž pouzdra posuvných dveří s jednou kapsou pro jedno křídlo šířky do 800 mm do SDK příčky"},{"$f":"'kros seznam'!E141","v":"kus"},{"$f":"IF(A264='Navrhovaný stav - pomocný'!$C$51,'Navrhovaný stav - pomocný'!$E$51,0)+IF(A264='Navrhovaný stav - pomocný'!$C$52,'Navrhovaný stav - pomocný'!$E$52,0)","v":1},{"$f":"'kros seznam'!G141","v":888},888,{"$f":"'kros seznam'!J141","v":0},0,{"$f":"'kros seznam'!K141","v":0},null,{"$f":"'kros seznam'!L141","v":2.7519999999999998},2.7519999999999998]
[{"$f":"'kros seznam'!B143","v":"M"},{"$f":"'kros seznam'!C143","v":"553316110"},{"$f":"'kros seznam'!D143","v":"pouzdro stavební STANDARD S700-070 700 mm"},{"$f":"'kros seznam'!E143","v":"kus"},{"$f":"E266","v":1},{"$f":"'kros seznam'!G143","v":5970},5970,{"$f":"'kros seznam'!J143","v":3.6999999999999998E-2},3.6999999999999998E-2,{"$f":"'kros seznam'!K143","v":0},null,{"$f":"'kros seznam'!L143","v":0},0]
[{"$f":"'kros seznam'!B159","v":"D"},{"$f":"'kros seznam'!C159","v":"766"},{"$f":"'kros seznam'!D159","v":"Konstrukce truhlářské"},null,null,null,{"$f":"SUM(G269:G273)","v":6203},3.0450000000000001E-2,3.0450000000000001E-2,0,null,4.7299999999999995,4.7299999999999995,null,null,null,null,null,null,null,null,null,null,null,null,null,null,null,null,null,null,null,null,null,null,null,null,null,null,null,null,null,null,null,null,null,null,null,null,null,null,null,null,null,null,null,null,null,null,null,null,null,null,null,null,null,null,null,null,null,null,null,null,null,null,null,null,null,null,null,null,null,null,null,null,null,null,null,null,null,null,null,null,null,null,null,null,null,null,null,null,null,null,null,null,null,null,null,null,null,null,null,null,null,null,null,null,null,null,null,null,null,null,null,null,null,{"$f":"'kros seznam'!DW147","v":0},{"$f":"'kros seznam'!DX147","v":0},{"$f":"'kros seznam'!DY147","v":0},{"$f":"'kros seznam'!DZ147","v":0},{"$f":"'kros seznam'!EA147","v":0},{"$f":"'kros seznam'!EB147","v":0},{"$f":"'kros seznam'!EC147","v":0},{"$f":"'kros seznam'!ED147","v":0},{"$f":"'kros seznam'!EE147","v":0},{"$f":"'kros seznam'!EF147","v":0},{"$f":"'kros seznam'!EG147","v":0},{"$f":"'kros seznam'!EH147","v":0},{"$f":"'kros seznam'!EI147","v":0},{"$f":"'kros seznam'!EJ147","v":0},{"$f":"'kros seznam'!EK147","v":0},{"$f":"'kros seznam'!EL147","v":0},{"$f":"'kros seznam'!EM147","v":0},{"$f":"'kros seznam'!EN147","v":0},{"$f":"'kros seznam'!EO147","v":0},{"$f":"'kros seznam'!EP147","v":0},{"$f":"'kros seznam'!EQ147","v":0},{"$f":"'kros seznam'!ER147","v":0},{"$f":"'kros seznam'!ES147","v":0},{"$f":"'kros seznam'!ET147","v":0},{"$f":"'kros seznam'!EU147","v":0},{"$f":"'kros seznam'!EV147","v":0},{"$f":"'kros seznam'!EW147","v":0},{"$f":"'kros seznam'!EX147","v":0},{"$f":"'kros seznam'!EY147","v":0},{"$f":"'kros seznam'!EZ147","v":0},{"$f":"'kros seznam'!FA147","v":0},{"$f":"'kros seznam'!FB147","v":0},{"$f":"'kros seznam'!FC147","v":0},{"$f":"'kros seznam'!FD147","v":0},{"$f":"'kros seznam'!FE147","v":0},{"$f":"'kros seznam'!FF147","v":0},{"$f":"'kros seznam'!FG147","v":0},{"$f":"'kros seznam'!FH147","v":0},{"$f":"'kros seznam'!FI147","v":0},{"$f":"'kros seznam'!FJ147","v":0},{"$f":"'kros seznam'!FK147","v":0},{"$f":"'kros seznam'!FL147","v":0},{"$f":"'kros seznam'!FM147","v":0},{"$f":"'kros seznam'!FN147","v":0},{"$f":"'kros seznam'!FO147","v":0},{"$f":"'kros seznam'!FP147","v":0},{"$f":"'kros seznam'!FQ147","v":0},{"$f":"'kros seznam'!FR147","v":0},{"$f":"'kros seznam'!FS147","v":0},{"$f":"'kros seznam'!FT147","v":0},{"$f":"'kros seznam'!FU147","v":0},{"$f":"'kros seznam'!FV147","v":0},{"$f":"'kros seznam'!FW147","v":0},{"$f":"'kros seznam'!FX147","v":0},{"$f":"'kros seznam'!FY147","v":0},{"$f":"'kros seznam'!FZ147","v":0},{"$f":"'kros seznam'!GA147","v":0},{"$f":"'kros seznam'!GB147","v":0},{"$f":"'kros seznam'!GC147","v":0},{"$f":"'kros seznam'!GD147","v":0},{"$f":"'kros seznam'!GE147","v":0},{"$f":"'kros seznam'!GF147","v":0},{"$f":"'kros seznam'!GG147","v":0},{"$f":"'kros seznam'!GH147","v":0},{"$f":"'kros seznam'!GI147","v":0},{"$f":"'kros seznam'!GJ147","v":0},{"$f":"'kros seznam'!GK147","v":0},{"$f":"'kros seznam'!GL147","v":0},{"$f":"'kros seznam'!GM147","v":0},{"$f":"'kros seznam'!GN147","v":0},{"$f":"'kros seznam'!GO147","v":0},{"$f":"'kros seznam'!GP147","v":0},{"$f":"'kros seznam'!GQ147","v":0},{"$f":"'kros seznam'!GR147","v":0},{"$f":"'kros seznam'!GS147","v":0},{"$f":"'kros seznam'!GT147","v":0},{"$f":"'kros seznam'!GU147","v":0},{"$f":"'kros seznam'!GV147","v":0},{"$f":"'kros seznam'!GW147","v":0},{"$f":"'kros seznam'!GX147","v":0},{"$f":"'kros seznam'!GY147","v":0},{"$f":"'kros seznam'!GZ147","v":0},{"$f":"'kros seznam'!HA147","v":0},{"$f":"'kros seznam'!HB147","v":0},{"$f":"'kros seznam'!HC147","v":0},{"$f":"'kros seznam'!HD147","v":0},{"$f":"'kros seznam'!HE147","v":0},{"$f":"'kros seznam'!HF147","v":0},{"$f":"'kros seznam'!HG147","v":0},{"$f":"'kros seznam'!HH147","v":0},{"$f":"'kros seznam'!HI147","v":0},{"$f":"'kros seznam'!HJ147","v":0},{"$f":"'kros seznam'!HK147","v":0},{"$f":"'kros seznam'!HL147","v":0},{"$f":"'kros seznam'!HM147","v":0},{"$f":"'kros seznam'!HN147","v":0},{"$f":"'kros seznam'!HO147","v":0},{"$f":"'kros seznam'!HP147","v":0},{"$f":"'kros seznam'!HQ147","v":0},{"$f":"'kros seznam'!HR147","v":0},{"$f":"'kros seznam'!HS147","v":0},{"$f":"'kros seznam'!HT147","v":0},{"$f":"'kros seznam'!HU147","v":0},{"$f":"'kros seznam'!HV147","v":0},{"$f":"'kros seznam'!HW147","v":0},{"$f":"'kros seznam'!HX147","v":0},{"$f":"'kros seznam'!HY147","v":0},{"$f":"'kros seznam'!HZ147","v":0},{"$f":"'kros seznam'!IA147","v":0},{"$f":"'kros seznam'!IB147","v":0},{"$f":"'kros seznam'!IC147","v":0},{"$f":"'kros seznam'!ID147","v":0},{"$f":"'kros seznam'!IE147","v":0},{"$f":"'kros seznam'!IF147","v":0},{"$f":"'kros seznam'!IG147","v":0},{"$f":"'kros seznam'!IH147","v":0},{"$f":"'kros seznam'!II147","v":0},{"$f":"'kros seznam'!IJ147","v":0},{"$f":"'kros seznam'!IK147","v":0},{"$f":"'kros seznam'!IL147","v":0},{"$f":"'kros seznam'!IM147","v":0},{"$f":"'kros seznam'!IN147","v":0},{"$f":"'kros seznam'!IO147","v":0},{"$f":"'kros seznam'!IP147","v":0},{"$f":"'kros seznam'!IQ147","v":0},{"$f":"'kros seznam'!IR147","v":0},{"$f":"'kros seznam'!IS147","v":0},{"$f":"'kros seznam'!IT147","v":0},{"$f":"'kros seznam'!IU147","v":0},{"$f":"'kros seznam'!IV147","v":0},{"$f":"'kros seznam'!IW147","v":0},{"$f":"'kros seznam'!IX147","v":0},{"$f":"'kros seznam'!IY147","v":0},{"$f":"'kros seznam'!IZ147","v":0},{"$f":"'kros seznam'!JA147","v":0},{"$f":"'kros seznam'!JB147","v":0},{"$f":"'kros seznam'!JC147","v":0},{"$f":"'kros seznam'!JD147","v":0},{"$f":"'kros seznam'!JE147","v":0},{"$f":"'kros seznam'!JF147","v":0},{"$f":"'kros seznam'!JG147","v":0},{"$f":"'kros seznam'!JH147","v":0},{"$f":"'kros seznam'!JI147","v":0},{"$f":"'kros seznam'!JJ147","v":0},{"$f":"'kros seznam'!JK147","v":0},{"$f":"'kros seznam'!JL147","v":0},{"$f":"'kros seznam'!JM147","v":0},{"$f":"'kros seznam'!JN147","v":0},{"$f":"'kros seznam'!JO147","v":0},{"$f":"'kros seznam'!JP147","v":0},{"$f":"'kros seznam'!JQ147","v":0},{"$f":"'kros seznam'!JR147","v":0},{"$f":"'kros seznam'!JS147","v":0},{"$f":"'kros seznam'!JT147","v":0},{"$f":"'kros seznam'!JU147","v":0},{"$f":"'kros seznam'!JV147","v":0},{"$f":"'kros seznam'!JW147","v":0},{"$f":"'kros seznam'!JX147","v":0},{"$f":"'kros seznam'!JY147","v":0},{"$f":"'kros seznam'!JZ147","v":0},{"$f":"'kros seznam'!KA147","v":0},{"$f":"'kros seznam'!KB147","v":0},{"$f":"'kros seznam'!KC147","v":0},{"$f":"'kros seznam'!KD147","v":0},{"$f":"'kros seznam'!KE147","v":0},{"$f":"'kros seznam'!KF147","v":0},{"$f":"'kros seznam'!KG147","v":0},{"$f":"'kros seznam'!KH147","v":0},{"$f":"'kros seznam'!KI147","v":0},{"$f":"'kros seznam'!KJ147","v":0},{"$f":"'kros seznam'!KK147","v":0},{"$f":"'kros seznam'!KL147","v":0},{"$f":"'kros seznam'!KM147","v":0},{"$f":"'kros seznam'!KN147","v":0},{"$f":"'kros seznam'!KO147","v":0},{"$f":"'kros seznam'!KP147","v":0},{"$f":"'kros seznam'!KQ147","v":0},{"$f":"'kros seznam'!KR147","v":0},{"$f":"'kros seznam'!KS147","v":0},{"$f":"'kros seznam'!KT147","v":0},{"$f":"'kros seznam'!KU147","v":0},{"$f":"'kros seznam'!KV147","v":0},{"$f":"'kros seznam'!KW147","v":0},{"$f":"'kros seznam'!KX147","v":0},{"$f":"'kros seznam'!KY147","v":0},{"$f":"'kros seznam'!KZ147","v":0},{"$f":"'kros seznam'!LA147","v":0},{"$f":"'kros seznam'!LB147","v":0},{"$f":"'kros seznam'!LC147","v":0},{"$f":"'kros seznam'!LD147","v":0},{"$f":"'kros seznam'!LE147","v":0},{"$f":"'kros seznam'!LF147","v":0},{"$f":"'kros seznam'!LG147","v":0},{"$f":"'kros seznam'!LH147","v":0},{"$f":"'kros seznam'!LI147","v":0},{"$f":"'kros seznam'!LJ147","v":0},{"$f":"'kros seznam'!LK147","v":0},{"$f":"'kros seznam'!LL147","v":0},{"$f":"'kros seznam'!LM147","v":0},{"$f":"'kros seznam'!LN147","v":0},{"$f":"'kros seznam'!LO147","v":0},{"$f":"'kros seznam'!LP147","v":0},{"$f":"'kros seznam'!LQ147","v":0},{"$f":"'kros seznam'!LR147","v":0},{"$f":"'kros seznam'!LS147","v":0},{"$f":"'kros seznam'!LT147","v":0},{"$f":"'kros seznam'!LU147","v":0},{"$f":"'kros seznam'!LV147","v":0},{"$f":"'kros seznam'!LW147","v":0},{"$f":"'kros seznam'!LX147","v":0},{"$f":"'kros seznam'!LY147","v":0},{"$f":"'kros seznam'!LZ147","v":0},{"$f":"'kros seznam'!MA147","v":0},{"$f":"'kros seznam'!MB147","v":0},{"$f":"'kros seznam'!MC147","v":0},{"$f":"'kros seznam'!MD147","v":0},{"$f":"'kros seznam'!ME147","v":0},{"$f":"'kros seznam'!MF147","v":0},{"$f":"'kros seznam'!MG147","v":0},{"$f":"'kros seznam'!MH147","v":0},{"$f":"'kros seznam'!MI147","v":0},{"$f":"'kros seznam'!MJ147","v":0},{"$f":"'kros seznam'!MK147","v":0},{"$f":"'kros seznam'!ML147","v":0},{"$f":"'kros seznam'!MM147","v":0},{"$f":"'kros seznam'!MN147","v":0},{"$f":"'kros seznam'!MO147","v":0},{"$f":"'kros seznam'!MP147","v":0},{"$f":"'kros seznam'!MQ147","v":0},{"$f":"'kros seznam'!MR147","v":0},{"$f":"'kros seznam'!MS147","v":0},{"$f":"'kros seznam'!MT147","v":0},{"$f":"'kros seznam'!MU147","v":0},{"$f":"'kros seznam'!MV147","v":0},{"$f":"'kros seznam'!MW147","v":0},{"$f":"'kros seznam'!MX147","v":0},{"$f":"'kros seznam'!MY147","v":0},{"$f":"'kros seznam'!MZ147","v":0},{"$f":"'kros seznam'!NA147","v":0},{"$f":"'kros seznam'!NB147","v":0},{"$f":"'kros seznam'!NC147","v":0},{"$f":"'kros seznam'!ND147","v":0},{"$f":"'kros seznam'!NE147","v":0},{"$f":"'kros seznam'!NF147","v":0},{"$f":"'kros seznam'!NG147","v":0},{"$f":"'kros seznam'!NH147","v":0},{"$f":"'kros seznam'!NI147","v":0},{"$f":"'kros seznam'!NJ147","v":0},{"$f":"'kros seznam'!NK147","v":0},{"$f":"'kros seznam'!NL147","v":0},{"$f":"'kros seznam'!NM147","v":0},{"$f":"'kros seznam'!NN147","v":0},{"$f":"'kros seznam'!NO147","v":0},{"$f":"'kros seznam'!NP147","v":0},{"$f":"'kros seznam'!NQ147","v":0},{"$f":"'kros seznam'!NR147","v":0},{"$f":"'kros seznam'!NS147","v":0},{"$f":"'kros seznam'!NT147","v":0},{"$f":"'kros seznam'!NU147","v":0},{"$f":"'kros seznam'!NV147","v":0},{"$f":"'kros seznam'!NW147","v":0},{"$f":"'kros seznam'!NX147","v":0},{"$f":"'kros seznam'!NY147","v":0},{"$f":"'kros seznam'!NZ147","v":0},{"$f":"'kros seznam'!OA147","v":0},{"$f":"'kros seznam'!OB147","v":0},{"$f":"'kros seznam'!OC147","v":0},{"$f":"'kros seznam'!OD147","v":0},{"$f":"'kros seznam'!OE147","v":0},{"$f":"'kros seznam'!OF147","v":0},{"$f":"'kros seznam'!OG147","v":0},{"$f":"'kros seznam'!OH147","v":0},{"$f":"'kros seznam'!OI147","v":0},{"$f":"'kros seznam'!OJ147","v":0},{"$f":"'kros seznam'!OK147","v":0},{"$f":"'kros seznam'!OL147","v":0},{"$f":"'kros seznam'!OM147","v":0},{"$f":"'kros seznam'!ON147","v":0},{"$f":"'kros seznam'!OO147","v":0},{"$f":"'kros seznam'!OP147","v":0},{"$f":"'kros seznam'!OQ147","v":0},{"$f":"'kros seznam'!OR147","v":0},{"$f":"'kros seznam'!OS147","v":0},{"$f":"'kros seznam'!OT147","v":0},{"$f":"'kros seznam'!OU147","v":0},{"$f":"'kros seznam'!OV147","v":0},{"$f":"'kros seznam'!OW147","v":0},{"$f":"'kros seznam'!OX147","v":0},{"$f":"'kros seznam'!OY147","v":0},{"$f":"'kros seznam'!OZ147","v":0},{"$f":"'kros seznam'!PA147","v":0},{"$f":"'kros seznam'!PB147","v":0},{"$f":"'kros seznam'!PC147","v":0},{"$f":"'kros seznam'!PD147","v":0},{"$f":"'kros seznam'!PE147","v":0},{"$f":"'kros seznam'!PF147","v":0},{"$f":"'kros seznam'!PG147","v":0},{"$f":"'kros seznam'!PH147","v":0},{"$f":"'kros seznam'!PI147","v":0},{"$f":"'kros seznam'!PJ147","v":0},{"$f":"'kros seznam'!PK147","v":0},{"$f":"'kros seznam'!PL147","v":0},{"$f":"'kros seznam'!PM147","v":0},{"$f":"'kros seznam'!PN147","v":0},{"$f":"'kros seznam'!PO147","v":0},{"$f":"'kros seznam'!PP147","v":0},{"$f":"'kros seznam'!PQ147","v":0},{"$f":"'kros seznam'!PR147","v":0},{"$f":"'kros seznam'!PS147","v":0},{"$f":"'kros seznam'!PT147","v":0},{"$f":"'kros seznam'!PU147","v":0},{"$f":"'kros seznam'!PV147","v":0},{"$f":"'kros seznam'!PW147","v":0},{"$f":"'kros seznam'!PX147","v":0},{"$f":"'kros seznam'!PY147","v":0},{"$f":"'kros seznam'!PZ147","v":0},{"$f":"'kros seznam'!QA147","v":0},{"$f":"'kros seznam'!QB147","v":0},{"$f":"'kros seznam'!QC147","v":0},{"$f":"'kros seznam'!QD147","v":0},{"$f":"'kros seznam'!QE147","v":0},{"$f":"'kros seznam'!QF147","v":0},{"$f":"'kros seznam'!QG147","v":0},{"$f":"'kros seznam'!QH147","v":0},{"$f":"'kros seznam'!QI147","v":0},{"$f":"'kros seznam'!QJ147","v":0},{"$f":"'kros seznam'!QK147","v":0},{"$f":"'kros seznam'!QL147","v":0},{"$f":"'kros seznam'!QM147","v":0},{"$f":"'kros seznam'!QN147","v":0},{"$f":"'kros seznam'!QO147","v":0},{"$f":"'kros seznam'!QP147","v":0},{"$f":"'kros seznam'!QQ147","v":0},{"$f":"'kros seznam'!QR147","v":0},{"$f":"'kros seznam'!QS147","v":0},{"$f":"'kros seznam'!QT147","v":0},{"$f":"'kros seznam'!QU147","v":0},{"$f":"'kros seznam'!QV147","v":0},{"$f":"'kros seznam'!QW147","v":0},{"$f":"'kros seznam'!QX147","v":0},{"$f":"'kros seznam'!QY147","v":0},{"$f":"'kros seznam'!QZ147","v":0},{"$f":"'kros seznam'!RA147","v":0},{"$f":"'kros seznam'!RB147","v":0},{"$f":"'kros seznam'!RC147","v":0},{"$f":"'kros seznam'!RD147","v":0},{"$f":"'kros seznam'!RE147","v":0},{"$f":"'kros seznam'!RF147","v":0},{"$f":"'kros seznam'!RG147","v":0},{"$f":"'kros seznam'!RH147","v":0},{"$f":"'kros seznam'!RI147","v":0},{"$f":"'kros seznam'!RJ147","v":0},{"$f":"'kros seznam'!RK147","v":0},{"$f":"'kros seznam'!RL147","v":0},{"$f":"'kros seznam'!RM147","v":0},{"$f":"'kros seznam'!RN147","v":0},{"$f":"'kros seznam'!RO147","v":0},{"$f":"'kros seznam'!RP147","v":0},{"$f":"'kros seznam'!RQ147","v":0},{"$f":"'kros seznam'!RR147","v":0},{"$f":"'kros seznam'!RS147","v":0},{"$f":"'kros seznam'!RT147","v":0},{"$f":"'kros seznam'!RU147","v":0},{"$f":"'kros seznam'!RV147","v":0},{"$f":"'kros seznam'!RW147","v":0},{"$f":"'kros seznam'!RX147","v":0},{"$f":"'kros seznam'!RY147","v":0},{"$f":"'kros seznam'!RZ147","v":0},{"$f":"'kros seznam'!SA147","v":0},{"$f":"'kros seznam'!SB147","v":0},{"$f":"'kros seznam'!SC147","v":0},{"$f":"'kros seznam'!SD147","v":0},{"$f":"'kros seznam'!SE147","v":0},{"$f":"'kros seznam'!SF147","v":0},{"$f":"'kros seznam'!SG147","v":0},{"$f":"'kros seznam'!SH147","v":0},{"$f":"'kros seznam'!SI147","v":0},{"$f":"'kros seznam'!SJ147","v":0},{"$f":"'kros seznam'!SK147","v":0},{"$f":"'kros seznam'!SL147","v":0},{"$f":"'kros seznam'!SM147","v":0},{"$f":"'kros seznam'!SN147","v":0},{"$f":"'kros seznam'!SO147","v":0},{"$f":"'kros seznam'!SP147","v":0},{"$f":"'kros seznam'!SQ147","v":0},{"$f":"'kros seznam'!SR147","v":0},{"$f":"'kros seznam'!SS147","v":0},{"$f":"'kros seznam'!ST147","v":0},{"$f":"'kros seznam'!SU147","v":0},{"$f":"'kros seznam'!SV147","v":0},{"$f":"'kros seznam'!SW147","v":0},{"$f":"'kros seznam'!SX147","v":0},{"$f":"'kros seznam'!SY147","v":0},{"$f":"'kros seznam'!SZ147","v":0},{"$f":"'kros seznam'!TA147","v":0},{"$f":"'kros seznam'!TB147","v":0},{"$f":"'kros seznam'!TC147","v":0},{"$f":"'kros seznam'!TD147","v":0},{"$f":"'kros seznam'!TE147","v":0},{"$f":"'kros seznam'!TF147","v":0},{"$f":"'kros seznam'!TG147","v":0},{"$f":"'kros seznam'!TH147","v":0},{"$f":"'kros seznam'!TI147","v":0},{"$f":"'kros seznam'!TJ147","v":0},{"$f":"'kros seznam'!TK147","v":0},{"$f":"'kros seznam'!TL147","v":0},{"$f":"'kros seznam'!TM147","v":0},{"$f":"'kros seznam'!TN147","v":0},{"$f":"'kros seznam'!TO147","v":0},{"$f":"'kros seznam'!TP147","v":0},{"$f":"'kros seznam'!TQ147","v":0},{"$f":"'kros seznam'!TR147","v":0},{"$f":"'kros seznam'!TS147","v":0},{"$f":"'kros seznam'!TT147","v":0},{"$f":"'kros seznam'!TU147","v":0},{"$f":"'kros seznam'!TV147","v":0},{"$f":"'kros seznam'!TW147","v":0},{"$f":"'kros seznam'!TX147","v":0},{"$f":"'kros seznam'!TY147","v":0},{"$f":"'kros seznam'!TZ147","v":0},{"$f":"'kros seznam'!UA147","v":0},{"$f":"'kros seznam'!UB147","v":0},{"$f":"'kros seznam'!UC147","v":0},{"$f":"'kros seznam'!UD147","v":0},{"$f":"'kros seznam'!UE147","v":0},{"$f":"'kros seznam'!UF147","v":0},{"$f":"'kros seznam'!UG147","v":0},{"$f":"'kros seznam'!UH147","v":0},{"$f":"'kros seznam'!UI147","v":0},{"$f":"'kros seznam'!UJ147","v":0},{"$f":"'kros seznam'!UK147","v":0},{"$f":"'kros seznam'!UL147","v":0},{"$f":"'kros seznam'!UM147","v":0},{"$f":"'kros seznam'!UN147","v":0},{"$f":"'kros seznam'!UO147","v":0},{"$f":"'kros seznam'!UP147","v":0},{"$f":"'kros seznam'!UQ147","v":0},{"$f":"'kros seznam'!UR147","v":0},{"$f":"'kros seznam'!US147","v":0},{"$f":"'kros seznam'!UT147","v":0},{"$f":"'kros seznam'!UU147","v":0},{"$f":"'kros seznam'!UV147","v":0},{"$f":"'kros seznam'!UW147","v":0},{"$f":"'kros seznam'!UX147","v":0},{"$f":"'kros seznam'!UY147","v":0},{"$f":"'kros seznam'!UZ147","v":0},{"$f":"'kros seznam'!VA147","v":0},{"$f":"'kros seznam'!VB147","v":0},{"$f":"'kros seznam'!VC147","v":0},{"$f":"'kros seznam'!VD147","v":0},{"$f":"'kros seznam'!VE147","v":0},{"$f":"'kros seznam'!VF147","v":0},{"$f":"'kros seznam'!VG147","v":0},{"$f":"'kros seznam'!VH147","v":0},{"$f":"'kros seznam'!VI147","v":0},{"$f":"'kros seznam'!VJ147","v":0},{"$f":"'kros seznam'!VK147","v":0},{"$f":"'kros seznam'!VL147","v":0},{"$f":"'kros seznam'!VM147","v":0},{"$f":"'kros seznam'!VN147","v":0},{"$f":"'kros seznam'!VO147","v":0},{"$f":"'kros seznam'!VP147","v":0},{"$f":"'kros seznam'!VQ147","v":0},{"$f":"'kros seznam'!VR147","v":0},{"$f":"'kros seznam'!VS147","v":0},{"$f":"'kros seznam'!VT147","v":0},{"$f":"'kros seznam'!VU147","v":0},{"$f":"'kros seznam'!VV147","v":0},{"$f":"'kros seznam'!VW147","v":0},{"$f":"'kros seznam'!VX147","v":0},{"$f":"'kros seznam'!VY147","v":0},{"$f":"'kros seznam'!VZ147","v":0},{"$f":"'kros seznam'!WA147","v":0},{"$f":"'kros seznam'!WB147","v":0},{"$f":"'kros seznam'!WC147","v":0},{"$f":"'kros seznam'!WD147","v":0},{"$f":"'kros seznam'!WE147","v":0},{"$f":"'kros seznam'!WF147","v":0},{"$f":"'kros seznam'!WG147","v":0},{"$f":"'kros seznam'!WH147","v":0},{"$f":"'kros seznam'!WI147","v":0},{"$f":"'kros seznam'!WJ147","v":0},{"$f":"'kros seznam'!WK147","v":0},{"$f":"'kros seznam'!WL147","v":0},{"$f":"'kros seznam'!WM147","v":0},{"$f":"'kros seznam'!WN147","v":0},{"$f":"'kros seznam'!WO147","v":0},{"$f":"'kros seznam'!WP147","v":0},{"$f":"'kros seznam'!WQ147","v":0},{"$f":"'kros seznam'!WR147","v":0},{"$f":"'kros seznam'!WS147","v":0},{"$f":"'kros seznam'!WT147","v":0},{"$f":"'kros seznam'!WU147","v":0},{"$f":"'kros seznam'!WV147","v":0},{"$f":"'kros seznam'!WW147","v":0},{"$f":"'kros seznam'!WX147","v":0},{"$f":"'kros seznam'!WY147","v":0},{"$f":"'kros seznam'!WZ147","v":0},{"$f":"'kros seznam'!XA147","v":0},{"$f":"'kros seznam'!XB147","v":0},{"$f":"'kros seznam'!XC147","v":0},{"$f":"'kros seznam'!XD147","v":0},{"$f":"'kros seznam'!XE147","v":0},{"$f":"'kros seznam'!XF147","v":0},{"$f":"'kros seznam'!XG147","v":0},{"$f":"'kros seznam'!XH147","v":0},{"$f":"'kros seznam'!XI147","v":0},{"$f":"'kros seznam'!XJ147","v":0},{"$f":"'kros seznam'!XK147","v":0},{"$f":"'kros seznam'!XL147","v":0},{"$f":"'kros seznam'!XM147","v":0},{"$f":"'kros seznam'!XN147","v":0},{"$f":"'kros seznam'!XO147","v":0},{"$f":"'kros seznam'!XP147","v":0},{"$f":"'kros seznam'!XQ147","v":0},{"$f":"'kros seznam'!XR147","v":0},{"$f":"'kros seznam'!XS147","v":0},{"$f":"'kros seznam'!XT147","v":0},{"$f":"'kros seznam'!XU147","v":0},{"$f":"'kros seznam'!XV147","v":0},{"$f":"'kros seznam'!XW147","v":0},{"$f":"'kros seznam'!XX147","v":0},{"$f":"'kros seznam'!XY147","v":0},{"$f":"'kros seznam'!XZ147","v":0},{"$f":"'kros seznam'!YA147","v":0},{"$f":"'kros seznam'!YB147","v":0},{"$f":"'kros seznam'!YC147","v":0},{"$f":"'kros seznam'!YD147","v":0},{"$f":"'kros seznam'!YE147","v":0},{"$f":"'kros seznam'!YF147","v":0},{"$f":"'kros seznam'!YG147","v":0},{"$f":"'kros seznam'!YH147","v":0},{"$f":"'kros seznam'!YI147","v":0},{"$f":"'kros seznam'!YJ147","v":0},{"$f":"'kros seznam'!YK147","v":0},{"$f":"'kros seznam'!YL147","v":0},{"$f":"'kros seznam'!YM147","v":0},{"$f":"'kros seznam'!YN147","v":0},{"$f":"'kros seznam'!YO147","v":0},{"$f":"'kros seznam'!YP147","v":0},{"$f":"'kros seznam'!YQ147","v":0},{"$f":"'kros seznam'!YR147","v":0},{"$f":"'kros seznam'!YS147","v":0},{"$f":"'kros seznam'!YT147","v":0},{"$f":"'kros seznam'!YU147","v":0},{"$f":"'kros seznam'!YV147","v":0},{"$f":"'kros seznam'!YW147","v":0},{"$f":"'kros seznam'!YX147","v":0},{"$f":"'kros seznam'!YY147","v":0},{"$f":"'kros seznam'!YZ147","v":0},{"$f":"'kros seznam'!ZA147","v":0},{"$f":"'kros seznam'!ZB147","v":0},{"$f":"'kros seznam'!ZC147","v":0},{"$f":"'kros seznam'!ZD147","v":0},{"$f":"'kros seznam'!ZE147","v":0},{"$f":"'kros seznam'!ZF147","v":0},{"$f":"'kros seznam'!ZG147","v":0},{"$f":"'kros seznam'!ZH147","v":0},{"$f":"'kros seznam'!ZI147","v":0},{"$f":"'kros seznam'!ZJ147","v":0},{"$f":"'kros seznam'!ZK147","v":0},{"$f":"'kros seznam'!ZL147","v":0},{"$f":"'kros seznam'!ZM147","v":0},{"$f":"'kros seznam'!ZN147","v":0},{"$f":"'kros seznam'!ZO147","v":0},{"$f":"'kros seznam'!ZP147","v":0},{"$f":"'kros seznam'!ZQ147","v":0},{"$f":"'kros seznam'!ZR147","v":0},{"$f":"'kros seznam'!ZS147","v":0},{"$f":"'kros seznam'!ZT147","v":0},{"$f":"'kros seznam'!ZU147","v":0},{"$f":"'kros seznam'!ZV147","v":0},{"$f":"'kros seznam'!ZW147","v":0},{"$f":"'kros seznam'!ZX147","v":0},{"$f":"'kros seznam'!ZY147","v":0},{"$f":"'kros seznam'!ZZ147","v":0},{"$f":"'kros seznam'!AAA147","v":0},{"$f":"'kros seznam'!AAB147","v":0},{"$f":"'kros seznam'!AAC147","v":0},{"$f":"'kros seznam'!AAD147","v":0},{"$f":"'kros seznam'!AAE147","v":0},{"$f":"'kros seznam'!AAF147","v":0},{"$f":"'kros seznam'!AAG147","v":0},{"$f":"'kros seznam'!AAH147","v":0},{"$f":"'kros seznam'!AAI147","v":0},{"$f":"'kros seznam'!AAJ147","v":0},{"$f":"'kros seznam'!AAK147","v":0},{"$f":"'kros seznam'!AAL147","v":0},{"$f":"'kros seznam'!AAM147","v":0},{"$f":"'kros seznam'!AAN147","v":0},{"$f":"'kros seznam'!AAO147","v":0},{"$f":"'kros seznam'!AAP147","v":0},{"$f":"'kros seznam'!AAQ147","v":0},{"$f":"'kros seznam'!AAR147","v":0},{"$f":"'kros seznam'!AAS147","v":0},{"$f":"'kros seznam'!AAT147","v":0},{"$f":"'kros seznam'!AAU147","v":0},{"$f":"'kros seznam'!AAV147","v":0},{"$f":"'kros seznam'!AAW147","v":0},{"$f":"'kros seznam'!AAX147","v":0},{"$f":"'kros seznam'!AAY147","v":0},{"$f":"'kros seznam'!AAZ147","v":0},{"$f":"'kros seznam'!ABA147","v":0},{"$f":"'kros seznam'!ABB147","v":0},{"$f":"'kros seznam'!ABC147","v":0},{"$f":"'kros seznam'!ABD147","v":0},{"$f":"'kros seznam'!ABE147","v":0},{"$f":"'kros seznam'!ABF147","v":0},{"$f":"'kros seznam'!ABG147","v":0},{"$f":"'kros seznam'!ABH147","v":0},{"$f":"'kros seznam'!ABI147","v":0},{"$f":"'kros seznam'!ABJ147","v":0},{"$f":"'kros seznam'!ABK147","v":0},{"$f":"'kros seznam'!ABL147","v":0},{"$f":"'kros seznam'!ABM147","v":0},{"$f":"'kros seznam'!ABN147","v":0},{"$f":"'kros seznam'!ABO147","v":0},{"$f":"'kros seznam'!ABP147","v":0},{"$f":"'kros seznam'!ABQ147","v":0},{"$f":"'kros seznam'!ABR147","v":0},{"$f":"'kros seznam'!ABS147","v":0},{"$f":"'kros seznam'!ABT147","v":0},{"$f":"'kros seznam'!ABU147","v":0},{"$f":"'kros seznam'!ABV147","v":0},{"$f":"'kros seznam'!ABW147","v":0},{"$f":"'kros seznam'!ABX147","v":0},{"$f":"'kros seznam'!ABY147","v":0},{"$f":"'kros seznam'!ABZ147","v":0},{"$f":"'kros seznam'!ACA147","v":0},{"$f":"'kros seznam'!ACB147","v":0},{"$f":"'kros seznam'!ACC147","v":0},{"$f":"'kros seznam'!ACD147","v":0},{"$f":"'kros seznam'!ACE147","v":0},{"$f":"'kros seznam'!ACF147","v":0},{"$f":"'kros seznam'!ACG147","v":0},{"$f":"'kros seznam'!ACH147","v":0},{"$f":"'kros seznam'!ACI147","v":0},{"$f":"'kros seznam'!ACJ147","v":0},{"$f":"'kros seznam'!ACK147","v":0},{"$f":"'kros seznam'!ACL147","v":0},{"$f":"'kros seznam'!ACM147","v":0},{"$f":"'kros seznam'!ACN147","v":0},{"$f":"'kros seznam'!ACO147","v":0},{"$f":"'kros seznam'!ACP147","v":0},{"$f":"'kros seznam'!ACQ147","v":0},{"$f":"'kros seznam'!ACR147","v":0},{"$f":"'kros seznam'!ACS147","v":0},{"$f":"'kros seznam'!ACT147","v":0},{"$f":"'kros seznam'!ACU147","v":0},{"$f":"'kros seznam'!ACV147","v":0},{"$f":"'kros seznam'!ACW147","v":0},{"$f":"'kros seznam'!ACX147","v":0},{"$f":"'kros seznam'!ACY147","v":0},{"$f":"'kros seznam'!ACZ147","v":0},{"$f":"'kros seznam'!ADA147","v":0},{"$f":"'kros seznam'!ADB147","v":0},{"$f":"'kros seznam'!ADC147","v":0},{"$f":"'kros seznam'!ADD147","v":0},{"$f":"'kros seznam'!ADE147","v":0},{"$f":"'kros seznam'!ADF147","v":0},{"$f":"'kros seznam'!ADG147","v":0},{"$f":"'kros seznam'!ADH147","v":0},{"$f":"'kros seznam'!ADI147","v":0},{"$f":"'kros seznam'!ADJ147","v":0},{"$f":"'kros seznam'!ADK147","v":0},{"$f":"'kros seznam'!ADL147","v":0},{"$f":"'kros seznam'!ADM147","v":0},{"$f":"'kros seznam'!ADN147","v":0},{"$f":"'kros seznam'!ADO147","v":0},{"$f":"'kros seznam'!ADP147","v":0},{"$f":"'kros seznam'!ADQ147","v":0},{"$f":"'kros seznam'!ADR147","v":0},{"$f":"'kros seznam'!ADS147","v":0},{"$f":"'kros seznam'!ADT147","v":0},{"$f":"'kros seznam'!ADU147","v":0},{"$f":"'kros seznam'!ADV147","v":0},{"$f":"'kros seznam'!ADW147","v":0},{"$f":"'kros seznam'!ADX147","v":0},{"$f":"'kros seznam'!ADY147","v":0},{"$f":"'kros seznam'!ADZ147","v":0},{"$f":"'kros seznam'!AEA147","v":0},{"$f":"'kros seznam'!AEB147","v":0},{"$f":"'kros seznam'!AEC147","v":0},{"$f":"'kros seznam'!AED147","v":0},{"$f":"'kros seznam'!AEE147","v":0},{"$f":"'kros seznam'!AEF147","v":0},{"$f":"'kros seznam'!AEG147","v":0},{"$f":"'kros seznam'!AEH147","v":0},{"$f":"'kros seznam'!AEI147","v":0},{"$f":"'kros seznam'!AEJ147","v":0},{"$f":"'kros seznam'!AEK147","v":0},{"$f":"'kros seznam'!AEL147","v":0},{"$f":"'kros seznam'!AEM147","v":0},{"$f":"'kros seznam'!AEN147","v":0},{"$f":"'kros seznam'!AEO147","v":0},{"$f":"'kros seznam'!AEP147","v":0},{"$f":"'kros seznam'!AEQ147","v":0},{"$f":"'kros seznam'!AER147","v":0},{"$f":"'kros seznam'!AES147","v":0},{"$f":"'kros seznam'!AET147","v":0},{"$f":"'kros seznam'!AEU147","v":0},{"$f":"'kros seznam'!AEV147","v":0},{"$f":"'kros seznam'!AEW147","v":0},{"$f":"'kros seznam'!AEX147","v":0},{"$f":"'kros seznam'!AEY147","v":0},{"$f":"'kros seznam'!AEZ147","v":0},{"$f":"'kros seznam'!AFA147","v":0},{"$f":"'kros seznam'!AFB147","v":0},{"$f":"'kros seznam'!AFC147","v":0},{"$f":"'kros seznam'!AFD147","v":0},{"$f":"'kros seznam'!AFE147","v":0},{"$f":"'kros seznam'!AFF147","v":0},{"$f":"'kros seznam'!AFG147","v":0},{"$f":"'kros seznam'!AFH147","v":0},{"$f":"'kros seznam'!AFI147","v":0},{"$f":"'kros seznam'!AFJ147","v":0},{"$f":"'kros seznam'!AFK147","v":0},{"$f":"'kros seznam'!AFL147","v":0},{"$f":"'kros seznam'!AFM147","v":0},{"$f":"'kros seznam'!AFN147","v":0},{"$f":"'kros seznam'!AFO147","v":0},{"$f":"'kros seznam'!AFP147","v":0},{"$f":"'kros seznam'!AFQ147","v":0},{"$f":"'kros seznam'!AFR147","v":0},{"$f":"'kros seznam'!AFS147","v":0},{"$f":"'kros seznam'!AFT147","v":0},{"$f":"'kros seznam'!AFU147","v":0},{"$f":"'kros seznam'!AFV147","v":0},{"$f":"'kros seznam'!AFW147","v":0},{"$f":"'kros seznam'!AFX147","v":0},{"$f":"'kros seznam'!AFY147","v":0},{"$f":"'kros seznam'!AFZ147","v":0},{"$f":"'kros seznam'!AGA147","v":0},{"$f":"'kros seznam'!AGB147","v":0},{"$f":"'kros seznam'!AGC147","v":0},{"$f":"'kros seznam'!AGD147","v":0},{"$f":"'kros seznam'!AGE147","v":0},{"$f":"'kros seznam'!AGF147","v":0},{"$f":"'kros seznam'!AGG147","v":0},{"$f":"'kros seznam'!AGH147","v":0},{"$f":"'kros seznam'!AGI147","v":0},{"$f":"'kros seznam'!AGJ147","v":0},{"$f":"'kros seznam'!AGK147","v":0},{"$f":"'kros seznam'!AGL147","v":0},{"$f":"'kros seznam'!AGM147","v":0},{"$f":"'kros seznam'!AGN147","v":0},{"$f":"'kros seznam'!AGO147","v":0},{"$f":"'kros seznam'!AGP147","v":0},{"$f":"'kros seznam'!AGQ147","v":0},{"$f":"'kros seznam'!AGR147","v":0},{"$f":"'kros seznam'!AGS147","v":0},{"$f":"'kros seznam'!AGT147","v":0},{"$f":"'kros seznam'!AGU147","v":0},{"$f":"'kros seznam'!AGV147","v":0},{"$f":"'kros seznam'!AGW147","v":0},{"$f":"'kros seznam'!AGX147","v":0},{"$f":"'kros seznam'!AGY147","v":0},{"$f":"'kros seznam'!AGZ147","v":0},{"$f":"'kros seznam'!AHA147","v":0},{"$f":"'kros seznam'!AHB147","v":0},{"$f":"'kros seznam'!AHC147","v":0},{"$f":"'kros seznam'!AHD147","v":0},{"$f":"'kros seznam'!AHE147","v":0},{"$f":"'kros seznam'!AHF147","v":0},{"$f":"'kros seznam'!AHG147","v":0},{"$f":"'kros seznam'!AHH147","v":0},{"$f":"'kros seznam'!AHI147","v":0},{"$f":"'kros seznam'!AHJ147","v":0},{"$f":"'kros seznam'!AHK147","v":0},{"$f":"'kros seznam'!AHL147","v":0},{"$f":"'kros seznam'!AHM147","v":0},{"$f":"'kros seznam'!AHN147","v":0},{"$f":"'kros seznam'!AHO147","v":0},{"$f":"'kros seznam'!AHP147","v":0},{"$f":"'kros seznam'!AHQ147","v":0},{"$f":"'kros seznam'!AHR147","v":0},{"$f":"'kros seznam'!AHS147","v":0},{"$f":"'kros seznam'!AHT147","v":0},{"$f":"'kros seznam'!AHU147","v":0},{"$f":"'kros seznam'!AHV147","v":0},{"$f":"'kros seznam'!AHW147","v":0},{"$f":"'kros seznam'!AHX147","v":0},{"$f":"'kros seznam'!AHY147","v":0},{"$f":"'kros seznam'!AHZ147","v":0},{"$f":"'kros seznam'!AIA147","v":0},{"$f":"'kros seznam'!AIB147","v":0},{"$f":"'kros seznam'!AIC147","v":0},{"$f":"'kros seznam'!AID147","v":0},{"$f":"'kros seznam'!AIE147","v":0},{"$f":"'kros seznam'!AIF147","v":0},{"$f":"'kros seznam'!AIG147","v":0},{"$f":"'kros seznam'!AIH147","v":0},{"$f":"'kros seznam'!AII147","v":0},{"$f":"'kros seznam'!AIJ147","v":0},{"$f":"'kros seznam'!AIK147","v":0},{"$f":"'kros seznam'!AIL147","v":0},{"$f":"'kros seznam'!AIM147","v":0},{"$f":"'kros seznam'!AIN147","v":0},{"$f":"'kros seznam'!AIO147","v":0},{"$f":"'kros seznam'!AIP147","v":0},{"$f":"'kros seznam'!AIQ147","v":0},{"$f":"'kros seznam'!AIR147","v":0},{"$f":"'kros seznam'!AIS147","v":0},{"$f":"'kros seznam'!AIT147","v":0},{"$f":"'kros seznam'!AIU147","v":0},{"$f":"'kros seznam'!AIV147","v":0},{"$f":"'kros seznam'!AIW147","v":0},{"$f":"'kros seznam'!AIX147","v":0},{"$f":"'kros seznam'!AIY147","v":0},{"$f":"'kros seznam'!AIZ147","v":0},{"$f":"'kros seznam'!AJA147","v":0},{"$f":"'kros seznam'!AJB147","v":0},{"$f":"'kros seznam'!AJC147","v":0},{"$f":"'kros seznam'!AJD147","v":0},{"$f":"'kros seznam'!AJE147","v":0},{"$f":"'kros seznam'!AJF147","v":0},{"$f":"'kros seznam'!AJG147","v":0},{"$f":"'kros seznam'!AJH147","v":0},{"$f":"'kros seznam'!AJI147","v":0},{"$f":"'kros seznam'!AJJ147","v":0},{"$f":"'kros seznam'!AJK147","v":0},{"$f":"'kros seznam'!AJL147","v":0},{"$f":"'kros seznam'!AJM147","v":0},{"$f":"'kros seznam'!AJN147","v":0},{"$f":"'kros seznam'!AJO147","v":0},{"$f":"'kros seznam'!AJP147","v":0},{"$f":"'kros seznam'!AJQ147","v":0},{"$f":"'kros seznam'!AJR147","v":0},{"$f":"'kros seznam'!AJS147","v":0},{"$f":"'kros seznam'!AJT147","v":0},{"$f":"'kros seznam'!AJU147","v":0},{"$f":"'kros seznam'!AJV147","v":0},{"$f":"'kros seznam'!AJW147","v":0},{"$f":"'kros seznam'!AJX147","v":0},{"$f":"'kros seznam'!AJY147","v":0},{"$f":"'kros seznam'!AJZ147","v":0},{"$f":"'kros seznam'!AKA147","v":0},{"$f":"'kros seznam'!AKB147","v":0},{"$f":"'kros seznam'!AKC147","v":0},{"$f":"'kros seznam'!AKD147","v":0},{"$f":"'kros seznam'!AKE147","v":0},{"$f":"'kros seznam'!AKF147","v":0},{"$f":"'kros seznam'!AKG147","v":0},{"$f":"'kros seznam'!AKH147","v":0},{"$f":"'kros seznam'!AKI147","v":0},{"$f":"'kros seznam'!AKJ147","v":0},{"$f":"'kros seznam'!AKK147","v":0},{"$f":"'kros seznam'!AKL147","v":0},{"$f":"'kros seznam'!AKM147","v":0},{"$f":"'kros seznam'!AKN147","v":0},{"$f":"'kros seznam'!AKO147","v":0},{"$f":"'kros seznam'!AKP147","v":0},{"$f":"'kros seznam'!AKQ147","v":0},{"$f":"'kros seznam'!AKR147","v":0},{"$f":"'kros seznam'!AKS147","v":0},{"$f":"'kros seznam'!AKT147","v":0},{"$f":"'kros seznam'!AKU147","v":0},{"$f":"'kros seznam'!AKV147","v":0},{"$f":"'kros seznam'!AKW147","v":0},{"$f":"'kros seznam'!AKX147","v":0},{"$f":"'kros seznam'!AKY147","v":0},{"$f":"'kros seznam'!AKZ147","v":0},{"$f":"'kros seznam'!ALA147","v":0},{"$f":"'kros seznam'!ALB147","v":0},{"$f":"'kros seznam'!ALC147","v":0},{"$f":"'kros seznam'!ALD147","v":0},{"$f":"'kros seznam'!ALE147","v":0},{"$f":"'kros seznam'!ALF147","v":0},{"$f":"'kros seznam'!ALG147","v":0},{"$f":"'kros seznam'!ALH147","v":0},{"$f":"'kros seznam'!ALI147","v":0},{"$f":"'kros seznam'!ALJ147","v":0},{"$f":"'kros seznam'!ALK147","v":0},{"$f":"'kros seznam'!ALL147","v":0},{"$f":"'kros seznam'!ALM147","v":0},{"$f":"'kros seznam'!ALN147","v":0},{"$f":"'kros seznam'!ALO147","v":0},{"$f":"'kros seznam'!ALP147","v":0},{"$f":"'kros seznam'!ALQ147","v":0},{"$f":"'kros seznam'!ALR147","v":0},{"$f":"'kros seznam'!ALS147","v":0},{"$f":"'kros seznam'!ALT147","v":0},{"$f":"'kros seznam'!ALU147","v":0},{"$f":"'kros seznam'!ALV147","v":0},{"$f":"'kros seznam'!ALW147","v":0},{"$f":"'kros seznam'!ALX147","v":0},{"$f":"'kros seznam'!ALY147","v":0},{"$f":"'kros seznam'!ALZ147","v":0},{"$f":"'kros seznam'!AMA147","v":0},{"$f":"'kros seznam'!AMB147","v":0},{"$f":"'kros seznam'!AMC147","v":0},{"$f":"'kros seznam'!AMD147","v":0},{"$f":"'kros seznam'!AME147","v":0},{"$f":"'kros seznam'!AMF147","v":0},{"$f":"'kros seznam'!AMG147","v":0},{"$f":"'kros seznam'!AMH147","v":0},{"$f":"'kros seznam'!AMI147","v":0},{"$f":"'kros seznam'!AMJ147","v":0},{"$f":"'kros seznam'!AMK147","v":0},{"$f":"'kros seznam'!AML147","v":0},{"$f":"'kros seznam'!AMM147","v":0},{"$f":"'kros seznam'!AMN147","v":0},{"$f":"'kros seznam'!AMO147","v":0},{"$f":"'kros seznam'!AMP147","v":0},{"$f":"'kros seznam'!AMQ147","v":0},{"$f":"'kros seznam'!AMR147","v":0},{"$f":"'kros seznam'!AMS147","v":0},{"$f":"'kros seznam'!AMT147","v":0},{"$f":"'kros seznam'!AMU147","v":0},{"$f":"'kros seznam'!AMV147","v":0},{"$f":"'kros seznam'!AMW147","v":0},{"$f":"'kros seznam'!AMX147","v":0},{"$f":"'kros seznam'!AMY147","v":0},{"$f":"'kros seznam'!AMZ147","v":0},{"$f":"'kros seznam'!ANA147","v":0},{"$f":"'kros seznam'!ANB147","v":0},{"$f":"'kros seznam'!ANC147","v":0},{"$f":"'kros seznam'!AND147","v":0},{"$f":"'kros seznam'!ANE147","v":0},{"$f":"'kros seznam'!ANF147","v":0},{"$f":"'kros seznam'!ANG147","v":0},{"$f":"'kros seznam'!ANH147","v":0},{"$f":"'kros seznam'!ANI147","v":0},{"$f":"'kros seznam'!ANJ147","v":0},{"$f":"'kros seznam'!ANK147","v":0},{"$f":"'kros seznam'!ANL147","v":0},{"$f":"'kros seznam'!ANM147","v":0},{"$f":"'kros seznam'!ANN147","v":0},{"$f":"'kros seznam'!ANO147","v":0},{"$f":"'kros seznam'!ANP147","v":0},{"$f":"'kros seznam'!ANQ147","v":0},{"$f":"'kros seznam'!ANR147","v":0},{"$f":"'kros seznam'!ANS147","v":0},{"$f":"'kros seznam'!ANT147","v":0},{"$f":"'kros seznam'!ANU147","v":0},{"$f":"'kros seznam'!ANV147","v":0},{"$f":"'kros seznam'!ANW147","v":0},{"$f":"'kros seznam'!ANX147","v":0},{"$f":"'kros seznam'!ANY147","v":0},{"$f":"'kros seznam'!ANZ147","v":0},{"$f":"'kros seznam'!AOA147","v":0},{"$f":"'kros seznam'!AOB147","v":0},{"$f":"'kros seznam'!AOC147","v":0},{"$f":"'kros seznam'!AOD147","v":0},{"$f":"'kros seznam'!AOE147","v":0},{"$f":"'kros seznam'!AOF147","v":0},{"$f":"'kros seznam'!AOG147","v":0},{"$f":"'kros seznam'!AOH147","v":0},{"$f":"'kros seznam'!AOI147","v":0},{"$f":"'kros seznam'!AOJ147","v":0},{"$f":"'kros seznam'!AOK147","v":0},{"$f":"'kros seznam'!AOL147","v":0},{"$f":"'kros seznam'!AOM147","v":0},{"$f":"'kros seznam'!AON147","v":0},{"$f":"'kros seznam'!AOO147","v":0},{"$f":"'kros seznam'!AOP147","v":0},{"$f":"'kros seznam'!AOQ147","v":0},{"$f":"'kros seznam'!AOR147","v":0},{"$f":"'kros seznam'!AOS147","v":0},{"$f":"'kros seznam'!AOT147","v":0},{"$f":"'kros seznam'!AOU147","v":0},{"$f":"'kros seznam'!AOV147","v":0},{"$f":"'kros seznam'!AOW147","v":0},{"$f":"'kros seznam'!AOX147","v":0},{"$f":"'kros seznam'!AOY147","v":0},{"$f":"'kros seznam'!AOZ147","v":0},{"$f":"'kros seznam'!APA147","v":0},{"$f":"'kros seznam'!APB147","v":0},{"$f":"'kros seznam'!APC147","v":0},{"$f":"'kros seznam'!APD147","v":0},{"$f":"'kros seznam'!APE147","v":0},{"$f":"'kros seznam'!APF147","v":0},{"$f":"'kros seznam'!APG147","v":0},{"$f":"'kros seznam'!APH147","v":0},{"$f":"'kros seznam'!API147","v":0},{"$f":"'kros seznam'!APJ147","v":0},{"$f":"'kros seznam'!APK147","v":0},{"$f":"'kros seznam'!APL147","v":0},{"$f":"'kros seznam'!APM147","v":0},{"$f":"'kros seznam'!APN147","v":0},{"$f":"'kros seznam'!APO147","v":0},{"$f":"'kros seznam'!APP147","v":0},{"$f":"'kros seznam'!APQ147","v":0},{"$f":"'kros seznam'!APR147","v":0},{"$f":"'kros seznam'!APS147","v":0},{"$f":"'kros seznam'!APT147","v":0},{"$f":"'kros seznam'!APU147","v":0},{"$f":"'kros seznam'!APV147","v":0},{"$f":"'kros seznam'!APW147","v":0},{"$f":"'kros seznam'!APX147","v":0},{"$f":"'kros seznam'!APY147","v":0},{"$f":"'kros seznam'!APZ147","v":0},{"$f":"'kros seznam'!AQA147","v":0},{"$f":"'kros seznam'!AQB147","v":0},{"$f":"'kros seznam'!AQC147","v":0},{"$f":"'kros seznam'!AQD147","v":0},{"$f":"'kros seznam'!AQE147","v":0},{"$f":"'kros seznam'!AQF147","v":0},{"$f":"'kros seznam'!AQG147","v":0},{"$f":"'kros seznam'!AQH147","v":0},{"$f":"'kros seznam'!AQI147","v":0},{"$f":"'kros seznam'!AQJ147","v":0},{"$f":"'kros seznam'!AQK147","v":0},{"$f":"'kros seznam'!AQL147","v":0},{"$f":"'kros seznam'!AQM147","v":0},{"$f":"'kros seznam'!AQN147","v":0},{"$f":"'kros seznam'!AQO147","v":0},{"$f":"'kros seznam'!AQP147","v":0},{"$f":"'kros seznam'!AQQ147","v":0},{"$f":"'kros seznam'!AQR147","v":0},{"$f":"'kros seznam'!AQS147","v":0},{"$f":"'kros seznam'!AQT147","v":0},{"$f":"'kros seznam'!AQU147","v":0},{"$f":"'kros seznam'!AQV147","v":0},{"$f":"'kros seznam'!AQW147","v":0},{"$f":"'kros seznam'!AQX147","v":0},{"$f":"'kros seznam'!AQY147","v":0},{"$f":"'kros seznam'!AQZ147","v":0},{"$f":"'kros seznam'!ARA147","v":0},{"$f":"'kros seznam'!ARB147","v":0},{"$f":"'kros seznam'!ARC147","v":0},{"$f":"'kros seznam'!ARD147","v":0},{"$f":"'kros seznam'!ARE147","v":0},{"$f":"'kros seznam'!ARF147","v":0},{"$f":"'kros seznam'!ARG147","v":0},{"$f":"'kros seznam'!ARH147","v":0},{"$f":"'kros seznam'!ARI147","v":0},{"$f":"'kros seznam'!ARJ147","v":0},{"$f":"'kros seznam'!ARK147","v":0},{"$f":"'kros seznam'!ARL147","v":0},{"$f":"'kros seznam'!ARM147","v":0},{"$f":"'kros seznam'!ARN147","v":0},{"$f":"'kros seznam'!ARO147","v":0},{"$f":"'kros seznam'!ARP147","v":0},{"$f":"'kros seznam'!ARQ147","v":0},{"$f":"'kros seznam'!ARR147","v":0},{"$f":"'kros seznam'!ARS147","v":0},{"$f":"'kros seznam'!ART147","v":0},{"$f":"'kros seznam'!ARU147","v":0},{"$f":"'kros seznam'!ARV147","v":0},{"$f":"'kros seznam'!ARW147","v":0},{"$f":"'kros seznam'!ARX147","v":0},{"$f":"'kros seznam'!ARY147","v":0},{"$f":"'kros seznam'!ARZ147","v":0},{"$f":"'kros seznam'!ASA147","v":0},{"$f":"'kros seznam'!ASB147","v":0},{"$f":"'kros seznam'!ASC147","v":0},{"$f":"'kros seznam'!ASD147","v":0},{"$f":"'kros seznam'!ASE147","v":0},{"$f":"'kros seznam'!ASF147","v":0},{"$f":"'kros seznam'!ASG147","v":0},{"$f":"'kros seznam'!ASH147","v":0},{"$f":"'kros seznam'!ASI147","v":0},{"$f":"'kros seznam'!ASJ147","v":0},{"$f":"'kros seznam'!ASK147","v":0},{"$f":"'kros seznam'!ASL147","v":0},{"$f":"'kros seznam'!ASM147","v":0},{"$f":"'kros seznam'!ASN147","v":0},{"$f":"'kros seznam'!ASO147","v":0},{"$f":"'kros seznam'!ASP147","v":0},{"$f":"'kros seznam'!ASQ147","v":0},{"$f":"'kros seznam'!ASR147","v":0},{"$f":"'kros seznam'!ASS147","v":0},{"$f":"'kros seznam'!AST147","v":0},{"$f":"'kros seznam'!ASU147","v":0},{"$f":"'kros seznam'!ASV147","v":0},{"$f":"'kros seznam'!ASW147","v":0},{"$f":"'kros seznam'!ASX147","v":0},{"$f":"'kros seznam'!ASY147","v":0},{"$f":"'kros seznam'!ASZ147","v":0},{"$f":"'kros seznam'!ATA147","v":0},{"$f":"'kros seznam'!ATB147","v":0},{"$f":"'kros seznam'!ATC147","v":0},{"$f":"'kros seznam'!ATD147","v":0},{"$f":"'kros seznam'!ATE147","v":0},{"$f":"'kros seznam'!ATF147","v":0},{"$f":"'kros seznam'!ATG147","v":0},{"$f":"'kros seznam'!ATH147","v":0},{"$f":"'kros seznam'!ATI147","v":0},{"$f":"'kros seznam'!ATJ147","v":0},{"$f":"'kros seznam'!ATK147","v":0},{"$f":"'kros seznam'!ATL147","v":0},{"$f":"'kros seznam'!ATM147","v":0},{"$f":"'kros seznam'!ATN147","v":0},{"$f":"'kros seznam'!ATO147","v":0},{"$f":"'kros seznam'!ATP147","v":0},{"$f":"'kros seznam'!ATQ147","v":0},{"$f":"'kros seznam'!ATR147","v":0},{"$f":"'kros seznam'!ATS147","v":0},{"$f":"'kros seznam'!ATT147","v":0},{"$f":"'kros seznam'!ATU147","v":0},{"$f":"'kros seznam'!ATV147","v":0},{"$f":"'kros seznam'!ATW147","v":0},{"$f":"'kros seznam'!ATX147","v":0},{"$f":"'kros seznam'!ATY147","v":0},{"$f":"'kros seznam'!ATZ147","v":0},{"$f":"'kros seznam'!AUA147","v":0},{"$f":"'kros seznam'!AUB147","v":0},{"$f":"'kros seznam'!AUC147","v":0},{"$f":"'kros seznam'!AUD147","v":0},{"$f":"'kros seznam'!AUE147","v":0},{"$f":"'kros seznam'!AUF147","v":0},{"$f":"'kros seznam'!AUG147","v":0},{"$f":"'kros seznam'!AUH147","v":0},{"$f":"'kros seznam'!AUI147","v":0},{"$f":"'kros seznam'!AUJ147","v":0},{"$f":"'kros seznam'!AUK147","v":0},{"$f":"'kros seznam'!AUL147","v":0},{"$f":"'kros seznam'!AUM147","v":0},{"$f":"'kros seznam'!AUN147","v":0},{"$f":"'kros seznam'!AUO147","v":0},{"$f":"'kros seznam'!AUP147","v":0},{"$f":"'kros seznam'!AUQ147","v":0},{"$f":"'kros seznam'!AUR147","v":0},{"$f":"'kros seznam'!AUS147","v":0},{"$f":"'kros seznam'!AUT147","v":0},{"$f":"'kros seznam'!AUU147","v":0},{"$f":"'kros seznam'!AUV147","v":0},{"$f":"'kros seznam'!AUW147","v":0},{"$f":"'kros seznam'!AUX147","v":0},{"$f":"'kros seznam'!AUY147","v":0},{"$f":"'kros seznam'!AUZ147","v":0},{"$f":"'kros seznam'!AVA147","v":0},{"$f":"'kros seznam'!AVB147","v":0},{"$f":"'kros seznam'!AVC147","v":0},{"$f":"'kros seznam'!AVD147","v":0},{"$f":"'kros seznam'!AVE147","v":0},{"$f":"'kros seznam'!AVF147","v":0},{"$f":"'kros seznam'!AVG147","v":0},{"$f":"'kros seznam'!AVH147","v":0},{"$f":"'kros seznam'!AVI147","v":0},{"$f":"'kros seznam'!AVJ147","v":0},{"$f":"'kros seznam'!AVK147","v":0},{"$f":"'kros seznam'!AVL147","v":0},{"$f":"'kros seznam'!AVM147","v":0},{"$f":"'kros seznam'!AVN147","v":0},{"$f":"'kros seznam'!AVO147","v":0},{"$f":"'kros seznam'!AVP147","v":0},{"$f":"'kros seznam'!AVQ147","v":0},{"$f":"'kros seznam'!AVR147","v":0},{"$f":"'kros seznam'!AVS147","v":0},{"$f":"'kros seznam'!AVT147","v":0},{"$f":"'kros seznam'!AVU147","v":0},{"$f":"'kros seznam'!AVV147","v":0},{"$f":"'kros seznam'!AVW147","v":0},{"$f":"'kros seznam'!AVX147","v":0},{"$f":"'kros seznam'!AVY147","v":0},{"$f":"'kros seznam'!AVZ147","v":0},{"$f":"'kros seznam'!AWA147","v":0},{"$f":"'kros seznam'!AWB147","v":0},{"$f":"'kros seznam'!AWC147","v":0},{"$f":"'kros seznam'!AWD147","v":0},{"$f":"'kros seznam'!AWE147","v":0},{"$f":"'kros seznam'!AWF147","v":0},{"$f":"'kros seznam'!AWG147","v":0},{"$f":"'kros seznam'!AWH147","v":0},{"$f":"'kros seznam'!AWI147","v":0},{"$f":"'kros seznam'!AWJ147","v":0},{"$f":"'kros seznam'!AWK147","v":0},{"$f":"'kros seznam'!AWL147","v":0},{"$f":"'kros seznam'!AWM147","v":0},{"$f":"'kros seznam'!AWN147","v":0},{"$f":"'kros seznam'!AWO147","v":0},{"$f":"'kros seznam'!AWP147","v":0},{"$f":"'kros seznam'!AWQ147","v":0},{"$f":"'kros seznam'!AWR147","v":0},{"$f":"'kros seznam'!AWS147","v":0},{"$f":"'kros seznam'!AWT147","v":0},{"$f":"'kros seznam'!AWU147","v":0},{"$f":"'kros seznam'!AWV147","v":0},{"$f":"'kros seznam'!AWW147","v":0},{"$f":"'kros seznam'!AWX147","v":0},{"$f":"'kros seznam'!AWY147","v":0},{"$f":"'kros seznam'!AWZ147","v":0},{"$f":"'kros seznam'!AXA147","v":0},{"$f":"'kros seznam'!AXB147","v":0},{"$f":"'kros seznam'!AXC147","v":0},{"$f":"'kros seznam'!AXD147","v":0},{"$f":"'kros seznam'!AXE147","v":0},{"$f":"'kros seznam'!AXF147","v":0},{"$f":"'kros seznam'!AXG147","v":0},{"$f":"'kros seznam'!AXH147","v":0},{"$f":"'kros seznam'!AXI147","v":0},{"$f":"'kros seznam'!AXJ147","v":0},{"$f":"'kros seznam'!AXK147","v":0},{"$f":"'kros seznam'!AXL147","v":0},{"$f":"'kros seznam'!AXM147","v":0},{"$f":"'kros seznam'!AXN147","v":0},{"$f":"'kros seznam'!AXO147","v":0},{"$f":"'kros seznam'!AXP147","v":0},{"$f":"'kros seznam'!AXQ147","v":0},{"$f":"'kros seznam'!AXR147","v":0},{"$f":"'kros seznam'!AXS147","v":0},{"$f":"'kros seznam'!AXT147","v":0},{"$f":"'kros seznam'!AXU147","v":0},{"$f":"'kros seznam'!AXV147","v":0},{"$f":"'kros seznam'!AXW147","v":0},{"$f":"'kros seznam'!AXX147","v":0},{"$f":"'kros seznam'!AXY147","v":0},{"$f":"'kros seznam'!AXZ147","v":0},{"$f":"'kros seznam'!AYA147","v":0},{"$f":"'kros seznam'!AYB147","v":0},{"$f":"'kros seznam'!AYC147","v":0},{"$f":"'kros seznam'!AYD147","v":0},{"$f":"'kros seznam'!AYE147","v":0},{"$f":"'kros seznam'!AYF147","v":0},{"$f":"'kros seznam'!AYG147","v":0},{"$f":"'kros seznam'!AYH147","v":0},{"$f":"'kros seznam'!AYI147","v":0},{"$f":"'kros seznam'!AYJ147","v":0},{"$f":"'kros seznam'!AYK147","v":0},{"$f":"'kros seznam'!AYL147","v":0},{"$f":"'kros seznam'!AYM147","v":0},{"$f":"'kros seznam'!AYN147","v":0},{"$f":"'kros seznam'!AYO147","v":0},{"$f":"'kros seznam'!AYP147","v":0},{"$f":"'kros seznam'!AYQ147","v":0},{"$f":"'kros seznam'!AYR147","v":0},{"$f":"'kros seznam'!AYS147","v":0},{"$f":"'kros seznam'!AYT147","v":0},{"$f":"'kros seznam'!AYU147","v":0},{"$f":"'kros seznam'!AYV147","v":0},{"$f":"'kros seznam'!AYW147","v":0},{"$f":"'kros seznam'!AYX147","v":0},{"$f":"'kros seznam'!AYY147","v":0},{"$f":"'kros seznam'!AYZ147","v":0},{"$f":"'kros seznam'!AZA147","v":0},{"$f":"'kros seznam'!AZB147","v":0},{"$f":"'kros seznam'!AZC147","v":0},{"$f":"'kros seznam'!AZD147","v":0},{"$f":"'kros seznam'!AZE147","v":0},{"$f":"'kros seznam'!AZF147","v":0},{"$f":"'kros seznam'!AZG147","v":0},{"$f":"'kros seznam'!AZH147","v":0},{"$f":"'kros seznam'!AZI147","v":0},{"$f":"'kros seznam'!AZJ147","v":0},{"$f":"'kros seznam'!AZK147","v":0},{"$f":"'kros seznam'!AZL147","v":0},{"$f":"'kros seznam'!AZM147","v":0},{"$f":"'kros seznam'!AZN147","v":0},{"$f":"'kros seznam'!AZO147","v":0},{"$f":"'kros seznam'!AZP147","v":0},{"$f":"'kros seznam'!AZQ147","v":0},{"$f":"'kros seznam'!AZR147","v":0},{"$f":"'kros seznam'!AZS147","v":0},{"$f":"'kros seznam'!AZT147","v":0},{"$f":"'kros seznam'!AZU147","v":0},{"$f":"'kros seznam'!AZV147","v":0},{"$f":"'kros seznam'!AZW147","v":0},{"$f":"'kros seznam'!AZX147","v":0},{"$f":"'kros seznam'!AZY147","v":0},{"$f":"'kros seznam'!AZZ147","v":0},{"$f":"'kros seznam'!BAA147","v":0},{"$f":"'kros seznam'!BAB147","v":0},{"$f":"'kros seznam'!BAC147","v":0},{"$f":"'kros seznam'!BAD147","v":0},{"$f":"'kros seznam'!BAE147","v":0},{"$f":"'kros seznam'!BAF147","v":0},{"$f":"'kros seznam'!BAG147","v":0},{"$f":"'kros seznam'!BAH147","v":0},{"$f":"'kros seznam'!BAI147","v":0},{"$f":"'kros seznam'!BAJ147","v":0},{"$f":"'kros seznam'!BAK147","v":0},{"$f":"'kros seznam'!BAL147","v":0},{"$f":"'kros seznam'!BAM147","v":0},{"$f":"'kros seznam'!BAN147","v":0},{"$f":"'kros seznam'!BAO147","v":0},{"$f":"'kros seznam'!BAP147","v":0},{"$f":"'kros seznam'!BAQ147","v":0},{"$f":"'kros seznam'!BAR147","v":0},{"$f":"'kros seznam'!BAS147","v":0},{"$f":"'kros seznam'!BAT147","v":0},{"$f":"'kros seznam'!BAU147","v":0},{"$f":"'kros seznam'!BAV147","v":0},{"$f":"'kros seznam'!BAW147","v":0},{"$f":"'kros seznam'!BAX147","v":0},{"$f":"'kros seznam'!BAY147","v":0},{"$f":"'kros seznam'!BAZ147","v":0},{"$f":"'kros seznam'!BBA147","v":0},{"$f":"'kros seznam'!BBB147","v":0},{"$f":"'kros seznam'!BBC147","v":0},{"$f":"'kros seznam'!BBD147","v":0},{"$f":"'kros seznam'!BBE147","v":0},{"$f":"'kros seznam'!BBF147","v":0},{"$f":"'kros seznam'!BBG147","v":0},{"$f":"'kros seznam'!BBH147","v":0},{"$f":"'kros seznam'!BBI147","v":0},{"$f":"'kros seznam'!BBJ147","v":0},{"$f":"'kros seznam'!BBK147","v":0},{"$f":"'kros seznam'!BBL147","v":0},{"$f":"'kros seznam'!BBM147","v":0},{"$f":"'kros seznam'!BBN147","v":0},{"$f":"'kros seznam'!BBO147","v":0},{"$f":"'kros seznam'!BBP147","v":0},{"$f":"'kros seznam'!BBQ147","v":0},{"$f":"'kros seznam'!BBR147","v":0},{"$f":"'kros seznam'!BBS147","v":0},{"$f":"'kros seznam'!BBT147","v":0},{"$f":"'kros seznam'!BBU147","v":0},{"$f":"'kros seznam'!BBV147","v":0},{"$f":"'kros seznam'!BBW147","v":0},{"$f":"'kros seznam'!BBX147","v":0},{"$f":"'kros seznam'!BBY147","v":0},{"$f":"'kros seznam'!BBZ147","v":0},{"$f":"'kros seznam'!BCA147","v":0},{"$f":"'kros seznam'!BCB147","v":0},{"$f":"'kros seznam'!BCC147","v":0},{"$f":"'kros seznam'!BCD147","v":0},{"$f":"'kros seznam'!BCE147","v":0},{"$f":"'kros seznam'!BCF147","v":0},{"$f":"'kros seznam'!BCG147","v":0},{"$f":"'kros seznam'!BCH147","v":0},{"$f":"'kros seznam'!BCI147","v":0},{"$f":"'kros seznam'!BCJ147","v":0},{"$f":"'kros seznam'!BCK147","v":0},{"$f":"'kros seznam'!BCL147","v":0},{"$f":"'kros seznam'!BCM147","v":0},{"$f":"'kros seznam'!BCN147","v":0},{"$f":"'kros seznam'!BCO147","v":0},{"$f":"'kros seznam'!BCP147","v":0},{"$f":"'kros seznam'!BCQ147","v":0},{"$f":"'kros seznam'!BCR147","v":0},{"$f":"'kros seznam'!BCS147","v":0},{"$f":"'kros seznam'!BCT147","v":0},{"$f":"'kros seznam'!BCU147","v":0},{"$f":"'kros seznam'!BCV147","v":0},{"$f":"'kros seznam'!BCW147","v":0},{"$f":"'kros seznam'!BCX147","v":0},{"$f":"'kros seznam'!BCY147","v":0},{"$f":"'kros seznam'!BCZ147","v":0},{"$f":"'kros seznam'!BDA147","v":0},{"$f":"'kros seznam'!BDB147","v":0},{"$f":"'kros seznam'!BDC147","v":0},{"$f":"'kros seznam'!BDD147","v":0},{"$f":"'kros seznam'!BDE147","v":0},{"$f":"'kros seznam'!BDF147","v":0},{"$f":"'kros seznam'!BDG147","v":0},{"$f":"'kros seznam'!BDH147","v":0},{"$f":"'kros seznam'!BDI147","v":0},{"$f":"'kros seznam'!BDJ147","v":0},{"$f":"'kros seznam'!BDK147","v":0},{"$f":"'kros seznam'!BDL147","v":0},{"$f":"'kros seznam'!BDM147","v":0},{"$f":"'kros seznam'!BDN147","v":0},{"$f":"'kros seznam'!BDO147","v":0},{"$f":"'kros seznam'!BDP147","v":0},{"$f":"'kros seznam'!BDQ147","v":0},{"$f":"'kros seznam'!BDR147","v":0},{"$f":"'kros seznam'!BDS147","v":0},{"$f":"'kros seznam'!BDT147","v":0},{"$f":"'kros seznam'!BDU147","v":0},{"$f":"'kros seznam'!BDV147","v":0},{"$f":"'kros seznam'!BDW147","v":0},{"$f":"'kros seznam'!BDX147","v":0},{"$f":"'kros seznam'!BDY147","v":0},{"$f":"'kros seznam'!BDZ147","v":0},{"$f":"'kros seznam'!BEA147","v":0},{"$f":"'kros seznam'!BEB147","v":0},{"$f":"'kros seznam'!BEC147","v":0},{"$f":"'kros seznam'!BED147","v":0},{"$f":"'kros seznam'!BEE147","v":0},{"$f":"'kros seznam'!BEF147","v":0},{"$f":"'kros seznam'!BEG147","v":0},{"$f":"'kros seznam'!BEH147","v":0},{"$f":"'kros seznam'!BEI147","v":0},{"$f":"'kros seznam'!BEJ147","v":0},{"$f":"'kros seznam'!BEK147","v":0},{"$f":"'kros seznam'!BEL147","v":0},{"$f":"'kros seznam'!BEM147","v":0},{"$f":"'kros seznam'!BEN147","v":0},{"$f":"'kros seznam'!BEO147","v":0},{"$f":"'kros seznam'!BEP147","v":0},{"$f":"'kros seznam'!BEQ147","v":0},{"$f":"'kros seznam'!BER147","v":0},{"$f":"'kros seznam'!BES147","v":0},{"$f":"'kros seznam'!BET147","v":0},{"$f":"'kros seznam'!BEU147","v":0},{"$f":"'kros seznam'!BEV147","v":0},{"$f":"'kros seznam'!BEW147","v":0},{"$f":"'kros seznam'!BEX147","v":0},{"$f":"'kros seznam'!BEY147","v":0},{"$f":"'kros seznam'!BEZ147","v":0},{"$f":"'kros seznam'!BFA147","v":0},{"$f":"'kros seznam'!BFB147","v":0},{"$f":"'kros seznam'!BFC147","v":0},{"$f":"'kros seznam'!BFD147","v":0},{"$f":"'kros seznam'!BFE147","v":0},{"$f":"'kros seznam'!BFF147","v":0},{"$f":"'kros seznam'!BFG147","v":0},{"$f":"'kros seznam'!BFH147","v":0},{"$f":"'kros seznam'!BFI147","v":0},{"$f":"'kros seznam'!BFJ147","v":0},{"$f":"'kros seznam'!BFK147","v":0},{"$f":"'kros seznam'!BFL147","v":0},{"$f":"'kros seznam'!BFM147","v":0},{"$f":"'kros seznam'!BFN147","v":0},{"$f":"'kros seznam'!BFO147","v":0},{"$f":"'kros seznam'!BFP147","v":0},{"$f":"'kros seznam'!BFQ147","v":0},{"$f":"'kros seznam'!BFR147","v":0},{"$f":"'kros seznam'!BFS147","v":0},{"$f":"'kros seznam'!BFT147","v":0},{"$f":"'kros seznam'!BFU147","v":0},{"$f":"'kros seznam'!BFV147","v":0},{"$f":"'kros seznam'!BFW147","v":0},{"$f":"'kros seznam'!BFX147","v":0},{"$f":"'kros seznam'!BFY147","v":0},{"$f":"'kros seznam'!BFZ147","v":0},{"$f":"'kros seznam'!BGA147","v":0},{"$f":"'kros seznam'!BGB147","v":0},{"$f":"'kros seznam'!BGC147","v":0},{"$f":"'kros seznam'!BGD147","v":0},{"$f":"'kros seznam'!BGE147","v":0},{"$f":"'kros seznam'!BGF147","v":0},{"$f":"'kros seznam'!BGG147","v":0},{"$f":"'kros seznam'!BGH147","v":0},{"$f":"'kros seznam'!BGI147","v":0},{"$f":"'kros seznam'!BGJ147","v":0},{"$f":"'kros seznam'!BGK147","v":0},{"$f":"'kros seznam'!BGL147","v":0},{"$f":"'kros seznam'!BGM147","v":0},{"$f":"'kros seznam'!BGN147","v":0},{"$f":"'kros seznam'!BGO147","v":0},{"$f":"'kros seznam'!BGP147","v":0},{"$f":"'kros seznam'!BGQ147","v":0},{"$f":"'kros seznam'!BGR147","v":0},{"$f":"'kros seznam'!BGS147","v":0},{"$f":"'kros seznam'!BGT147","v":0},{"$f":"'kros seznam'!BGU147","v":0},{"$f":"'kros seznam'!BGV147","v":0},{"$f":"'kros seznam'!BGW147","v":0},{"$f":"'kros seznam'!BGX147","v":0},{"$f":"'kros seznam'!BGY147","v":0},{"$f":"'kros seznam'!BGZ147","v":0},{"$f":"'kros seznam'!BHA147","v":0},{"$f":"'kros seznam'!BHB147","v":0},{"$f":"'kros seznam'!BHC147","v":0},{"$f":"'kros seznam'!BHD147","v":0},{"$f":"'kros seznam'!BHE147","v":0},{"$f":"'kros seznam'!BHF147","v":0},{"$f":"'kros seznam'!BHG147","v":0},{"$f":"'kros seznam'!BHH147","v":0},{"$f":"'kros seznam'!BHI147","v":0},{"$f":"'kros seznam'!BHJ147","v":0},{"$f":"'kros seznam'!BHK147","v":0},{"$f":"'kros seznam'!BHL147","v":0},{"$f":"'kros seznam'!BHM147","v":0},{"$f":"'kros seznam'!BHN147","v":0},{"$f":"'kros seznam'!BHO147","v":0},{"$f":"'kros seznam'!BHP147","v":0},{"$f":"'kros seznam'!BHQ147","v":0},{"$f":"'kros seznam'!BHR147","v":0},{"$f":"'kros seznam'!BHS147","v":0},{"$f":"'kros seznam'!BHT147","v":0},{"$f":"'kros seznam'!BHU147","v":0},{"$f":"'kros seznam'!BHV147","v":0},{"$f":"'kros seznam'!BHW147","v":0},{"$f":"'kros seznam'!BHX147","v":0},{"$f":"'kros seznam'!BHY147","v":0},{"$f":"'kros seznam'!BHZ147","v":0},{"$f":"'kros seznam'!BIA147","v":0},{"$f":"'kros seznam'!BIB147","v":0},{"$f":"'kros seznam'!BIC147","v":0},{"$f":"'kros seznam'!BID147","v":0},{"$f":"'kros seznam'!BIE147","v":0},{"$f":"'kros seznam'!BIF147","v":0},{"$f":"'kros seznam'!BIG147","v":0},{"$f":"'kros seznam'!BIH147","v":0},{"$f":"'kros seznam'!BII147","v":0},{"$f":"'kros seznam'!BIJ147","v":0},{"$f":"'kros seznam'!BIK147","v":0},{"$f":"'kros seznam'!BIL147","v":0},{"$f":"'kros seznam'!BIM147","v":0},{"$f":"'kros seznam'!BIN147","v":0},{"$f":"'kros seznam'!BIO147","v":0},{"$f":"'kros seznam'!BIP147","v":0},{"$f":"'kros seznam'!BIQ147","v":0},{"$f":"'kros seznam'!BIR147","v":0},{"$f":"'kros seznam'!BIS147","v":0},{"$f":"'kros seznam'!BIT147","v":0},{"$f":"'kros seznam'!BIU147","v":0},{"$f":"'kros seznam'!BIV147","v":0},{"$f":"'kros seznam'!BIW147","v":0},{"$f":"'kros seznam'!BIX147","v":0},{"$f":"'kros seznam'!BIY147","v":0},{"$f":"'kros seznam'!BIZ147","v":0},{"$f":"'kros seznam'!BJA147","v":0},{"$f":"'kros seznam'!BJB147","v":0},{"$f":"'kros seznam'!BJC147","v":0},{"$f":"'kros seznam'!BJD147","v":0},{"$f":"'kros seznam'!BJE147","v":0},{"$f":"'kros seznam'!BJF147","v":0},{"$f":"'kros seznam'!BJG147","v":0},{"$f":"'kros seznam'!BJH147","v":0},{"$f":"'kros seznam'!BJI147","v":0},{"$f":"'kros seznam'!BJJ147","v":0},{"$f":"'kros seznam'!BJK147","v":0},{"$f":"'kros seznam'!BJL147","v":0},{"$f":"'kros seznam'!BJM147","v":0},{"$f":"'kros seznam'!BJN147","v":0},{"$f":"'kros seznam'!BJO147","v":0},{"$f":"'kros seznam'!BJP147","v":0},{"$f":"'kros seznam'!BJQ147","v":0},{"$f":"'kros seznam'!BJR147","v":0},{"$f":"'kros seznam'!BJS147","v":0},{"$f":"'kros seznam'!BJT147","v":0},{"$f":"'kros seznam'!BJU147","v":0},{"$f":"'kros seznam'!BJV147","v":0},{"$f":"'kros seznam'!BJW147","v":0},{"$f":"'kros seznam'!BJX147","v":0},{"$f":"'kros seznam'!BJY147","v":0},{"$f":"'kros seznam'!BJZ147","v":0},{"$f":"'kros seznam'!BKA147","v":0},{"$f":"'kros seznam'!BKB147","v":0},{"$f":"'kros seznam'!BKC147","v":0},{"$f":"'kros seznam'!BKD147","v":0},{"$f":"'kros seznam'!BKE147","v":0},{"$f":"'kros seznam'!BKF147","v":0},{"$f":"'kros seznam'!BKG147","v":0},{"$f":"'kros seznam'!BKH147","v":0},{"$f":"'kros seznam'!BKI147","v":0},{"$f":"'kros seznam'!BKJ147","v":0},{"$f":"'kros seznam'!BKK147","v":0},{"$f":"'kros seznam'!BKL147","v":0},{"$f":"'kros seznam'!BKM147","v":0},{"$f":"'kros seznam'!BKN147","v":0},{"$f":"'kros seznam'!BKO147","v":0},{"$f":"'kros seznam'!BKP147","v":0},{"$f":"'kros seznam'!BKQ147","v":0},{"$f":"'kros seznam'!BKR147","v":0},{"$f":"'kros seznam'!BKS147","v":0},{"$f":"'kros seznam'!BKT147","v":0},{"$f":"'kros seznam'!BKU147","v":0},{"$f":"'kros seznam'!BKV147","v":0},{"$f":"'kros seznam'!BKW147","v":0},{"$f":"'kros seznam'!BKX147","v":0},{"$f":"'kros seznam'!BKY147","v":0},{"$f":"'kros seznam'!BKZ147","v":0},{"$f":"'kros seznam'!BLA147","v":0},{"$f":"'kros seznam'!BLB147","v":0},{"$f":"'kros seznam'!BLC147","v":0},{"$f":"'kros seznam'!BLD147","v":0},{"$f":"'kros seznam'!BLE147","v":0},{"$f":"'kros seznam'!BLF147","v":0},{"$f":"'kros seznam'!BLG147","v":0},{"$f":"'kros seznam'!BLH147","v":0},{"$f":"'kros seznam'!BLI147","v":0},{"$f":"'kros seznam'!BLJ147","v":0},{"$f":"'kros seznam'!BLK147","v":0},{"$f":"'kros seznam'!BLL147","v":0},{"$f":"'kros seznam'!BLM147","v":0},{"$f":"'kros seznam'!BLN147","v":0},{"$f":"'kros seznam'!BLO147","v":0},{"$f":"'kros seznam'!BLP147","v":0},{"$f":"'kros seznam'!BLQ147","v":0},{"$f":"'kros seznam'!BLR147","v":0},{"$f":"'kros seznam'!BLS147","v":0},{"$f":"'kros seznam'!BLT147","v":0},{"$f":"'kros seznam'!BLU147","v":0},{"$f":"'kros seznam'!BLV147","v":0},{"$f":"'kros seznam'!BLW147","v":0},{"$f":"'kros seznam'!BLX147","v":0},{"$f":"'kros seznam'!BLY147","v":0},{"$f":"'kros seznam'!BLZ147","v":0},{"$f":"'kros seznam'!BMA147","v":0},{"$f":"'kros seznam'!BMB147","v":0},{"$f":"'kros seznam'!BMC147","v":0},{"$f":"'kros seznam'!BMD147","v":0},{"$f":"'kros seznam'!BME147","v":0},{"$f":"'kros seznam'!BMF147","v":0},{"$f":"'kros seznam'!BMG147","v":0},{"$f":"'kros seznam'!BMH147","v":0},{"$f":"'kros seznam'!BMI147","v":0},{"$f":"'kros seznam'!BMJ147","v":0},{"$f":"'kros seznam'!BMK147","v":0},{"$f":"'kros seznam'!BML147","v":0},{"$f":"'kros seznam'!BMM147","v":0},{"$f":"'kros seznam'!BMN147","v":0},{"$f":"'kros seznam'!BMO147","v":0},{"$f":"'kros seznam'!BMP147","v":0},{"$f":"'kros seznam'!BMQ147","v":0},{"$f":"'kros seznam'!BMR147","v":0},{"$f":"'kros seznam'!BMS147","v":0},{"$f":"'kros seznam'!BMT147","v":0},{"$f":"'kros seznam'!BMU147","v":0},{"$f":"'kros seznam'!BMV147","v":0},{"$f":"'kros seznam'!BMW147","v":0},{"$f":"'kros seznam'!BMX147","v":0},{"$f":"'kros seznam'!BMY147","v":0},{"$f":"'kros seznam'!BMZ147","v":0},{"$f":"'kros seznam'!BNA147","v":0},{"$f":"'kros seznam'!BNB147","v":0},{"$f":"'kros seznam'!BNC147","v":0},{"$f":"'kros seznam'!BND147","v":0},{"$f":"'kros seznam'!BNE147","v":0},{"$f":"'kros seznam'!BNF147","v":0},{"$f":"'kros seznam'!BNG147","v":0},{"$f":"'kros seznam'!BNH147","v":0},{"$f":"'kros seznam'!BNI147","v":0},{"$f":"'kros seznam'!BNJ147","v":0},{"$f":"'kros seznam'!BNK147","v":0},{"$f":"'kros seznam'!BNL147","v":0},{"$f":"'kros seznam'!BNM147","v":0},{"$f":"'kros seznam'!BNN147","v":0},{"$f":"'kros seznam'!BNO147","v":0},{"$f":"'kros seznam'!BNP147","v":0},{"$f":"'kros seznam'!BNQ147","v":0},{"$f":"'kros seznam'!BNR147","v":0},{"$f":"'kros seznam'!BNS147","v":0},{"$f":"'kros seznam'!BNT147","v":0},{"$f":"'kros seznam'!BNU147","v":0},{"$f":"'kros seznam'!BNV147","v":0},{"$f":"'kros seznam'!BNW147","v":0},{"$f":"'kros seznam'!BNX147","v":0},{"$f":"'kros seznam'!BNY147","v":0},{"$f":"'kros seznam'!BNZ147","v":0},{"$f":"'kros seznam'!BOA147","v":0},{"$f":"'kros seznam'!BOB147","v":0},{"$f":"'kros seznam'!BOC147","v":0},{"$f":"'kros seznam'!BOD147","v":0},{"$f":"'kros seznam'!BOE147","v":0},{"$f":"'kros seznam'!BOF147","v":0},{"$f":"'kros seznam'!BOG147","v":0},{"$f":"'kros seznam'!BOH147","v":0},{"$f":"'kros seznam'!BOI147","v":0},{"$f":"'kros seznam'!BOJ147","v":0},{"$f":"'kros seznam'!BOK147","v":0},{"$f":"'kros seznam'!BOL147","v":0},{"$f":"'kros seznam'!BOM147","v":0},{"$f":"'kros seznam'!BON147","v":0},{"$f":"'kros seznam'!BOO147","v":0},{"$f":"'kros seznam'!BOP147","v":0},{"$f":"'kros seznam'!BOQ147","v":0},{"$f":"'kros seznam'!BOR147","v":0},{"$f":"'kros seznam'!BOS147","v":0},{"$f":"'kros seznam'!BOT147","v":0},{"$f":"'kros seznam'!BOU147","v":0},{"$f":"'kros seznam'!BOV147","v":0},{"$f":"'kros seznam'!BOW147","v":0},{"$f":"'kros seznam'!BOX147","v":0},{"$f":"'kros seznam'!BOY147","v":0},{"$f":"'kros seznam'!BOZ147","v":0},{"$f":"'kros seznam'!BPA147","v":0},{"$f":"'kros seznam'!BPB147","v":0},{"$f":"'kros seznam'!BPC147","v":0},{"$f":"'kros seznam'!BPD147","v":0},{"$f":"'kros seznam'!BPE147","v":0},{"$f":"'kros seznam'!BPF147","v":0},{"$f":"'kros seznam'!BPG147","v":0},{"$f":"'kros seznam'!BPH147","v":0},{"$f":"'kros seznam'!BPI147","v":0},{"$f":"'kros seznam'!BPJ147","v":0},{"$f":"'kros seznam'!BPK147","v":0},{"$f":"'kros seznam'!BPL147","v":0},{"$f":"'kros seznam'!BPM147","v":0},{"$f":"'kros seznam'!BPN147","v":0},{"$f":"'kros seznam'!BPO147","v":0},{"$f":"'kros seznam'!BPP147","v":0},{"$f":"'kros seznam'!BPQ147","v":0},{"$f":"'kros seznam'!BPR147","v":0},{"$f":"'kros seznam'!BPS147","v":0},{"$f":"'kros seznam'!BPT147","v":0},{"$f":"'kros seznam'!BPU147","v":0},{"$f":"'kros seznam'!BPV147","v":0},{"$f":"'kros seznam'!BPW147","v":0},{"$f":"'kros seznam'!BPX147","v":0},{"$f":"'kros seznam'!BPY147","v":0},{"$f":"'kros seznam'!BPZ147","v":0},{"$f":"'kros seznam'!BQA147","v":0},{"$f":"'kros seznam'!BQB147","v":0},{"$f":"'kros seznam'!BQC147","v":0},{"$f":"'kros seznam'!BQD147","v":0},{"$f":"'kros seznam'!BQE147","v":0},{"$f":"'kros seznam'!BQF147","v":0},{"$f":"'kros seznam'!BQG147","v":0},{"$f":"'kros seznam'!BQH147","v":0},{"$f":"'kros seznam'!BQI147","v":0},{"$f":"'kros seznam'!BQJ147","v":0},{"$f":"'kros seznam'!BQK147","v":0},{"$f":"'kros seznam'!BQL147","v":0},{"$f":"'kros seznam'!BQM147","v":0},{"$f":"'kros seznam'!BQN147","v":0},{"$f":"'kros seznam'!BQO147","v":0},{"$f":"'kros seznam'!BQP147","v":0},{"$f":"'kros seznam'!BQQ147","v":0},{"$f":"'kros seznam'!BQR147","v":0},{"$f":"'kros seznam'!BQS147","v":0},{"$f":"'kros seznam'!BQT147","v":0},{"$f":"'kros seznam'!BQU147","v":0},{"$f":"'kros seznam'!BQV147","v":0},{"$f":"'kros seznam'!BQW147","v":0},{"$f":"'kros seznam'!BQX147","v":0},{"$f":"'kros seznam'!BQY147","v":0},{"$f":"'kros seznam'!BQZ147","v":0},{"$f":"'kros seznam'!BRA147","v":0},{"$f":"'kros seznam'!BRB147","v":0},{"$f":"'kros seznam'!BRC147","v":0},{"$f":"'kros seznam'!BRD147","v":0},{"$f":"'kros seznam'!BRE147","v":0},{"$f":"'kros seznam'!BRF147","v":0},{"$f":"'kros seznam'!BRG147","v":0},{"$f":"'kros seznam'!BRH147","v":0},{"$f":"'kros seznam'!BRI147","v":0},{"$f":"'kros seznam'!BRJ147","v":0},{"$f":"'kros seznam'!BRK147","v":0},{"$f":"'kros seznam'!BRL147","v":0},{"$f":"'kros seznam'!BRM147","v":0},{"$f":"'kros seznam'!BRN147","v":0},{"$f":"'kros seznam'!BRO147","v":0},{"$f":"'kros seznam'!BRP147","v":0},{"$f":"'kros seznam'!BRQ147","v":0},{"$f":"'kros seznam'!BRR147","v":0},{"$f":"'kros seznam'!BRS147","v":0},{"$f":"'kros seznam'!BRT147","v":0},{"$f":"'kros seznam'!BRU147","v":0},{"$f":"'kros seznam'!BRV147","v":0},{"$f":"'kros seznam'!BRW147","v":0},{"$f":"'kros seznam'!BRX147","v":0},{"$f":"'kros seznam'!BRY147","v":0},{"$f":"'kros seznam'!BRZ147","v":0},{"$f":"'kros seznam'!BSA147","v":0},{"$f":"'kros seznam'!BSB147","v":0},{"$f":"'kros seznam'!BSC147","v":0},{"$f":"'kros seznam'!BSD147","v":0},{"$f":"'kros seznam'!BSE147","v":0},{"$f":"'kros seznam'!BSF147","v":0},{"$f":"'kros seznam'!BSG147","v":0},{"$f":"'kros seznam'!BSH147","v":0},{"$f":"'kros seznam'!BSI147","v":0},{"$f":"'kros seznam'!BSJ147","v":0},{"$f":"'kros seznam'!BSK147","v":0},{"$f":"'kros seznam'!BSL147","v":0},{"$f":"'kros seznam'!BSM147","v":0},{"$f":"'kros seznam'!BSN147","v":0},{"$f":"'kros seznam'!BSO147","v":0},{"$f":"'kros seznam'!BSP147","v":0},{"$f":"'kros seznam'!BSQ147","v":0},{"$f":"'kros seznam'!BSR147","v":0},{"$f":"'kros seznam'!BSS147","v":0},{"$f":"'kros seznam'!BST147","v":0},{"$f":"'kros seznam'!BSU147","v":0},{"$f":"'kros seznam'!BSV147","v":0},{"$f":"'kros seznam'!BSW147","v":0},{"$f":"'kros seznam'!BSX147","v":0},{"$f":"'kros seznam'!BSY147","v":0},{"$f":"'kros seznam'!BSZ147","v":0},{"$f":"'kros seznam'!BTA147","v":0},{"$f":"'kros seznam'!BTB147","v":0},{"$f":"'kros seznam'!BTC147","v":0},{"$f":"'kros seznam'!BTD147","v":0},{"$f":"'kros seznam'!BTE147","v":0},{"$f":"'kros seznam'!BTF147","v":0},{"$f":"'kros seznam'!BTG147","v":0},{"$f":"'kros seznam'!BTH147","v":0},{"$f":"'kros seznam'!BTI147","v":0},{"$f":"'kros seznam'!BTJ147","v":0},{"$f":"'kros seznam'!BTK147","v":0},{"$f":"'kros seznam'!BTL147","v":0},{"$f":"'kros seznam'!BTM147","v":0},{"$f":"'kros seznam'!BTN147","v":0},{"$f":"'kros seznam'!BTO147","v":0},{"$f":"'kros seznam'!BTP147","v":0},{"$f":"'kros seznam'!BTQ147","v":0},{"$f":"'kros seznam'!BTR147","v":0},{"$f":"'kros seznam'!BTS147","v":0},{"$f":"'kros seznam'!BTT147","v":0},{"$f":"'kros seznam'!BTU147","v":0},{"$f":"'kros seznam'!BTV147","v":0},{"$f":"'kros seznam'!BTW147","v":0},{"$f":"'kros seznam'!BTX147","v":0},{"$f":"'kros seznam'!BTY147","v":0},{"$f":"'kros seznam'!BTZ147","v":0},{"$f":"'kros seznam'!BUA147","v":0},{"$f":"'kros seznam'!BUB147","v":0},{"$f":"'kros seznam'!BUC147","v":0},{"$f":"'kros seznam'!BUD147","v":0},{"$f":"'kros seznam'!BUE147","v":0},{"$f":"'kros seznam'!BUF147","v":0},{"$f":"'kros seznam'!BUG147","v":0},{"$f":"'kros seznam'!BUH147","v":0},{"$f":"'kros seznam'!BUI147","v":0},{"$f":"'kros seznam'!BUJ147","v":0},{"$f":"'kros seznam'!BUK147","v":0},{"$f":"'kros seznam'!BUL147","v":0},{"$f":"'kros seznam'!BUM147","v":0},{"$f":"'kros seznam'!BUN147","v":0},{"$f":"'kros seznam'!BUO147","v":0},{"$f":"'kros seznam'!BUP147","v":0},{"$f":"'kros seznam'!BUQ147","v":0},{"$f":"'kros seznam'!BUR147","v":0},{"$f":"'kros seznam'!BUS147","v":0},{"$f":"'kros seznam'!BUT147","v":0},{"$f":"'kros seznam'!BUU147","v":0},{"$f":"'kros seznam'!BUV147","v":0},{"$f":"'kros seznam'!BUW147","v":0},{"$f":"'kros seznam'!BUX147","v":0},{"$f":"'kros seznam'!BUY147","v":0},{"$f":"'kros seznam'!BUZ147","v":0},{"$f":"'kros seznam'!BVA147","v":0},{"$f":"'kros seznam'!BVB147","v":0},{"$f":"'kros seznam'!BVC147","v":0},{"$f":"'kros seznam'!BVD147","v":0},{"$f":"'kros seznam'!BVE147","v":0},{"$f":"'kros seznam'!BVF147","v":0},{"$f":"'kros seznam'!BVG147","v":0},{"$f":"'kros seznam'!BVH147","v":0},{"$f":"'kros seznam'!BVI147","v":0},{"$f":"'kros seznam'!BVJ147","v":0},{"$f":"'kros seznam'!BVK147","v":0},{"$f":"'kros seznam'!BVL147","v":0},{"$f":"'kros seznam'!BVM147","v":0},{"$f":"'kros seznam'!BVN147","v":0},{"$f":"'kros seznam'!BVO147","v":0},{"$f":"'kros seznam'!BVP147","v":0},{"$f":"'kros seznam'!BVQ147","v":0},{"$f":"'kros seznam'!BVR147","v":0},{"$f":"'kros seznam'!BVS147","v":0},{"$f":"'kros seznam'!BVT147","v":0},{"$f":"'kros seznam'!BVU147","v":0},{"$f":"'kros seznam'!BVV147","v":0},{"$f":"'kros seznam'!BVW147","v":0},{"$f":"'kros seznam'!BVX147","v":0},{"$f":"'kros seznam'!BVY147","v":0},{"$f":"'kros seznam'!BVZ147","v":0},{"$f":"'kros seznam'!BWA147","v":0},{"$f":"'kros seznam'!BWB147","v":0},{"$f":"'kros seznam'!BWC147","v":0},{"$f":"'kros seznam'!BWD147","v":0},{"$f":"'kros seznam'!BWE147","v":0},{"$f":"'kros seznam'!BWF147","v":0},{"$f":"'kros seznam'!BWG147","v":0},{"$f":"'kros seznam'!BWH147","v":0},{"$f":"'kros seznam'!BWI147","v":0},{"$f":"'kros seznam'!BWJ147","v":0},{"$f":"'kros seznam'!BWK147","v":0},{"$f":"'kros seznam'!BWL147","v":0},{"$f":"'kros seznam'!BWM147","v":0},{"$f":"'kros seznam'!BWN147","v":0},{"$f":"'kros seznam'!BWO147","v":0},{"$f":"'kros seznam'!BWP147","v":0},{"$f":"'kros seznam'!BWQ147","v":0},{"$f":"'kros seznam'!BWR147","v":0},{"$f":"'kros seznam'!BWS147","v":0},{"$f":"'kros seznam'!BWT147","v":0},{"$f":"'kros seznam'!BWU147","v":0},{"$f":"'kros seznam'!BWV147","v":0},{"$f":"'kros seznam'!BWW147","v":0},{"$f":"'kros seznam'!BWX147","v":0},{"$f":"'kros seznam'!BWY147","v":0},{"$f":"'kros seznam'!BWZ147","v":0},{"$f":"'kros seznam'!BXA147","v":0},{"$f":"'kros seznam'!BXB147","v":0},{"$f":"'kros seznam'!BXC147","v":0},{"$f":"'kros seznam'!BXD147","v":0},{"$f":"'kros seznam'!BXE147","v":0},{"$f":"'kros seznam'!BXF147","v":0},{"$f":"'kros seznam'!BXG147","v":0},{"$f":"'kros seznam'!BXH147","v":0},{"$f":"'kros seznam'!BXI147","v":0},{"$f":"'kros seznam'!BXJ147","v":0},{"$f":"'kros seznam'!BXK147","v":0},{"$f":"'kros seznam'!BXL147","v":0},{"$f":"'kros seznam'!BXM147","v":0},{"$f":"'kros seznam'!BXN147","v":0},{"$f":"'kros seznam'!BXO147","v":0},{"$f":"'kros seznam'!BXP147","v":0},{"$f":"'kros seznam'!BXQ147","v":0},{"$f":"'kros seznam'!BXR147","v":0},{"$f":"'kros seznam'!BXS147","v":0},{"$f":"'kros seznam'!BXT147","v":0},{"$f":"'kros seznam'!BXU147","v":0},{"$f":"'kros seznam'!BXV147","v":0},{"$f":"'kros seznam'!BXW147","v":0},{"$f":"'kros seznam'!BXX147","v":0},{"$f":"'kros seznam'!BXY147","v":0},{"$f":"'kros seznam'!BXZ147","v":0},{"$f":"'kros seznam'!BYA147","v":0},{"$f":"'kros seznam'!BYB147","v":0},{"$f":"'kros seznam'!BYC147","v":0},{"$f":"'kros seznam'!BYD147","v":0},{"$f":"'kros seznam'!BYE147","v":0},{"$f":"'kros seznam'!BYF147","v":0},{"$f":"'kros seznam'!BYG147","v":0},{"$f":"'kros seznam'!BYH147","v":0},{"$f":"'kros seznam'!BYI147","v":0},{"$f":"'kros seznam'!BYJ147","v":0},{"$f":"'kros seznam'!BYK147","v":0},{"$f":"'kros seznam'!BYL147","v":0},{"$f":"'kros seznam'!BYM147","v":0},{"$f":"'kros seznam'!BYN147","v":0},{"$f":"'kros seznam'!BYO147","v":0},{"$f":"'kros seznam'!BYP147","v":0},{"$f":"'kros seznam'!BYQ147","v":0},{"$f":"'kros seznam'!BYR147","v":0},{"$f":"'kros seznam'!BYS147","v":0},{"$f":"'kros seznam'!BYT147","v":0},{"$f":"'kros seznam'!BYU147","v":0},{"$f":"'kros seznam'!BYV147","v":0},{"$f":"'kros seznam'!BYW147","v":0},{"$f":"'kros seznam'!BYX147","v":0},{"$f":"'kros seznam'!BYY147","v":0},{"$f":"'kros seznam'!BYZ147","v":0},{"$f":"'kros seznam'!BZA147","v":0},{"$f":"'kros seznam'!BZB147","v":0},{"$f":"'kros seznam'!BZC147","v":0},{"$f":"'kros seznam'!BZD147","v":0},{"$f":"'kros seznam'!BZE147","v":0},{"$f":"'kros seznam'!BZF147","v":0},{"$f":"'kros seznam'!BZG147","v":0},{"$f":"'kros seznam'!BZH147","v":0},{"$f":"'kros seznam'!BZI147","v":0},{"$f":"'kros seznam'!BZJ147","v":0},{"$f":"'kros seznam'!BZK147","v":0},{"$f":"'kros seznam'!BZL147","v":0},{"$f":"'kros seznam'!BZM147","v":0},{"$f":"'kros seznam'!BZN147","v":0},{"$f":"'kros seznam'!BZO147","v":0},{"$f":"'kros seznam'!BZP147","v":0},{"$f":"'kros seznam'!BZQ147","v":0},{"$f":"'kros seznam'!BZR147","v":0},{"$f":"'kros seznam'!BZS147","v":0},{"$f":"'kros seznam'!BZT147","v":0},{"$f":"'kros seznam'!BZU147","v":0},{"$f":"'kros seznam'!BZV147","v":0},{"$f":"'kros seznam'!BZW147","v":0},{"$f":"'kros seznam'!BZX147","v":0},{"$f":"'kros seznam'!BZY147","v":0},{"$f":"'kros seznam'!BZZ147","v":0},{"$f":"'kros seznam'!CAA147","v":0},{"$f":"'kros seznam'!CAB147","v":0},{"$f":"'kros seznam'!CAC147","v":0},{"$f":"'kros seznam'!CAD147","v":0},{"$f":"'kros seznam'!CAE147","v":0},{"$f":"'kros seznam'!CAF147","v":0},{"$f":"'kros seznam'!CAG147","v":0},{"$f":"'kros seznam'!CAH147","v":0},{"$f":"'kros seznam'!CAI147","v":0},{"$f":"'kros seznam'!CAJ147","v":0},{"$f":"'kros seznam'!CAK147","v":0},{"$f":"'kros seznam'!CAL147","v":0},{"$f":"'kros seznam'!CAM147","v":0},{"$f":"'kros seznam'!CAN147","v":0},{"$f":"'kros seznam'!CAO147","v":0},{"$f":"'kros seznam'!CAP147","v":0},{"$f":"'kros seznam'!CAQ147","v":0},{"$f":"'kros seznam'!CAR147","v":0},{"$f":"'kros seznam'!CAS147","v":0},{"$f":"'kros seznam'!CAT147","v":0},{"$f":"'kros seznam'!CAU147","v":0},{"$f":"'kros seznam'!CAV147","v":0},{"$f":"'kros seznam'!CAW147","v":0},{"$f":"'kros seznam'!CAX147","v":0},{"$f":"'kros seznam'!CAY147","v":0},{"$f":"'kros seznam'!CAZ147","v":0},{"$f":"'kros seznam'!CBA147","v":0},{"$f":"'kros seznam'!CBB147","v":0},{"$f":"'kros seznam'!CBC147","v":0},{"$f":"'kros seznam'!CBD147","v":0},{"$f":"'kros seznam'!CBE147","v":0},{"$f":"'kros seznam'!CBF147","v":0},{"$f":"'kros seznam'!CBG147","v":0},{"$f":"'kros seznam'!CBH147","v":0},{"$f":"'kros seznam'!CBI147","v":0},{"$f":"'kros seznam'!CBJ147","v":0},{"$f":"'kros seznam'!CBK147","v":0},{"$f":"'kros seznam'!CBL147","v":0},{"$f":"'kros seznam'!CBM147","v":0},{"$f":"'kros seznam'!CBN147","v":0},{"$f":"'kros seznam'!CBO147","v":0},{"$f":"'kros seznam'!CBP147","v":0},{"$f":"'kros seznam'!CBQ147","v":0},{"$f":"'kros seznam'!CBR147","v":0},{"$f":"'kros seznam'!CBS147","v":0},{"$f":"'kros seznam'!CBT147","v":0},{"$f":"'kros seznam'!CBU147","v":0},{"$f":"'kros seznam'!CBV147","v":0},{"$f":"'kros seznam'!CBW147","v":0},{"$f":"'kros seznam'!CBX147","v":0},{"$f":"'kros seznam'!CBY147","v":0},{"$f":"'kros seznam'!CBZ147","v":0},{"$f":"'kros seznam'!CCA147","v":0},{"$f":"'kros seznam'!CCB147","v":0},{"$f":"'kros seznam'!CCC147","v":0},{"$f":"'kros seznam'!CCD147","v":0},{"$f":"'kros seznam'!CCE147","v":0},{"$f":"'kros seznam'!CCF147","v":0},{"$f":"'kros seznam'!CCG147","v":0},{"$f":"'kros seznam'!CCH147","v":0},{"$f":"'kros seznam'!CCI147","v":0},{"$f":"'kros seznam'!CCJ147","v":0},{"$f":"'kros seznam'!CCK147","v":0},{"$f":"'kros seznam'!CCL147","v":0},{"$f":"'kros seznam'!CCM147","v":0},{"$f":"'kros seznam'!CCN147","v":0},{"$f":"'kros seznam'!CCO147","v":0},{"$f":"'kros seznam'!CCP147","v":0},{"$f":"'kros seznam'!CCQ147","v":0},{"$f":"'kros seznam'!CCR147","v":0},{"$f":"'kros seznam'!CCS147","v":0},{"$f":"'kros seznam'!CCT147","v":0},{"$f":"'kros seznam'!CCU147","v":0},{"$f":"'kros seznam'!CCV147","v":0},{"$f":"'kros seznam'!CCW147","v":0},{"$f":"'kros seznam'!CCX147","v":0},{"$f":"'kros seznam'!CCY147","v":0},{"$f":"'kros seznam'!CCZ147","v":0},{"$f":"'kros seznam'!CDA147","v":0},{"$f":"'kros seznam'!CDB147","v":0},{"$f":"'kros seznam'!CDC147","v":0},{"$f":"'kros seznam'!CDD147","v":0},{"$f":"'kros seznam'!CDE147","v":0},{"$f":"'kros seznam'!CDF147","v":0},{"$f":"'kros seznam'!CDG147","v":0},{"$f":"'kros seznam'!CDH147","v":0},{"$f":"'kros seznam'!CDI147","v":0},{"$f":"'kros seznam'!CDJ147","v":0},{"$f":"'kros seznam'!CDK147","v":0},{"$f":"'kros seznam'!CDL147","v":0},{"$f":"'kros seznam'!CDM147","v":0},{"$f":"'kros seznam'!CDN147","v":0},{"$f":"'kros seznam'!CDO147","v":0},{"$f":"'kros seznam'!CDP147","v":0},{"$f":"'kros seznam'!CDQ147","v":0},{"$f":"'kros seznam'!CDR147","v":0},{"$f":"'kros seznam'!CDS147","v":0},{"$f":"'kros seznam'!CDT147","v":0},{"$f":"'kros seznam'!CDU147","v":0},{"$f":"'kros seznam'!CDV147","v":0},{"$f":"'kros seznam'!CDW147","v":0},{"$f":"'kros seznam'!CDX147","v":0},{"$f":"'kros seznam'!CDY147","v":0},{"$f":"'kros seznam'!CDZ147","v":0},{"$f":"'kros seznam'!CEA147","v":0},{"$f":"'kros seznam'!CEB147","v":0},{"$f":"'kros seznam'!CEC147","v":0},{"$f":"'kros seznam'!CED147","v":0},{"$f":"'kros seznam'!CEE147","v":0},{"$f":"'kros seznam'!CEF147","v":0},{"$f":"'kros seznam'!CEG147","v":0},{"$f":"'kros seznam'!CEH147","v":0},{"$f":"'kros seznam'!CEI147","v":0},{"$f":"'kros seznam'!CEJ147","v":0},{"$f":"'kros seznam'!CEK147","v":0},{"$f":"'kros seznam'!CEL147","v":0},{"$f":"'kros seznam'!CEM147","v":0},{"$f":"'kros seznam'!CEN147","v":0},{"$f":"'kros seznam'!CEO147","v":0},{"$f":"'kros seznam'!CEP147","v":0},{"$f":"'kros seznam'!CEQ147","v":0},{"$f":"'kros seznam'!CER147","v":0},{"$f":"'kros seznam'!CES147","v":0},{"$f":"'kros seznam'!CET147","v":0},{"$f":"'kros seznam'!CEU147","v":0},{"$f":"'kros seznam'!CEV147","v":0},{"$f":"'kros seznam'!CEW147","v":0},{"$f":"'kros seznam'!CEX147","v":0},{"$f":"'kros seznam'!CEY147","v":0},{"$f":"'kros seznam'!CEZ147","v":0},{"$f":"'kros seznam'!CFA147","v":0},{"$f":"'kros seznam'!CFB147","v":0},{"$f":"'kros seznam'!CFC147","v":0},{"$f":"'kros seznam'!CFD147","v":0},{"$f":"'kros seznam'!CFE147","v":0},{"$f":"'kros seznam'!CFF147","v":0},{"$f":"'kros seznam'!CFG147","v":0},{"$f":"'kros seznam'!CFH147","v":0},{"$f":"'kros seznam'!CFI147","v":0},{"$f":"'kros seznam'!CFJ147","v":0},{"$f":"'kros seznam'!CFK147","v":0},{"$f":"'kros seznam'!CFL147","v":0},{"$f":"'kros seznam'!CFM147","v":0},{"$f":"'kros seznam'!CFN147","v":0},{"$f":"'kros seznam'!CFO147","v":0},{"$f":"'kros seznam'!CFP147","v":0},{"$f":"'kros seznam'!CFQ147","v":0},{"$f":"'kros seznam'!CFR147","v":0},{"$f":"'kros seznam'!CFS147","v":0},{"$f":"'kros seznam'!CFT147","v":0},{"$f":"'kros seznam'!CFU147","v":0},{"$f":"'kros seznam'!CFV147","v":0},{"$f":"'kros seznam'!CFW147","v":0},{"$f":"'kros seznam'!CFX147","v":0},{"$f":"'kros seznam'!CFY147","v":0},{"$f":"'kros seznam'!CFZ147","v":0},{"$f":"'kros seznam'!CGA147","v":0},{"$f":"'kros seznam'!CGB147","v":0},{"$f":"'kros seznam'!CGC147","v":0},{"$f":"'kros seznam'!CGD147","v":0},{"$f":"'kros seznam'!CGE147","v":0},{"$f":"'kros seznam'!CGF147","v":0},{"$f":"'kros seznam'!CGG147","v":0},{"$f":"'kros seznam'!CGH147","v":0},{"$f":"'kros seznam'!CGI147","v":0},{"$f":"'kros seznam'!CGJ147","v":0},{"$f":"'kros seznam'!CGK147","v":0},{"$f":"'kros seznam'!CGL147","v":0},{"$f":"'kros seznam'!CGM147","v":0},{"$f":"'kros seznam'!CGN147","v":0},{"$f":"'kros seznam'!CGO147","v":0},{"$f":"'kros seznam'!CGP147","v":0},{"$f":"'kros seznam'!CGQ147","v":0},{"$f":"'kros seznam'!CGR147","v":0},{"$f":"'kros seznam'!CGS147","v":0},{"$f":"'kros seznam'!CGT147","v":0},{"$f":"'kros seznam'!CGU147","v":0},{"$f":"'kros seznam'!CGV147","v":0},{"$f":"'kros seznam'!CGW147","v":0},{"$f":"'kros seznam'!CGX147","v":0},{"$f":"'kros seznam'!CGY147","v":0},{"$f":"'kros seznam'!CGZ147","v":0},{"$f":"'kros seznam'!CHA147","v":0},{"$f":"'kros seznam'!CHB147","v":0},{"$f":"'kros seznam'!CHC147","v":0},{"$f":"'kros seznam'!CHD147","v":0},{"$f":"'kros seznam'!CHE147","v":0},{"$f":"'kros seznam'!CHF147","v":0},{"$f":"'kros seznam'!CHG147","v":0},{"$f":"'kros seznam'!CHH147","v":0},{"$f":"'kros seznam'!CHI147","v":0},{"$f":"'kros seznam'!CHJ147","v":0},{"$f":"'kros seznam'!CHK147","v":0},{"$f":"'kros seznam'!CHL147","v":0},{"$f":"'kros seznam'!CHM147","v":0},{"$f":"'kros seznam'!CHN147","v":0},{"$f":"'kros seznam'!CHO147","v":0},{"$f":"'kros seznam'!CHP147","v":0},{"$f":"'kros seznam'!CHQ147","v":0},{"$f":"'kros seznam'!CHR147","v":0},{"$f":"'kros seznam'!CHS147","v":0},{"$f":"'kros seznam'!CHT147","v":0},{"$f":"'kros seznam'!CHU147","v":0},{"$f":"'kros seznam'!CHV147","v":0},{"$f":"'kros seznam'!CHW147","v":0},{"$f":"'kros seznam'!CHX147","v":0},{"$f":"'kros seznam'!CHY147","v":0},{"$f":"'kros seznam'!CHZ147","v":0},{"$f":"'kros seznam'!CIA147","v":0},{"$f":"'kros seznam'!CIB147","v":0},{"$f":"'kros seznam'!CIC147","v":0},{"$f":"'kros seznam'!CID147","v":0},{"$f":"'kros seznam'!CIE147","v":0},{"$f":"'kros seznam'!CIF147","v":0},{"$f":"'kros seznam'!CIG147","v":0},{"$f":"'kros seznam'!CIH147","v":0},{"$f":"'kros seznam'!CII147","v":0},{"$f":"'kros seznam'!CIJ147","v":0},{"$f":"'kros seznam'!CIK147","v":0},{"$f":"'kros seznam'!CIL147","v":0},{"$f":"'kros seznam'!CIM147","v":0},{"$f":"'kros seznam'!CIN147","v":0},{"$f":"'kros seznam'!CIO147","v":0},{"$f":"'kros seznam'!CIP147","v":0},{"$f":"'kros seznam'!CIQ147","v":0},{"$f":"'kros seznam'!CIR147","v":0},{"$f":"'kros seznam'!CIS147","v":0},{"$f":"'kros seznam'!CIT147","v":0},{"$f":"'kros seznam'!CIU147","v":0},{"$f":"'kros seznam'!CIV147","v":0},{"$f":"'kros seznam'!CIW147","v":0},{"$f":"'kros seznam'!CIX147","v":0},{"$f":"'kros seznam'!CIY147","v":0},{"$f":"'kros seznam'!CIZ147","v":0},{"$f":"'kros seznam'!CJA147","v":0},{"$f":"'kros seznam'!CJB147","v":0},{"$f":"'kros seznam'!CJC147","v":0},{"$f":"'kros seznam'!CJD147","v":0},{"$f":"'kros seznam'!CJE147","v":0},{"$f":"'kros seznam'!CJF147","v":0},{"$f":"'kros seznam'!CJG147","v":0},{"$f":"'kros seznam'!CJH147","v":0},{"$f":"'kros seznam'!CJI147","v":0},{"$f":"'kros seznam'!CJJ147","v":0},{"$f":"'kros seznam'!CJK147","v":0},{"$f":"'kros seznam'!CJL147","v":0},{"$f":"'kros seznam'!CJM147","v":0},{"$f":"'kros seznam'!CJN147","v":0},{"$f":"'kros seznam'!CJO147","v":0},{"$f":"'kros seznam'!CJP147","v":0},{"$f":"'kros seznam'!CJQ147","v":0},{"$f":"'kros seznam'!CJR147","v":0},{"$f":"'kros seznam'!CJS147","v":0},{"$f":"'kros seznam'!CJT147","v":0},{"$f":"'kros seznam'!CJU147","v":0},{"$f":"'kros seznam'!CJV147","v":0},{"$f":"'kros seznam'!CJW147","v":0},{"$f":"'kros seznam'!CJX147","v":0},{"$f":"'kros seznam'!CJY147","v":0},{"$f":"'kros seznam'!CJZ147","v":0},{"$f":"'kros seznam'!CKA147","v":0},{"$f":"'kros seznam'!CKB147","v":0},{"$f":"'kros seznam'!CKC147","v":0},{"$f":"'kros seznam'!CKD147","v":0},{"$f":"'kros seznam'!CKE147","v":0},{"$f":"'kros seznam'!CKF147","v":0},{"$f":"'kros seznam'!CKG147","v":0},{"$f":"'kros seznam'!CKH147","v":0},{"$f":"'kros seznam'!CKI147","v":0},{"$f":"'kros seznam'!CKJ147","v":0},{"$f":"'kros seznam'!CKK147","v":0},{"$f":"'kros seznam'!CKL147","v":0},{"$f":"'kros seznam'!CKM147","v":0},{"$f":"'kros seznam'!CKN147","v":0},{"$f":"'kros seznam'!CKO147","v":0},{"$f":"'kros seznam'!CKP147","v":0},{"$f":"'kros seznam'!CKQ147","v":0},{"$f":"'kros seznam'!CKR147","v":0},{"$f":"'kros seznam'!CKS147","v":0},{"$f":"'kros seznam'!CKT147","v":0},{"$f":"'kros seznam'!CKU147","v":0},{"$f":"'kros seznam'!CKV147","v":0},{"$f":"'kros seznam'!CKW147","v":0},{"$f":"'kros seznam'!CKX147","v":0},{"$f":"'kros seznam'!CKY147","v":0},{"$f":"'kros seznam'!CKZ147","v":0},{"$f":"'kros seznam'!CLA147","v":0},{"$f":"'kros seznam'!CLB147","v":0},{"$f":"'kros seznam'!CLC147","v":0},{"$f":"'kros seznam'!CLD147","v":0},{"$f":"'kros seznam'!CLE147","v":0},{"$f":"'kros seznam'!CLF147","v":0},{"$f":"'kros seznam'!CLG147","v":0},{"$f":"'kros seznam'!CLH147","v":0},{"$f":"'kros seznam'!CLI147","v":0},{"$f":"'kros seznam'!CLJ147","v":0},{"$f":"'kros seznam'!CLK147","v":0},{"$f":"'kros seznam'!CLL147","v":0},{"$f":"'kros seznam'!CLM147","v":0},{"$f":"'kros seznam'!CLN147","v":0},{"$f":"'kros seznam'!CLO147","v":0},{"$f":"'kros seznam'!CLP147","v":0},{"$f":"'kros seznam'!CLQ147","v":0},{"$f":"'kros seznam'!CLR147","v":0},{"$f":"'kros seznam'!CLS147","v":0},{"$f":"'kros seznam'!CLT147","v":0},{"$f":"'kros seznam'!CLU147","v":0},{"$f":"'kros seznam'!CLV147","v":0},{"$f":"'kros seznam'!CLW147","v":0},{"$f":"'kros seznam'!CLX147","v":0},{"$f":"'kros seznam'!CLY147","v":0},{"$f":"'kros seznam'!CLZ147","v":0},{"$f":"'kros seznam'!CMA147","v":0},{"$f":"'kros seznam'!CMB147","v":0},{"$f":"'kros seznam'!CMC147","v":0},{"$f":"'kros seznam'!CMD147","v":0},{"$f":"'kros seznam'!CME147","v":0},{"$f":"'kros seznam'!CMF147","v":0},{"$f":"'kros seznam'!CMG147","v":0},{"$f":"'kros seznam'!CMH147","v":0},{"$f":"'kros seznam'!CMI147","v":0},{"$f":"'kros seznam'!CMJ147","v":0},{"$f":"'kros seznam'!CMK147","v":0},{"$f":"'kros seznam'!CML147","v":0},{"$f":"'kros seznam'!CMM147","v":0},{"$f":"'kros seznam'!CMN147","v":0},{"$f":"'kros seznam'!CMO147","v":0},{"$f":"'kros seznam'!CMP147","v":0},{"$f":"'kros seznam'!CMQ147","v":0},{"$f":"'kros seznam'!CMR147","v":0},{"$f":"'kros seznam'!CMS147","v":0},{"$f":"'kros seznam'!CMT147","v":0},{"$f":"'kros seznam'!CMU147","v":0},{"$f":"'kros seznam'!CMV147","v":0},{"$f":"'kros seznam'!CMW147","v":0},{"$f":"'kros seznam'!CMX147","v":0},{"$f":"'kros seznam'!CMY147","v":0},{"$f":"'kros seznam'!CMZ147","v":0},{"$f":"'kros seznam'!CNA147","v":0},{"$f":"'kros seznam'!CNB147","v":0},{"$f":"'kros seznam'!CNC147","v":0},{"$f":"'kros seznam'!CND147","v":0},{"$f":"'kros seznam'!CNE147","v":0},{"$f":"'kros seznam'!CNF147","v":0},{"$f":"'kros seznam'!CNG147","v":0},{"$f":"'kros seznam'!CNH147","v":0},{"$f":"'kros seznam'!CNI147","v":0},{"$f":"'kros seznam'!CNJ147","v":0},{"$f":"'kros seznam'!CNK147","v":0},{"$f":"'kros seznam'!CNL147","v":0},{"$f":"'kros seznam'!CNM147","v":0},{"$f":"'kros seznam'!CNN147","v":0},{"$f":"'kros seznam'!CNO147","v":0},{"$f":"'kros seznam'!CNP147","v":0},{"$f":"'kros seznam'!CNQ147","v":0},{"$f":"'kros seznam'!CNR147","v":0},{"$f":"'kros seznam'!CNS147","v":0},{"$f":"'kros seznam'!CNT147","v":0},{"$f":"'kros seznam'!CNU147","v":0},{"$f":"'kros seznam'!CNV147","v":0},{"$f":"'kros seznam'!CNW147","v":0},{"$f":"'kros seznam'!CNX147","v":0},{"$f":"'kros seznam'!CNY147","v":0},{"$f":"'kros seznam'!CNZ147","v":0},{"$f":"'kros seznam'!COA147","v":0},{"$f":"'kros seznam'!COB147","v":0},{"$f":"'kros seznam'!COC147","v":0},{"$f":"'kros seznam'!COD147","v":0},{"$f":"'kros seznam'!COE147","v":0},{"$f":"'kros seznam'!COF147","v":0},{"$f":"'kros seznam'!COG147","v":0},{"$f":"'kros seznam'!COH147","v":0},{"$f":"'kros seznam'!COI147","v":0},{"$f":"'kros seznam'!COJ147","v":0},{"$f":"'kros seznam'!COK147","v":0},{"$f":"'kros seznam'!COL147","v":0},{"$f":"'kros seznam'!COM147","v":0},{"$f":"'kros seznam'!CON147","v":0},{"$f":"'kros seznam'!COO147","v":0},{"$f":"'kros seznam'!COP147","v":0},{"$f":"'kros seznam'!COQ147","v":0},{"$f":"'kros seznam'!COR147","v":0},{"$f":"'kros seznam'!COS147","v":0},{"$f":"'kros seznam'!COT147","v":0},{"$f":"'kros seznam'!COU147","v":0},{"$f":"'kros seznam'!COV147","v":0},{"$f":"'kros seznam'!COW147","v":0},{"$f":"'kros seznam'!COX147","v":0},{"$f":"'kros seznam'!COY147","v":0},{"$f":"'kros seznam'!COZ147","v":0},{"$f":"'kros seznam'!CPA147","v":0},{"$f":"'kros seznam'!CPB147","v":0},{"$f":"'kros seznam'!CPC147","v":0},{"$f":"'kros seznam'!CPD147","v":0},{"$f":"'kros seznam'!CPE147","v":0},{"$f":"'kros seznam'!CPF147","v":0},{"$f":"'kros seznam'!CPG147","v":0},{"$f":"'kros seznam'!CPH147","v":0},{"$f":"'kros seznam'!CPI147","v":0},{"$f":"'kros seznam'!CPJ147","v":0},{"$f":"'kros seznam'!CPK147","v":0},{"$f":"'kros seznam'!CPL147","v":0},{"$f":"'kros seznam'!CPM147","v":0},{"$f":"'kros seznam'!CPN147","v":0},{"$f":"'kros seznam'!CPO147","v":0},{"$f":"'kros seznam'!CPP147","v":0},{"$f":"'kros seznam'!CPQ147","v":0},{"$f":"'kros seznam'!CPR147","v":0},{"$f":"'kros seznam'!CPS147","v":0},{"$f":"'kros seznam'!CPT147","v":0},{"$f":"'kros seznam'!CPU147","v":0},{"$f":"'kros seznam'!CPV147","v":0},{"$f":"'kros seznam'!CPW147","v":0},{"$f":"'kros seznam'!CPX147","v":0},{"$f":"'kros seznam'!CPY147","v":0},{"$f":"'kros seznam'!CPZ147","v":0},{"$f":"'kros seznam'!CQA147","v":0},{"$f":"'kros seznam'!CQB147","v":0},{"$f":"'kros seznam'!CQC147","v":0},{"$f":"'kros seznam'!CQD147","v":0},{"$f":"'kros seznam'!CQE147","v":0},{"$f":"'kros seznam'!CQF147","v":0},{"$f":"'kros seznam'!CQG147","v":0},{"$f":"'kros seznam'!CQH147","v":0},{"$f":"'kros seznam'!CQI147","v":0},{"$f":"'kros seznam'!CQJ147","v":0},{"$f":"'kros seznam'!CQK147","v":0},{"$f":"'kros seznam'!CQL147","v":0},{"$f":"'kros seznam'!CQM147","v":0},{"$f":"'kros seznam'!CQN147","v":0},{"$f":"'kros seznam'!CQO147","v":0},{"$f":"'kros seznam'!CQP147","v":0},{"$f":"'kros seznam'!CQQ147","v":0},{"$f":"'kros seznam'!CQR147","v":0},{"$f":"'kros seznam'!CQS147","v":0},{"$f":"'kros seznam'!CQT147","v":0},{"$f":"'kros seznam'!CQU147","v":0},{"$f":"'kros seznam'!CQV147","v":0},{"$f":"'kros seznam'!CQW147","v":0},{"$f":"'kros seznam'!CQX147","v":0},{"$f":"'kros seznam'!CQY147","v":0},{"$f":"'kros seznam'!CQZ147","v":0},{"$f":"'kros seznam'!CRA147","v":0},{"$f":"'kros seznam'!CRB147","v":0},{"$f":"'kros seznam'!CRC147","v":0},{"$f":"'kros seznam'!CRD147","v":0},{"$f":"'kros seznam'!CRE147","v":0},{"$f":"'kros seznam'!CRF147","v":0},{"$f":"'kros seznam'!CRG147","v":0},{"$f":"'kros seznam'!CRH147","v":0},{"$f":"'kros seznam'!CRI147","v":0},{"$f":"'kros seznam'!CRJ147","v":0},{"$f":"'kros seznam'!CRK147","v":0},{"$f":"'kros seznam'!CRL147","v":0},{"$f":"'kros seznam'!CRM147","v":0},{"$f":"'kros seznam'!CRN147","v":0},{"$f":"'kros seznam'!CRO147","v":0},{"$f":"'kros seznam'!CRP147","v":0},{"$f":"'kros seznam'!CRQ147","v":0},{"$f":"'kros seznam'!CRR147","v":0},{"$f":"'kros seznam'!CRS147","v":0},{"$f":"'kros seznam'!CRT147","v":0},{"$f":"'kros seznam'!CRU147","v":0},{"$f":"'kros seznam'!CRV147","v":0},{"$f":"'kros seznam'!CRW147","v":0},{"$f":"'kros seznam'!CRX147","v":0},{"$f":"'kros seznam'!CRY147","v":0},{"$f":"'kros seznam'!CRZ147","v":0},{"$f":"'kros seznam'!CSA147","v":0},{"$f":"'kros seznam'!CSB147","v":0},{"$f":"'kros seznam'!CSC147","v":0},{"$f":"'kros seznam'!CSD147","v":0},{"$f":"'kros seznam'!CSE147","v":0},{"$f":"'kros seznam'!CSF147","v":0},{"$f":"'kros seznam'!CSG147","v":0},{"$f":"'kros seznam'!CSH147","v":0},{"$f":"'kros seznam'!CSI147","v":0},{"$f":"'kros seznam'!CSJ147","v":0},{"$f":"'kros seznam'!CSK147","v":0},{"$f":"'kros seznam'!CSL147","v":0},{"$f":"'kros seznam'!CSM147","v":0},{"$f":"'kros seznam'!CSN147","v":0},{"$f":"'kros seznam'!CSO147","v":0},{"$f":"'kros seznam'!CSP147","v":0},{"$f":"'kros seznam'!CSQ147","v":0},{"$f":"'kros seznam'!CSR147","v":0},{"$f":"'kros seznam'!CSS147","v":0},{"$f":"'kros seznam'!CST147","v":0},{"$f":"'kros seznam'!CSU147","v":0},{"$f":"'kros seznam'!CSV147","v":0},{"$f":"'kros seznam'!CSW147","v":0},{"$f":"'kros seznam'!CSX147","v":0},{"$f":"'kros seznam'!CSY147","v":0},{"$f":"'kros seznam'!CSZ147","v":0},{"$f":"'kros seznam'!CTA147","v":0},{"$f":"'kros seznam'!CTB147","v":0},{"$f":"'kros seznam'!CTC147","v":0},{"$f":"'kros seznam'!CTD147","v":0},{"$f":"'kros seznam'!CTE147","v":0},{"$f":"'kros seznam'!CTF147","v":0},{"$f":"'kros seznam'!CTG147","v":0},{"$f":"'kros seznam'!CTH147","v":0},{"$f":"'kros seznam'!CTI147","v":0},{"$f":"'kros seznam'!CTJ147","v":0},{"$f":"'kros seznam'!CTK147","v":0},{"$f":"'kros seznam'!CTL147","v":0},{"$f":"'kros seznam'!CTM147","v":0},{"$f":"'kros seznam'!CTN147","v":0},{"$f":"'kros seznam'!CTO147","v":0},{"$f":"'kros seznam'!CTP147","v":0},{"$f":"'kros seznam'!CTQ147","v":0},{"$f":"'kros seznam'!CTR147","v":0},{"$f":"'kros seznam'!CTS147","v":0},{"$f":"'kros seznam'!CTT147","v":0},{"$f":"'kros seznam'!CTU147","v":0},{"$f":"'kros seznam'!CTV147","v":0},{"$f":"'kros seznam'!CTW147","v":0},{"$f":"'kros seznam'!CTX147","v":0},{"$f":"'kros seznam'!CTY147","v":0},{"$f":"'kros seznam'!CTZ147","v":0},{"$f":"'kros seznam'!CUA147","v":0},{"$f":"'kros seznam'!CUB147","v":0},{"$f":"'kros seznam'!CUC147","v":0},{"$f":"'kros seznam'!CUD147","v":0},{"$f":"'kros seznam'!CUE147","v":0},{"$f":"'kros seznam'!CUF147","v":0},{"$f":"'kros seznam'!CUG147","v":0},{"$f":"'kros seznam'!CUH147","v":0},{"$f":"'kros seznam'!CUI147","v":0},{"$f":"'kros seznam'!CUJ147","v":0},{"$f":"'kros seznam'!CUK147","v":0},{"$f":"'kros seznam'!CUL147","v":0},{"$f":"'kros seznam'!CUM147","v":0},{"$f":"'kros seznam'!CUN147","v":0},{"$f":"'kros seznam'!CUO147","v":0},{"$f":"'kros seznam'!CUP147","v":0},{"$f":"'kros seznam'!CUQ147","v":0},{"$f":"'kros seznam'!CUR147","v":0},{"$f":"'kros seznam'!CUS147","v":0},{"$f":"'kros seznam'!CUT147","v":0},{"$f":"'kros seznam'!CUU147","v":0},{"$f":"'kros seznam'!CUV147","v":0},{"$f":"'kros seznam'!CUW147","v":0},{"$f":"'kros seznam'!CUX147","v":0},{"$f":"'kros seznam'!CUY147","v":0},{"$f":"'kros seznam'!CUZ147","v":0},{"$f":"'kros seznam'!CVA147","v":0},{"$f":"'kros seznam'!CVB147","v":0},{"$f":"'kros seznam'!CVC147","v":0},{"$f":"'kros seznam'!CVD147","v":0},{"$f":"'kros seznam'!CVE147","v":0},{"$f":"'kros seznam'!CVF147","v":0},{"$f":"'kros seznam'!CVG147","v":0},{"$f":"'kros seznam'!CVH147","v":0},{"$f":"'kros seznam'!CVI147","v":0},{"$f":"'kros seznam'!CVJ147","v":0},{"$f":"'kros seznam'!CVK147","v":0},{"$f":"'kros seznam'!CVL147","v":0},{"$f":"'kros seznam'!CVM147","v":0},{"$f":"'kros seznam'!CVN147","v":0},{"$f":"'kros seznam'!CVO147","v":0},{"$f":"'kros seznam'!CVP147","v":0},{"$f":"'kros seznam'!CVQ147","v":0},{"$f":"'kros seznam'!CVR147","v":0},{"$f":"'kros seznam'!CVS147","v":0},{"$f":"'kros seznam'!CVT147","v":0},{"$f":"'kros seznam'!CVU147","v":0},{"$f":"'kros seznam'!CVV147","v":0},{"$f":"'kros seznam'!CVW147","v":0},{"$f":"'kros seznam'!CVX147","v":0},{"$f":"'kros seznam'!CVY147","v":0},{"$f":"'kros seznam'!CVZ147","v":0},{"$f":"'kros seznam'!CWA147","v":0},{"$f":"'kros seznam'!CWB147","v":0},{"$f":"'kros seznam'!CWC147","v":0},{"$f":"'kros seznam'!CWD147","v":0},{"$f":"'kros seznam'!CWE147","v":0},{"$f":"'kros seznam'!CWF147","v":0},{"$f":"'kros seznam'!CWG147","v":0},{"$f":"'kros seznam'!CWH147","v":0},{"$f":"'kros seznam'!CWI147","v":0},{"$f":"'kros seznam'!CWJ147","v":0},{"$f":"'kros seznam'!CWK147","v":0},{"$f":"'kros seznam'!CWL147","v":0},{"$f":"'kros seznam'!CWM147","v":0},{"$f":"'kros seznam'!CWN147","v":0},{"$f":"'kros seznam'!CWO147","v":0},{"$f":"'kros seznam'!CWP147","v":0},{"$f":"'kros seznam'!CWQ147","v":0},{"$f":"'kros seznam'!CWR147","v":0},{"$f":"'kros seznam'!CWS147","v":0},{"$f":"'kros seznam'!CWT147","v":0},{"$f":"'kros seznam'!CWU147","v":0},{"$f":"'kros seznam'!CWV147","v":0},{"$f":"'kros seznam'!CWW147","v":0},{"$f":"'kros seznam'!CWX147","v":0},{"$f":"'kros seznam'!CWY147","v":0},{"$f":"'kros seznam'!CWZ147","v":0},{"$f":"'kros seznam'!CXA147","v":0},{"$f":"'kros seznam'!CXB147","v":0},{"$f":"'kros seznam'!CXC147","v":0},{"$f":"'kros seznam'!CXD147","v":0},{"$f":"'kros seznam'!CXE147","v":0},{"$f":"'kros seznam'!CXF147","v":0},{"$f":"'kros seznam'!CXG147","v":0},{"$f":"'kros seznam'!CXH147","v":0},{"$f":"'kros seznam'!CXI147","v":0},{"$f":"'kros seznam'!CXJ147","v":0},{"$f":"'kros seznam'!CXK147","v":0},{"$f":"'kros seznam'!CXL147","v":0},{"$f":"'kros seznam'!CXM147","v":0},{"$f":"'kros seznam'!CXN147","v":0},{"$f":"'kros seznam'!CXO147","v":0},{"$f":"'kros seznam'!CXP147","v":0},{"$f":"'kros seznam'!CXQ147","v":0},{"$f":"'kros seznam'!CXR147","v":0},{"$f":"'kros seznam'!CXS147","v":0},{"$f":"'kros seznam'!CXT147","v":0},{"$f":"'kros seznam'!CXU147","v":0},{"$f":"'kros seznam'!CXV147","v":0},{"$f":"'kros seznam'!CXW147","v":0},{"$f":"'kros seznam'!CXX147","v":0},{"$f":"'kros seznam'!CXY147","v":0},{"$f":"'kros seznam'!CXZ147","v":0},{"$f":"'kros seznam'!CYA147","v":0},{"$f":"'kros seznam'!CYB147","v":0},{"$f":"'kros seznam'!CYC147","v":0},{"$f":"'kros seznam'!CYD147","v":0},{"$f":"'kros seznam'!CYE147","v":0},{"$f":"'kros seznam'!CYF147","v":0},{"$f":"'kros seznam'!CYG147","v":0},{"$f":"'kros seznam'!CYH147","v":0},{"$f":"'kros seznam'!CYI147","v":0},{"$f":"'kros seznam'!CYJ147","v":0},{"$f":"'kros seznam'!CYK147","v":0},{"$f":"'kros seznam'!CYL147","v":0},{"$f":"'kros seznam'!CYM147","v":0},{"$f":"'kros seznam'!CYN147","v":0},{"$f":"'kros seznam'!CYO147","v":0},{"$f":"'kros seznam'!CYP147","v":0},{"$f":"'kros seznam'!CYQ147","v":0},{"$f":"'kros seznam'!CYR147","v":0},{"$f":"'kros seznam'!CYS147","v":0},{"$f":"'kros seznam'!CYT147","v":0},{"$f":"'kros seznam'!CYU147","v":0},{"$f":"'kros seznam'!CYV147","v":0},{"$f":"'kros seznam'!CYW147","v":0},{"$f":"'kros seznam'!CYX147","v":0},{"$f":"'kros seznam'!CYY147","v":0},{"$f":"'kros seznam'!CYZ147","v":0},{"$f":"'kros seznam'!CZA147","v":0},{"$f":"'kros seznam'!CZB147","v":0},{"$f":"'kros seznam'!CZC147","v":0},{"$f":"'kros seznam'!CZD147","v":0},{"$f":"'kros seznam'!CZE147","v":0},{"$f":"'kros seznam'!CZF147","v":0},{"$f":"'kros seznam'!CZG147","v":0},{"$f":"'kros seznam'!CZH147","v":0},{"$f":"'kros seznam'!CZI147","v":0},{"$f":"'kros seznam'!CZJ147","v":0},{"$f":"'kros seznam'!CZK147","v":0},{"$f":"'kros seznam'!CZL147","v":0},{"$f":"'kros seznam'!CZM147","v":0},{"$f":"'kros seznam'!CZN147","v":0},{"$f":"'kros seznam'!CZO147","v":0},{"$f":"'kros seznam'!CZP147","v":0},{"$f":"'kros seznam'!CZQ147","v":0},{"$f":"'kros seznam'!CZR147","v":0},{"$f":"'kros seznam'!CZS147","v":0},{"$f":"'kros seznam'!CZT147","v":0},{"$f":"'kros seznam'!CZU147","v":0},{"$f":"'kros seznam'!CZV147","v":0},{"$f":"'kros seznam'!CZW147","v":0},{"$f":"'kros seznam'!CZX147","v":0},{"$f":"'kros seznam'!CZY147","v":0},{"$f":"'kros seznam'!CZZ147","v":0},{"$f":"'kros seznam'!DAA147","v":0},{"$f":"'kros seznam'!DAB147","v":0},{"$f":"'kros seznam'!DAC147","v":0},{"$f":"'kros seznam'!DAD147","v":0},{"$f":"'kros seznam'!DAE147","v":0},{"$f":"'kros seznam'!DAF147","v":0},{"$f":"'kros seznam'!DAG147","v":0},{"$f":"'kros seznam'!DAH147","v":0},{"$f":"'kros seznam'!DAI147","v":0},{"$f":"'kros seznam'!DAJ147","v":0},{"$f":"'kros seznam'!DAK147","v":0},{"$f":"'kros seznam'!DAL147","v":0},{"$f":"'kros seznam'!DAM147","v":0},{"$f":"'kros seznam'!DAN147","v":0},{"$f":"'kros seznam'!DAO147","v":0},{"$f":"'kros seznam'!DAP147","v":0},{"$f":"'kros seznam'!DAQ147","v":0},{"$f":"'kros seznam'!DAR147","v":0},{"$f":"'kros seznam'!DAS147","v":0},{"$f":"'kros seznam'!DAT147","v":0},{"$f":"'kros seznam'!DAU147","v":0},{"$f":"'kros seznam'!DAV147","v":0},{"$f":"'kros seznam'!DAW147","v":0},{"$f":"'kros seznam'!DAX147","v":0},{"$f":"'kros seznam'!DAY147","v":0},{"$f":"'kros seznam'!DAZ147","v":0},{"$f":"'kros seznam'!DBA147","v":0},{"$f":"'kros seznam'!DBB147","v":0},{"$f":"'kros seznam'!DBC147","v":0},{"$f":"'kros seznam'!DBD147","v":0},{"$f":"'kros seznam'!DBE147","v":0},{"$f":"'kros seznam'!DBF147","v":0},{"$f":"'kros seznam'!DBG147","v":0},{"$f":"'kros seznam'!DBH147","v":0},{"$f":"'kros seznam'!DBI147","v":0},{"$f":"'kros seznam'!DBJ147","v":0},{"$f":"'kros seznam'!DBK147","v":0},{"$f":"'kros seznam'!DBL147","v":0},{"$f":"'kros seznam'!DBM147","v":0},{"$f":"'kros seznam'!DBN147","v":0},{"$f":"'kros seznam'!DBO147","v":0},{"$f":"'kros seznam'!DBP147","v":0},{"$f":"'kros seznam'!DBQ147","v":0},{"$f":"'kros seznam'!DBR147","v":0},{"$f":"'kros seznam'!DBS147","v":0},{"$f":"'kros seznam'!DBT147","v":0},{"$f":"'kros seznam'!DBU147","v":0},{"$f":"'kros seznam'!DBV147","v":0},{"$f":"'kros seznam'!DBW147","v":0},{"$f":"'kros seznam'!DBX147","v":0},{"$f":"'kros seznam'!DBY147","v":0},{"$f":"'kros seznam'!DBZ147","v":0},{"$f":"'kros seznam'!DCA147","v":0},{"$f":"'kros seznam'!DCB147","v":0},{"$f":"'kros seznam'!DCC147","v":0},{"$f":"'kros seznam'!DCD147","v":0},{"$f":"'kros seznam'!DCE147","v":0},{"$f":"'kros seznam'!DCF147","v":0},{"$f":"'kros seznam'!DCG147","v":0},{"$f":"'kros seznam'!DCH147","v":0},{"$f":"'kros seznam'!DCI147","v":0},{"$f":"'kros seznam'!DCJ147","v":0},{"$f":"'kros seznam'!DCK147","v":0},{"$f":"'kros seznam'!DCL147","v":0},{"$f":"'kros seznam'!DCM147","v":0},{"$f":"'kros seznam'!DCN147","v":0},{"$f":"'kros seznam'!DCO147","v":0},{"$f":"'kros seznam'!DCP147","v":0},{"$f":"'kros seznam'!DCQ147","v":0},{"$f":"'kros seznam'!DCR147","v":0},{"$f":"'kros seznam'!DCS147","v":0},{"$f":"'kros seznam'!DCT147","v":0},{"$f":"'kros seznam'!DCU147","v":0},{"$f":"'kros seznam'!DCV147","v":0},{"$f":"'kros seznam'!DCW147","v":0},{"$f":"'kros seznam'!DCX147","v":0},{"$f":"'kros seznam'!DCY147","v":0},{"$f":"'kros seznam'!DCZ147","v":0},{"$f":"'kros seznam'!DDA147","v":0},{"$f":"'kros seznam'!DDB147","v":0},{"$f":"'kros seznam'!DDC147","v":0},{"$f":"'kros seznam'!DDD147","v":0},{"$f":"'kros seznam'!DDE147","v":0},{"$f":"'kros seznam'!DDF147","v":0},{"$f":"'kros seznam'!DDG147","v":0},{"$f":"'kros seznam'!DDH147","v":0},{"$f":"'kros seznam'!DDI147","v":0},{"$f":"'kros seznam'!DDJ147","v":0},{"$f":"'kros seznam'!DDK147","v":0},{"$f":"'kros seznam'!DDL147","v":0},{"$f":"'kros seznam'!DDM147","v":0},{"$f":"'kros seznam'!DDN147","v":0},{"$f":"'kros seznam'!DDO147","v":0},{"$f":"'kros seznam'!DDP147","v":0},{"$f":"'kros seznam'!DDQ147","v":0},{"$f":"'kros seznam'!DDR147","v":0},{"$f":"'kros seznam'!DDS147","v":0},{"$f":"'kros seznam'!DDT147","v":0},{"$f":"'kros seznam'!DDU147","v":0},{"$f":"'kros seznam'!DDV147","v":0},{"$f":"'kros seznam'!DDW147","v":0},{"$f":"'kros seznam'!DDX147","v":0},{"$f":"'kros seznam'!DDY147","v":0},{"$f":"'kros seznam'!DDZ147","v":0},{"$f":"'kros seznam'!DEA147","v":0},{"$f":"'kros seznam'!DEB147","v":0},{"$f":"'kros seznam'!DEC147","v":0},{"$f":"'kros seznam'!DED147","v":0},{"$f":"'kros seznam'!DEE147","v":0},{"$f":"'kros seznam'!DEF147","v":0},{"$f":"'kros seznam'!DEG147","v":0},{"$f":"'kros seznam'!DEH147","v":0},{"$f":"'kros seznam'!DEI147","v":0},{"$f":"'kros seznam'!DEJ147","v":0},{"$f":"'kros seznam'!DEK147","v":0},{"$f":"'kros seznam'!DEL147","v":0},{"$f":"'kros seznam'!DEM147","v":0},{"$f":"'kros seznam'!DEN147","v":0},{"$f":"'kros seznam'!DEO147","v":0},{"$f":"'kros seznam'!DEP147","v":0},{"$f":"'kros seznam'!DEQ147","v":0},{"$f":"'kros seznam'!DER147","v":0},{"$f":"'kros seznam'!DES147","v":0},{"$f":"'kros seznam'!DET147","v":0},{"$f":"'kros seznam'!DEU147","v":0},{"$f":"'kros seznam'!DEV147","v":0},{"$f":"'kros seznam'!DEW147","v":0},{"$f":"'kros seznam'!DEX147","v":0},{"$f":"'kros seznam'!DEY147","v":0},{"$f":"'kros seznam'!DEZ147","v":0},{"$f":"'kros seznam'!DFA147","v":0},{"$f":"'kros seznam'!DFB147","v":0},{"$f":"'kros seznam'!DFC147","v":0},{"$f":"'kros seznam'!DFD147","v":0},{"$f":"'kros seznam'!DFE147","v":0},{"$f":"'kros seznam'!DFF147","v":0},{"$f":"'kros seznam'!DFG147","v":0},{"$f":"'kros seznam'!DFH147","v":0},{"$f":"'kros seznam'!DFI147","v":0},{"$f":"'kros seznam'!DFJ147","v":0},{"$f":"'kros seznam'!DFK147","v":0},{"$f":"'kros seznam'!DFL147","v":0},{"$f":"'kros seznam'!DFM147","v":0},{"$f":"'kros seznam'!DFN147","v":0},{"$f":"'kros seznam'!DFO147","v":0},{"$f":"'kros seznam'!DFP147","v":0},{"$f":"'kros seznam'!DFQ147","v":0},{"$f":"'kros seznam'!DFR147","v":0},{"$f":"'kros seznam'!DFS147","v":0},{"$f":"'kros seznam'!DFT147","v":0},{"$f":"'kros seznam'!DFU147","v":0},{"$f":"'kros seznam'!DFV147","v":0},{"$f":"'kros seznam'!DFW147","v":0},{"$f":"'kros seznam'!DFX147","v":0},{"$f":"'kros seznam'!DFY147","v":0},{"$f":"'kros seznam'!DFZ147","v":0},{"$f":"'kros seznam'!DGA147","v":0},{"$f":"'kros seznam'!DGB147","v":0},{"$f":"'kros seznam'!DGC147","v":0},{"$f":"'kros seznam'!DGD147","v":0},{"$f":"'kros seznam'!DGE147","v":0},{"$f":"'kros seznam'!DGF147","v":0},{"$f":"'kros seznam'!DGG147","v":0},{"$f":"'kros seznam'!DGH147","v":0},{"$f":"'kros seznam'!DGI147","v":0},{"$f":"'kros seznam'!DGJ147","v":0},{"$f":"'kros seznam'!DGK147","v":0},{"$f":"'kros seznam'!DGL147","v":0},{"$f":"'kros seznam'!DGM147","v":0},{"$f":"'kros seznam'!DGN147","v":0},{"$f":"'kros seznam'!DGO147","v":0},{"$f":"'kros seznam'!DGP147","v":0},{"$f":"'kros seznam'!DGQ147","v":0},{"$f":"'kros seznam'!DGR147","v":0},{"$f":"'kros seznam'!DGS147","v":0},{"$f":"'kros seznam'!DGT147","v":0},{"$f":"'kros seznam'!DGU147","v":0},{"$f":"'kros seznam'!DGV147","v":0},{"$f":"'kros seznam'!DGW147","v":0},{"$f":"'kros seznam'!DGX147","v":0},{"$f":"'kros seznam'!DGY147","v":0},{"$f":"'kros seznam'!DGZ147","v":0},{"$f":"'kros seznam'!DHA147","v":0},{"$f":"'kros seznam'!DHB147","v":0},{"$f":"'kros seznam'!DHC147","v":0},{"$f":"'kros seznam'!DHD147","v":0},{"$f":"'kros seznam'!DHE147","v":0},{"$f":"'kros seznam'!DHF147","v":0},{"$f":"'kros seznam'!DHG147","v":0},{"$f":"'kros seznam'!DHH147","v":0},{"$f":"'kros seznam'!DHI147","v":0},{"$f":"'kros seznam'!DHJ147","v":0},{"$f":"'kros seznam'!DHK147","v":0},{"$f":"'kros seznam'!DHL147","v":0},{"$f":"'kros seznam'!DHM147","v":0},{"$f":"'kros seznam'!DHN147","v":0},{"$f":"'kros seznam'!DHO147","v":0},{"$f":"'kros seznam'!DHP147","v":0},{"$f":"'kros seznam'!DHQ147","v":0},{"$f":"'kros seznam'!DHR147","v":0},{"$f":"'kros seznam'!DHS147","v":0},{"$f":"'kros seznam'!DHT147","v":0},{"$f":"'kros seznam'!DHU147","v":0},{"$f":"'kros seznam'!DHV147","v":0},{"$f":"'kros seznam'!DHW147","v":0},{"$f":"'kros seznam'!DHX147","v":0},{"$f":"'kros seznam'!DHY147","v":0},{"$f":"'kros seznam'!DHZ147","v":0},{"$f":"'kros seznam'!DIA147","v":0},{"$f":"'kros seznam'!DIB147","v":0},{"$f":"'kros seznam'!DIC147","v":0},{"$f":"'kros seznam'!DID147","v":0},{"$f":"'kros seznam'!DIE147","v":0},{"$f":"'kros seznam'!DIF147","v":0},{"$f":"'kros seznam'!DIG147","v":0},{"$f":"'kros seznam'!DIH147","v":0},{"$f":"'kros seznam'!DII147","v":0},{"$f":"'kros seznam'!DIJ147","v":0},{"$f":"'kros seznam'!DIK147","v":0},{"$f":"'kros seznam'!DIL147","v":0},{"$f":"'kros seznam'!DIM147","v":0},{"$f":"'kros seznam'!DIN147","v":0},{"$f":"'kros seznam'!DIO147","v":0},{"$f":"'kros seznam'!DIP147","v":0},{"$f":"'kros seznam'!DIQ147","v":0},{"$f":"'kros seznam'!DIR147","v":0},{"$f":"'kros seznam'!DIS147","v":0},{"$f":"'kros seznam'!DIT147","v":0},{"$f":"'kros seznam'!DIU147","v":0},{"$f":"'kros seznam'!DIV147","v":0},{"$f":"'kros seznam'!DIW147","v":0},{"$f":"'kros seznam'!DIX147","v":0},{"$f":"'kros seznam'!DIY147","v":0},{"$f":"'kros seznam'!DIZ147","v":0},{"$f":"'kros seznam'!DJA147","v":0},{"$f":"'kros seznam'!DJB147","v":0},{"$f":"'kros seznam'!DJC147","v":0},{"$f":"'kros seznam'!DJD147","v":0},{"$f":"'kros seznam'!DJE147","v":0},{"$f":"'kros seznam'!DJF147","v":0},{"$f":"'kros seznam'!DJG147","v":0},{"$f":"'kros seznam'!DJH147","v":0},{"$f":"'kros seznam'!DJI147","v":0},{"$f":"'kros seznam'!DJJ147","v":0},{"$f":"'kros seznam'!DJK147","v":0},{"$f":"'kros seznam'!DJL147","v":0},{"$f":"'kros seznam'!DJM147","v":0},{"$f":"'kros seznam'!DJN147","v":0},{"$f":"'kros seznam'!DJO147","v":0},{"$f":"'kros seznam'!DJP147","v":0},{"$f":"'kros seznam'!DJQ147","v":0},{"$f":"'kros seznam'!DJR147","v":0},{"$f":"'kros seznam'!DJS147","v":0},{"$f":"'kros seznam'!DJT147","v":0},{"$f":"'kros seznam'!DJU147","v":0},{"$f":"'kros seznam'!DJV147","v":0},{"$f":"'kros seznam'!DJW147","v":0},{"$f":"'kros seznam'!DJX147","v":0},{"$f":"'kros seznam'!DJY147","v":0},{"$f":"'kros seznam'!DJZ147","v":0},{"$f":"'kros seznam'!DKA147","v":0},{"$f":"'kros seznam'!DKB147","v":0},{"$f":"'kros seznam'!DKC147","v":0},{"$f":"'kros seznam'!DKD147","v":0},{"$f":"'kros seznam'!DKE147","v":0},{"$f":"'kros seznam'!DKF147","v":0},{"$f":"'kros seznam'!DKG147","v":0},{"$f":"'kros seznam'!DKH147","v":0},{"$f":"'kros seznam'!DKI147","v":0},{"$f":"'kros seznam'!DKJ147","v":0},{"$f":"'kros seznam'!DKK147","v":0},{"$f":"'kros seznam'!DKL147","v":0},{"$f":"'kros seznam'!DKM147","v":0},{"$f":"'kros seznam'!DKN147","v":0},{"$f":"'kros seznam'!DKO147","v":0},{"$f":"'kros seznam'!DKP147","v":0},{"$f":"'kros seznam'!DKQ147","v":0},{"$f":"'kros seznam'!DKR147","v":0},{"$f":"'kros seznam'!DKS147","v":0},{"$f":"'kros seznam'!DKT147","v":0},{"$f":"'kros seznam'!DKU147","v":0},{"$f":"'kros seznam'!DKV147","v":0},{"$f":"'kros seznam'!DKW147","v":0},{"$f":"'kros seznam'!DKX147","v":0},{"$f":"'kros seznam'!DKY147","v":0},{"$f":"'kros seznam'!DKZ147","v":0},{"$f":"'kros seznam'!DLA147","v":0},{"$f":"'kros seznam'!DLB147","v":0},{"$f":"'kros seznam'!DLC147","v":0},{"$f":"'kros seznam'!DLD147","v":0},{"$f":"'kros seznam'!DLE147","v":0},{"$f":"'kros seznam'!DLF147","v":0},{"$f":"'kros seznam'!DLG147","v":0},{"$f":"'kros seznam'!DLH147","v":0},{"$f":"'kros seznam'!DLI147","v":0},{"$f":"'kros seznam'!DLJ147","v":0},{"$f":"'kros seznam'!DLK147","v":0},{"$f":"'kros seznam'!DLL147","v":0},{"$f":"'kros seznam'!DLM147","v":0},{"$f":"'kros seznam'!DLN147","v":0},{"$f":"'kros seznam'!DLO147","v":0},{"$f":"'kros seznam'!DLP147","v":0},{"$f":"'kros seznam'!DLQ147","v":0},{"$f":"'kros seznam'!DLR147","v":0},{"$f":"'kros seznam'!DLS147","v":0},{"$f":"'kros seznam'!DLT147","v":0},{"$f":"'kros seznam'!DLU147","v":0},{"$f":"'kros seznam'!DLV147","v":0},{"$f":"'kros seznam'!DLW147","v":0},{"$f":"'kros seznam'!DLX147","v":0},{"$f":"'kros seznam'!DLY147","v":0},{"$f":"'kros seznam'!DLZ147","v":0},{"$f":"'kros seznam'!DMA147","v":0},{"$f":"'kros seznam'!DMB147","v":0},{"$f":"'kros seznam'!DMC147","v":0},{"$f":"'kros seznam'!DMD147","v":0},{"$f":"'kros seznam'!DME147","v":0},{"$f":"'kros seznam'!DMF147","v":0},{"$f":"'kros seznam'!DMG147","v":0},{"$f":"'kros seznam'!DMH147","v":0},{"$f":"'kros seznam'!DMI147","v":0},{"$f":"'kros seznam'!DMJ147","v":0},{"$f":"'kros seznam'!DMK147","v":0},{"$f":"'kros seznam'!DML147","v":0},{"$f":"'kros seznam'!DMM147","v":0},{"$f":"'kros seznam'!DMN147","v":0},{"$f":"'kros seznam'!DMO147","v":0},{"$f":"'kros seznam'!DMP147","v":0},{"$f":"'kros seznam'!DMQ147","v":0},{"$f":"'kros seznam'!DMR147","v":0},{"$f":"'kros seznam'!DMS147","v":0},{"$f":"'kros seznam'!DMT147","v":0},{"$f":"'kros seznam'!DMU147","v":0},{"$f":"'kros seznam'!DMV147","v":0},{"$f":"'kros seznam'!DMW147","v":0},{"$f":"'kros seznam'!DMX147","v":0},{"$f":"'kros seznam'!DMY147","v":0},{"$f":"'kros seznam'!DMZ147","v":0},{"$f":"'kros seznam'!DNA147","v":0},{"$f":"'kros seznam'!DNB147","v":0},{"$f":"'kros seznam'!DNC147","v":0},{"$f":"'kros seznam'!DND147","v":0},{"$f":"'kros seznam'!DNE147","v":0},{"$f":"'kros seznam'!DNF147","v":0},{"$f":"'kros seznam'!DNG147","v":0},{"$f":"'kros seznam'!DNH147","v":0},{"$f":"'kros seznam'!DNI147","v":0},{"$f":"'kros seznam'!DNJ147","v":0},{"$f":"'kros seznam'!DNK147","v":0},{"$f":"'kros seznam'!DNL147","v":0},{"$f":"'kros seznam'!DNM147","v":0},{"$f":"'kros seznam'!DNN147","v":0},{"$f":"'kros seznam'!DNO147","v":0},{"$f":"'kros seznam'!DNP147","v":0},{"$f":"'kros seznam'!DNQ147","v":0},{"$f":"'kros seznam'!DNR147","v":0},{"$f":"'kros seznam'!DNS147","v":0},{"$f":"'kros seznam'!DNT147","v":0},{"$f":"'kros seznam'!DNU147","v":0},{"$f":"'kros seznam'!DNV147","v":0},{"$f":"'kros seznam'!DNW147","v":0},{"$f":"'kros seznam'!DNX147","v":0},{"$f":"'kros seznam'!DNY147","v":0},{"$f":"'kros seznam'!DNZ147","v":0},{"$f":"'kros seznam'!DOA147","v":0},{"$f":"'kros seznam'!DOB147","v":0},{"$f":"'kros seznam'!DOC147","v":0},{"$f":"'kros seznam'!DOD147","v":0},{"$f":"'kros seznam'!DOE147","v":0},{"$f":"'kros seznam'!DOF147","v":0},{"$f":"'kros seznam'!DOG147","v":0},{"$f":"'kros seznam'!DOH147","v":0},{"$f":"'kros seznam'!DOI147","v":0},{"$f":"'kros seznam'!DOJ147","v":0},{"$f":"'kros seznam'!DOK147","v":0},{"$f":"'kros seznam'!DOL147","v":0},{"$f":"'kros seznam'!DOM147","v":0},{"$f":"'kros seznam'!DON147","v":0},{"$f":"'kros seznam'!DOO147","v":0},{"$f":"'kros seznam'!DOP147","v":0},{"$f":"'kros seznam'!DOQ147","v":0},{"$f":"'kros seznam'!DOR147","v":0},{"$f":"'kros seznam'!DOS147","v":0},{"$f":"'kros seznam'!DOT147","v":0},{"$f":"'kros seznam'!DOU147","v":0},{"$f":"'kros seznam'!DOV147","v":0},{"$f":"'kros seznam'!DOW147","v":0},{"$f":"'kros seznam'!DOX147","v":0},{"$f":"'kros seznam'!DOY147","v":0},{"$f":"'kros seznam'!DOZ147","v":0},{"$f":"'kros seznam'!DPA147","v":0},{"$f":"'kros seznam'!DPB147","v":0},{"$f":"'kros seznam'!DPC147","v":0},{"$f":"'kros seznam'!DPD147","v":0},{"$f":"'kros seznam'!DPE147","v":0},{"$f":"'kros seznam'!DPF147","v":0},{"$f":"'kros seznam'!DPG147","v":0},{"$f":"'kros seznam'!DPH147","v":0},{"$f":"'kros seznam'!DPI147","v":0},{"$f":"'kros seznam'!DPJ147","v":0},{"$f":"'kros seznam'!DPK147","v":0},{"$f":"'kros seznam'!DPL147","v":0},{"$f":"'kros seznam'!DPM147","v":0},{"$f":"'kros seznam'!DPN147","v":0},{"$f":"'kros seznam'!DPO147","v":0},{"$f":"'kros seznam'!DPP147","v":0},{"$f":"'kros seznam'!DPQ147","v":0},{"$f":"'kros seznam'!DPR147","v":0},{"$f":"'kros seznam'!DPS147","v":0},{"$f":"'kros seznam'!DPT147","v":0},{"$f":"'kros seznam'!DPU147","v":0},{"$f":"'kros seznam'!DPV147","v":0},{"$f":"'kros seznam'!DPW147","v":0},{"$f":"'kros seznam'!DPX147","v":0},{"$f":"'kros seznam'!DPY147","v":0},{"$f":"'kros seznam'!DPZ147","v":0},{"$f":"'kros seznam'!DQA147","v":0},{"$f":"'kros seznam'!DQB147","v":0},{"$f":"'kros seznam'!DQC147","v":0},{"$f":"'kros seznam'!DQD147","v":0},{"$f":"'kros seznam'!DQE147","v":0},{"$f":"'kros seznam'!DQF147","v":0},{"$f":"'kros seznam'!DQG147","v":0},{"$f":"'kros seznam'!DQH147","v":0},{"$f":"'kros seznam'!DQI147","v":0},{"$f":"'kros seznam'!DQJ147","v":0},{"$f":"'kros seznam'!DQK147","v":0},{"$f":"'kros seznam'!DQL147","v":0},{"$f":"'kros seznam'!DQM147","v":0},{"$f":"'kros seznam'!DQN147","v":0},{"$f":"'kros seznam'!DQO147","v":0},{"$f":"'kros seznam'!DQP147","v":0},{"$f":"'kros seznam'!DQQ147","v":0},{"$f":"'kros seznam'!DQR147","v":0},{"$f":"'kros seznam'!DQS147","v":0},{"$f":"'kros seznam'!DQT147","v":0},{"$f":"'kros seznam'!DQU147","v":0},{"$f":"'kros seznam'!DQV147","v":0},{"$f":"'kros seznam'!DQW147","v":0},{"$f":"'kros seznam'!DQX147","v":0},{"$f":"'kros seznam'!DQY147","v":0},{"$f":"'kros seznam'!DQZ147","v":0},{"$f":"'kros seznam'!DRA147","v":0},{"$f":"'kros seznam'!DRB147","v":0},{"$f":"'kros seznam'!DRC147","v":0},{"$f":"'kros seznam'!DRD147","v":0},{"$f":"'kros seznam'!DRE147","v":0},{"$f":"'kros seznam'!DRF147","v":0},{"$f":"'kros seznam'!DRG147","v":0},{"$f":"'kros seznam'!DRH147","v":0},{"$f":"'kros seznam'!DRI147","v":0},{"$f":"'kros seznam'!DRJ147","v":0},{"$f":"'kros seznam'!DRK147","v":0},{"$f":"'kros seznam'!DRL147","v":0},{"$f":"'kros seznam'!DRM147","v":0},{"$f":"'kros seznam'!DRN147","v":0},{"$f":"'kros seznam'!DRO147","v":0},{"$f":"'kros seznam'!DRP147","v":0},{"$f":"'kros seznam'!DRQ147","v":0},{"$f":"'kros seznam'!DRR147","v":0},{"$f":"'kros seznam'!DRS147","v":0},{"$f":"'kros seznam'!DRT147","v":0},{"$f":"'kros seznam'!DRU147","v":0},{"$f":"'kros seznam'!DRV147","v":0},{"$f":"'kros seznam'!DRW147","v":0},{"$f":"'kros seznam'!DRX147","v":0},{"$f":"'kros seznam'!DRY147","v":0},{"$f":"'kros seznam'!DRZ147","v":0},{"$f":"'kros seznam'!DSA147","v":0},{"$f":"'kros seznam'!DSB147","v":0},{"$f":"'kros seznam'!DSC147","v":0},{"$f":"'kros seznam'!DSD147","v":0},{"$f":"'kros seznam'!DSE147","v":0},{"$f":"'kros seznam'!DSF147","v":0},{"$f":"'kros seznam'!DSG147","v":0},{"$f":"'kros seznam'!DSH147","v":0},{"$f":"'kros seznam'!DSI147","v":0},{"$f":"'kros seznam'!DSJ147","v":0},{"$f":"'kros seznam'!DSK147","v":0},{"$f":"'kros seznam'!DSL147","v":0},{"$f":"'kros seznam'!DSM147","v":0},{"$f":"'kros seznam'!DSN147","v":0},{"$f":"'kros seznam'!DSO147","v":0},{"$f":"'kros seznam'!DSP147","v":0},{"$f":"'kros seznam'!DSQ147","v":0},{"$f":"'kros seznam'!DSR147","v":0},{"$f":"'kros seznam'!DSS147","v":0},{"$f":"'kros seznam'!DST147","v":0},{"$f":"'kros seznam'!DSU147","v":0},{"$f":"'kros seznam'!DSV147","v":0},{"$f":"'kros seznam'!DSW147","v":0},{"$f":"'kros seznam'!DSX147","v":0},{"$f":"'kros seznam'!DSY147","v":0},{"$f":"'kros seznam'!DSZ147","v":0},{"$f":"'kros seznam'!DTA147","v":0},{"$f":"'kros seznam'!DTB147","v":0},{"$f":"'kros seznam'!DTC147","v":0},{"$f":"'kros seznam'!DTD147","v":0},{"$f":"'kros seznam'!DTE147","v":0},{"$f":"'kros seznam'!DTF147","v":0},{"$f":"'kros seznam'!DTG147","v":0},{"$f":"'kros seznam'!DTH147","v":0},{"$f":"'kros seznam'!DTI147","v":0},{"$f":"'kros seznam'!DTJ147","v":0},{"$f":"'kros seznam'!DTK147","v":0},{"$f":"'kros seznam'!DTL147","v":0},{"$f":"'kros seznam'!DTM147","v":0},{"$f":"'kros seznam'!DTN147","v":0},{"$f":"'kros seznam'!DTO147","v":0},{"$f":"'kros seznam'!DTP147","v":0},{"$f":"'kros seznam'!DTQ147","v":0},{"$f":"'kros seznam'!DTR147","v":0},{"$f":"'kros seznam'!DTS147","v":0},{"$f":"'kros seznam'!DTT147","v":0},{"$f":"'kros seznam'!DTU147","v":0},{"$f":"'kros seznam'!DTV147","v":0},{"$f":"'kros seznam'!DTW147","v":0},{"$f":"'kros seznam'!DTX147","v":0},{"$f":"'kros seznam'!DTY147","v":0},{"$f":"'kros seznam'!DTZ147","v":0},{"$f":"'kros seznam'!DUA147","v":0},{"$f":"'kros seznam'!DUB147","v":0},{"$f":"'kros seznam'!DUC147","v":0},{"$f":"'kros seznam'!DUD147","v":0},{"$f":"'kros seznam'!DUE147","v":0},{"$f":"'kros seznam'!DUF147","v":0},{"$f":"'kros seznam'!DUG147","v":0},{"$f":"'kros seznam'!DUH147","v":0},{"$f":"'kros seznam'!DUI147","v":0},{"$f":"'kros seznam'!DUJ147","v":0},{"$f":"'kros seznam'!DUK147","v":0},{"$f":"'kros seznam'!DUL147","v":0},{"$f":"'kros seznam'!DUM147","v":0},{"$f":"'kros seznam'!DUN147","v":0},{"$f":"'kros seznam'!DUO147","v":0},{"$f":"'kros seznam'!DUP147","v":0},{"$f":"'kros seznam'!DUQ147","v":0},{"$f":"'kros seznam'!DUR147","v":0},{"$f":"'kros seznam'!DUS147","v":0},{"$f":"'kros seznam'!DUT147","v":0},{"$f":"'kros seznam'!DUU147","v":0},{"$f":"'kros seznam'!DUV147","v":0},{"$f":"'kros seznam'!DUW147","v":0},{"$f":"'kros seznam'!DUX147","v":0},{"$f":"'kros seznam'!DUY147","v":0},{"$f":"'kros seznam'!DUZ147","v":0},{"$f":"'kros seznam'!DVA147","v":0},{"$f":"'kros seznam'!DVB147","v":0},{"$f":"'kros seznam'!DVC147","v":0},{"$f":"'kros seznam'!DVD147","v":0},{"$f":"'kros seznam'!DVE147","v":0},{"$f":"'kros seznam'!DVF147","v":0},{"$f":"'kros seznam'!DVG147","v":0},{"$f":"'kros seznam'!DVH147","v":0},{"$f":"'kros seznam'!DVI147","v":0},{"$f":"'kros seznam'!DVJ147","v":0},{"$f":"'kros seznam'!DVK147","v":0},{"$f":"'kros seznam'!DVL147","v":0},{"$f":"'kros seznam'!DVM147","v":0},{"$f":"'kros seznam'!DVN147","v":0},{"$f":"'kros seznam'!DVO147","v":0},{"$f":"'kros seznam'!DVP147","v":0},{"$f":"'kros seznam'!DVQ147","v":0},{"$f":"'kros seznam'!DVR147","v":0},{"$f":"'kros seznam'!DVS147","v":0},{"$f":"'kros seznam'!DVT147","v":0},{"$f":"'kros seznam'!DVU147","v":0},{"$f":"'kros seznam'!DVV147","v":0},{"$f":"'kros seznam'!DVW147","v":0},{"$f":"'kros seznam'!DVX147","v":0},{"$f":"'kros seznam'!DVY147","v":0},{"$f":"'kros seznam'!DVZ147","v":0},{"$f":"'kros seznam'!DWA147","v":0},{"$f":"'kros seznam'!DWB147","v":0},{"$f":"'kros seznam'!DWC147","v":0},{"$f":"'kros seznam'!DWD147","v":0},{"$f":"'kros seznam'!DWE147","v":0},{"$f":"'kros seznam'!DWF147","v":0},{"$f":"'kros seznam'!DWG147","v":0},{"$f":"'kros seznam'!DWH147","v":0},{"$f":"'kros seznam'!DWI147","v":0},{"$f":"'kros seznam'!DWJ147","v":0},{"$f":"'kros seznam'!DWK147","v":0},{"$f":"'kros seznam'!DWL147","v":0},{"$f":"'kros seznam'!DWM147","v":0},{"$f":"'kros seznam'!DWN147","v":0},{"$f":"'kros seznam'!DWO147","v":0},{"$f":"'kros seznam'!DWP147","v":0},{"$f":"'kros seznam'!DWQ147","v":0},{"$f":"'kros seznam'!DWR147","v":0},{"$f":"'kros seznam'!DWS147","v":0},{"$f":"'kros seznam'!DWT147","v":0},{"$f":"'kros seznam'!DWU147","v":0},{"$f":"'kros seznam'!DWV147","v":0},{"$f":"'kros seznam'!DWW147","v":0},{"$f":"'kros seznam'!DWX147","v":0},{"$f":"'kros seznam'!DWY147","v":0},{"$f":"'kros seznam'!DWZ147","v":0},{"$f":"'kros seznam'!DXA147","v":0},{"$f":"'kros seznam'!DXB147","v":0},{"$f":"'kros seznam'!DXC147","v":0},{"$f":"'kros seznam'!DXD147","v":0},{"$f":"'kros seznam'!DXE147","v":0},{"$f":"'kros seznam'!DXF147","v":0},{"$f":"'kros seznam'!DXG147","v":0},{"$f":"'kros seznam'!DXH147","v":0},{"$f":"'kros seznam'!DXI147","v":0},{"$f":"'kros seznam'!DXJ147","v":0},{"$f":"'kros seznam'!DXK147","v":0},{"$f":"'kros seznam'!DXL147","v":0},{"$f":"'kros seznam'!DXM147","v":0},{"$f":"'kros seznam'!DXN147","v":0},{"$f":"'kros seznam'!DXO147","v":0},{"$f":"'kros seznam'!DXP147","v":0},{"$f":"'kros seznam'!DXQ147","v":0},{"$f":"'kros seznam'!DXR147","v":0},{"$f":"'kros seznam'!DXS147","v":0},{"$f":"'kros seznam'!DXT147","v":0},{"$f":"'kros seznam'!DXU147","v":0},{"$f":"'kros seznam'!DXV147","v":0},{"$f":"'kros seznam'!DXW147","v":0},{"$f":"'kros seznam'!DXX147","v":0},{"$f":"'kros seznam'!DXY147","v":0},{"$f":"'kros seznam'!DXZ147","v":0},{"$f":"'kros seznam'!DYA147","v":0},{"$f":"'kros seznam'!DYB147","v":0},{"$f":"'kros seznam'!DYC147","v":0},{"$f":"'kros seznam'!DYD147","v":0},{"$f":"'kros seznam'!DYE147","v":0},{"$f":"'kros seznam'!DYF147","v":0},{"$f":"'kros seznam'!DYG147","v":0},{"$f":"'kros seznam'!DYH147","v":0},{"$f":"'kros seznam'!DYI147","v":0},{"$f":"'kros seznam'!DYJ147","v":0},{"$f":"'kros seznam'!DYK147","v":0},{"$f":"'kros seznam'!DYL147","v":0},{"$f":"'kros seznam'!DYM147","v":0},{"$f":"'kros seznam'!DYN147","v":0},{"$f":"'kros seznam'!DYO147","v":0},{"$f":"'kros seznam'!DYP147","v":0},{"$f":"'kros seznam'!DYQ147","v":0},{"$f":"'kros seznam'!DYR147","v":0},{"$f":"'kros seznam'!DYS147","v":0},{"$f":"'kros seznam'!DYT147","v":0},{"$f":"'kros seznam'!DYU147","v":0},{"$f":"'kros seznam'!DYV147","v":0},{"$f":"'kros seznam'!DYW147","v":0},{"$f":"'kros seznam'!DYX147","v":0},{"$f":"'kros seznam'!DYY147","v":0},{"$f":"'kros seznam'!DYZ147","v":0},{"$f":"'kros seznam'!DZA147","v":0},{"$f":"'kros seznam'!DZB147","v":0},{"$f":"'kros seznam'!DZC147","v":0},{"$f":"'kros seznam'!DZD147","v":0},{"$f":"'kros seznam'!DZE147","v":0},{"$f":"'kros seznam'!DZF147","v":0},{"$f":"'kros seznam'!DZG147","v":0},{"$f":"'kros seznam'!DZH147","v":0},{"$f":"'kros seznam'!DZI147","v":0},{"$f":"'kros seznam'!DZJ147","v":0},{"$f":"'kros seznam'!DZK147","v":0},{"$f":"'kros seznam'!DZL147","v":0},{"$f":"'kros seznam'!DZM147","v":0},{"$f":"'kros seznam'!DZN147","v":0},{"$f":"'kros seznam'!DZO147","v":0},{"$f":"'kros seznam'!DZP147","v":0},{"$f":"'kros seznam'!DZQ147","v":0},{"$f":"'kros seznam'!DZR147","v":0},{"$f":"'kros seznam'!DZS147","v":0},{"$f":"'kros seznam'!DZT147","v":0},{"$f":"'kros seznam'!DZU147","v":0},{"$f":"'kros seznam'!DZV147","v":0},{"$f":"'kros seznam'!DZW147","v":0},{"$f":"'kros seznam'!DZX147","v":0},{"$f":"'kros seznam'!DZY147","v":0},{"$f":"'kros seznam'!DZZ147","v":0},{"$f":"'kros seznam'!EAA147","v":0},{"$f":"'kros seznam'!EAB147","v":0},{"$f":"'kros seznam'!EAC147","v":0},{"$f":"'kros seznam'!EAD147","v":0},{"$f":"'kros seznam'!EAE147","v":0},{"$f":"'kros seznam'!EAF147","v":0},{"$f":"'kros seznam'!EAG147","v":0},{"$f":"'kros seznam'!EAH147","v":0},{"$f":"'kros seznam'!EAI147","v":0},{"$f":"'kros seznam'!EAJ147","v":0},{"$f":"'kros seznam'!EAK147","v":0},{"$f":"'kros seznam'!EAL147","v":0},{"$f":"'kros seznam'!EAM147","v":0},{"$f":"'kros seznam'!EAN147","v":0},{"$f":"'kros seznam'!EAO147","v":0},{"$f":"'kros seznam'!EAP147","v":0},{"$f":"'kros seznam'!EAQ147","v":0},{"$f":"'kros seznam'!EAR147","v":0},{"$f":"'kros seznam'!EAS147","v":0},{"$f":"'kros seznam'!EAT147","v":0},{"$f":"'kros seznam'!EAU147","v":0},{"$f":"'kros seznam'!EAV147","v":0},{"$f":"'kros seznam'!EAW147","v":0},{"$f":"'kros seznam'!EAX147","v":0},{"$f":"'kros seznam'!EAY147","v":0},{"$f":"'kros seznam'!EAZ147","v":0},{"$f":"'kros seznam'!EBA147","v":0},{"$f":"'kros seznam'!EBB147","v":0},{"$f":"'kros seznam'!EBC147","v":0},{"$f":"'kros seznam'!EBD147","v":0},{"$f":"'kros seznam'!EBE147","v":0},{"$f":"'kros seznam'!EBF147","v":0},{"$f":"'kros seznam'!EBG147","v":0},{"$f":"'kros seznam'!EBH147","v":0},{"$f":"'kros seznam'!EBI147","v":0},{"$f":"'kros seznam'!EBJ147","v":0},{"$f":"'kros seznam'!EBK147","v":0},{"$f":"'kros seznam'!EBL147","v":0},{"$f":"'kros seznam'!EBM147","v":0},{"$f":"'kros seznam'!EBN147","v":0},{"$f":"'kros seznam'!EBO147","v":0},{"$f":"'kros seznam'!EBP147","v":0},{"$f":"'kros seznam'!EBQ147","v":0},{"$f":"'kros seznam'!EBR147","v":0},{"$f":"'kros seznam'!EBS147","v":0},{"$f":"'kros seznam'!EBT147","v":0},{"$f":"'kros seznam'!EBU147","v":0},{"$f":"'kros seznam'!EBV147","v":0},{"$f":"'kros seznam'!EBW147","v":0},{"$f":"'kros seznam'!EBX147","v":0},{"$f":"'kros seznam'!EBY147","v":0},{"$f":"'kros seznam'!EBZ147","v":0},{"$f":"'kros seznam'!ECA147","v":0},{"$f":"'kros seznam'!ECB147","v":0},{"$f":"'kros seznam'!ECC147","v":0},{"$f":"'kros seznam'!ECD147","v":0},{"$f":"'kros seznam'!ECE147","v":0},{"$f":"'kros seznam'!ECF147","v":0},{"$f":"'kros seznam'!ECG147","v":0},{"$f":"'kros seznam'!ECH147","v":0},{"$f":"'kros seznam'!ECI147","v":0},{"$f":"'kros seznam'!ECJ147","v":0},{"$f":"'kros seznam'!ECK147","v":0},{"$f":"'kros seznam'!ECL147","v":0},{"$f":"'kros seznam'!ECM147","v":0},{"$f":"'kros seznam'!ECN147","v":0},{"$f":"'kros seznam'!ECO147","v":0},{"$f":"'kros seznam'!ECP147","v":0},{"$f":"'kros seznam'!ECQ147","v":0},{"$f":"'kros seznam'!ECR147","v":0},{"$f":"'kros seznam'!ECS147","v":0},{"$f":"'kros seznam'!ECT147","v":0},{"$f":"'kros seznam'!ECU147","v":0},{"$f":"'kros seznam'!ECV147","v":0},{"$f":"'kros seznam'!ECW147","v":0},{"$f":"'kros seznam'!ECX147","v":0},{"$f":"'kros seznam'!ECY147","v":0},{"$f":"'kros seznam'!ECZ147","v":0},{"$f":"'kros seznam'!EDA147","v":0},{"$f":"'kros seznam'!EDB147","v":0},{"$f":"'kros seznam'!EDC147","v":0},{"$f":"'kros seznam'!EDD147","v":0},{"$f":"'kros seznam'!EDE147","v":0},{"$f":"'kros seznam'!EDF147","v":0},{"$f":"'kros seznam'!EDG147","v":0},{"$f":"'kros seznam'!EDH147","v":0},{"$f":"'kros seznam'!EDI147","v":0},{"$f":"'kros seznam'!EDJ147","v":0},{"$f":"'kros seznam'!EDK147","v":0},{"$f":"'kros seznam'!EDL147","v":0},{"$f":"'kros seznam'!EDM147","v":0},{"$f":"'kros seznam'!EDN147","v":0},{"$f":"'kros seznam'!EDO147","v":0},{"$f":"'kros seznam'!EDP147","v":0},{"$f":"'kros seznam'!EDQ147","v":0},{"$f":"'kros seznam'!EDR147","v":0},{"$f":"'kros seznam'!EDS147","v":0},{"$f":"'kros seznam'!EDT147","v":0},{"$f":"'kros seznam'!EDU147","v":0},{"$f":"'kros seznam'!EDV147","v":0},{"$f":"'kros seznam'!EDW147","v":0},{"$f":"'kros seznam'!EDX147","v":0},{"$f":"'kros seznam'!EDY147","v":0},{"$f":"'kros seznam'!EDZ147","v":0},{"$f":"'kros seznam'!EEA147","v":0},{"$f":"'kros seznam'!EEB147","v":0},{"$f":"'kros seznam'!EEC147","v":0},{"$f":"'kros seznam'!EED147","v":0},{"$f":"'kros seznam'!EEE147","v":0},{"$f":"'kros seznam'!EEF147","v":0},{"$f":"'kros seznam'!EEG147","v":0},{"$f":"'kros seznam'!EEH147","v":0},{"$f":"'kros seznam'!EEI147","v":0},{"$f":"'kros seznam'!EEJ147","v":0},{"$f":"'kros seznam'!EEK147","v":0},{"$f":"'kros seznam'!EEL147","v":0},{"$f":"'kros seznam'!EEM147","v":0},{"$f":"'kros seznam'!EEN147","v":0},{"$f":"'kros seznam'!EEO147","v":0},{"$f":"'kros seznam'!EEP147","v":0},{"$f":"'kros seznam'!EEQ147","v":0},{"$f":"'kros seznam'!EER147","v":0},{"$f":"'kros seznam'!EES147","v":0},{"$f":"'kros seznam'!EET147","v":0},{"$f":"'kros seznam'!EEU147","v":0},{"$f":"'kros seznam'!EEV147","v":0},{"$f":"'kros seznam'!EEW147","v":0},{"$f":"'kros seznam'!EEX147","v":0},{"$f":"'kros seznam'!EEY147","v":0},{"$f":"'kros seznam'!EEZ147","v":0},{"$f":"'kros seznam'!EFA147","v":0},{"$f":"'kros seznam'!EFB147","v":0},{"$f":"'kros seznam'!EFC147","v":0},{"$f":"'kros seznam'!EFD147","v":0},{"$f":"'kros seznam'!EFE147","v":0},{"$f":"'kros seznam'!EFF147","v":0},{"$f":"'kros seznam'!EFG147","v":0},{"$f":"'kros seznam'!EFH147","v":0},{"$f":"'kros seznam'!EFI147","v":0},{"$f":"'kros seznam'!EFJ147","v":0},{"$f":"'kros seznam'!EFK147","v":0},{"$f":"'kros seznam'!EFL147","v":0},{"$f":"'kros seznam'!EFM147","v":0},{"$f":"'kros seznam'!EFN147","v":0},{"$f":"'kros seznam'!EFO147","v":0},{"$f":"'kros seznam'!EFP147","v":0},{"$f":"'kros seznam'!EFQ147","v":0},{"$f":"'kros seznam'!EFR147","v":0},{"$f":"'kros seznam'!EFS147","v":0},{"$f":"'kros seznam'!EFT147","v":0},{"$f":"'kros seznam'!EFU147","v":0},{"$f":"'kros seznam'!EFV147","v":0},{"$f":"'kros seznam'!EFW147","v":0},{"$f":"'kros seznam'!EFX147","v":0},{"$f":"'kros seznam'!EFY147","v":0},{"$f":"'kros seznam'!EFZ147","v":0},{"$f":"'kros seznam'!EGA147","v":0},{"$f":"'kros seznam'!EGB147","v":0},{"$f":"'kros seznam'!EGC147","v":0},{"$f":"'kros seznam'!EGD147","v":0},{"$f":"'kros seznam'!EGE147","v":0},{"$f":"'kros seznam'!EGF147","v":0},{"$f":"'kros seznam'!EGG147","v":0},{"$f":"'kros seznam'!EGH147","v":0},{"$f":"'kros seznam'!EGI147","v":0},{"$f":"'kros seznam'!EGJ147","v":0},{"$f":"'kros seznam'!EGK147","v":0},{"$f":"'kros seznam'!EGL147","v":0},{"$f":"'kros seznam'!EGM147","v":0},{"$f":"'kros seznam'!EGN147","v":0},{"$f":"'kros seznam'!EGO147","v":0},{"$f":"'kros seznam'!EGP147","v":0},{"$f":"'kros seznam'!EGQ147","v":0},{"$f":"'kros seznam'!EGR147","v":0},{"$f":"'kros seznam'!EGS147","v":0},{"$f":"'kros seznam'!EGT147","v":0},{"$f":"'kros seznam'!EGU147","v":0},{"$f":"'kros seznam'!EGV147","v":0},{"$f":"'kros seznam'!EGW147","v":0},{"$f":"'kros seznam'!EGX147","v":0},{"$f":"'kros seznam'!EGY147","v":0},{"$f":"'kros seznam'!EGZ147","v":0},{"$f":"'kros seznam'!EHA147","v":0},{"$f":"'kros seznam'!EHB147","v":0},{"$f":"'kros seznam'!EHC147","v":0},{"$f":"'kros seznam'!EHD147","v":0},{"$f":"'kros seznam'!EHE147","v":0},{"$f":"'kros seznam'!EHF147","v":0},{"$f":"'kros seznam'!EHG147","v":0},{"$f":"'kros seznam'!EHH147","v":0},{"$f":"'kros seznam'!EHI147","v":0},{"$f":"'kros seznam'!EHJ147","v":0},{"$f":"'kros seznam'!EHK147","v":0},{"$f":"'kros seznam'!EHL147","v":0},{"$f":"'kros seznam'!EHM147","v":0},{"$f":"'kros seznam'!EHN147","v":0},{"$f":"'kros seznam'!EHO147","v":0},{"$f":"'kros seznam'!EHP147","v":0},{"$f":"'kros seznam'!EHQ147","v":0},{"$f":"'kros seznam'!EHR147","v":0},{"$f":"'kros seznam'!EHS147","v":0},{"$f":"'kros seznam'!EHT147","v":0},{"$f":"'kros seznam'!EHU147","v":0},{"$f":"'kros seznam'!EHV147","v":0},{"$f":"'kros seznam'!EHW147","v":0},{"$f":"'kros seznam'!EHX147","v":0},{"$f":"'kros seznam'!EHY147","v":0},{"$f":"'kros seznam'!EHZ147","v":0},{"$f":"'kros seznam'!EIA147","v":0},{"$f":"'kros seznam'!EIB147","v":0},{"$f":"'kros seznam'!EIC147","v":0},{"$f":"'kros seznam'!EID147","v":0},{"$f":"'kros seznam'!EIE147","v":0},{"$f":"'kros seznam'!EIF147","v":0},{"$f":"'kros seznam'!EIG147","v":0},{"$f":"'kros seznam'!EIH147","v":0},{"$f":"'kros seznam'!EII147","v":0},{"$f":"'kros seznam'!EIJ147","v":0},{"$f":"'kros seznam'!EIK147","v":0},{"$f":"'kros seznam'!EIL147","v":0},{"$f":"'kros seznam'!EIM147","v":0},{"$f":"'kros seznam'!EIN147","v":0},{"$f":"'kros seznam'!EIO147","v":0},{"$f":"'kros seznam'!EIP147","v":0},{"$f":"'kros seznam'!EIQ147","v":0},{"$f":"'kros seznam'!EIR147","v":0},{"$f":"'kros seznam'!EIS147","v":0},{"$f":"'kros seznam'!EIT147","v":0},{"$f":"'kros seznam'!EIU147","v":0},{"$f":"'kros seznam'!EIV147","v":0},{"$f":"'kros seznam'!EIW147","v":0},{"$f":"'kros seznam'!EIX147","v":0},{"$f":"'kros seznam'!EIY147","v":0},{"$f":"'kros seznam'!EIZ147","v":0},{"$f":"'kros seznam'!EJA147","v":0},{"$f":"'kros seznam'!EJB147","v":0},{"$f":"'kros seznam'!EJC147","v":0},{"$f":"'kros seznam'!EJD147","v":0},{"$f":"'kros seznam'!EJE147","v":0},{"$f":"'kros seznam'!EJF147","v":0},{"$f":"'kros seznam'!EJG147","v":0},{"$f":"'kros seznam'!EJH147","v":0},{"$f":"'kros seznam'!EJI147","v":0},{"$f":"'kros seznam'!EJJ147","v":0},{"$f":"'kros seznam'!EJK147","v":0},{"$f":"'kros seznam'!EJL147","v":0},{"$f":"'kros seznam'!EJM147","v":0},{"$f":"'kros seznam'!EJN147","v":0},{"$f":"'kros seznam'!EJO147","v":0},{"$f":"'kros seznam'!EJP147","v":0},{"$f":"'kros seznam'!EJQ147","v":0},{"$f":"'kros seznam'!EJR147","v":0},{"$f":"'kros seznam'!EJS147","v":0},{"$f":"'kros seznam'!EJT147","v":0},{"$f":"'kros seznam'!EJU147","v":0},{"$f":"'kros seznam'!EJV147","v":0},{"$f":"'kros seznam'!EJW147","v":0},{"$f":"'kros seznam'!EJX147","v":0},{"$f":"'kros seznam'!EJY147","v":0},{"$f":"'kros seznam'!EJZ147","v":0},{"$f":"'kros seznam'!EKA147","v":0},{"$f":"'kros seznam'!EKB147","v":0},{"$f":"'kros seznam'!EKC147","v":0},{"$f":"'kros seznam'!EKD147","v":0},{"$f":"'kros seznam'!EKE147","v":0},{"$f":"'kros seznam'!EKF147","v":0},{"$f":"'kros seznam'!EKG147","v":0},{"$f":"'kros seznam'!EKH147","v":0},{"$f":"'kros seznam'!EKI147","v":0},{"$f":"'kros seznam'!EKJ147","v":0},{"$f":"'kros seznam'!EKK147","v":0},{"$f":"'kros seznam'!EKL147","v":0},{"$f":"'kros seznam'!EKM147","v":0},{"$f":"'kros seznam'!EKN147","v":0},{"$f":"'kros seznam'!EKO147","v":0},{"$f":"'kros seznam'!EKP147","v":0},{"$f":"'kros seznam'!EKQ147","v":0},{"$f":"'kros seznam'!EKR147","v":0},{"$f":"'kros seznam'!EKS147","v":0},{"$f":"'kros seznam'!EKT147","v":0},{"$f":"'kros seznam'!EKU147","v":0},{"$f":"'kros seznam'!EKV147","v":0},{"$f":"'kros seznam'!EKW147","v":0},{"$f":"'kros seznam'!EKX147","v":0},{"$f":"'kros seznam'!EKY147","v":0},{"$f":"'kros seznam'!EKZ147","v":0},{"$f":"'kros seznam'!ELA147","v":0},{"$f":"'kros seznam'!ELB147","v":0},{"$f":"'kros seznam'!ELC147","v":0},{"$f":"'kros seznam'!ELD147","v":0},{"$f":"'kros seznam'!ELE147","v":0},{"$f":"'kros seznam'!ELF147","v":0},{"$f":"'kros seznam'!ELG147","v":0},{"$f":"'kros seznam'!ELH147","v":0},{"$f":"'kros seznam'!ELI147","v":0},{"$f":"'kros seznam'!ELJ147","v":0},{"$f":"'kros seznam'!ELK147","v":0},{"$f":"'kros seznam'!ELL147","v":0},{"$f":"'kros seznam'!ELM147","v":0},{"$f":"'kros seznam'!ELN147","v":0},{"$f":"'kros seznam'!ELO147","v":0},{"$f":"'kros seznam'!ELP147","v":0},{"$f":"'kros seznam'!ELQ147","v":0},{"$f":"'kros seznam'!ELR147","v":0},{"$f":"'kros seznam'!ELS147","v":0},{"$f":"'kros seznam'!ELT147","v":0},{"$f":"'kros seznam'!ELU147","v":0},{"$f":"'kros seznam'!ELV147","v":0},{"$f":"'kros seznam'!ELW147","v":0},{"$f":"'kros seznam'!ELX147","v":0},{"$f":"'kros seznam'!ELY147","v":0},{"$f":"'kros seznam'!ELZ147","v":0},{"$f":"'kros seznam'!EMA147","v":0},{"$f":"'kros seznam'!EMB147","v":0},{"$f":"'kros seznam'!EMC147","v":0},{"$f":"'kros seznam'!EMD147","v":0},{"$f":"'kros seznam'!EME147","v":0},{"$f":"'kros seznam'!EMF147","v":0},{"$f":"'kros seznam'!EMG147","v":0},{"$f":"'kros seznam'!EMH147","v":0},{"$f":"'kros seznam'!EMI147","v":0},{"$f":"'kros seznam'!EMJ147","v":0},{"$f":"'kros seznam'!EMK147","v":0},{"$f":"'kros seznam'!EML147","v":0},{"$f":"'kros seznam'!EMM147","v":0},{"$f":"'kros seznam'!EMN147","v":0},{"$f":"'kros seznam'!EMO147","v":0},{"$f":"'kros seznam'!EMP147","v":0},{"$f":"'kros seznam'!EMQ147","v":0},{"$f":"'kros seznam'!EMR147","v":0},{"$f":"'kros seznam'!EMS147","v":0},{"$f":"'kros seznam'!EMT147","v":0},{"$f":"'kros seznam'!EMU147","v":0},{"$f":"'kros seznam'!EMV147","v":0},{"$f":"'kros seznam'!EMW147","v":0},{"$f":"'kros seznam'!EMX147","v":0},{"$f":"'kros seznam'!EMY147","v":0},{"$f":"'kros seznam'!EMZ147","v":0},{"$f":"'kros seznam'!ENA147","v":0},{"$f":"'kros seznam'!ENB147","v":0},{"$f":"'kros seznam'!ENC147","v":0},{"$f":"'kros seznam'!END147","v":0},{"$f":"'kros seznam'!ENE147","v":0},{"$f":"'kros seznam'!ENF147","v":0},{"$f":"'kros seznam'!ENG147","v":0},{"$f":"'kros seznam'!ENH147","v":0},{"$f":"'kros seznam'!ENI147","v":0},{"$f":"'kros seznam'!ENJ147","v":0},{"$f":"'kros seznam'!ENK147","v":0},{"$f":"'kros seznam'!ENL147","v":0},{"$f":"'kros seznam'!ENM147","v":0},{"$f":"'kros seznam'!ENN147","v":0},{"$f":"'kros seznam'!ENO147","v":0},{"$f":"'kros seznam'!ENP147","v":0},{"$f":"'kros seznam'!ENQ147","v":0},{"$f":"'kros seznam'!ENR147","v":0},{"$f":"'kros seznam'!ENS147","v":0},{"$f":"'kros seznam'!ENT147","v":0},{"$f":"'kros seznam'!ENU147","v":0},{"$f":"'kros seznam'!ENV147","v":0},{"$f":"'kros seznam'!ENW147","v":0},{"$f":"'kros seznam'!ENX147","v":0},{"$f":"'kros seznam'!ENY147","v":0},{"$f":"'kros seznam'!ENZ147","v":0},{"$f":"'kros seznam'!EOA147","v":0},{"$f":"'kros seznam'!EOB147","v":0},{"$f":"'kros seznam'!EOC147","v":0},{"$f":"'kros seznam'!EOD147","v":0},{"$f":"'kros seznam'!EOE147","v":0},{"$f":"'kros seznam'!EOF147","v":0},{"$f":"'kros seznam'!EOG147","v":0},{"$f":"'kros seznam'!EOH147","v":0},{"$f":"'kros seznam'!EOI147","v":0},{"$f":"'kros seznam'!EOJ147","v":0},{"$f":"'kros seznam'!EOK147","v":0},{"$f":"'kros seznam'!EOL147","v":0},{"$f":"'kros seznam'!EOM147","v":0},{"$f":"'kros seznam'!EON147","v":0},{"$f":"'kros seznam'!EOO147","v":0},{"$f":"'kros seznam'!EOP147","v":0},{"$f":"'kros seznam'!EOQ147","v":0},{"$f":"'kros seznam'!EOR147","v":0},{"$f":"'kros seznam'!EOS147","v":0},{"$f":"'kros seznam'!EOT147","v":0},{"$f":"'kros seznam'!EOU147","v":0},{"$f":"'kros seznam'!EOV147","v":0},{"$f":"'kros seznam'!EOW147","v":0},{"$f":"'kros seznam'!EOX147","v":0},{"$f":"'kros seznam'!EOY147","v":0},{"$f":"'kros seznam'!EOZ147","v":0},{"$f":"'kros seznam'!EPA147","v":0},{"$f":"'kros seznam'!EPB147","v":0},{"$f":"'kros seznam'!EPC147","v":0},{"$f":"'kros seznam'!EPD147","v":0},{"$f":"'kros seznam'!EPE147","v":0},{"$f":"'kros seznam'!EPF147","v":0},{"$f":"'kros seznam'!EPG147","v":0},{"$f":"'kros seznam'!EPH147","v":0},{"$f":"'kros seznam'!EPI147","v":0},{"$f":"'kros seznam'!EPJ147","v":0},{"$f":"'kros seznam'!EPK147","v":0},{"$f":"'kros seznam'!EPL147","v":0},{"$f":"'kros seznam'!EPM147","v":0},{"$f":"'kros seznam'!EPN147","v":0},{"$f":"'kros seznam'!EPO147","v":0},{"$f":"'kros seznam'!EPP147","v":0},{"$f":"'kros seznam'!EPQ147","v":0},{"$f":"'kros seznam'!EPR147","v":0},{"$f":"'kros seznam'!EPS147","v":0},{"$f":"'kros seznam'!EPT147","v":0},{"$f":"'kros seznam'!EPU147","v":0},{"$f":"'kros seznam'!EPV147","v":0},{"$f":"'kros seznam'!EPW147","v":0},{"$f":"'kros seznam'!EPX147","v":0},{"$f":"'kros seznam'!EPY147","v":0},{"$f":"'kros seznam'!EPZ147","v":0},{"$f":"'kros seznam'!EQA147","v":0},{"$f":"'kros seznam'!EQB147","v":0},{"$f":"'kros seznam'!EQC147","v":0},{"$f":"'kros seznam'!EQD147","v":0},{"$f":"'kros seznam'!EQE147","v":0},{"$f":"'kros seznam'!EQF147","v":0},{"$f":"'kros seznam'!EQG147","v":0},{"$f":"'kros seznam'!EQH147","v":0},{"$f":"'kros seznam'!EQI147","v":0},{"$f":"'kros seznam'!EQJ147","v":0},{"$f":"'kros seznam'!EQK147","v":0},{"$f":"'kros seznam'!EQL147","v":0},{"$f":"'kros seznam'!EQM147","v":0},{"$f":"'kros seznam'!EQN147","v":0},{"$f":"'kros seznam'!EQO147","v":0},{"$f":"'kros seznam'!EQP147","v":0},{"$f":"'kros seznam'!EQQ147","v":0},{"$f":"'kros seznam'!EQR147","v":0},{"$f":"'kros seznam'!EQS147","v":0},{"$f":"'kros seznam'!EQT147","v":0},{"$f":"'kros seznam'!EQU147","v":0},{"$f":"'kros seznam'!EQV147","v":0},{"$f":"'kros seznam'!EQW147","v":0},{"$f":"'kros seznam'!EQX147","v":0},{"$f":"'kros seznam'!EQY147","v":0},{"$f":"'kros seznam'!EQZ147","v":0},{"$f":"'kros seznam'!ERA147","v":0},{"$f":"'kros seznam'!ERB147","v":0},{"$f":"'kros seznam'!ERC147","v":0},{"$f":"'kros seznam'!ERD147","v":0},{"$f":"'kros seznam'!ERE147","v":0},{"$f":"'kros seznam'!ERF147","v":0},{"$f":"'kros seznam'!ERG147","v":0},{"$f":"'kros seznam'!ERH147","v":0},{"$f":"'kros seznam'!ERI147","v":0},{"$f":"'kros seznam'!ERJ147","v":0},{"$f":"'kros seznam'!ERK147","v":0},{"$f":"'kros seznam'!ERL147","v":0},{"$f":"'kros seznam'!ERM147","v":0},{"$f":"'kros seznam'!ERN147","v":0},{"$f":"'kros seznam'!ERO147","v":0},{"$f":"'kros seznam'!ERP147","v":0},{"$f":"'kros seznam'!ERQ147","v":0},{"$f":"'kros seznam'!ERR147","v":0},{"$f":"'kros seznam'!ERS147","v":0},{"$f":"'kros seznam'!ERT147","v":0},{"$f":"'kros seznam'!ERU147","v":0},{"$f":"'kros seznam'!ERV147","v":0},{"$f":"'kros seznam'!ERW147","v":0},{"$f":"'kros seznam'!ERX147","v":0},{"$f":"'kros seznam'!ERY147","v":0},{"$f":"'kros seznam'!ERZ147","v":0},{"$f":"'kros seznam'!ESA147","v":0},{"$f":"'kros seznam'!ESB147","v":0},{"$f":"'kros seznam'!ESC147","v":0},{"$f":"'kros seznam'!ESD147","v":0},{"$f":"'kros seznam'!ESE147","v":0},{"$f":"'kros seznam'!ESF147","v":0},{"$f":"'kros seznam'!ESG147","v":0},{"$f":"'kros seznam'!ESH147","v":0},{"$f":"'kros seznam'!ESI147","v":0},{"$f":"'kros seznam'!ESJ147","v":0},{"$f":"'kros seznam'!ESK147","v":0},{"$f":"'kros seznam'!ESL147","v":0},{"$f":"'kros seznam'!ESM147","v":0},{"$f":"'kros seznam'!ESN147","v":0},{"$f":"'kros seznam'!ESO147","v":0},{"$f":"'kros seznam'!ESP147","v":0},{"$f":"'kros seznam'!ESQ147","v":0},{"$f":"'kros seznam'!ESR147","v":0},{"$f":"'kros seznam'!ESS147","v":0},{"$f":"'kros seznam'!EST147","v":0},{"$f":"'kros seznam'!ESU147","v":0},{"$f":"'kros seznam'!ESV147","v":0},{"$f":"'kros seznam'!ESW147","v":0},{"$f":"'kros seznam'!ESX147","v":0},{"$f":"'kros seznam'!ESY147","v":0},{"$f":"'kros seznam'!ESZ147","v":0},{"$f":"'kros seznam'!ETA147","v":0},{"$f":"'kros seznam'!ETB147","v":0},{"$f":"'kros seznam'!ETC147","v":0},{"$f":"'kros seznam'!ETD147","v":0},{"$f":"'kros seznam'!ETE147","v":0},{"$f":"'kros seznam'!ETF147","v":0},{"$f":"'kros seznam'!ETG147","v":0},{"$f":"'kros seznam'!ETH147","v":0},{"$f":"'kros seznam'!ETI147","v":0},{"$f":"'kros seznam'!ETJ147","v":0},{"$f":"'kros seznam'!ETK147","v":0},{"$f":"'kros seznam'!ETL147","v":0},{"$f":"'kros seznam'!ETM147","v":0},{"$f":"'kros seznam'!ETN147","v":0},{"$f":"'kros seznam'!ETO147","v":0},{"$f":"'kros seznam'!ETP147","v":0},{"$f":"'kros seznam'!ETQ147","v":0},{"$f":"'kros seznam'!ETR147","v":0},{"$f":"'kros seznam'!ETS147","v":0},{"$f":"'kros seznam'!ETT147","v":0},{"$f":"'kros seznam'!ETU147","v":0},{"$f":"'kros seznam'!ETV147","v":0},{"$f":"'kros seznam'!ETW147","v":0},{"$f":"'kros seznam'!ETX147","v":0},{"$f":"'kros seznam'!ETY147","v":0},{"$f":"'kros seznam'!ETZ147","v":0},{"$f":"'kros seznam'!EUA147","v":0},{"$f":"'kros seznam'!EUB147","v":0},{"$f":"'kros seznam'!EUC147","v":0},{"$f":"'kros seznam'!EUD147","v":0},{"$f":"'kros seznam'!EUE147","v":0},{"$f":"'kros seznam'!EUF147","v":0},{"$f":"'kros seznam'!EUG147","v":0},{"$f":"'kros seznam'!EUH147","v":0},{"$f":"'kros seznam'!EUI147","v":0},{"$f":"'kros seznam'!EUJ147","v":0},{"$f":"'kros seznam'!EUK147","v":0},{"$f":"'kros seznam'!EUL147","v":0},{"$f":"'kros seznam'!EUM147","v":0},{"$f":"'kros seznam'!EUN147","v":0},{"$f":"'kros seznam'!EUO147","v":0},{"$f":"'kros seznam'!EUP147","v":0},{"$f":"'kros seznam'!EUQ147","v":0},{"$f":"'kros seznam'!EUR147","v":0},{"$f":"'kros seznam'!EUS147","v":0},{"$f":"'kros seznam'!EUT147","v":0},{"$f":"'kros seznam'!EUU147","v":0},{"$f":"'kros seznam'!EUV147","v":0},{"$f":"'kros seznam'!EUW147","v":0},{"$f":"'kros seznam'!EUX147","v":0},{"$f":"'kros seznam'!EUY147","v":0},{"$f":"'kros seznam'!EUZ147","v":0},{"$f":"'kros seznam'!EVA147","v":0},{"$f":"'kros seznam'!EVB147","v":0},{"$f":"'kros seznam'!EVC147","v":0},{"$f":"'kros seznam'!EVD147","v":0},{"$f":"'kros seznam'!EVE147","v":0},{"$f":"'kros seznam'!EVF147","v":0},{"$f":"'kros seznam'!EVG147","v":0},{"$f":"'kros seznam'!EVH147","v":0},{"$f":"'kros seznam'!EVI147","v":0},{"$f":"'kros seznam'!EVJ147","v":0},{"$f":"'kros seznam'!EVK147","v":0},{"$f":"'kros seznam'!EVL147","v":0},{"$f":"'kros seznam'!EVM147","v":0},{"$f":"'kros seznam'!EVN147","v":0},{"$f":"'kros seznam'!EVO147","v":0},{"$f":"'kros seznam'!EVP147","v":0},{"$f":"'kros seznam'!EVQ147","v":0},{"$f":"'kros seznam'!EVR147","v":0},{"$f":"'kros seznam'!EVS147","v":0},{"$f":"'kros seznam'!EVT147","v":0},{"$f":"'kros seznam'!EVU147","v":0},{"$f":"'kros seznam'!EVV147","v":0},{"$f":"'kros seznam'!EVW147","v":0},{"$f":"'kros seznam'!EVX147","v":0},{"$f":"'kros seznam'!EVY147","v":0},{"$f":"'kros seznam'!EVZ147","v":0},{"$f":"'kros seznam'!EWA147","v":0},{"$f":"'kros seznam'!EWB147","v":0},{"$f":"'kros seznam'!EWC147","v":0},{"$f":"'kros seznam'!EWD147","v":0},{"$f":"'kros seznam'!EWE147","v":0},{"$f":"'kros seznam'!EWF147","v":0},{"$f":"'kros seznam'!EWG147","v":0},{"$f":"'kros seznam'!EWH147","v":0},{"$f":"'kros seznam'!EWI147","v":0},{"$f":"'kros seznam'!EWJ147","v":0},{"$f":"'kros seznam'!EWK147","v":0},{"$f":"'kros seznam'!EWL147","v":0},{"$f":"'kros seznam'!EWM147","v":0},{"$f":"'kros seznam'!EWN147","v":0},{"$f":"'kros seznam'!EWO147","v":0},{"$f":"'kros seznam'!EWP147","v":0},{"$f":"'kros seznam'!EWQ147","v":0},{"$f":"'kros seznam'!EWR147","v":0},{"$f":"'kros seznam'!EWS147","v":0},{"$f":"'kros seznam'!EWT147","v":0},{"$f":"'kros seznam'!EWU147","v":0},{"$f":"'kros seznam'!EWV147","v":0},{"$f":"'kros seznam'!EWW147","v":0},{"$f":"'kros seznam'!EWX147","v":0},{"$f":"'kros seznam'!EWY147","v":0},{"$f":"'kros seznam'!EWZ147","v":0},{"$f":"'kros seznam'!EXA147","v":0},{"$f":"'kros seznam'!EXB147","v":0},{"$f":"'kros seznam'!EXC147","v":0},{"$f":"'kros seznam'!EXD147","v":0},{"$f":"'kros seznam'!EXE147","v":0},{"$f":"'kros seznam'!EXF147","v":0},{"$f":"'kros seznam'!EXG147","v":0},{"$f":"'kros seznam'!EXH147","v":0},{"$f":"'kros seznam'!EXI147","v":0},{"$f":"'kros seznam'!EXJ147","v":0},{"$f":"'kros seznam'!EXK147","v":0},{"$f":"'kros seznam'!EXL147","v":0},{"$f":"'kros seznam'!EXM147","v":0},{"$f":"'kros seznam'!EXN147","v":0},{"$f":"'kros seznam'!EXO147","v":0},{"$f":"'kros seznam'!EXP147","v":0},{"$f":"'kros seznam'!EXQ147","v":0},{"$f":"'kros seznam'!EXR147","v":0},{"$f":"'kros seznam'!EXS147","v":0},{"$f":"'kros seznam'!EXT147","v":0},{"$f":"'kros seznam'!EXU147","v":0},{"$f":"'kros seznam'!EXV147","v":0},{"$f":"'kros seznam'!EXW147","v":0},{"$f":"'kros seznam'!EXX147","v":0},{"$f":"'kros seznam'!EXY147","v":0},{"$f":"'kros seznam'!EXZ147","v":0},{"$f":"'kros seznam'!EYA147","v":0},{"$f":"'kros seznam'!EYB147","v":0},{"$f":"'kros seznam'!EYC147","v":0},{"$f":"'kros seznam'!EYD147","v":0},{"$f":"'kros seznam'!EYE147","v":0},{"$f":"'kros seznam'!EYF147","v":0},{"$f":"'kros seznam'!EYG147","v":0},{"$f":"'kros seznam'!EYH147","v":0},{"$f":"'kros seznam'!EYI147","v":0},{"$f":"'kros seznam'!EYJ147","v":0},{"$f":"'kros seznam'!EYK147","v":0},{"$f":"'kros seznam'!EYL147","v":0},{"$f":"'kros seznam'!EYM147","v":0},{"$f":"'kros seznam'!EYN147","v":0},{"$f":"'kros seznam'!EYO147","v":0},{"$f":"'kros seznam'!EYP147","v":0},{"$f":"'kros seznam'!EYQ147","v":0},{"$f":"'kros seznam'!EYR147","v":0},{"$f":"'kros seznam'!EYS147","v":0},{"$f":"'kros seznam'!EYT147","v":0},{"$f":"'kros seznam'!EYU147","v":0},{"$f":"'kros seznam'!EYV147","v":0},{"$f":"'kros seznam'!EYW147","v":0},{"$f":"'kros seznam'!EYX147","v":0},{"$f":"'kros seznam'!EYY147","v":0},{"$f":"'kros seznam'!EYZ147","v":0},{"$f":"'kros seznam'!EZA147","v":0},{"$f":"'kros seznam'!EZB147","v":0},{"$f":"'kros seznam'!EZC147","v":0},{"$f":"'kros seznam'!EZD147","v":0},{"$f":"'kros seznam'!EZE147","v":0},{"$f":"'kros seznam'!EZF147","v":0},{"$f":"'kros seznam'!EZG147","v":0},{"$f":"'kros seznam'!EZH147","v":0},{"$f":"'kros seznam'!EZI147","v":0},{"$f":"'kros seznam'!EZJ147","v":0},{"$f":"'kros seznam'!EZK147","v":0},{"$f":"'kros seznam'!EZL147","v":0},{"$f":"'kros seznam'!EZM147","v":0},{"$f":"'kros seznam'!EZN147","v":0},{"$f":"'kros seznam'!EZO147","v":0},{"$f":"'kros seznam'!EZP147","v":0},{"$f":"'kros seznam'!EZQ147","v":0},{"$f":"'kros seznam'!EZR147","v":0},{"$f":"'kros seznam'!EZS147","v":0},{"$f":"'kros seznam'!EZT147","v":0},{"$f":"'kros seznam'!EZU147","v":0},{"$f":"'kros seznam'!EZV147","v":0},{"$f":"'kros seznam'!EZW147","v":0},{"$f":"'kros seznam'!EZX147","v":0},{"$f":"'kros seznam'!EZY147","v":0},{"$f":"'kros seznam'!EZZ147","v":0},{"$f":"'kros seznam'!FAA147","v":0},{"$f":"'kros seznam'!FAB147","v":0},{"$f":"'kros seznam'!FAC147","v":0},{"$f":"'kros seznam'!FAD147","v":0},{"$f":"'kros seznam'!FAE147","v":0},{"$f":"'kros seznam'!FAF147","v":0},{"$f":"'kros seznam'!FAG147","v":0},{"$f":"'kros seznam'!FAH147","v":0},{"$f":"'kros seznam'!FAI147","v":0},{"$f":"'kros seznam'!FAJ147","v":0},{"$f":"'kros seznam'!FAK147","v":0},{"$f":"'kros seznam'!FAL147","v":0},{"$f":"'kros seznam'!FAM147","v":0},{"$f":"'kros seznam'!FAN147","v":0},{"$f":"'kros seznam'!FAO147","v":0},{"$f":"'kros seznam'!FAP147","v":0},{"$f":"'kros seznam'!FAQ147","v":0},{"$f":"'kros seznam'!FAR147","v":0},{"$f":"'kros seznam'!FAS147","v":0},{"$f":"'kros seznam'!FAT147","v":0},{"$f":"'kros seznam'!FAU147","v":0},{"$f":"'kros seznam'!FAV147","v":0},{"$f":"'kros seznam'!FAW147","v":0},{"$f":"'kros seznam'!FAX147","v":0},{"$f":"'kros seznam'!FAY147","v":0},{"$f":"'kros seznam'!FAZ147","v":0},{"$f":"'kros seznam'!FBA147","v":0},{"$f":"'kros seznam'!FBB147","v":0},{"$f":"'kros seznam'!FBC147","v":0},{"$f":"'kros seznam'!FBD147","v":0},{"$f":"'kros seznam'!FBE147","v":0},{"$f":"'kros seznam'!FBF147","v":0},{"$f":"'kros seznam'!FBG147","v":0},{"$f":"'kros seznam'!FBH147","v":0},{"$f":"'kros seznam'!FBI147","v":0},{"$f":"'kros seznam'!FBJ147","v":0},{"$f":"'kros seznam'!FBK147","v":0},{"$f":"'kros seznam'!FBL147","v":0},{"$f":"'kros seznam'!FBM147","v":0},{"$f":"'kros seznam'!FBN147","v":0},{"$f":"'kros seznam'!FBO147","v":0},{"$f":"'kros seznam'!FBP147","v":0},{"$f":"'kros seznam'!FBQ147","v":0},{"$f":"'kros seznam'!FBR147","v":0},{"$f":"'kros seznam'!FBS147","v":0},{"$f":"'kros seznam'!FBT147","v":0},{"$f":"'kros seznam'!FBU147","v":0},{"$f":"'kros seznam'!FBV147","v":0},{"$f":"'kros seznam'!FBW147","v":0},{"$f":"'kros seznam'!FBX147","v":0},{"$f":"'kros seznam'!FBY147","v":0},{"$f":"'kros seznam'!FBZ147","v":0},{"$f":"'kros seznam'!FCA147","v":0},{"$f":"'kros seznam'!FCB147","v":0},{"$f":"'kros seznam'!FCC147","v":0},{"$f":"'kros seznam'!FCD147","v":0},{"$f":"'kros seznam'!FCE147","v":0},{"$f":"'kros seznam'!FCF147","v":0},{"$f":"'kros seznam'!FCG147","v":0},{"$f":"'kros seznam'!FCH147","v":0},{"$f":"'kros seznam'!FCI147","v":0},{"$f":"'kros seznam'!FCJ147","v":0},{"$f":"'kros seznam'!FCK147","v":0},{"$f":"'kros seznam'!FCL147","v":0},{"$f":"'kros seznam'!FCM147","v":0},{"$f":"'kros seznam'!FCN147","v":0},{"$f":"'kros seznam'!FCO147","v":0},{"$f":"'kros seznam'!FCP147","v":0},{"$f":"'kros seznam'!FCQ147","v":0},{"$f":"'kros seznam'!FCR147","v":0},{"$f":"'kros seznam'!FCS147","v":0},{"$f":"'kros seznam'!FCT147","v":0},{"$f":"'kros seznam'!FCU147","v":0},{"$f":"'kros seznam'!FCV147","v":0},{"$f":"'kros seznam'!FCW147","v":0},{"$f":"'kros seznam'!FCX147","v":0},{"$f":"'kros seznam'!FCY147","v":0},{"$f":"'kros seznam'!FCZ147","v":0},{"$f":"'kros seznam'!FDA147","v":0},{"$f":"'kros seznam'!FDB147","v":0},{"$f":"'kros seznam'!FDC147","v":0},{"$f":"'kros seznam'!FDD147","v":0},{"$f":"'kros seznam'!FDE147","v":0},{"$f":"'kros seznam'!FDF147","v":0},{"$f":"'kros seznam'!FDG147","v":0},{"$f":"'kros seznam'!FDH147","v":0},{"$f":"'kros seznam'!FDI147","v":0},{"$f":"'kros seznam'!FDJ147","v":0},{"$f":"'kros seznam'!FDK147","v":0},{"$f":"'kros seznam'!FDL147","v":0},{"$f":"'kros seznam'!FDM147","v":0},{"$f":"'kros seznam'!FDN147","v":0},{"$f":"'kros seznam'!FDO147","v":0},{"$f":"'kros seznam'!FDP147","v":0},{"$f":"'kros seznam'!FDQ147","v":0},{"$f":"'kros seznam'!FDR147","v":0},{"$f":"'kros seznam'!FDS147","v":0},{"$f":"'kros seznam'!FDT147","v":0},{"$f":"'kros seznam'!FDU147","v":0},{"$f":"'kros seznam'!FDV147","v":0},{"$f":"'kros seznam'!FDW147","v":0},{"$f":"'kros seznam'!FDX147","v":0},{"$f":"'kros seznam'!FDY147","v":0},{"$f":"'kros seznam'!FDZ147","v":0},{"$f":"'kros seznam'!FEA147","v":0},{"$f":"'kros seznam'!FEB147","v":0},{"$f":"'kros seznam'!FEC147","v":0},{"$f":"'kros seznam'!FED147","v":0},{"$f":"'kros seznam'!FEE147","v":0},{"$f":"'kros seznam'!FEF147","v":0},{"$f":"'kros seznam'!FEG147","v":0},{"$f":"'kros seznam'!FEH147","v":0},{"$f":"'kros seznam'!FEI147","v":0},{"$f":"'kros seznam'!FEJ147","v":0},{"$f":"'kros seznam'!FEK147","v":0},{"$f":"'kros seznam'!FEL147","v":0},{"$f":"'kros seznam'!FEM147","v":0},{"$f":"'kros seznam'!FEN147","v":0},{"$f":"'kros seznam'!FEO147","v":0},{"$f":"'kros seznam'!FEP147","v":0},{"$f":"'kros seznam'!FEQ147","v":0},{"$f":"'kros seznam'!FER147","v":0},{"$f":"'kros seznam'!FES147","v":0},{"$f":"'kros seznam'!FET147","v":0},{"$f":"'kros seznam'!FEU147","v":0},{"$f":"'kros seznam'!FEV147","v":0},{"$f":"'kros seznam'!FEW147","v":0},{"$f":"'kros seznam'!FEX147","v":0},{"$f":"'kros seznam'!FEY147","v":0},{"$f":"'kros seznam'!FEZ147","v":0},{"$f":"'kros seznam'!FFA147","v":0},{"$f":"'kros seznam'!FFB147","v":0},{"$f":"'kros seznam'!FFC147","v":0},{"$f":"'kros seznam'!FFD147","v":0},{"$f":"'kros seznam'!FFE147","v":0},{"$f":"'kros seznam'!FFF147","v":0},{"$f":"'kros seznam'!FFG147","v":0},{"$f":"'kros seznam'!FFH147","v":0},{"$f":"'kros seznam'!FFI147","v":0},{"$f":"'kros seznam'!FFJ147","v":0},{"$f":"'kros seznam'!FFK147","v":0},{"$f":"'kros seznam'!FFL147","v":0},{"$f":"'kros seznam'!FFM147","v":0},{"$f":"'kros seznam'!FFN147","v":0},{"$f":"'kros seznam'!FFO147","v":0},{"$f":"'kros seznam'!FFP147","v":0},{"$f":"'kros seznam'!FFQ147","v":0},{"$f":"'kros seznam'!FFR147","v":0},{"$f":"'kros seznam'!FFS147","v":0},{"$f":"'kros seznam'!FFT147","v":0},{"$f":"'kros seznam'!FFU147","v":0},{"$f":"'kros seznam'!FFV147","v":0},{"$f":"'kros seznam'!FFW147","v":0},{"$f":"'kros seznam'!FFX147","v":0},{"$f":"'kros seznam'!FFY147","v":0},{"$f":"'kros seznam'!FFZ147","v":0},{"$f":"'kros seznam'!FGA147","v":0},{"$f":"'kros seznam'!FGB147","v":0},{"$f":"'kros seznam'!FGC147","v":0},{"$f":"'kros seznam'!FGD147","v":0},{"$f":"'kros seznam'!FGE147","v":0},{"$f":"'kros seznam'!FGF147","v":0},{"$f":"'kros seznam'!FGG147","v":0},{"$f":"'kros seznam'!FGH147","v":0},{"$f":"'kros seznam'!FGI147","v":0},{"$f":"'kros seznam'!FGJ147","v":0},{"$f":"'kros seznam'!FGK147","v":0},{"$f":"'kros seznam'!FGL147","v":0},{"$f":"'kros seznam'!FGM147","v":0},{"$f":"'kros seznam'!FGN147","v":0},{"$f":"'kros seznam'!FGO147","v":0},{"$f":"'kros seznam'!FGP147","v":0},{"$f":"'kros seznam'!FGQ147","v":0},{"$f":"'kros seznam'!FGR147","v":0},{"$f":"'kros seznam'!FGS147","v":0},{"$f":"'kros seznam'!FGT147","v":0},{"$f":"'kros seznam'!FGU147","v":0},{"$f":"'kros seznam'!FGV147","v":0},{"$f":"'kros seznam'!FGW147","v":0},{"$f":"'kros seznam'!FGX147","v":0},{"$f":"'kros seznam'!FGY147","v":0},{"$f":"'kros seznam'!FGZ147","v":0},{"$f":"'kros seznam'!FHA147","v":0},{"$f":"'kros seznam'!FHB147","v":0},{"$f":"'kros seznam'!FHC147","v":0},{"$f":"'kros seznam'!FHD147","v":0},{"$f":"'kros seznam'!FHE147","v":0},{"$f":"'kros seznam'!FHF147","v":0},{"$f":"'kros seznam'!FHG147","v":0},{"$f":"'kros seznam'!FHH147","v":0},{"$f":"'kros seznam'!FHI147","v":0},{"$f":"'kros seznam'!FHJ147","v":0},{"$f":"'kros seznam'!FHK147","v":0},{"$f":"'kros seznam'!FHL147","v":0},{"$f":"'kros seznam'!FHM147","v":0},{"$f":"'kros seznam'!FHN147","v":0},{"$f":"'kros seznam'!FHO147","v":0},{"$f":"'kros seznam'!FHP147","v":0},{"$f":"'kros seznam'!FHQ147","v":0},{"$f":"'kros seznam'!FHR147","v":0},{"$f":"'kros seznam'!FHS147","v":0},{"$f":"'kros seznam'!FHT147","v":0},{"$f":"'kros seznam'!FHU147","v":0},{"$f":"'kros seznam'!FHV147","v":0},{"$f":"'kros seznam'!FHW147","v":0},{"$f":"'kros seznam'!FHX147","v":0},{"$f":"'kros seznam'!FHY147","v":0},{"$f":"'kros seznam'!FHZ147","v":0},{"$f":"'kros seznam'!FIA147","v":0},{"$f":"'kros seznam'!FIB147","v":0},{"$f":"'kros seznam'!FIC147","v":0},{"$f":"'kros seznam'!FID147","v":0},{"$f":"'kros seznam'!FIE147","v":0},{"$f":"'kros seznam'!FIF147","v":0},{"$f":"'kros seznam'!FIG147","v":0},{"$f":"'kros seznam'!FIH147","v":0},{"$f":"'kros seznam'!FII147","v":0},{"$f":"'kros seznam'!FIJ147","v":0},{"$f":"'kros seznam'!FIK147","v":0},{"$f":"'kros seznam'!FIL147","v":0},{"$f":"'kros seznam'!FIM147","v":0},{"$f":"'kros seznam'!FIN147","v":0},{"$f":"'kros seznam'!FIO147","v":0},{"$f":"'kros seznam'!FIP147","v":0},{"$f":"'kros seznam'!FIQ147","v":0},{"$f":"'kros seznam'!FIR147","v":0},{"$f":"'kros seznam'!FIS147","v":0},{"$f":"'kros seznam'!FIT147","v":0},{"$f":"'kros seznam'!FIU147","v":0},{"$f":"'kros seznam'!FIV147","v":0},{"$f":"'kros seznam'!FIW147","v":0},{"$f":"'kros seznam'!FIX147","v":0},{"$f":"'kros seznam'!FIY147","v":0},{"$f":"'kros seznam'!FIZ147","v":0},{"$f":"'kros seznam'!FJA147","v":0},{"$f":"'kros seznam'!FJB147","v":0},{"$f":"'kros seznam'!FJC147","v":0},{"$f":"'kros seznam'!FJD147","v":0},{"$f":"'kros seznam'!FJE147","v":0},{"$f":"'kros seznam'!FJF147","v":0},{"$f":"'kros seznam'!FJG147","v":0},{"$f":"'kros seznam'!FJH147","v":0},{"$f":"'kros seznam'!FJI147","v":0},{"$f":"'kros seznam'!FJJ147","v":0},{"$f":"'kros seznam'!FJK147","v":0},{"$f":"'kros seznam'!FJL147","v":0},{"$f":"'kros seznam'!FJM147","v":0},{"$f":"'kros seznam'!FJN147","v":0},{"$f":"'kros seznam'!FJO147","v":0},{"$f":"'kros seznam'!FJP147","v":0},{"$f":"'kros seznam'!FJQ147","v":0},{"$f":"'kros seznam'!FJR147","v":0},{"$f":"'kros seznam'!FJS147","v":0},{"$f":"'kros seznam'!FJT147","v":0},{"$f":"'kros seznam'!FJU147","v":0},{"$f":"'kros seznam'!FJV147","v":0},{"$f":"'kros seznam'!FJW147","v":0},{"$f":"'kros seznam'!FJX147","v":0},{"$f":"'kros seznam'!FJY147","v":0},{"$f":"'kros seznam'!FJZ147","v":0},{"$f":"'kros seznam'!FKA147","v":0},{"$f":"'kros seznam'!FKB147","v":0},{"$f":"'kros seznam'!FKC147","v":0},{"$f":"'kros seznam'!FKD147","v":0},{"$f":"'kros seznam'!FKE147","v":0},{"$f":"'kros seznam'!FKF147","v":0},{"$f":"'kros seznam'!FKG147","v":0},{"$f":"'kros seznam'!FKH147","v":0},{"$f":"'kros seznam'!FKI147","v":0},{"$f":"'kros seznam'!FKJ147","v":0},{"$f":"'kros seznam'!FKK147","v":0},{"$f":"'kros seznam'!FKL147","v":0},{"$f":"'kros seznam'!FKM147","v":0},{"$f":"'kros seznam'!FKN147","v":0},{"$f":"'kros seznam'!FKO147","v":0},{"$f":"'kros seznam'!FKP147","v":0},{"$f":"'kros seznam'!FKQ147","v":0},{"$f":"'kros seznam'!FKR147","v":0},{"$f":"'kros seznam'!FKS147","v":0},{"$f":"'kros seznam'!FKT147","v":0},{"$f":"'kros seznam'!FKU147","v":0},{"$f":"'kros seznam'!FKV147","v":0},{"$f":"'kros seznam'!FKW147","v":0},{"$f":"'kros seznam'!FKX147","v":0},{"$f":"'kros seznam'!FKY147","v":0},{"$f":"'kros seznam'!FKZ147","v":0},{"$f":"'kros seznam'!FLA147","v":0},{"$f":"'kros seznam'!FLB147","v":0},{"$f":"'kros seznam'!FLC147","v":0},{"$f":"'kros seznam'!FLD147","v":0},{"$f":"'kros seznam'!FLE147","v":0},{"$f":"'kros seznam'!FLF147","v":0},{"$f":"'kros seznam'!FLG147","v":0},{"$f":"'kros seznam'!FLH147","v":0},{"$f":"'kros seznam'!FLI147","v":0},{"$f":"'kros seznam'!FLJ147","v":0},{"$f":"'kros seznam'!FLK147","v":0},{"$f":"'kros seznam'!FLL147","v":0},{"$f":"'kros seznam'!FLM147","v":0},{"$f":"'kros seznam'!FLN147","v":0},{"$f":"'kros seznam'!FLO147","v":0},{"$f":"'kros seznam'!FLP147","v":0},{"$f":"'kros seznam'!FLQ147","v":0},{"$f":"'kros seznam'!FLR147","v":0},{"$f":"'kros seznam'!FLS147","v":0},{"$f":"'kros seznam'!FLT147","v":0},{"$f":"'kros seznam'!FLU147","v":0},{"$f":"'kros seznam'!FLV147","v":0},{"$f":"'kros seznam'!FLW147","v":0},{"$f":"'kros seznam'!FLX147","v":0},{"$f":"'kros seznam'!FLY147","v":0},{"$f":"'kros seznam'!FLZ147","v":0},{"$f":"'kros seznam'!FMA147","v":0},{"$f":"'kros seznam'!FMB147","v":0},{"$f":"'kros seznam'!FMC147","v":0},{"$f":"'kros seznam'!FMD147","v":0},{"$f":"'kros seznam'!FME147","v":0},{"$f":"'kros seznam'!FMF147","v":0},{"$f":"'kros seznam'!FMG147","v":0},{"$f":"'kros seznam'!FMH147","v":0},{"$f":"'kros seznam'!FMI147","v":0},{"$f":"'kros seznam'!FMJ147","v":0},{"$f":"'kros seznam'!FMK147","v":0},{"$f":"'kros seznam'!FML147","v":0},{"$f":"'kros seznam'!FMM147","v":0},{"$f":"'kros seznam'!FMN147","v":0},{"$f":"'kros seznam'!FMO147","v":0},{"$f":"'kros seznam'!FMP147","v":0},{"$f":"'kros seznam'!FMQ147","v":0},{"$f":"'kros seznam'!FMR147","v":0},{"$f":"'kros seznam'!FMS147","v":0},{"$f":"'kros seznam'!FMT147","v":0},{"$f":"'kros seznam'!FMU147","v":0},{"$f":"'kros seznam'!FMV147","v":0},{"$f":"'kros seznam'!FMW147","v":0},{"$f":"'kros seznam'!FMX147","v":0},{"$f":"'kros seznam'!FMY147","v":0},{"$f":"'kros seznam'!FMZ147","v":0},{"$f":"'kros seznam'!FNA147","v":0},{"$f":"'kros seznam'!FNB147","v":0},{"$f":"'kros seznam'!FNC147","v":0},{"$f":"'kros seznam'!FND147","v":0},{"$f":"'kros seznam'!FNE147","v":0},{"$f":"'kros seznam'!FNF147","v":0},{"$f":"'kros seznam'!FNG147","v":0},{"$f":"'kros seznam'!FNH147","v":0},{"$f":"'kros seznam'!FNI147","v":0},{"$f":"'kros seznam'!FNJ147","v":0},{"$f":"'kros seznam'!FNK147","v":0},{"$f":"'kros seznam'!FNL147","v":0},{"$f":"'kros seznam'!FNM147","v":0},{"$f":"'kros seznam'!FNN147","v":0},{"$f":"'kros seznam'!FNO147","v":0},{"$f":"'kros seznam'!FNP147","v":0},{"$f":"'kros seznam'!FNQ147","v":0},{"$f":"'kros seznam'!FNR147","v":0},{"$f":"'kros seznam'!FNS147","v":0},{"$f":"'kros seznam'!FNT147","v":0},{"$f":"'kros seznam'!FNU147","v":0},{"$f":"'kros seznam'!FNV147","v":0},{"$f":"'kros seznam'!FNW147","v":0},{"$f":"'kros seznam'!FNX147","v":0},{"$f":"'kros seznam'!FNY147","v":0},{"$f":"'kros seznam'!FNZ147","v":0},{"$f":"'kros seznam'!FOA147","v":0},{"$f":"'kros seznam'!FOB147","v":0},{"$f":"'kros seznam'!FOC147","v":0},{"$f":"'kros seznam'!FOD147","v":0},{"$f":"'kros seznam'!FOE147","v":0},{"$f":"'kros seznam'!FOF147","v":0},{"$f":"'kros seznam'!FOG147","v":0},{"$f":"'kros seznam'!FOH147","v":0},{"$f":"'kros seznam'!FOI147","v":0},{"$f":"'kros seznam'!FOJ147","v":0},{"$f":"'kros seznam'!FOK147","v":0},{"$f":"'kros seznam'!FOL147","v":0},{"$f":"'kros seznam'!FOM147","v":0},{"$f":"'kros seznam'!FON147","v":0},{"$f":"'kros seznam'!FOO147","v":0},{"$f":"'kros seznam'!FOP147","v":0},{"$f":"'kros seznam'!FOQ147","v":0},{"$f":"'kros seznam'!FOR147","v":0},{"$f":"'kros seznam'!FOS147","v":0},{"$f":"'kros seznam'!FOT147","v":0},{"$f":"'kros seznam'!FOU147","v":0},{"$f":"'kros seznam'!FOV147","v":0},{"$f":"'kros seznam'!FOW147","v":0},{"$f":"'kros seznam'!FOX147","v":0},{"$f":"'kros seznam'!FOY147","v":0},{"$f":"'kros seznam'!FOZ147","v":0},{"$f":"'kros seznam'!FPA147","v":0},{"$f":"'kros seznam'!FPB147","v":0},{"$f":"'kros seznam'!FPC147","v":0},{"$f":"'kros seznam'!FPD147","v":0},{"$f":"'kros seznam'!FPE147","v":0},{"$f":"'kros seznam'!FPF147","v":0},{"$f":"'kros seznam'!FPG147","v":0},{"$f":"'kros seznam'!FPH147","v":0},{"$f":"'kros seznam'!FPI147","v":0},{"$f":"'kros seznam'!FPJ147","v":0},{"$f":"'kros seznam'!FPK147","v":0},{"$f":"'kros seznam'!FPL147","v":0},{"$f":"'kros seznam'!FPM147","v":0},{"$f":"'kros seznam'!FPN147","v":0},{"$f":"'kros seznam'!FPO147","v":0},{"$f":"'kros seznam'!FPP147","v":0},{"$f":"'kros seznam'!FPQ147","v":0},{"$f":"'kros seznam'!FPR147","v":0},{"$f":"'kros seznam'!FPS147","v":0},{"$f":"'kros seznam'!FPT147","v":0},{"$f":"'kros seznam'!FPU147","v":0},{"$f":"'kros seznam'!FPV147","v":0},{"$f":"'kros seznam'!FPW147","v":0},{"$f":"'kros seznam'!FPX147","v":0},{"$f":"'kros seznam'!FPY147","v":0},{"$f":"'kros seznam'!FPZ147","v":0},{"$f":"'kros seznam'!FQA147","v":0},{"$f":"'kros seznam'!FQB147","v":0},{"$f":"'kros seznam'!FQC147","v":0},{"$f":"'kros seznam'!FQD147","v":0},{"$f":"'kros seznam'!FQE147","v":0},{"$f":"'kros seznam'!FQF147","v":0},{"$f":"'kros seznam'!FQG147","v":0},{"$f":"'kros seznam'!FQH147","v":0},{"$f":"'kros seznam'!FQI147","v":0},{"$f":"'kros seznam'!FQJ147","v":0},{"$f":"'kros seznam'!FQK147","v":0},{"$f":"'kros seznam'!FQL147","v":0},{"$f":"'kros seznam'!FQM147","v":0},{"$f":"'kros seznam'!FQN147","v":0},{"$f":"'kros seznam'!FQO147","v":0},{"$f":"'kros seznam'!FQP147","v":0},{"$f":"'kros seznam'!FQQ147","v":0},{"$f":"'kros seznam'!FQR147","v":0},{"$f":"'kros seznam'!FQS147","v":0},{"$f":"'kros seznam'!FQT147","v":0},{"$f":"'kros seznam'!FQU147","v":0},{"$f":"'kros seznam'!FQV147","v":0},{"$f":"'kros seznam'!FQW147","v":0},{"$f":"'kros seznam'!FQX147","v":0},{"$f":"'kros seznam'!FQY147","v":0},{"$f":"'kros seznam'!FQZ147","v":0},{"$f":"'kros seznam'!FRA147","v":0},{"$f":"'kros seznam'!FRB147","v":0},{"$f":"'kros seznam'!FRC147","v":0},{"$f":"'kros seznam'!FRD147","v":0},{"$f":"'kros seznam'!FRE147","v":0},{"$f":"'kros seznam'!FRF147","v":0},{"$f":"'kros seznam'!FRG147","v":0},{"$f":"'kros seznam'!FRH147","v":0},{"$f":"'kros seznam'!FRI147","v":0},{"$f":"'kros seznam'!FRJ147","v":0},{"$f":"'kros seznam'!FRK147","v":0},{"$f":"'kros seznam'!FRL147","v":0},{"$f":"'kros seznam'!FRM147","v":0},{"$f":"'kros seznam'!FRN147","v":0},{"$f":"'kros seznam'!FRO147","v":0},{"$f":"'kros seznam'!FRP147","v":0},{"$f":"'kros seznam'!FRQ147","v":0},{"$f":"'kros seznam'!FRR147","v":0},{"$f":"'kros seznam'!FRS147","v":0},{"$f":"'kros seznam'!FRT147","v":0},{"$f":"'kros seznam'!FRU147","v":0},{"$f":"'kros seznam'!FRV147","v":0},{"$f":"'kros seznam'!FRW147","v":0},{"$f":"'kros seznam'!FRX147","v":0},{"$f":"'kros seznam'!FRY147","v":0},{"$f":"'kros seznam'!FRZ147","v":0},{"$f":"'kros seznam'!FSA147","v":0},{"$f":"'kros seznam'!FSB147","v":0},{"$f":"'kros seznam'!FSC147","v":0},{"$f":"'kros seznam'!FSD147","v":0},{"$f":"'kros seznam'!FSE147","v":0},{"$f":"'kros seznam'!FSF147","v":0},{"$f":"'kros seznam'!FSG147","v":0},{"$f":"'kros seznam'!FSH147","v":0},{"$f":"'kros seznam'!FSI147","v":0},{"$f":"'kros seznam'!FSJ147","v":0},{"$f":"'kros seznam'!FSK147","v":0},{"$f":"'kros seznam'!FSL147","v":0},{"$f":"'kros seznam'!FSM147","v":0},{"$f":"'kros seznam'!FSN147","v":0},{"$f":"'kros seznam'!FSO147","v":0},{"$f":"'kros seznam'!FSP147","v":0},{"$f":"'kros seznam'!FSQ147","v":0},{"$f":"'kros seznam'!FSR147","v":0},{"$f":"'kros seznam'!FSS147","v":0},{"$f":"'kros seznam'!FST147","v":0},{"$f":"'kros seznam'!FSU147","v":0},{"$f":"'kros seznam'!FSV147","v":0},{"$f":"'kros seznam'!FSW147","v":0},{"$f":"'kros seznam'!FSX147","v":0},{"$f":"'kros seznam'!FSY147","v":0},{"$f":"'kros seznam'!FSZ147","v":0},{"$f":"'kros seznam'!FTA147","v":0},{"$f":"'kros seznam'!FTB147","v":0},{"$f":"'kros seznam'!FTC147","v":0},{"$f":"'kros seznam'!FTD147","v":0},{"$f":"'kros seznam'!FTE147","v":0},{"$f":"'kros seznam'!FTF147","v":0},{"$f":"'kros seznam'!FTG147","v":0},{"$f":"'kros seznam'!FTH147","v":0},{"$f":"'kros seznam'!FTI147","v":0},{"$f":"'kros seznam'!FTJ147","v":0},{"$f":"'kros seznam'!FTK147","v":0},{"$f":"'kros seznam'!FTL147","v":0},{"$f":"'kros seznam'!FTM147","v":0},{"$f":"'kros seznam'!FTN147","v":0},{"$f":"'kros seznam'!FTO147","v":0},{"$f":"'kros seznam'!FTP147","v":0},{"$f":"'kros seznam'!FTQ147","v":0},{"$f":"'kros seznam'!FTR147","v":0},{"$f":"'kros seznam'!FTS147","v":0},{"$f":"'kros seznam'!FTT147","v":0},{"$f":"'kros seznam'!FTU147","v":0},{"$f":"'kros seznam'!FTV147","v":0},{"$f":"'kros seznam'!FTW147","v":0},{"$f":"'kros seznam'!FTX147","v":0},{"$f":"'kros seznam'!FTY147","v":0},{"$f":"'kros seznam'!FTZ147","v":0},{"$f":"'kros seznam'!FUA147","v":0},{"$f":"'kros seznam'!FUB147","v":0},{"$f":"'kros seznam'!FUC147","v":0},{"$f":"'kros seznam'!FUD147","v":0},{"$f":"'kros seznam'!FUE147","v":0},{"$f":"'kros seznam'!FUF147","v":0},{"$f":"'kros seznam'!FUG147","v":0},{"$f":"'kros seznam'!FUH147","v":0},{"$f":"'kros seznam'!FUI147","v":0},{"$f":"'kros seznam'!FUJ147","v":0},{"$f":"'kros seznam'!FUK147","v":0},{"$f":"'kros seznam'!FUL147","v":0},{"$f":"'kros seznam'!FUM147","v":0},{"$f":"'kros seznam'!FUN147","v":0},{"$f":"'kros seznam'!FUO147","v":0},{"$f":"'kros seznam'!FUP147","v":0},{"$f":"'kros seznam'!FUQ147","v":0},{"$f":"'kros seznam'!FUR147","v":0},{"$f":"'kros seznam'!FUS147","v":0},{"$f":"'kros seznam'!FUT147","v":0},{"$f":"'kros seznam'!FUU147","v":0},{"$f":"'kros seznam'!FUV147","v":0},{"$f":"'kros seznam'!FUW147","v":0},{"$f":"'kros seznam'!FUX147","v":0},{"$f":"'kros seznam'!FUY147","v":0},{"$f":"'kros seznam'!FUZ147","v":0},{"$f":"'kros seznam'!FVA147","v":0},{"$f":"'kros seznam'!FVB147","v":0},{"$f":"'kros seznam'!FVC147","v":0},{"$f":"'kros seznam'!FVD147","v":0},{"$f":"'kros seznam'!FVE147","v":0},{"$f":"'kros seznam'!FVF147","v":0},{"$f":"'kros seznam'!FVG147","v":0},{"$f":"'kros seznam'!FVH147","v":0},{"$f":"'kros seznam'!FVI147","v":0},{"$f":"'kros seznam'!FVJ147","v":0},{"$f":"'kros seznam'!FVK147","v":0},{"$f":"'kros seznam'!FVL147","v":0},{"$f":"'kros seznam'!FVM147","v":0},{"$f":"'kros seznam'!FVN147","v":0},{"$f":"'kros seznam'!FVO147","v":0},{"$f":"'kros seznam'!FVP147","v":0},{"$f":"'kros seznam'!FVQ147","v":0},{"$f":"'kros seznam'!FVR147","v":0},{"$f":"'kros seznam'!FVS147","v":0},{"$f":"'kros seznam'!FVT147","v":0},{"$f":"'kros seznam'!FVU147","v":0},{"$f":"'kros seznam'!FVV147","v":0},{"$f":"'kros seznam'!FVW147","v":0},{"$f":"'kros seznam'!FVX147","v":0},{"$f":"'kros seznam'!FVY147","v":0},{"$f":"'kros seznam'!FVZ147","v":0},{"$f":"'kros seznam'!FWA147","v":0},{"$f":"'kros seznam'!FWB147","v":0},{"$f":"'kros seznam'!FWC147","v":0},{"$f":"'kros seznam'!FWD147","v":0},{"$f":"'kros seznam'!FWE147","v":0},{"$f":"'kros seznam'!FWF147","v":0},{"$f":"'kros seznam'!FWG147","v":0},{"$f":"'kros seznam'!FWH147","v":0},{"$f":"'kros seznam'!FWI147","v":0},{"$f":"'kros seznam'!FWJ147","v":0},{"$f":"'kros seznam'!FWK147","v":0},{"$f":"'kros seznam'!FWL147","v":0},{"$f":"'kros seznam'!FWM147","v":0},{"$f":"'kros seznam'!FWN147","v":0},{"$f":"'kros seznam'!FWO147","v":0},{"$f":"'kros seznam'!FWP147","v":0},{"$f":"'kros seznam'!FWQ147","v":0},{"$f":"'kros seznam'!FWR147","v":0},{"$f":"'kros seznam'!FWS147","v":0},{"$f":"'kros seznam'!FWT147","v":0},{"$f":"'kros seznam'!FWU147","v":0},{"$f":"'kros seznam'!FWV147","v":0},{"$f":"'kros seznam'!FWW147","v":0},{"$f":"'kros seznam'!FWX147","v":0},{"$f":"'kros seznam'!FWY147","v":0},{"$f":"'kros seznam'!FWZ147","v":0},{"$f":"'kros seznam'!FXA147","v":0},{"$f":"'kros seznam'!FXB147","v":0},{"$f":"'kros seznam'!FXC147","v":0},{"$f":"'kros seznam'!FXD147","v":0},{"$f":"'kros seznam'!FXE147","v":0},{"$f":"'kros seznam'!FXF147","v":0},{"$f":"'kros seznam'!FXG147","v":0},{"$f":"'kros seznam'!FXH147","v":0},{"$f":"'kros seznam'!FXI147","v":0},{"$f":"'kros seznam'!FXJ147","v":0},{"$f":"'kros seznam'!FXK147","v":0},{"$f":"'kros seznam'!FXL147","v":0},{"$f":"'kros seznam'!FXM147","v":0},{"$f":"'kros seznam'!FXN147","v":0},{"$f":"'kros seznam'!FXO147","v":0},{"$f":"'kros seznam'!FXP147","v":0},{"$f":"'kros seznam'!FXQ147","v":0},{"$f":"'kros seznam'!FXR147","v":0},{"$f":"'kros seznam'!FXS147","v":0},{"$f":"'kros seznam'!FXT147","v":0},{"$f":"'kros seznam'!FXU147","v":0},{"$f":"'kros seznam'!FXV147","v":0},{"$f":"'kros seznam'!FXW147","v":0},{"$f":"'kros seznam'!FXX147","v":0},{"$f":"'kros seznam'!FXY147","v":0},{"$f":"'kros seznam'!FXZ147","v":0},{"$f":"'kros seznam'!FYA147","v":0},{"$f":"'kros seznam'!FYB147","v":0},{"$f":"'kros seznam'!FYC147","v":0},{"$f":"'kros seznam'!FYD147","v":0},{"$f":"'kros seznam'!FYE147","v":0},{"$f":"'kros seznam'!FYF147","v":0},{"$f":"'kros seznam'!FYG147","v":0},{"$f":"'kros seznam'!FYH147","v":0},{"$f":"'kros seznam'!FYI147","v":0},{"$f":"'kros seznam'!FYJ147","v":0},{"$f":"'kros seznam'!FYK147","v":0},{"$f":"'kros seznam'!FYL147","v":0},{"$f":"'kros seznam'!FYM147","v":0},{"$f":"'kros seznam'!FYN147","v":0},{"$f":"'kros seznam'!FYO147","v":0},{"$f":"'kros seznam'!FYP147","v":0},{"$f":"'kros seznam'!FYQ147","v":0},{"$f":"'kros seznam'!FYR147","v":0},{"$f":"'kros seznam'!FYS147","v":0},{"$f":"'kros seznam'!FYT147","v":0},{"$f":"'kros seznam'!FYU147","v":0},{"$f":"'kros seznam'!FYV147","v":0},{"$f":"'kros seznam'!FYW147","v":0},{"$f":"'kros seznam'!FYX147","v":0},{"$f":"'kros seznam'!FYY147","v":0},{"$f":"'kros seznam'!FYZ147","v":0},{"$f":"'kros seznam'!FZA147","v":0},{"$f":"'kros seznam'!FZB147","v":0},{"$f":"'kros seznam'!FZC147","v":0},{"$f":"'kros seznam'!FZD147","v":0},{"$f":"'kros seznam'!FZE147","v":0},{"$f":"'kros seznam'!FZF147","v":0},{"$f":"'kros seznam'!FZG147","v":0},{"$f":"'kros seznam'!FZH147","v":0},{"$f":"'kros seznam'!FZI147","v":0},{"$f":"'kros seznam'!FZJ147","v":0},{"$f":"'kros seznam'!FZK147","v":0},{"$f":"'kros seznam'!FZL147","v":0},{"$f":"'kros seznam'!FZM147","v":0},{"$f":"'kros seznam'!FZN147","v":0},{"$f":"'kros seznam'!FZO147","v":0},{"$f":"'kros seznam'!FZP147","v":0},{"$f":"'kros seznam'!FZQ147","v":0},{"$f":"'kros seznam'!FZR147","v":0},{"$f":"'kros seznam'!FZS147","v":0},{"$f":"'kros seznam'!FZT147","v":0},{"$f":"'kros seznam'!FZU147","v":0},{"$f":"'kros seznam'!FZV147","v":0},{"$f":"'kros seznam'!FZW147","v":0},{"$f":"'kros seznam'!FZX147","v":0},{"$f":"'kros seznam'!FZY147","v":0},{"$f":"'kros seznam'!FZZ147","v":0},{"$f":"'kros seznam'!GAA147","v":0},{"$f":"'kros seznam'!GAB147","v":0},{"$f":"'kros seznam'!GAC147","v":0},{"$f":"'kros seznam'!GAD147","v":0},{"$f":"'kros seznam'!GAE147","v":0},{"$f":"'kros seznam'!GAF147","v":0},{"$f":"'kros seznam'!GAG147","v":0},{"$f":"'kros seznam'!GAH147","v":0},{"$f":"'kros seznam'!GAI147","v":0},{"$f":"'kros seznam'!GAJ147","v":0},{"$f":"'kros seznam'!GAK147","v":0},{"$f":"'kros seznam'!GAL147","v":0},{"$f":"'kros seznam'!GAM147","v":0},{"$f":"'kros seznam'!GAN147","v":0},{"$f":"'kros seznam'!GAO147","v":0},{"$f":"'kros seznam'!GAP147","v":0},{"$f":"'kros seznam'!GAQ147","v":0},{"$f":"'kros seznam'!GAR147","v":0},{"$f":"'kros seznam'!GAS147","v":0},{"$f":"'kros seznam'!GAT147","v":0},{"$f":"'kros seznam'!GAU147","v":0},{"$f":"'kros seznam'!GAV147","v":0},{"$f":"'kros seznam'!GAW147","v":0},{"$f":"'kros seznam'!GAX147","v":0},{"$f":"'kros seznam'!GAY147","v":0},{"$f":"'kros seznam'!GAZ147","v":0},{"$f":"'kros seznam'!GBA147","v":0},{"$f":"'kros seznam'!GBB147","v":0},{"$f":"'kros seznam'!GBC147","v":0},{"$f":"'kros seznam'!GBD147","v":0},{"$f":"'kros seznam'!GBE147","v":0},{"$f":"'kros seznam'!GBF147","v":0},{"$f":"'kros seznam'!GBG147","v":0},{"$f":"'kros seznam'!GBH147","v":0},{"$f":"'kros seznam'!GBI147","v":0},{"$f":"'kros seznam'!GBJ147","v":0},{"$f":"'kros seznam'!GBK147","v":0},{"$f":"'kros seznam'!GBL147","v":0},{"$f":"'kros seznam'!GBM147","v":0},{"$f":"'kros seznam'!GBN147","v":0},{"$f":"'kros seznam'!GBO147","v":0},{"$f":"'kros seznam'!GBP147","v":0},{"$f":"'kros seznam'!GBQ147","v":0},{"$f":"'kros seznam'!GBR147","v":0},{"$f":"'kros seznam'!GBS147","v":0},{"$f":"'kros seznam'!GBT147","v":0},{"$f":"'kros seznam'!GBU147","v":0},{"$f":"'kros seznam'!GBV147","v":0},{"$f":"'kros seznam'!GBW147","v":0},{"$f":"'kros seznam'!GBX147","v":0},{"$f":"'kros seznam'!GBY147","v":0},{"$f":"'kros seznam'!GBZ147","v":0},{"$f":"'kros seznam'!GCA147","v":0},{"$f":"'kros seznam'!GCB147","v":0},{"$f":"'kros seznam'!GCC147","v":0},{"$f":"'kros seznam'!GCD147","v":0},{"$f":"'kros seznam'!GCE147","v":0},{"$f":"'kros seznam'!GCF147","v":0},{"$f":"'kros seznam'!GCG147","v":0},{"$f":"'kros seznam'!GCH147","v":0},{"$f":"'kros seznam'!GCI147","v":0},{"$f":"'kros seznam'!GCJ147","v":0},{"$f":"'kros seznam'!GCK147","v":0},{"$f":"'kros seznam'!GCL147","v":0},{"$f":"'kros seznam'!GCM147","v":0},{"$f":"'kros seznam'!GCN147","v":0},{"$f":"'kros seznam'!GCO147","v":0},{"$f":"'kros seznam'!GCP147","v":0},{"$f":"'kros seznam'!GCQ147","v":0},{"$f":"'kros seznam'!GCR147","v":0},{"$f":"'kros seznam'!GCS147","v":0},{"$f":"'kros seznam'!GCT147","v":0},{"$f":"'kros seznam'!GCU147","v":0},{"$f":"'kros seznam'!GCV147","v":0},{"$f":"'kros seznam'!GCW147","v":0},{"$f":"'kros seznam'!GCX147","v":0},{"$f":"'kros seznam'!GCY147","v":0},{"$f":"'kros seznam'!GCZ147","v":0},{"$f":"'kros seznam'!GDA147","v":0},{"$f":"'kros seznam'!GDB147","v":0},{"$f":"'kros seznam'!GDC147","v":0},{"$f":"'kros seznam'!GDD147","v":0},{"$f":"'kros seznam'!GDE147","v":0},{"$f":"'kros seznam'!GDF147","v":0},{"$f":"'kros seznam'!GDG147","v":0},{"$f":"'kros seznam'!GDH147","v":0},{"$f":"'kros seznam'!GDI147","v":0},{"$f":"'kros seznam'!GDJ147","v":0},{"$f":"'kros seznam'!GDK147","v":0},{"$f":"'kros seznam'!GDL147","v":0},{"$f":"'kros seznam'!GDM147","v":0},{"$f":"'kros seznam'!GDN147","v":0},{"$f":"'kros seznam'!GDO147","v":0},{"$f":"'kros seznam'!GDP147","v":0},{"$f":"'kros seznam'!GDQ147","v":0},{"$f":"'kros seznam'!GDR147","v":0},{"$f":"'kros seznam'!GDS147","v":0},{"$f":"'kros seznam'!GDT147","v":0},{"$f":"'kros seznam'!GDU147","v":0},{"$f":"'kros seznam'!GDV147","v":0},{"$f":"'kros seznam'!GDW147","v":0},{"$f":"'kros seznam'!GDX147","v":0},{"$f":"'kros seznam'!GDY147","v":0},{"$f":"'kros seznam'!GDZ147","v":0},{"$f":"'kros seznam'!GEA147","v":0},{"$f":"'kros seznam'!GEB147","v":0},{"$f":"'kros seznam'!GEC147","v":0},{"$f":"'kros seznam'!GED147","v":0},{"$f":"'kros seznam'!GEE147","v":0},{"$f":"'kros seznam'!GEF147","v":0},{"$f":"'kros seznam'!GEG147","v":0},{"$f":"'kros seznam'!GEH147","v":0},{"$f":"'kros seznam'!GEI147","v":0},{"$f":"'kros seznam'!GEJ147","v":0},{"$f":"'kros seznam'!GEK147","v":0},{"$f":"'kros seznam'!GEL147","v":0},{"$f":"'kros seznam'!GEM147","v":0},{"$f":"'kros seznam'!GEN147","v":0},{"$f":"'kros seznam'!GEO147","v":0},{"$f":"'kros seznam'!GEP147","v":0},{"$f":"'kros seznam'!GEQ147","v":0},{"$f":"'kros seznam'!GER147","v":0},{"$f":"'kros seznam'!GES147","v":0},{"$f":"'kros seznam'!GET147","v":0},{"$f":"'kros seznam'!GEU147","v":0},{"$f":"'kros seznam'!GEV147","v":0},{"$f":"'kros seznam'!GEW147","v":0},{"$f":"'kros seznam'!GEX147","v":0},{"$f":"'kros seznam'!GEY147","v":0},{"$f":"'kros seznam'!GEZ147","v":0},{"$f":"'kros seznam'!GFA147","v":0},{"$f":"'kros seznam'!GFB147","v":0},{"$f":"'kros seznam'!GFC147","v":0},{"$f":"'kros seznam'!GFD147","v":0},{"$f":"'kros seznam'!GFE147","v":0},{"$f":"'kros seznam'!GFF147","v":0},{"$f":"'kros seznam'!GFG147","v":0},{"$f":"'kros seznam'!GFH147","v":0},{"$f":"'kros seznam'!GFI147","v":0},{"$f":"'kros seznam'!GFJ147","v":0},{"$f":"'kros seznam'!GFK147","v":0},{"$f":"'kros seznam'!GFL147","v":0},{"$f":"'kros seznam'!GFM147","v":0},{"$f":"'kros seznam'!GFN147","v":0},{"$f":"'kros seznam'!GFO147","v":0},{"$f":"'kros seznam'!GFP147","v":0},{"$f":"'kros seznam'!GFQ147","v":0},{"$f":"'kros seznam'!GFR147","v":0},{"$f":"'kros seznam'!GFS147","v":0},{"$f":"'kros seznam'!GFT147","v":0},{"$f":"'kros seznam'!GFU147","v":0},{"$f":"'kros seznam'!GFV147","v":0},{"$f":"'kros seznam'!GFW147","v":0},{"$f":"'kros seznam'!GFX147","v":0},{"$f":"'kros seznam'!GFY147","v":0},{"$f":"'kros seznam'!GFZ147","v":0},{"$f":"'kros seznam'!GGA147","v":0},{"$f":"'kros seznam'!GGB147","v":0},{"$f":"'kros seznam'!GGC147","v":0},{"$f":"'kros seznam'!GGD147","v":0},{"$f":"'kros seznam'!GGE147","v":0},{"$f":"'kros seznam'!GGF147","v":0},{"$f":"'kros seznam'!GGG147","v":0},{"$f":"'kros seznam'!GGH147","v":0},{"$f":"'kros seznam'!GGI147","v":0},{"$f":"'kros seznam'!GGJ147","v":0},{"$f":"'kros seznam'!GGK147","v":0},{"$f":"'kros seznam'!GGL147","v":0},{"$f":"'kros seznam'!GGM147","v":0},{"$f":"'kros seznam'!GGN147","v":0},{"$f":"'kros seznam'!GGO147","v":0},{"$f":"'kros seznam'!GGP147","v":0},{"$f":"'kros seznam'!GGQ147","v":0},{"$f":"'kros seznam'!GGR147","v":0},{"$f":"'kros seznam'!GGS147","v":0},{"$f":"'kros seznam'!GGT147","v":0},{"$f":"'kros seznam'!GGU147","v":0},{"$f":"'kros seznam'!GGV147","v":0},{"$f":"'kros seznam'!GGW147","v":0},{"$f":"'kros seznam'!GGX147","v":0},{"$f":"'kros seznam'!GGY147","v":0},{"$f":"'kros seznam'!GGZ147","v":0},{"$f":"'kros seznam'!GHA147","v":0},{"$f":"'kros seznam'!GHB147","v":0},{"$f":"'kros seznam'!GHC147","v":0},{"$f":"'kros seznam'!GHD147","v":0},{"$f":"'kros seznam'!GHE147","v":0},{"$f":"'kros seznam'!GHF147","v":0},{"$f":"'kros seznam'!GHG147","v":0},{"$f":"'kros seznam'!GHH147","v":0},{"$f":"'kros seznam'!GHI147","v":0},{"$f":"'kros seznam'!GHJ147","v":0},{"$f":"'kros seznam'!GHK147","v":0},{"$f":"'kros seznam'!GHL147","v":0},{"$f":"'kros seznam'!GHM147","v":0},{"$f":"'kros seznam'!GHN147","v":0},{"$f":"'kros seznam'!GHO147","v":0},{"$f":"'kros seznam'!GHP147","v":0},{"$f":"'kros seznam'!GHQ147","v":0},{"$f":"'kros seznam'!GHR147","v":0},{"$f":"'kros seznam'!GHS147","v":0},{"$f":"'kros seznam'!GHT147","v":0},{"$f":"'kros seznam'!GHU147","v":0},{"$f":"'kros seznam'!GHV147","v":0},{"$f":"'kros seznam'!GHW147","v":0},{"$f":"'kros seznam'!GHX147","v":0},{"$f":"'kros seznam'!GHY147","v":0},{"$f":"'kros seznam'!GHZ147","v":0},{"$f":"'kros seznam'!GIA147","v":0},{"$f":"'kros seznam'!GIB147","v":0},{"$f":"'kros seznam'!GIC147","v":0},{"$f":"'kros seznam'!GID147","v":0},{"$f":"'kros seznam'!GIE147","v":0},{"$f":"'kros seznam'!GIF147","v":0},{"$f":"'kros seznam'!GIG147","v":0},{"$f":"'kros seznam'!GIH147","v":0},{"$f":"'kros seznam'!GII147","v":0},{"$f":"'kros seznam'!GIJ147","v":0},{"$f":"'kros seznam'!GIK147","v":0},{"$f":"'kros seznam'!GIL147","v":0},{"$f":"'kros seznam'!GIM147","v":0},{"$f":"'kros seznam'!GIN147","v":0},{"$f":"'kros seznam'!GIO147","v":0},{"$f":"'kros seznam'!GIP147","v":0},{"$f":"'kros seznam'!GIQ147","v":0},{"$f":"'kros seznam'!GIR147","v":0},{"$f":"'kros seznam'!GIS147","v":0},{"$f":"'kros seznam'!GIT147","v":0},{"$f":"'kros seznam'!GIU147","v":0},{"$f":"'kros seznam'!GIV147","v":0},{"$f":"'kros seznam'!GIW147","v":0},{"$f":"'kros seznam'!GIX147","v":0},{"$f":"'kros seznam'!GIY147","v":0},{"$f":"'kros seznam'!GIZ147","v":0},{"$f":"'kros seznam'!GJA147","v":0},{"$f":"'kros seznam'!GJB147","v":0},{"$f":"'kros seznam'!GJC147","v":0},{"$f":"'kros seznam'!GJD147","v":0},{"$f":"'kros seznam'!GJE147","v":0},{"$f":"'kros seznam'!GJF147","v":0},{"$f":"'kros seznam'!GJG147","v":0},{"$f":"'kros seznam'!GJH147","v":0},{"$f":"'kros seznam'!GJI147","v":0},{"$f":"'kros seznam'!GJJ147","v":0},{"$f":"'kros seznam'!GJK147","v":0},{"$f":"'kros seznam'!GJL147","v":0},{"$f":"'kros seznam'!GJM147","v":0},{"$f":"'kros seznam'!GJN147","v":0},{"$f":"'kros seznam'!GJO147","v":0},{"$f":"'kros seznam'!GJP147","v":0},{"$f":"'kros seznam'!GJQ147","v":0},{"$f":"'kros seznam'!GJR147","v":0},{"$f":"'kros seznam'!GJS147","v":0},{"$f":"'kros seznam'!GJT147","v":0},{"$f":"'kros seznam'!GJU147","v":0},{"$f":"'kros seznam'!GJV147","v":0},{"$f":"'kros seznam'!GJW147","v":0},{"$f":"'kros seznam'!GJX147","v":0},{"$f":"'kros seznam'!GJY147","v":0},{"$f":"'kros seznam'!GJZ147","v":0},{"$f":"'kros seznam'!GKA147","v":0},{"$f":"'kros seznam'!GKB147","v":0},{"$f":"'kros seznam'!GKC147","v":0},{"$f":"'kros seznam'!GKD147","v":0},{"$f":"'kros seznam'!GKE147","v":0},{"$f":"'kros seznam'!GKF147","v":0},{"$f":"'kros seznam'!GKG147","v":0},{"$f":"'kros seznam'!GKH147","v":0},{"$f":"'kros seznam'!GKI147","v":0},{"$f":"'kros seznam'!GKJ147","v":0},{"$f":"'kros seznam'!GKK147","v":0},{"$f":"'kros seznam'!GKL147","v":0},{"$f":"'kros seznam'!GKM147","v":0},{"$f":"'kros seznam'!GKN147","v":0},{"$f":"'kros seznam'!GKO147","v":0},{"$f":"'kros seznam'!GKP147","v":0},{"$f":"'kros seznam'!GKQ147","v":0},{"$f":"'kros seznam'!GKR147","v":0},{"$f":"'kros seznam'!GKS147","v":0},{"$f":"'kros seznam'!GKT147","v":0},{"$f":"'kros seznam'!GKU147","v":0},{"$f":"'kros seznam'!GKV147","v":0},{"$f":"'kros seznam'!GKW147","v":0},{"$f":"'kros seznam'!GKX147","v":0},{"$f":"'kros seznam'!GKY147","v":0},{"$f":"'kros seznam'!GKZ147","v":0},{"$f":"'kros seznam'!GLA147","v":0},{"$f":"'kros seznam'!GLB147","v":0},{"$f":"'kros seznam'!GLC147","v":0},{"$f":"'kros seznam'!GLD147","v":0},{"$f":"'kros seznam'!GLE147","v":0},{"$f":"'kros seznam'!GLF147","v":0},{"$f":"'kros seznam'!GLG147","v":0},{"$f":"'kros seznam'!GLH147","v":0},{"$f":"'kros seznam'!GLI147","v":0},{"$f":"'kros seznam'!GLJ147","v":0},{"$f":"'kros seznam'!GLK147","v":0},{"$f":"'kros seznam'!GLL147","v":0},{"$f":"'kros seznam'!GLM147","v":0},{"$f":"'kros seznam'!GLN147","v":0},{"$f":"'kros seznam'!GLO147","v":0},{"$f":"'kros seznam'!GLP147","v":0},{"$f":"'kros seznam'!GLQ147","v":0},{"$f":"'kros seznam'!GLR147","v":0},{"$f":"'kros seznam'!GLS147","v":0},{"$f":"'kros seznam'!GLT147","v":0},{"$f":"'kros seznam'!GLU147","v":0},{"$f":"'kros seznam'!GLV147","v":0},{"$f":"'kros seznam'!GLW147","v":0},{"$f":"'kros seznam'!GLX147","v":0},{"$f":"'kros seznam'!GLY147","v":0},{"$f":"'kros seznam'!GLZ147","v":0},{"$f":"'kros seznam'!GMA147","v":0},{"$f":"'kros seznam'!GMB147","v":0},{"$f":"'kros seznam'!GMC147","v":0},{"$f":"'kros seznam'!GMD147","v":0},{"$f":"'kros seznam'!GME147","v":0},{"$f":"'kros seznam'!GMF147","v":0},{"$f":"'kros seznam'!GMG147","v":0},{"$f":"'kros seznam'!GMH147","v":0},{"$f":"'kros seznam'!GMI147","v":0},{"$f":"'kros seznam'!GMJ147","v":0},{"$f":"'kros seznam'!GMK147","v":0},{"$f":"'kros seznam'!GML147","v":0},{"$f":"'kros seznam'!GMM147","v":0},{"$f":"'kros seznam'!GMN147","v":0},{"$f":"'kros seznam'!GMO147","v":0},{"$f":"'kros seznam'!GMP147","v":0},{"$f":"'kros seznam'!GMQ147","v":0},{"$f":"'kros seznam'!GMR147","v":0},{"$f":"'kros seznam'!GMS147","v":0},{"$f":"'kros seznam'!GMT147","v":0},{"$f":"'kros seznam'!GMU147","v":0},{"$f":"'kros seznam'!GMV147","v":0},{"$f":"'kros seznam'!GMW147","v":0},{"$f":"'kros seznam'!GMX147","v":0},{"$f":"'kros seznam'!GMY147","v":0},{"$f":"'kros seznam'!GMZ147","v":0},{"$f":"'kros seznam'!GNA147","v":0},{"$f":"'kros seznam'!GNB147","v":0},{"$f":"'kros seznam'!GNC147","v":0},{"$f":"'kros seznam'!GND147","v":0},{"$f":"'kros seznam'!GNE147","v":0},{"$f":"'kros seznam'!GNF147","v":0},{"$f":"'kros seznam'!GNG147","v":0},{"$f":"'kros seznam'!GNH147","v":0},{"$f":"'kros seznam'!GNI147","v":0},{"$f":"'kros seznam'!GNJ147","v":0},{"$f":"'kros seznam'!GNK147","v":0},{"$f":"'kros seznam'!GNL147","v":0},{"$f":"'kros seznam'!GNM147","v":0},{"$f":"'kros seznam'!GNN147","v":0},{"$f":"'kros seznam'!GNO147","v":0},{"$f":"'kros seznam'!GNP147","v":0},{"$f":"'kros seznam'!GNQ147","v":0},{"$f":"'kros seznam'!GNR147","v":0},{"$f":"'kros seznam'!GNS147","v":0},{"$f":"'kros seznam'!GNT147","v":0},{"$f":"'kros seznam'!GNU147","v":0},{"$f":"'kros seznam'!GNV147","v":0},{"$f":"'kros seznam'!GNW147","v":0},{"$f":"'kros seznam'!GNX147","v":0},{"$f":"'kros seznam'!GNY147","v":0},{"$f":"'kros seznam'!GNZ147","v":0},{"$f":"'kros seznam'!GOA147","v":0},{"$f":"'kros seznam'!GOB147","v":0},{"$f":"'kros seznam'!GOC147","v":0},{"$f":"'kros seznam'!GOD147","v":0},{"$f":"'kros seznam'!GOE147","v":0},{"$f":"'kros seznam'!GOF147","v":0},{"$f":"'kros seznam'!GOG147","v":0},{"$f":"'kros seznam'!GOH147","v":0},{"$f":"'kros seznam'!GOI147","v":0},{"$f":"'kros seznam'!GOJ147","v":0},{"$f":"'kros seznam'!GOK147","v":0},{"$f":"'kros seznam'!GOL147","v":0},{"$f":"'kros seznam'!GOM147","v":0},{"$f":"'kros seznam'!GON147","v":0},{"$f":"'kros seznam'!GOO147","v":0},{"$f":"'kros seznam'!GOP147","v":0},{"$f":"'kros seznam'!GOQ147","v":0},{"$f":"'kros seznam'!GOR147","v":0},{"$f":"'kros seznam'!GOS147","v":0},{"$f":"'kros seznam'!GOT147","v":0},{"$f":"'kros seznam'!GOU147","v":0},{"$f":"'kros seznam'!GOV147","v":0},{"$f":"'kros seznam'!GOW147","v":0},{"$f":"'kros seznam'!GOX147","v":0},{"$f":"'kros seznam'!GOY147","v":0},{"$f":"'kros seznam'!GOZ147","v":0},{"$f":"'kros seznam'!GPA147","v":0},{"$f":"'kros seznam'!GPB147","v":0},{"$f":"'kros seznam'!GPC147","v":0},{"$f":"'kros seznam'!GPD147","v":0},{"$f":"'kros seznam'!GPE147","v":0},{"$f":"'kros seznam'!GPF147","v":0},{"$f":"'kros seznam'!GPG147","v":0},{"$f":"'kros seznam'!GPH147","v":0},{"$f":"'kros seznam'!GPI147","v":0},{"$f":"'kros seznam'!GPJ147","v":0},{"$f":"'kros seznam'!GPK147","v":0},{"$f":"'kros seznam'!GPL147","v":0},{"$f":"'kros seznam'!GPM147","v":0},{"$f":"'kros seznam'!GPN147","v":0},{"$f":"'kros seznam'!GPO147","v":0},{"$f":"'kros seznam'!GPP147","v":0},{"$f":"'kros seznam'!GPQ147","v":0},{"$f":"'kros seznam'!GPR147","v":0},{"$f":"'kros seznam'!GPS147","v":0},{"$f":"'kros seznam'!GPT147","v":0},{"$f":"'kros seznam'!GPU147","v":0},{"$f":"'kros seznam'!GPV147","v":0},{"$f":"'kros seznam'!GPW147","v":0},{"$f":"'kros seznam'!GPX147","v":0},{"$f":"'kros seznam'!GPY147","v":0},{"$f":"'kros seznam'!GPZ147","v":0},{"$f":"'kros seznam'!GQA147","v":0},{"$f":"'kros seznam'!GQB147","v":0},{"$f":"'kros seznam'!GQC147","v":0},{"$f":"'kros seznam'!GQD147","v":0},{"$f":"'kros seznam'!GQE147","v":0},{"$f":"'kros seznam'!GQF147","v":0},{"$f":"'kros seznam'!GQG147","v":0},{"$f":"'kros seznam'!GQH147","v":0},{"$f":"'kros seznam'!GQI147","v":0},{"$f":"'kros seznam'!GQJ147","v":0},{"$f":"'kros seznam'!GQK147","v":0},{"$f":"'kros seznam'!GQL147","v":0},{"$f":"'kros seznam'!GQM147","v":0},{"$f":"'kros seznam'!GQN147","v":0},{"$f":"'kros seznam'!GQO147","v":0},{"$f":"'kros seznam'!GQP147","v":0},{"$f":"'kros seznam'!GQQ147","v":0},{"$f":"'kros seznam'!GQR147","v":0},{"$f":"'kros seznam'!GQS147","v":0},{"$f":"'kros seznam'!GQT147","v":0},{"$f":"'kros seznam'!GQU147","v":0},{"$f":"'kros seznam'!GQV147","v":0},{"$f":"'kros seznam'!GQW147","v":0},{"$f":"'kros seznam'!GQX147","v":0},{"$f":"'kros seznam'!GQY147","v":0},{"$f":"'kros seznam'!GQZ147","v":0},{"$f":"'kros seznam'!GRA147","v":0},{"$f":"'kros seznam'!GRB147","v":0},{"$f":"'kros seznam'!GRC147","v":0},{"$f":"'kros seznam'!GRD147","v":0},{"$f":"'kros seznam'!GRE147","v":0},{"$f":"'kros seznam'!GRF147","v":0},{"$f":"'kros seznam'!GRG147","v":0},{"$f":"'kros seznam'!GRH147","v":0},{"$f":"'kros seznam'!GRI147","v":0},{"$f":"'kros seznam'!GRJ147","v":0},{"$f":"'kros seznam'!GRK147","v":0},{"$f":"'kros seznam'!GRL147","v":0},{"$f":"'kros seznam'!GRM147","v":0},{"$f":"'kros seznam'!GRN147","v":0},{"$f":"'kros seznam'!GRO147","v":0},{"$f":"'kros seznam'!GRP147","v":0},{"$f":"'kros seznam'!GRQ147","v":0},{"$f":"'kros seznam'!GRR147","v":0},{"$f":"'kros seznam'!GRS147","v":0},{"$f":"'kros seznam'!GRT147","v":0},{"$f":"'kros seznam'!GRU147","v":0},{"$f":"'kros seznam'!GRV147","v":0},{"$f":"'kros seznam'!GRW147","v":0},{"$f":"'kros seznam'!GRX147","v":0},{"$f":"'kros seznam'!GRY147","v":0},{"$f":"'kros seznam'!GRZ147","v":0},{"$f":"'kros seznam'!GSA147","v":0},{"$f":"'kros seznam'!GSB147","v":0},{"$f":"'kros seznam'!GSC147","v":0},{"$f":"'kros seznam'!GSD147","v":0},{"$f":"'kros seznam'!GSE147","v":0},{"$f":"'kros seznam'!GSF147","v":0},{"$f":"'kros seznam'!GSG147","v":0},{"$f":"'kros seznam'!GSH147","v":0},{"$f":"'kros seznam'!GSI147","v":0},{"$f":"'kros seznam'!GSJ147","v":0},{"$f":"'kros seznam'!GSK147","v":0},{"$f":"'kros seznam'!GSL147","v":0},{"$f":"'kros seznam'!GSM147","v":0},{"$f":"'kros seznam'!GSN147","v":0},{"$f":"'kros seznam'!GSO147","v":0},{"$f":"'kros seznam'!GSP147","v":0},{"$f":"'kros seznam'!GSQ147","v":0},{"$f":"'kros seznam'!GSR147","v":0},{"$f":"'kros seznam'!GSS147","v":0},{"$f":"'kros seznam'!GST147","v":0},{"$f":"'kros seznam'!GSU147","v":0},{"$f":"'kros seznam'!GSV147","v":0},{"$f":"'kros seznam'!GSW147","v":0},{"$f":"'kros seznam'!GSX147","v":0},{"$f":"'kros seznam'!GSY147","v":0},{"$f":"'kros seznam'!GSZ147","v":0},{"$f":"'kros seznam'!GTA147","v":0},{"$f":"'kros seznam'!GTB147","v":0},{"$f":"'kros seznam'!GTC147","v":0},{"$f":"'kros seznam'!GTD147","v":0},{"$f":"'kros seznam'!GTE147","v":0},{"$f":"'kros seznam'!GTF147","v":0},{"$f":"'kros seznam'!GTG147","v":0},{"$f":"'kros seznam'!GTH147","v":0},{"$f":"'kros seznam'!GTI147","v":0},{"$f":"'kros seznam'!GTJ147","v":0},{"$f":"'kros seznam'!GTK147","v":0},{"$f":"'kros seznam'!GTL147","v":0},{"$f":"'kros seznam'!GTM147","v":0},{"$f":"'kros seznam'!GTN147","v":0},{"$f":"'kros seznam'!GTO147","v":0},{"$f":"'kros seznam'!GTP147","v":0},{"$f":"'kros seznam'!GTQ147","v":0},{"$f":"'kros seznam'!GTR147","v":0},{"$f":"'kros seznam'!GTS147","v":0},{"$f":"'kros seznam'!GTT147","v":0},{"$f":"'kros seznam'!GTU147","v":0},{"$f":"'kros seznam'!GTV147","v":0},{"$f":"'kros seznam'!GTW147","v":0},{"$f":"'kros seznam'!GTX147","v":0},{"$f":"'kros seznam'!GTY147","v":0},{"$f":"'kros seznam'!GTZ147","v":0},{"$f":"'kros seznam'!GUA147","v":0},{"$f":"'kros seznam'!GUB147","v":0},{"$f":"'kros seznam'!GUC147","v":0},{"$f":"'kros seznam'!GUD147","v":0},{"$f":"'kros seznam'!GUE147","v":0},{"$f":"'kros seznam'!GUF147","v":0},{"$f":"'kros seznam'!GUG147","v":0},{"$f":"'kros seznam'!GUH147","v":0},{"$f":"'kros seznam'!GUI147","v":0},{"$f":"'kros seznam'!GUJ147","v":0},{"$f":"'kros seznam'!GUK147","v":0},{"$f":"'kros seznam'!GUL147","v":0},{"$f":"'kros seznam'!GUM147","v":0},{"$f":"'kros seznam'!GUN147","v":0},{"$f":"'kros seznam'!GUO147","v":0},{"$f":"'kros seznam'!GUP147","v":0},{"$f":"'kros seznam'!GUQ147","v":0},{"$f":"'kros seznam'!GUR147","v":0},{"$f":"'kros seznam'!GUS147","v":0},{"$f":"'kros seznam'!GUT147","v":0},{"$f":"'kros seznam'!GUU147","v":0},{"$f":"'kros seznam'!GUV147","v":0},{"$f":"'kros seznam'!GUW147","v":0},{"$f":"'kros seznam'!GUX147","v":0},{"$f":"'kros seznam'!GUY147","v":0},{"$f":"'kros seznam'!GUZ147","v":0},{"$f":"'kros seznam'!GVA147","v":0},{"$f":"'kros seznam'!GVB147","v":0},{"$f":"'kros seznam'!GVC147","v":0},{"$f":"'kros seznam'!GVD147","v":0},{"$f":"'kros seznam'!GVE147","v":0},{"$f":"'kros seznam'!GVF147","v":0},{"$f":"'kros seznam'!GVG147","v":0},{"$f":"'kros seznam'!GVH147","v":0},{"$f":"'kros seznam'!GVI147","v":0},{"$f":"'kros seznam'!GVJ147","v":0},{"$f":"'kros seznam'!GVK147","v":0},{"$f":"'kros seznam'!GVL147","v":0},{"$f":"'kros seznam'!GVM147","v":0},{"$f":"'kros seznam'!GVN147","v":0},{"$f":"'kros seznam'!GVO147","v":0},{"$f":"'kros seznam'!GVP147","v":0},{"$f":"'kros seznam'!GVQ147","v":0},{"$f":"'kros seznam'!GVR147","v":0},{"$f":"'kros seznam'!GVS147","v":0},{"$f":"'kros seznam'!GVT147","v":0},{"$f":"'kros seznam'!GVU147","v":0},{"$f":"'kros seznam'!GVV147","v":0},{"$f":"'kros seznam'!GVW147","v":0},{"$f":"'kros seznam'!GVX147","v":0},{"$f":"'kros seznam'!GVY147","v":0},{"$f":"'kros seznam'!GVZ147","v":0},{"$f":"'kros seznam'!GWA147","v":0},{"$f":"'kros seznam'!GWB147","v":0},{"$f":"'kros seznam'!GWC147","v":0},{"$f":"'kros seznam'!GWD147","v":0},{"$f":"'kros seznam'!GWE147","v":0},{"$f":"'kros seznam'!GWF147","v":0},{"$f":"'kros seznam'!GWG147","v":0},{"$f":"'kros seznam'!GWH147","v":0},{"$f":"'kros seznam'!GWI147","v":0},{"$f":"'kros seznam'!GWJ147","v":0},{"$f":"'kros seznam'!GWK147","v":0},{"$f":"'kros seznam'!GWL147","v":0},{"$f":"'kros seznam'!GWM147","v":0},{"$f":"'kros seznam'!GWN147","v":0},{"$f":"'kros seznam'!GWO147","v":0},{"$f":"'kros seznam'!GWP147","v":0},{"$f":"'kros seznam'!GWQ147","v":0},{"$f":"'kros seznam'!GWR147","v":0},{"$f":"'kros seznam'!GWS147","v":0},{"$f":"'kros seznam'!GWT147","v":0},{"$f":"'kros seznam'!GWU147","v":0},{"$f":"'kros seznam'!GWV147","v":0},{"$f":"'kros seznam'!GWW147","v":0},{"$f":"'kros seznam'!GWX147","v":0},{"$f":"'kros seznam'!GWY147","v":0},{"$f":"'kros seznam'!GWZ147","v":0},{"$f":"'kros seznam'!GXA147","v":0},{"$f":"'kros seznam'!GXB147","v":0},{"$f":"'kros seznam'!GXC147","v":0},{"$f":"'kros seznam'!GXD147","v":0},{"$f":"'kros seznam'!GXE147","v":0},{"$f":"'kros seznam'!GXF147","v":0},{"$f":"'kros seznam'!GXG147","v":0},{"$f":"'kros seznam'!GXH147","v":0},{"$f":"'kros seznam'!GXI147","v":0},{"$f":"'kros seznam'!GXJ147","v":0},{"$f":"'kros seznam'!GXK147","v":0},{"$f":"'kros seznam'!GXL147","v":0},{"$f":"'kros seznam'!GXM147","v":0},{"$f":"'kros seznam'!GXN147","v":0},{"$f":"'kros seznam'!GXO147","v":0},{"$f":"'kros seznam'!GXP147","v":0},{"$f":"'kros seznam'!GXQ147","v":0},{"$f":"'kros seznam'!GXR147","v":0},{"$f":"'kros seznam'!GXS147","v":0},{"$f":"'kros seznam'!GXT147","v":0},{"$f":"'kros seznam'!GXU147","v":0},{"$f":"'kros seznam'!GXV147","v":0},{"$f":"'kros seznam'!GXW147","v":0},{"$f":"'kros seznam'!GXX147","v":0},{"$f":"'kros seznam'!GXY147","v":0},{"$f":"'kros seznam'!GXZ147","v":0},{"$f":"'kros seznam'!GYA147","v":0},{"$f":"'kros seznam'!GYB147","v":0},{"$f":"'kros seznam'!GYC147","v":0},{"$f":"'kros seznam'!GYD147","v":0},{"$f":"'kros seznam'!GYE147","v":0},{"$f":"'kros seznam'!GYF147","v":0},{"$f":"'kros seznam'!GYG147","v":0},{"$f":"'kros seznam'!GYH147","v":0},{"$f":"'kros seznam'!GYI147","v":0},{"$f":"'kros seznam'!GYJ147","v":0},{"$f":"'kros seznam'!GYK147","v":0},{"$f":"'kros seznam'!GYL147","v":0},{"$f":"'kros seznam'!GYM147","v":0},{"$f":"'kros seznam'!GYN147","v":0},{"$f":"'kros seznam'!GYO147","v":0},{"$f":"'kros seznam'!GYP147","v":0},{"$f":"'kros seznam'!GYQ147","v":0},{"$f":"'kros seznam'!GYR147","v":0},{"$f":"'kros seznam'!GYS147","v":0},{"$f":"'kros seznam'!GYT147","v":0},{"$f":"'kros seznam'!GYU147","v":0},{"$f":"'kros seznam'!GYV147","v":0},{"$f":"'kros seznam'!GYW147","v":0},{"$f":"'kros seznam'!GYX147","v":0},{"$f":"'kros seznam'!GYY147","v":0},{"$f":"'kros seznam'!GYZ147","v":0},{"$f":"'kros seznam'!GZA147","v":0},{"$f":"'kros seznam'!GZB147","v":0},{"$f":"'kros seznam'!GZC147","v":0},{"$f":"'kros seznam'!GZD147","v":0},{"$f":"'kros seznam'!GZE147","v":0},{"$f":"'kros seznam'!GZF147","v":0},{"$f":"'kros seznam'!GZG147","v":0},{"$f":"'kros seznam'!GZH147","v":0},{"$f":"'kros seznam'!GZI147","v":0},{"$f":"'kros seznam'!GZJ147","v":0},{"$f":"'kros seznam'!GZK147","v":0},{"$f":"'kros seznam'!GZL147","v":0},{"$f":"'kros seznam'!GZM147","v":0},{"$f":"'kros seznam'!GZN147","v":0},{"$f":"'kros seznam'!GZO147","v":0},{"$f":"'kros seznam'!GZP147","v":0},{"$f":"'kros seznam'!GZQ147","v":0},{"$f":"'kros seznam'!GZR147","v":0},{"$f":"'kros seznam'!GZS147","v":0},{"$f":"'kros seznam'!GZT147","v":0},{"$f":"'kros seznam'!GZU147","v":0},{"$f":"'kros seznam'!GZV147","v":0},{"$f":"'kros seznam'!GZW147","v":0},{"$f":"'kros seznam'!GZX147","v":0},{"$f":"'kros seznam'!GZY147","v":0},{"$f":"'kros seznam'!GZZ147","v":0},{"$f":"'kros seznam'!HAA147","v":0},{"$f":"'kros seznam'!HAB147","v":0},{"$f":"'kros seznam'!HAC147","v":0},{"$f":"'kros seznam'!HAD147","v":0},{"$f":"'kros seznam'!HAE147","v":0},{"$f":"'kros seznam'!HAF147","v":0},{"$f":"'kros seznam'!HAG147","v":0},{"$f":"'kros seznam'!HAH147","v":0},{"$f":"'kros seznam'!HAI147","v":0},{"$f":"'kros seznam'!HAJ147","v":0},{"$f":"'kros seznam'!HAK147","v":0},{"$f":"'kros seznam'!HAL147","v":0},{"$f":"'kros seznam'!HAM147","v":0},{"$f":"'kros seznam'!HAN147","v":0},{"$f":"'kros seznam'!HAO147","v":0},{"$f":"'kros seznam'!HAP147","v":0},{"$f":"'kros seznam'!HAQ147","v":0},{"$f":"'kros seznam'!HAR147","v":0},{"$f":"'kros seznam'!HAS147","v":0},{"$f":"'kros seznam'!HAT147","v":0},{"$f":"'kros seznam'!HAU147","v":0},{"$f":"'kros seznam'!HAV147","v":0},{"$f":"'kros seznam'!HAW147","v":0},{"$f":"'kros seznam'!HAX147","v":0},{"$f":"'kros seznam'!HAY147","v":0},{"$f":"'kros seznam'!HAZ147","v":0},{"$f":"'kros seznam'!HBA147","v":0},{"$f":"'kros seznam'!HBB147","v":0},{"$f":"'kros seznam'!HBC147","v":0},{"$f":"'kros seznam'!HBD147","v":0},{"$f":"'kros seznam'!HBE147","v":0},{"$f":"'kros seznam'!HBF147","v":0},{"$f":"'kros seznam'!HBG147","v":0},{"$f":"'kros seznam'!HBH147","v":0},{"$f":"'kros seznam'!HBI147","v":0},{"$f":"'kros seznam'!HBJ147","v":0},{"$f":"'kros seznam'!HBK147","v":0},{"$f":"'kros seznam'!HBL147","v":0},{"$f":"'kros seznam'!HBM147","v":0},{"$f":"'kros seznam'!HBN147","v":0},{"$f":"'kros seznam'!HBO147","v":0},{"$f":"'kros seznam'!HBP147","v":0},{"$f":"'kros seznam'!HBQ147","v":0},{"$f":"'kros seznam'!HBR147","v":0},{"$f":"'kros seznam'!HBS147","v":0},{"$f":"'kros seznam'!HBT147","v":0},{"$f":"'kros seznam'!HBU147","v":0},{"$f":"'kros seznam'!HBV147","v":0},{"$f":"'kros seznam'!HBW147","v":0},{"$f":"'kros seznam'!HBX147","v":0},{"$f":"'kros seznam'!HBY147","v":0},{"$f":"'kros seznam'!HBZ147","v":0},{"$f":"'kros seznam'!HCA147","v":0},{"$f":"'kros seznam'!HCB147","v":0},{"$f":"'kros seznam'!HCC147","v":0},{"$f":"'kros seznam'!HCD147","v":0},{"$f":"'kros seznam'!HCE147","v":0},{"$f":"'kros seznam'!HCF147","v":0},{"$f":"'kros seznam'!HCG147","v":0},{"$f":"'kros seznam'!HCH147","v":0},{"$f":"'kros seznam'!HCI147","v":0},{"$f":"'kros seznam'!HCJ147","v":0},{"$f":"'kros seznam'!HCK147","v":0},{"$f":"'kros seznam'!HCL147","v":0},{"$f":"'kros seznam'!HCM147","v":0},{"$f":"'kros seznam'!HCN147","v":0},{"$f":"'kros seznam'!HCO147","v":0},{"$f":"'kros seznam'!HCP147","v":0},{"$f":"'kros seznam'!HCQ147","v":0},{"$f":"'kros seznam'!HCR147","v":0},{"$f":"'kros seznam'!HCS147","v":0},{"$f":"'kros seznam'!HCT147","v":0},{"$f":"'kros seznam'!HCU147","v":0},{"$f":"'kros seznam'!HCV147","v":0},{"$f":"'kros seznam'!HCW147","v":0},{"$f":"'kros seznam'!HCX147","v":0},{"$f":"'kros seznam'!HCY147","v":0},{"$f":"'kros seznam'!HCZ147","v":0},{"$f":"'kros seznam'!HDA147","v":0},{"$f":"'kros seznam'!HDB147","v":0},{"$f":"'kros seznam'!HDC147","v":0},{"$f":"'kros seznam'!HDD147","v":0},{"$f":"'kros seznam'!HDE147","v":0},{"$f":"'kros seznam'!HDF147","v":0},{"$f":"'kros seznam'!HDG147","v":0},{"$f":"'kros seznam'!HDH147","v":0},{"$f":"'kros seznam'!HDI147","v":0},{"$f":"'kros seznam'!HDJ147","v":0},{"$f":"'kros seznam'!HDK147","v":0},{"$f":"'kros seznam'!HDL147","v":0},{"$f":"'kros seznam'!HDM147","v":0},{"$f":"'kros seznam'!HDN147","v":0},{"$f":"'kros seznam'!HDO147","v":0},{"$f":"'kros seznam'!HDP147","v":0},{"$f":"'kros seznam'!HDQ147","v":0},{"$f":"'kros seznam'!HDR147","v":0},{"$f":"'kros seznam'!HDS147","v":0},{"$f":"'kros seznam'!HDT147","v":0},{"$f":"'kros seznam'!HDU147","v":0},{"$f":"'kros seznam'!HDV147","v":0},{"$f":"'kros seznam'!HDW147","v":0},{"$f":"'kros seznam'!HDX147","v":0},{"$f":"'kros seznam'!HDY147","v":0},{"$f":"'kros seznam'!HDZ147","v":0},{"$f":"'kros seznam'!HEA147","v":0},{"$f":"'kros seznam'!HEB147","v":0},{"$f":"'kros seznam'!HEC147","v":0},{"$f":"'kros seznam'!HED147","v":0},{"$f":"'kros seznam'!HEE147","v":0},{"$f":"'kros seznam'!HEF147","v":0},{"$f":"'kros seznam'!HEG147","v":0},{"$f":"'kros seznam'!HEH147","v":0},{"$f":"'kros seznam'!HEI147","v":0},{"$f":"'kros seznam'!HEJ147","v":0},{"$f":"'kros seznam'!HEK147","v":0},{"$f":"'kros seznam'!HEL147","v":0},{"$f":"'kros seznam'!HEM147","v":0},{"$f":"'kros seznam'!HEN147","v":0},{"$f":"'kros seznam'!HEO147","v":0},{"$f":"'kros seznam'!HEP147","v":0},{"$f":"'kros seznam'!HEQ147","v":0},{"$f":"'kros seznam'!HER147","v":0},{"$f":"'kros seznam'!HES147","v":0},{"$f":"'kros seznam'!HET147","v":0},{"$f":"'kros seznam'!HEU147","v":0},{"$f":"'kros seznam'!HEV147","v":0},{"$f":"'kros seznam'!HEW147","v":0},{"$f":"'kros seznam'!HEX147","v":0},{"$f":"'kros seznam'!HEY147","v":0},{"$f":"'kros seznam'!HEZ147","v":0},{"$f":"'kros seznam'!HFA147","v":0},{"$f":"'kros seznam'!HFB147","v":0},{"$f":"'kros seznam'!HFC147","v":0},{"$f":"'kros seznam'!HFD147","v":0},{"$f":"'kros seznam'!HFE147","v":0},{"$f":"'kros seznam'!HFF147","v":0},{"$f":"'kros seznam'!HFG147","v":0},{"$f":"'kros seznam'!HFH147","v":0},{"$f":"'kros seznam'!HFI147","v":0},{"$f":"'kros seznam'!HFJ147","v":0},{"$f":"'kros seznam'!HFK147","v":0},{"$f":"'kros seznam'!HFL147","v":0},{"$f":"'kros seznam'!HFM147","v":0},{"$f":"'kros seznam'!HFN147","v":0},{"$f":"'kros seznam'!HFO147","v":0},{"$f":"'kros seznam'!HFP147","v":0},{"$f":"'kros seznam'!HFQ147","v":0},{"$f":"'kros seznam'!HFR147","v":0},{"$f":"'kros seznam'!HFS147","v":0},{"$f":"'kros seznam'!HFT147","v":0},{"$f":"'kros seznam'!HFU147","v":0},{"$f":"'kros seznam'!HFV147","v":0},{"$f":"'kros seznam'!HFW147","v":0},{"$f":"'kros seznam'!HFX147","v":0},{"$f":"'kros seznam'!HFY147","v":0},{"$f":"'kros seznam'!HFZ147","v":0},{"$f":"'kros seznam'!HGA147","v":0},{"$f":"'kros seznam'!HGB147","v":0},{"$f":"'kros seznam'!HGC147","v":0},{"$f":"'kros seznam'!HGD147","v":0},{"$f":"'kros seznam'!HGE147","v":0},{"$f":"'kros seznam'!HGF147","v":0},{"$f":"'kros seznam'!HGG147","v":0},{"$f":"'kros seznam'!HGH147","v":0},{"$f":"'kros seznam'!HGI147","v":0},{"$f":"'kros seznam'!HGJ147","v":0},{"$f":"'kros seznam'!HGK147","v":0},{"$f":"'kros seznam'!HGL147","v":0},{"$f":"'kros seznam'!HGM147","v":0},{"$f":"'kros seznam'!HGN147","v":0},{"$f":"'kros seznam'!HGO147","v":0},{"$f":"'kros seznam'!HGP147","v":0},{"$f":"'kros seznam'!HGQ147","v":0},{"$f":"'kros seznam'!HGR147","v":0},{"$f":"'kros seznam'!HGS147","v":0},{"$f":"'kros seznam'!HGT147","v":0},{"$f":"'kros seznam'!HGU147","v":0},{"$f":"'kros seznam'!HGV147","v":0},{"$f":"'kros seznam'!HGW147","v":0},{"$f":"'kros seznam'!HGX147","v":0},{"$f":"'kros seznam'!HGY147","v":0},{"$f":"'kros seznam'!HGZ147","v":0},{"$f":"'kros seznam'!HHA147","v":0},{"$f":"'kros seznam'!HHB147","v":0},{"$f":"'kros seznam'!HHC147","v":0},{"$f":"'kros seznam'!HHD147","v":0},{"$f":"'kros seznam'!HHE147","v":0},{"$f":"'kros seznam'!HHF147","v":0},{"$f":"'kros seznam'!HHG147","v":0},{"$f":"'kros seznam'!HHH147","v":0},{"$f":"'kros seznam'!HHI147","v":0},{"$f":"'kros seznam'!HHJ147","v":0},{"$f":"'kros seznam'!HHK147","v":0},{"$f":"'kros seznam'!HHL147","v":0},{"$f":"'kros seznam'!HHM147","v":0},{"$f":"'kros seznam'!HHN147","v":0},{"$f":"'kros seznam'!HHO147","v":0},{"$f":"'kros seznam'!HHP147","v":0},{"$f":"'kros seznam'!HHQ147","v":0},{"$f":"'kros seznam'!HHR147","v":0},{"$f":"'kros seznam'!HHS147","v":0},{"$f":"'kros seznam'!HHT147","v":0},{"$f":"'kros seznam'!HHU147","v":0},{"$f":"'kros seznam'!HHV147","v":0},{"$f":"'kros seznam'!HHW147","v":0},{"$f":"'kros seznam'!HHX147","v":0},{"$f":"'kros seznam'!HHY147","v":0},{"$f":"'kros seznam'!HHZ147","v":0},{"$f":"'kros seznam'!HIA147","v":0},{"$f":"'kros seznam'!HIB147","v":0},{"$f":"'kros seznam'!HIC147","v":0},{"$f":"'kros seznam'!HID147","v":0},{"$f":"'kros seznam'!HIE147","v":0},{"$f":"'kros seznam'!HIF147","v":0},{"$f":"'kros seznam'!HIG147","v":0},{"$f":"'kros seznam'!HIH147","v":0},{"$f":"'kros seznam'!HII147","v":0},{"$f":"'kros seznam'!HIJ147","v":0},{"$f":"'kros seznam'!HIK147","v":0},{"$f":"'kros seznam'!HIL147","v":0},{"$f":"'kros seznam'!HIM147","v":0},{"$f":"'kros seznam'!HIN147","v":0},{"$f":"'kros seznam'!HIO147","v":0},{"$f":"'kros seznam'!HIP147","v":0},{"$f":"'kros seznam'!HIQ147","v":0},{"$f":"'kros seznam'!HIR147","v":0},{"$f":"'kros seznam'!HIS147","v":0},{"$f":"'kros seznam'!HIT147","v":0},{"$f":"'kros seznam'!HIU147","v":0},{"$f":"'kros seznam'!HIV147","v":0},{"$f":"'kros seznam'!HIW147","v":0},{"$f":"'kros seznam'!HIX147","v":0},{"$f":"'kros seznam'!HIY147","v":0},{"$f":"'kros seznam'!HIZ147","v":0},{"$f":"'kros seznam'!HJA147","v":0},{"$f":"'kros seznam'!HJB147","v":0},{"$f":"'kros seznam'!HJC147","v":0},{"$f":"'kros seznam'!HJD147","v":0},{"$f":"'kros seznam'!HJE147","v":0},{"$f":"'kros seznam'!HJF147","v":0},{"$f":"'kros seznam'!HJG147","v":0},{"$f":"'kros seznam'!HJH147","v":0},{"$f":"'kros seznam'!HJI147","v":0},{"$f":"'kros seznam'!HJJ147","v":0},{"$f":"'kros seznam'!HJK147","v":0},{"$f":"'kros seznam'!HJL147","v":0},{"$f":"'kros seznam'!HJM147","v":0},{"$f":"'kros seznam'!HJN147","v":0},{"$f":"'kros seznam'!HJO147","v":0},{"$f":"'kros seznam'!HJP147","v":0},{"$f":"'kros seznam'!HJQ147","v":0},{"$f":"'kros seznam'!HJR147","v":0},{"$f":"'kros seznam'!HJS147","v":0},{"$f":"'kros seznam'!HJT147","v":0},{"$f":"'kros seznam'!HJU147","v":0},{"$f":"'kros seznam'!HJV147","v":0},{"$f":"'kros seznam'!HJW147","v":0},{"$f":"'kros seznam'!HJX147","v":0},{"$f":"'kros seznam'!HJY147","v":0},{"$f":"'kros seznam'!HJZ147","v":0},{"$f":"'kros seznam'!HKA147","v":0},{"$f":"'kros seznam'!HKB147","v":0},{"$f":"'kros seznam'!HKC147","v":0},{"$f":"'kros seznam'!HKD147","v":0},{"$f":"'kros seznam'!HKE147","v":0},{"$f":"'kros seznam'!HKF147","v":0},{"$f":"'kros seznam'!HKG147","v":0},{"$f":"'kros seznam'!HKH147","v":0},{"$f":"'kros seznam'!HKI147","v":0},{"$f":"'kros seznam'!HKJ147","v":0},{"$f":"'kros seznam'!HKK147","v":0},{"$f":"'kros seznam'!HKL147","v":0},{"$f":"'kros seznam'!HKM147","v":0},{"$f":"'kros seznam'!HKN147","v":0},{"$f":"'kros seznam'!HKO147","v":0},{"$f":"'kros seznam'!HKP147","v":0},{"$f":"'kros seznam'!HKQ147","v":0},{"$f":"'kros seznam'!HKR147","v":0},{"$f":"'kros seznam'!HKS147","v":0},{"$f":"'kros seznam'!HKT147","v":0},{"$f":"'kros seznam'!HKU147","v":0},{"$f":"'kros seznam'!HKV147","v":0},{"$f":"'kros seznam'!HKW147","v":0},{"$f":"'kros seznam'!HKX147","v":0},{"$f":"'kros seznam'!HKY147","v":0},{"$f":"'kros seznam'!HKZ147","v":0},{"$f":"'kros seznam'!HLA147","v":0},{"$f":"'kros seznam'!HLB147","v":0},{"$f":"'kros seznam'!HLC147","v":0},{"$f":"'kros seznam'!HLD147","v":0},{"$f":"'kros seznam'!HLE147","v":0},{"$f":"'kros seznam'!HLF147","v":0},{"$f":"'kros seznam'!HLG147","v":0},{"$f":"'kros seznam'!HLH147","v":0},{"$f":"'kros seznam'!HLI147","v":0},{"$f":"'kros seznam'!HLJ147","v":0},{"$f":"'kros seznam'!HLK147","v":0},{"$f":"'kros seznam'!HLL147","v":0},{"$f":"'kros seznam'!HLM147","v":0},{"$f":"'kros seznam'!HLN147","v":0},{"$f":"'kros seznam'!HLO147","v":0},{"$f":"'kros seznam'!HLP147","v":0},{"$f":"'kros seznam'!HLQ147","v":0},{"$f":"'kros seznam'!HLR147","v":0},{"$f":"'kros seznam'!HLS147","v":0},{"$f":"'kros seznam'!HLT147","v":0},{"$f":"'kros seznam'!HLU147","v":0},{"$f":"'kros seznam'!HLV147","v":0},{"$f":"'kros seznam'!HLW147","v":0},{"$f":"'kros seznam'!HLX147","v":0},{"$f":"'kros seznam'!HLY147","v":0},{"$f":"'kros seznam'!HLZ147","v":0},{"$f":"'kros seznam'!HMA147","v":0},{"$f":"'kros seznam'!HMB147","v":0},{"$f":"'kros seznam'!HMC147","v":0},{"$f":"'kros seznam'!HMD147","v":0},{"$f":"'kros seznam'!HME147","v":0},{"$f":"'kros seznam'!HMF147","v":0},{"$f":"'kros seznam'!HMG147","v":0},{"$f":"'kros seznam'!HMH147","v":0},{"$f":"'kros seznam'!HMI147","v":0},{"$f":"'kros seznam'!HMJ147","v":0},{"$f":"'kros seznam'!HMK147","v":0},{"$f":"'kros seznam'!HML147","v":0},{"$f":"'kros seznam'!HMM147","v":0},{"$f":"'kros seznam'!HMN147","v":0},{"$f":"'kros seznam'!HMO147","v":0},{"$f":"'kros seznam'!HMP147","v":0},{"$f":"'kros seznam'!HMQ147","v":0},{"$f":"'kros seznam'!HMR147","v":0},{"$f":"'kros seznam'!HMS147","v":0},{"$f":"'kros seznam'!HMT147","v":0},{"$f":"'kros seznam'!HMU147","v":0},{"$f":"'kros seznam'!HMV147","v":0},{"$f":"'kros seznam'!HMW147","v":0},{"$f":"'kros seznam'!HMX147","v":0},{"$f":"'kros seznam'!HMY147","v":0},{"$f":"'kros seznam'!HMZ147","v":0},{"$f":"'kros seznam'!HNA147","v":0},{"$f":"'kros seznam'!HNB147","v":0},{"$f":"'kros seznam'!HNC147","v":0},{"$f":"'kros seznam'!HND147","v":0},{"$f":"'kros seznam'!HNE147","v":0},{"$f":"'kros seznam'!HNF147","v":0},{"$f":"'kros seznam'!HNG147","v":0},{"$f":"'kros seznam'!HNH147","v":0},{"$f":"'kros seznam'!HNI147","v":0},{"$f":"'kros seznam'!HNJ147","v":0},{"$f":"'kros seznam'!HNK147","v":0},{"$f":"'kros seznam'!HNL147","v":0},{"$f":"'kros seznam'!HNM147","v":0},{"$f":"'kros seznam'!HNN147","v":0},{"$f":"'kros seznam'!HNO147","v":0},{"$f":"'kros seznam'!HNP147","v":0},{"$f":"'kros seznam'!HNQ147","v":0},{"$f":"'kros seznam'!HNR147","v":0},{"$f":"'kros seznam'!HNS147","v":0},{"$f":"'kros seznam'!HNT147","v":0},{"$f":"'kros seznam'!HNU147","v":0},{"$f":"'kros seznam'!HNV147","v":0},{"$f":"'kros seznam'!HNW147","v":0},{"$f":"'kros seznam'!HNX147","v":0},{"$f":"'kros seznam'!HNY147","v":0},{"$f":"'kros seznam'!HNZ147","v":0},{"$f":"'kros seznam'!HOA147","v":0},{"$f":"'kros seznam'!HOB147","v":0},{"$f":"'kros seznam'!HOC147","v":0},{"$f":"'kros seznam'!HOD147","v":0},{"$f":"'kros seznam'!HOE147","v":0},{"$f":"'kros seznam'!HOF147","v":0},{"$f":"'kros seznam'!HOG147","v":0},{"$f":"'kros seznam'!HOH147","v":0},{"$f":"'kros seznam'!HOI147","v":0},{"$f":"'kros seznam'!HOJ147","v":0},{"$f":"'kros seznam'!HOK147","v":0},{"$f":"'kros seznam'!HOL147","v":0},{"$f":"'kros seznam'!HOM147","v":0},{"$f":"'kros seznam'!HON147","v":0},{"$f":"'kros seznam'!HOO147","v":0},{"$f":"'kros seznam'!HOP147","v":0},{"$f":"'kros seznam'!HOQ147","v":0},{"$f":"'kros seznam'!HOR147","v":0},{"$f":"'kros seznam'!HOS147","v":0},{"$f":"'kros seznam'!HOT147","v":0},{"$f":"'kros seznam'!HOU147","v":0},{"$f":"'kros seznam'!HOV147","v":0},{"$f":"'kros seznam'!HOW147","v":0},{"$f":"'kros seznam'!HOX147","v":0},{"$f":"'kros seznam'!HOY147","v":0},{"$f":"'kros seznam'!HOZ147","v":0},{"$f":"'kros seznam'!HPA147","v":0},{"$f":"'kros seznam'!HPB147","v":0},{"$f":"'kros seznam'!HPC147","v":0},{"$f":"'kros seznam'!HPD147","v":0},{"$f":"'kros seznam'!HPE147","v":0},{"$f":"'kros seznam'!HPF147","v":0},{"$f":"'kros seznam'!HPG147","v":0},{"$f":"'kros seznam'!HPH147","v":0},{"$f":"'kros seznam'!HPI147","v":0},{"$f":"'kros seznam'!HPJ147","v":0},{"$f":"'kros seznam'!HPK147","v":0},{"$f":"'kros seznam'!HPL147","v":0},{"$f":"'kros seznam'!HPM147","v":0},{"$f":"'kros seznam'!HPN147","v":0},{"$f":"'kros seznam'!HPO147","v":0},{"$f":"'kros seznam'!HPP147","v":0},{"$f":"'kros seznam'!HPQ147","v":0},{"$f":"'kros seznam'!HPR147","v":0},{"$f":"'kros seznam'!HPS147","v":0},{"$f":"'kros seznam'!HPT147","v":0},{"$f":"'kros seznam'!HPU147","v":0},{"$f":"'kros seznam'!HPV147","v":0},{"$f":"'kros seznam'!HPW147","v":0},{"$f":"'kros seznam'!HPX147","v":0},{"$f":"'kros seznam'!HPY147","v":0},{"$f":"'kros seznam'!HPZ147","v":0},{"$f":"'kros seznam'!HQA147","v":0},{"$f":"'kros seznam'!HQB147","v":0},{"$f":"'kros seznam'!HQC147","v":0},{"$f":"'kros seznam'!HQD147","v":0},{"$f":"'kros seznam'!HQE147","v":0},{"$f":"'kros seznam'!HQF147","v":0},{"$f":"'kros seznam'!HQG147","v":0},{"$f":"'kros seznam'!HQH147","v":0},{"$f":"'kros seznam'!HQI147","v":0},{"$f":"'kros seznam'!HQJ147","v":0},{"$f":"'kros seznam'!HQK147","v":0},{"$f":"'kros seznam'!HQL147","v":0},{"$f":"'kros seznam'!HQM147","v":0},{"$f":"'kros seznam'!HQN147","v":0},{"$f":"'kros seznam'!HQO147","v":0},{"$f":"'kros seznam'!HQP147","v":0},{"$f":"'kros seznam'!HQQ147","v":0},{"$f":"'kros seznam'!HQR147","v":0},{"$f":"'kros seznam'!HQS147","v":0},{"$f":"'kros seznam'!HQT147","v":0},{"$f":"'kros seznam'!HQU147","v":0},{"$f":"'kros seznam'!HQV147","v":0},{"$f":"'kros seznam'!HQW147","v":0},{"$f":"'kros seznam'!HQX147","v":0},{"$f":"'kros seznam'!HQY147","v":0},{"$f":"'kros seznam'!HQZ147","v":0},{"$f":"'kros seznam'!HRA147","v":0},{"$f":"'kros seznam'!HRB147","v":0},{"$f":"'kros seznam'!HRC147","v":0},{"$f":"'kros seznam'!HRD147","v":0},{"$f":"'kros seznam'!HRE147","v":0},{"$f":"'kros seznam'!HRF147","v":0},{"$f":"'kros seznam'!HRG147","v":0},{"$f":"'kros seznam'!HRH147","v":0},{"$f":"'kros seznam'!HRI147","v":0},{"$f":"'kros seznam'!HRJ147","v":0},{"$f":"'kros seznam'!HRK147","v":0},{"$f":"'kros seznam'!HRL147","v":0},{"$f":"'kros seznam'!HRM147","v":0},{"$f":"'kros seznam'!HRN147","v":0},{"$f":"'kros seznam'!HRO147","v":0},{"$f":"'kros seznam'!HRP147","v":0},{"$f":"'kros seznam'!HRQ147","v":0},{"$f":"'kros seznam'!HRR147","v":0},{"$f":"'kros seznam'!HRS147","v":0},{"$f":"'kros seznam'!HRT147","v":0},{"$f":"'kros seznam'!HRU147","v":0},{"$f":"'kros seznam'!HRV147","v":0},{"$f":"'kros seznam'!HRW147","v":0},{"$f":"'kros seznam'!HRX147","v":0},{"$f":"'kros seznam'!HRY147","v":0},{"$f":"'kros seznam'!HRZ147","v":0},{"$f":"'kros seznam'!HSA147","v":0},{"$f":"'kros seznam'!HSB147","v":0},{"$f":"'kros seznam'!HSC147","v":0},{"$f":"'kros seznam'!HSD147","v":0},{"$f":"'kros seznam'!HSE147","v":0},{"$f":"'kros seznam'!HSF147","v":0},{"$f":"'kros seznam'!HSG147","v":0},{"$f":"'kros seznam'!HSH147","v":0},{"$f":"'kros seznam'!HSI147","v":0},{"$f":"'kros seznam'!HSJ147","v":0},{"$f":"'kros seznam'!HSK147","v":0},{"$f":"'kros seznam'!HSL147","v":0},{"$f":"'kros seznam'!HSM147","v":0},{"$f":"'kros seznam'!HSN147","v":0},{"$f":"'kros seznam'!HSO147","v":0},{"$f":"'kros seznam'!HSP147","v":0},{"$f":"'kros seznam'!HSQ147","v":0},{"$f":"'kros seznam'!HSR147","v":0},{"$f":"'kros seznam'!HSS147","v":0},{"$f":"'kros seznam'!HST147","v":0},{"$f":"'kros seznam'!HSU147","v":0},{"$f":"'kros seznam'!HSV147","v":0},{"$f":"'kros seznam'!HSW147","v":0},{"$f":"'kros seznam'!HSX147","v":0},{"$f":"'kros seznam'!HSY147","v":0},{"$f":"'kros seznam'!HSZ147","v":0},{"$f":"'kros seznam'!HTA147","v":0},{"$f":"'kros seznam'!HTB147","v":0},{"$f":"'kros seznam'!HTC147","v":0},{"$f":"'kros seznam'!HTD147","v":0},{"$f":"'kros seznam'!HTE147","v":0},{"$f":"'kros seznam'!HTF147","v":0},{"$f":"'kros seznam'!HTG147","v":0},{"$f":"'kros seznam'!HTH147","v":0},{"$f":"'kros seznam'!HTI147","v":0},{"$f":"'kros seznam'!HTJ147","v":0},{"$f":"'kros seznam'!HTK147","v":0},{"$f":"'kros seznam'!HTL147","v":0},{"$f":"'kros seznam'!HTM147","v":0},{"$f":"'kros seznam'!HTN147","v":0},{"$f":"'kros seznam'!HTO147","v":0},{"$f":"'kros seznam'!HTP147","v":0},{"$f":"'kros seznam'!HTQ147","v":0},{"$f":"'kros seznam'!HTR147","v":0},{"$f":"'kros seznam'!HTS147","v":0},{"$f":"'kros seznam'!HTT147","v":0},{"$f":"'kros seznam'!HTU147","v":0},{"$f":"'kros seznam'!HTV147","v":0},{"$f":"'kros seznam'!HTW147","v":0},{"$f":"'kros seznam'!HTX147","v":0},{"$f":"'kros seznam'!HTY147","v":0},{"$f":"'kros seznam'!HTZ147","v":0},{"$f":"'kros seznam'!HUA147","v":0},{"$f":"'kros seznam'!HUB147","v":0},{"$f":"'kros seznam'!HUC147","v":0},{"$f":"'kros seznam'!HUD147","v":0},{"$f":"'kros seznam'!HUE147","v":0},{"$f":"'kros seznam'!HUF147","v":0},{"$f":"'kros seznam'!HUG147","v":0},{"$f":"'kros seznam'!HUH147","v":0},{"$f":"'kros seznam'!HUI147","v":0},{"$f":"'kros seznam'!HUJ147","v":0},{"$f":"'kros seznam'!HUK147","v":0},{"$f":"'kros seznam'!HUL147","v":0},{"$f":"'kros seznam'!HUM147","v":0},{"$f":"'kros seznam'!HUN147","v":0},{"$f":"'kros seznam'!HUO147","v":0},{"$f":"'kros seznam'!HUP147","v":0},{"$f":"'kros seznam'!HUQ147","v":0},{"$f":"'kros seznam'!HUR147","v":0},{"$f":"'kros seznam'!HUS147","v":0},{"$f":"'kros seznam'!HUT147","v":0},{"$f":"'kros seznam'!HUU147","v":0},{"$f":"'kros seznam'!HUV147","v":0},{"$f":"'kros seznam'!HUW147","v":0},{"$f":"'kros seznam'!HUX147","v":0},{"$f":"'kros seznam'!HUY147","v":0},{"$f":"'kros seznam'!HUZ147","v":0},{"$f":"'kros seznam'!HVA147","v":0},{"$f":"'kros seznam'!HVB147","v":0},{"$f":"'kros seznam'!HVC147","v":0},{"$f":"'kros seznam'!HVD147","v":0},{"$f":"'kros seznam'!HVE147","v":0},{"$f":"'kros seznam'!HVF147","v":0},{"$f":"'kros seznam'!HVG147","v":0},{"$f":"'kros seznam'!HVH147","v":0},{"$f":"'kros seznam'!HVI147","v":0},{"$f":"'kros seznam'!HVJ147","v":0},{"$f":"'kros seznam'!HVK147","v":0},{"$f":"'kros seznam'!HVL147","v":0},{"$f":"'kros seznam'!HVM147","v":0},{"$f":"'kros seznam'!HVN147","v":0},{"$f":"'kros seznam'!HVO147","v":0},{"$f":"'kros seznam'!HVP147","v":0},{"$f":"'kros seznam'!HVQ147","v":0},{"$f":"'kros seznam'!HVR147","v":0},{"$f":"'kros seznam'!HVS147","v":0},{"$f":"'kros seznam'!HVT147","v":0},{"$f":"'kros seznam'!HVU147","v":0},{"$f":"'kros seznam'!HVV147","v":0},{"$f":"'kros seznam'!HVW147","v":0},{"$f":"'kros seznam'!HVX147","v":0},{"$f":"'kros seznam'!HVY147","v":0},{"$f":"'kros seznam'!HVZ147","v":0},{"$f":"'kros seznam'!HWA147","v":0},{"$f":"'kros seznam'!HWB147","v":0},{"$f":"'kros seznam'!HWC147","v":0},{"$f":"'kros seznam'!HWD147","v":0},{"$f":"'kros seznam'!HWE147","v":0},{"$f":"'kros seznam'!HWF147","v":0},{"$f":"'kros seznam'!HWG147","v":0},{"$f":"'kros seznam'!HWH147","v":0},{"$f":"'kros seznam'!HWI147","v":0},{"$f":"'kros seznam'!HWJ147","v":0},{"$f":"'kros seznam'!HWK147","v":0},{"$f":"'kros seznam'!HWL147","v":0},{"$f":"'kros seznam'!HWM147","v":0},{"$f":"'kros seznam'!HWN147","v":0},{"$f":"'kros seznam'!HWO147","v":0},{"$f":"'kros seznam'!HWP147","v":0},{"$f":"'kros seznam'!HWQ147","v":0},{"$f":"'kros seznam'!HWR147","v":0},{"$f":"'kros seznam'!HWS147","v":0},{"$f":"'kros seznam'!HWT147","v":0},{"$f":"'kros seznam'!HWU147","v":0},{"$f":"'kros seznam'!HWV147","v":0},{"$f":"'kros seznam'!HWW147","v":0},{"$f":"'kros seznam'!HWX147","v":0},{"$f":"'kros seznam'!HWY147","v":0},{"$f":"'kros seznam'!HWZ147","v":0},{"$f":"'kros seznam'!HXA147","v":0},{"$f":"'kros seznam'!HXB147","v":0},{"$f":"'kros seznam'!HXC147","v":0},{"$f":"'kros seznam'!HXD147","v":0},{"$f":"'kros seznam'!HXE147","v":0},{"$f":"'kros seznam'!HXF147","v":0},{"$f":"'kros seznam'!HXG147","v":0},{"$f":"'kros seznam'!HXH147","v":0},{"$f":"'kros seznam'!HXI147","v":0},{"$f":"'kros seznam'!HXJ147","v":0},{"$f":"'kros seznam'!HXK147","v":0},{"$f":"'kros seznam'!HXL147","v":0},{"$f":"'kros seznam'!HXM147","v":0},{"$f":"'kros seznam'!HXN147","v":0},{"$f":"'kros seznam'!HXO147","v":0},{"$f":"'kros seznam'!HXP147","v":0},{"$f":"'kros seznam'!HXQ147","v":0},{"$f":"'kros seznam'!HXR147","v":0},{"$f":"'kros seznam'!HXS147","v":0},{"$f":"'kros seznam'!HXT147","v":0},{"$f":"'kros seznam'!HXU147","v":0},{"$f":"'kros seznam'!HXV147","v":0},{"$f":"'kros seznam'!HXW147","v":0},{"$f":"'kros seznam'!HXX147","v":0},{"$f":"'kros seznam'!HXY147","v":0},{"$f":"'kros seznam'!HXZ147","v":0},{"$f":"'kros seznam'!HYA147","v":0},{"$f":"'kros seznam'!HYB147","v":0},{"$f":"'kros seznam'!HYC147","v":0},{"$f":"'kros seznam'!HYD147","v":0},{"$f":"'kros seznam'!HYE147","v":0},{"$f":"'kros seznam'!HYF147","v":0},{"$f":"'kros seznam'!HYG147","v":0},{"$f":"'kros seznam'!HYH147","v":0},{"$f":"'kros seznam'!HYI147","v":0},{"$f":"'kros seznam'!HYJ147","v":0},{"$f":"'kros seznam'!HYK147","v":0},{"$f":"'kros seznam'!HYL147","v":0},{"$f":"'kros seznam'!HYM147","v":0},{"$f":"'kros seznam'!HYN147","v":0},{"$f":"'kros seznam'!HYO147","v":0},{"$f":"'kros seznam'!HYP147","v":0},{"$f":"'kros seznam'!HYQ147","v":0},{"$f":"'kros seznam'!HYR147","v":0},{"$f":"'kros seznam'!HYS147","v":0},{"$f":"'kros seznam'!HYT147","v":0},{"$f":"'kros seznam'!HYU147","v":0},{"$f":"'kros seznam'!HYV147","v":0},{"$f":"'kros seznam'!HYW147","v":0},{"$f":"'kros seznam'!HYX147","v":0},{"$f":"'kros seznam'!HYY147","v":0},{"$f":"'kros seznam'!HYZ147","v":0},{"$f":"'kros seznam'!HZA147","v":0},{"$f":"'kros seznam'!HZB147","v":0},{"$f":"'kros seznam'!HZC147","v":0},{"$f":"'kros seznam'!HZD147","v":0},{"$f":"'kros seznam'!HZE147","v":0},{"$f":"'kros seznam'!HZF147","v":0},{"$f":"'kros seznam'!HZG147","v":0},{"$f":"'kros seznam'!HZH147","v":0},{"$f":"'kros seznam'!HZI147","v":0},{"$f":"'kros seznam'!HZJ147","v":0},{"$f":"'kros seznam'!HZK147","v":0},{"$f":"'kros seznam'!HZL147","v":0},{"$f":"'kros seznam'!HZM147","v":0},{"$f":"'kros seznam'!HZN147","v":0},{"$f":"'kros seznam'!HZO147","v":0},{"$f":"'kros seznam'!HZP147","v":0},{"$f":"'kros seznam'!HZQ147","v":0},{"$f":"'kros seznam'!HZR147","v":0},{"$f":"'kros seznam'!HZS147","v":0},{"$f":"'kros seznam'!HZT147","v":0},{"$f":"'kros seznam'!HZU147","v":0},{"$f":"'kros seznam'!HZV147","v":0},{"$f":"'kros seznam'!HZW147","v":0},{"$f":"'kros seznam'!HZX147","v":0},{"$f":"'kros seznam'!HZY147","v":0},{"$f":"'kros seznam'!HZZ147","v":0},{"$f":"'kros seznam'!IAA147","v":0},{"$f":"'kros seznam'!IAB147","v":0},{"$f":"'kros seznam'!IAC147","v":0},{"$f":"'kros seznam'!IAD147","v":0},{"$f":"'kros seznam'!IAE147","v":0},{"$f":"'kros seznam'!IAF147","v":0},{"$f":"'kros seznam'!IAG147","v":0},{"$f":"'kros seznam'!IAH147","v":0},{"$f":"'kros seznam'!IAI147","v":0},{"$f":"'kros seznam'!IAJ147","v":0},{"$f":"'kros seznam'!IAK147","v":0},{"$f":"'kros seznam'!IAL147","v":0},{"$f":"'kros seznam'!IAM147","v":0},{"$f":"'kros seznam'!IAN147","v":0},{"$f":"'kros seznam'!IAO147","v":0},{"$f":"'kros seznam'!IAP147","v":0},{"$f":"'kros seznam'!IAQ147","v":0},{"$f":"'kros seznam'!IAR147","v":0},{"$f":"'kros seznam'!IAS147","v":0},{"$f":"'kros seznam'!IAT147","v":0},{"$f":"'kros seznam'!IAU147","v":0},{"$f":"'kros seznam'!IAV147","v":0},{"$f":"'kros seznam'!IAW147","v":0},{"$f":"'kros seznam'!IAX147","v":0},{"$f":"'kros seznam'!IAY147","v":0},{"$f":"'kros seznam'!IAZ147","v":0},{"$f":"'kros seznam'!IBA147","v":0},{"$f":"'kros seznam'!IBB147","v":0},{"$f":"'kros seznam'!IBC147","v":0},{"$f":"'kros seznam'!IBD147","v":0},{"$f":"'kros seznam'!IBE147","v":0},{"$f":"'kros seznam'!IBF147","v":0},{"$f":"'kros seznam'!IBG147","v":0},{"$f":"'kros seznam'!IBH147","v":0},{"$f":"'kros seznam'!IBI147","v":0},{"$f":"'kros seznam'!IBJ147","v":0},{"$f":"'kros seznam'!IBK147","v":0},{"$f":"'kros seznam'!IBL147","v":0},{"$f":"'kros seznam'!IBM147","v":0},{"$f":"'kros seznam'!IBN147","v":0},{"$f":"'kros seznam'!IBO147","v":0},{"$f":"'kros seznam'!IBP147","v":0},{"$f":"'kros seznam'!IBQ147","v":0},{"$f":"'kros seznam'!IBR147","v":0},{"$f":"'kros seznam'!IBS147","v":0},{"$f":"'kros seznam'!IBT147","v":0},{"$f":"'kros seznam'!IBU147","v":0},{"$f":"'kros seznam'!IBV147","v":0},{"$f":"'kros seznam'!IBW147","v":0},{"$f":"'kros seznam'!IBX147","v":0},{"$f":"'kros seznam'!IBY147","v":0},{"$f":"'kros seznam'!IBZ147","v":0},{"$f":"'kros seznam'!ICA147","v":0},{"$f":"'kros seznam'!ICB147","v":0},{"$f":"'kros seznam'!ICC147","v":0},{"$f":"'kros seznam'!ICD147","v":0},{"$f":"'kros seznam'!ICE147","v":0},{"$f":"'kros seznam'!ICF147","v":0},{"$f":"'kros seznam'!ICG147","v":0},{"$f":"'kros seznam'!ICH147","v":0},{"$f":"'kros seznam'!ICI147","v":0},{"$f":"'kros seznam'!ICJ147","v":0},{"$f":"'kros seznam'!ICK147","v":0},{"$f":"'kros seznam'!ICL147","v":0},{"$f":"'kros seznam'!ICM147","v":0},{"$f":"'kros seznam'!ICN147","v":0},{"$f":"'kros seznam'!ICO147","v":0},{"$f":"'kros seznam'!ICP147","v":0},{"$f":"'kros seznam'!ICQ147","v":0},{"$f":"'kros seznam'!ICR147","v":0},{"$f":"'kros seznam'!ICS147","v":0},{"$f":"'kros seznam'!ICT147","v":0},{"$f":"'kros seznam'!ICU147","v":0},{"$f":"'kros seznam'!ICV147","v":0},{"$f":"'kros seznam'!ICW147","v":0},{"$f":"'kros seznam'!ICX147","v":0},{"$f":"'kros seznam'!ICY147","v":0},{"$f":"'kros seznam'!ICZ147","v":0},{"$f":"'kros seznam'!IDA147","v":0},{"$f":"'kros seznam'!IDB147","v":0},{"$f":"'kros seznam'!IDC147","v":0},{"$f":"'kros seznam'!IDD147","v":0},{"$f":"'kros seznam'!IDE147","v":0},{"$f":"'kros seznam'!IDF147","v":0},{"$f":"'kros seznam'!IDG147","v":0},{"$f":"'kros seznam'!IDH147","v":0},{"$f":"'kros seznam'!IDI147","v":0},{"$f":"'kros seznam'!IDJ147","v":0},{"$f":"'kros seznam'!IDK147","v":0},{"$f":"'kros seznam'!IDL147","v":0},{"$f":"'kros seznam'!IDM147","v":0},{"$f":"'kros seznam'!IDN147","v":0},{"$f":"'kros seznam'!IDO147","v":0},{"$f":"'kros seznam'!IDP147","v":0},{"$f":"'kros seznam'!IDQ147","v":0},{"$f":"'kros seznam'!IDR147","v":0},{"$f":"'kros seznam'!IDS147","v":0},{"$f":"'kros seznam'!IDT147","v":0},{"$f":"'kros seznam'!IDU147","v":0},{"$f":"'kros seznam'!IDV147","v":0},{"$f":"'kros seznam'!IDW147","v":0},{"$f":"'kros seznam'!IDX147","v":0},{"$f":"'kros seznam'!IDY147","v":0},{"$f":"'kros seznam'!IDZ147","v":0},{"$f":"'kros seznam'!IEA147","v":0},{"$f":"'kros seznam'!IEB147","v":0},{"$f":"'kros seznam'!IEC147","v":0},{"$f":"'kros seznam'!IED147","v":0},{"$f":"'kros seznam'!IEE147","v":0},{"$f":"'kros seznam'!IEF147","v":0},{"$f":"'kros seznam'!IEG147","v":0},{"$f":"'kros seznam'!IEH147","v":0},{"$f":"'kros seznam'!IEI147","v":0},{"$f":"'kros seznam'!IEJ147","v":0},{"$f":"'kros seznam'!IEK147","v":0},{"$f":"'kros seznam'!IEL147","v":0},{"$f":"'kros seznam'!IEM147","v":0},{"$f":"'kros seznam'!IEN147","v":0},{"$f":"'kros seznam'!IEO147","v":0},{"$f":"'kros seznam'!IEP147","v":0},{"$f":"'kros seznam'!IEQ147","v":0},{"$f":"'kros seznam'!IER147","v":0},{"$f":"'kros seznam'!IES147","v":0},{"$f":"'kros seznam'!IET147","v":0},{"$f":"'kros seznam'!IEU147","v":0},{"$f":"'kros seznam'!IEV147","v":0},{"$f":"'kros seznam'!IEW147","v":0},{"$f":"'kros seznam'!IEX147","v":0},{"$f":"'kros seznam'!IEY147","v":0},{"$f":"'kros seznam'!IEZ147","v":0},{"$f":"'kros seznam'!IFA147","v":0},{"$f":"'kros seznam'!IFB147","v":0},{"$f":"'kros seznam'!IFC147","v":0},{"$f":"'kros seznam'!IFD147","v":0},{"$f":"'kros seznam'!IFE147","v":0},{"$f":"'kros seznam'!IFF147","v":0},{"$f":"'kros seznam'!IFG147","v":0},{"$f":"'kros seznam'!IFH147","v":0},{"$f":"'kros seznam'!IFI147","v":0},{"$f":"'kros seznam'!IFJ147","v":0},{"$f":"'kros seznam'!IFK147","v":0},{"$f":"'kros seznam'!IFL147","v":0},{"$f":"'kros seznam'!IFM147","v":0},{"$f":"'kros seznam'!IFN147","v":0},{"$f":"'kros seznam'!IFO147","v":0},{"$f":"'kros seznam'!IFP147","v":0},{"$f":"'kros seznam'!IFQ147","v":0},{"$f":"'kros seznam'!IFR147","v":0},{"$f":"'kros seznam'!IFS147","v":0},{"$f":"'kros seznam'!IFT147","v":0},{"$f":"'kros seznam'!IFU147","v":0},{"$f":"'kros seznam'!IFV147","v":0},{"$f":"'kros seznam'!IFW147","v":0},{"$f":"'kros seznam'!IFX147","v":0},{"$f":"'kros seznam'!IFY147","v":0},{"$f":"'kros seznam'!IFZ147","v":0},{"$f":"'kros seznam'!IGA147","v":0},{"$f":"'kros seznam'!IGB147","v":0},{"$f":"'kros seznam'!IGC147","v":0},{"$f":"'kros seznam'!IGD147","v":0},{"$f":"'kros seznam'!IGE147","v":0},{"$f":"'kros seznam'!IGF147","v":0},{"$f":"'kros seznam'!IGG147","v":0},{"$f":"'kros seznam'!IGH147","v":0},{"$f":"'kros seznam'!IGI147","v":0},{"$f":"'kros seznam'!IGJ147","v":0},{"$f":"'kros seznam'!IGK147","v":0},{"$f":"'kros seznam'!IGL147","v":0},{"$f":"'kros seznam'!IGM147","v":0},{"$f":"'kros seznam'!IGN147","v":0},{"$f":"'kros seznam'!IGO147","v":0},{"$f":"'kros seznam'!IGP147","v":0},{"$f":"'kros seznam'!IGQ147","v":0},{"$f":"'kros seznam'!IGR147","v":0},{"$f":"'kros seznam'!IGS147","v":0},{"$f":"'kros seznam'!IGT147","v":0},{"$f":"'kros seznam'!IGU147","v":0},{"$f":"'kros seznam'!IGV147","v":0},{"$f":"'kros seznam'!IGW147","v":0},{"$f":"'kros seznam'!IGX147","v":0},{"$f":"'kros seznam'!IGY147","v":0},{"$f":"'kros seznam'!IGZ147","v":0},{"$f":"'kros seznam'!IHA147","v":0},{"$f":"'kros seznam'!IHB147","v":0},{"$f":"'kros seznam'!IHC147","v":0},{"$f":"'kros seznam'!IHD147","v":0},{"$f":"'kros seznam'!IHE147","v":0},{"$f":"'kros seznam'!IHF147","v":0},{"$f":"'kros seznam'!IHG147","v":0},{"$f":"'kros seznam'!IHH147","v":0},{"$f":"'kros seznam'!IHI147","v":0},{"$f":"'kros seznam'!IHJ147","v":0},{"$f":"'kros seznam'!IHK147","v":0},{"$f":"'kros seznam'!IHL147","v":0},{"$f":"'kros seznam'!IHM147","v":0},{"$f":"'kros seznam'!IHN147","v":0},{"$f":"'kros seznam'!IHO147","v":0},{"$f":"'kros seznam'!IHP147","v":0},{"$f":"'kros seznam'!IHQ147","v":0},{"$f":"'kros seznam'!IHR147","v":0},{"$f":"'kros seznam'!IHS147","v":0},{"$f":"'kros seznam'!IHT147","v":0},{"$f":"'kros seznam'!IHU147","v":0},{"$f":"'kros seznam'!IHV147","v":0},{"$f":"'kros seznam'!IHW147","v":0},{"$f":"'kros seznam'!IHX147","v":0},{"$f":"'kros seznam'!IHY147","v":0},{"$f":"'kros seznam'!IHZ147","v":0},{"$f":"'kros seznam'!IIA147","v":0},{"$f":"'kros seznam'!IIB147","v":0},{"$f":"'kros seznam'!IIC147","v":0},{"$f":"'kros seznam'!IID147","v":0},{"$f":"'kros seznam'!IIE147","v":0},{"$f":"'kros seznam'!IIF147","v":0},{"$f":"'kros seznam'!IIG147","v":0},{"$f":"'kros seznam'!IIH147","v":0},{"$f":"'kros seznam'!III147","v":0},{"$f":"'kros seznam'!IIJ147","v":0},{"$f":"'kros seznam'!IIK147","v":0},{"$f":"'kros seznam'!IIL147","v":0},{"$f":"'kros seznam'!IIM147","v":0},{"$f":"'kros seznam'!IIN147","v":0},{"$f":"'kros seznam'!IIO147","v":0},{"$f":"'kros seznam'!IIP147","v":0},{"$f":"'kros seznam'!IIQ147","v":0},{"$f":"'kros seznam'!IIR147","v":0},{"$f":"'kros seznam'!IIS147","v":0},{"$f":"'kros seznam'!IIT147","v":0},{"$f":"'kros seznam'!IIU147","v":0},{"$f":"'kros seznam'!IIV147","v":0},{"$f":"'kros seznam'!IIW147","v":0},{"$f":"'kros seznam'!IIX147","v":0},{"$f":"'kros seznam'!IIY147","v":0},{"$f":"'kros seznam'!IIZ147","v":0},{"$f":"'kros seznam'!IJA147","v":0},{"$f":"'kros seznam'!IJB147","v":0},{"$f":"'kros seznam'!IJC147","v":0},{"$f":"'kros seznam'!IJD147","v":0},{"$f":"'kros seznam'!IJE147","v":0},{"$f":"'kros seznam'!IJF147","v":0},{"$f":"'kros seznam'!IJG147","v":0},{"$f":"'kros seznam'!IJH147","v":0},{"$f":"'kros seznam'!IJI147","v":0},{"$f":"'kros seznam'!IJJ147","v":0},{"$f":"'kros seznam'!IJK147","v":0},{"$f":"'kros seznam'!IJL147","v":0},{"$f":"'kros seznam'!IJM147","v":0},{"$f":"'kros seznam'!IJN147","v":0},{"$f":"'kros seznam'!IJO147","v":0},{"$f":"'kros seznam'!IJP147","v":0},{"$f":"'kros seznam'!IJQ147","v":0},{"$f":"'kros seznam'!IJR147","v":0},{"$f":"'kros seznam'!IJS147","v":0},{"$f":"'kros seznam'!IJT147","v":0},{"$f":"'kros seznam'!IJU147","v":0},{"$f":"'kros seznam'!IJV147","v":0},{"$f":"'kros seznam'!IJW147","v":0},{"$f":"'kros seznam'!IJX147","v":0},{"$f":"'kros seznam'!IJY147","v":0},{"$f":"'kros seznam'!IJZ147","v":0},{"$f":"'kros seznam'!IKA147","v":0},{"$f":"'kros seznam'!IKB147","v":0},{"$f":"'kros seznam'!IKC147","v":0},{"$f":"'kros seznam'!IKD147","v":0},{"$f":"'kros seznam'!IKE147","v":0},{"$f":"'kros seznam'!IKF147","v":0},{"$f":"'kros seznam'!IKG147","v":0},{"$f":"'kros seznam'!IKH147","v":0},{"$f":"'kros seznam'!IKI147","v":0},{"$f":"'kros seznam'!IKJ147","v":0},{"$f":"'kros seznam'!IKK147","v":0},{"$f":"'kros seznam'!IKL147","v":0},{"$f":"'kros seznam'!IKM147","v":0},{"$f":"'kros seznam'!IKN147","v":0},{"$f":"'kros seznam'!IKO147","v":0},{"$f":"'kros seznam'!IKP147","v":0},{"$f":"'kros seznam'!IKQ147","v":0},{"$f":"'kros seznam'!IKR147","v":0},{"$f":"'kros seznam'!IKS147","v":0},{"$f":"'kros seznam'!IKT147","v":0},{"$f":"'kros seznam'!IKU147","v":0},{"$f":"'kros seznam'!IKV147","v":0},{"$f":"'kros seznam'!IKW147","v":0},{"$f":"'kros seznam'!IKX147","v":0},{"$f":"'kros seznam'!IKY147","v":0},{"$f":"'kros seznam'!IKZ147","v":0},{"$f":"'kros seznam'!ILA147","v":0},{"$f":"'kros seznam'!ILB147","v":0},{"$f":"'kros seznam'!ILC147","v":0},{"$f":"'kros seznam'!ILD147","v":0},{"$f":"'kros seznam'!ILE147","v":0},{"$f":"'kros seznam'!ILF147","v":0},{"$f":"'kros seznam'!ILG147","v":0},{"$f":"'kros seznam'!ILH147","v":0},{"$f":"'kros seznam'!ILI147","v":0},{"$f":"'kros seznam'!ILJ147","v":0},{"$f":"'kros seznam'!ILK147","v":0},{"$f":"'kros seznam'!ILL147","v":0},{"$f":"'kros seznam'!ILM147","v":0},{"$f":"'kros seznam'!ILN147","v":0},{"$f":"'kros seznam'!ILO147","v":0},{"$f":"'kros seznam'!ILP147","v":0},{"$f":"'kros seznam'!ILQ147","v":0},{"$f":"'kros seznam'!ILR147","v":0},{"$f":"'kros seznam'!ILS147","v":0},{"$f":"'kros seznam'!ILT147","v":0},{"$f":"'kros seznam'!ILU147","v":0},{"$f":"'kros seznam'!ILV147","v":0},{"$f":"'kros seznam'!ILW147","v":0},{"$f":"'kros seznam'!ILX147","v":0},{"$f":"'kros seznam'!ILY147","v":0},{"$f":"'kros seznam'!ILZ147","v":0},{"$f":"'kros seznam'!IMA147","v":0},{"$f":"'kros seznam'!IMB147","v":0},{"$f":"'kros seznam'!IMC147","v":0},{"$f":"'kros seznam'!IMD147","v":0},{"$f":"'kros seznam'!IME147","v":0},{"$f":"'kros seznam'!IMF147","v":0},{"$f":"'kros seznam'!IMG147","v":0},{"$f":"'kros seznam'!IMH147","v":0},{"$f":"'kros seznam'!IMI147","v":0},{"$f":"'kros seznam'!IMJ147","v":0},{"$f":"'kros seznam'!IMK147","v":0},{"$f":"'kros seznam'!IML147","v":0},{"$f":"'kros seznam'!IMM147","v":0},{"$f":"'kros seznam'!IMN147","v":0},{"$f":"'kros seznam'!IMO147","v":0},{"$f":"'kros seznam'!IMP147","v":0},{"$f":"'kros seznam'!IMQ147","v":0},{"$f":"'kros seznam'!IMR147","v":0},{"$f":"'kros seznam'!IMS147","v":0},{"$f":"'kros seznam'!IMT147","v":0},{"$f":"'kros seznam'!IMU147","v":0},{"$f":"'kros seznam'!IMV147","v":0},{"$f":"'kros seznam'!IMW147","v":0},{"$f":"'kros seznam'!IMX147","v":0},{"$f":"'kros seznam'!IMY147","v":0},{"$f":"'kros seznam'!IMZ147","v":0},{"$f":"'kros seznam'!INA147","v":0},{"$f":"'kros seznam'!INB147","v":0},{"$f":"'kros seznam'!INC147","v":0},{"$f":"'kros seznam'!IND147","v":0},{"$f":"'kros seznam'!INE147","v":0},{"$f":"'kros seznam'!INF147","v":0},{"$f":"'kros seznam'!ING147","v":0},{"$f":"'kros seznam'!INH147","v":0},{"$f":"'kros seznam'!INI147","v":0},{"$f":"'kros seznam'!INJ147","v":0},{"$f":"'kros seznam'!INK147","v":0},{"$f":"'kros seznam'!INL147","v":0},{"$f":"'kros seznam'!INM147","v":0},{"$f":"'kros seznam'!INN147","v":0},{"$f":"'kros seznam'!INO147","v":0},{"$f":"'kros seznam'!INP147","v":0},{"$f":"'kros seznam'!INQ147","v":0},{"$f":"'kros seznam'!INR147","v":0},{"$f":"'kros seznam'!INS147","v":0},{"$f":"'kros seznam'!INT147","v":0},{"$f":"'kros seznam'!INU147","v":0},{"$f":"'kros seznam'!INV147","v":0},{"$f":"'kros seznam'!INW147","v":0},{"$f":"'kros seznam'!INX147","v":0},{"$f":"'kros seznam'!INY147","v":0},{"$f":"'kros seznam'!INZ147","v":0},{"$f":"'kros seznam'!IOA147","v":0},{"$f":"'kros seznam'!IOB147","v":0},{"$f":"'kros seznam'!IOC147","v":0},{"$f":"'kros seznam'!IOD147","v":0},{"$f":"'kros seznam'!IOE147","v":0},{"$f":"'kros seznam'!IOF147","v":0},{"$f":"'kros seznam'!IOG147","v":0},{"$f":"'kros seznam'!IOH147","v":0},{"$f":"'kros seznam'!IOI147","v":0},{"$f":"'kros seznam'!IOJ147","v":0},{"$f":"'kros seznam'!IOK147","v":0},{"$f":"'kros seznam'!IOL147","v":0},{"$f":"'kros seznam'!IOM147","v":0},{"$f":"'kros seznam'!ION147","v":0},{"$f":"'kros seznam'!IOO147","v":0},{"$f":"'kros seznam'!IOP147","v":0},{"$f":"'kros seznam'!IOQ147","v":0},{"$f":"'kros seznam'!IOR147","v":0},{"$f":"'kros seznam'!IOS147","v":0},{"$f":"'kros seznam'!IOT147","v":0},{"$f":"'kros seznam'!IOU147","v":0},{"$f":"'kros seznam'!IOV147","v":0},{"$f":"'kros seznam'!IOW147","v":0},{"$f":"'kros seznam'!IOX147","v":0},{"$f":"'kros seznam'!IOY147","v":0},{"$f":"'kros seznam'!IOZ147","v":0},{"$f":"'kros seznam'!IPA147","v":0},{"$f":"'kros seznam'!IPB147","v":0},{"$f":"'kros seznam'!IPC147","v":0},{"$f":"'kros seznam'!IPD147","v":0},{"$f":"'kros seznam'!IPE147","v":0},{"$f":"'kros seznam'!IPF147","v":0},{"$f":"'kros seznam'!IPG147","v":0},{"$f":"'kros seznam'!IPH147","v":0},{"$f":"'kros seznam'!IPI147","v":0},{"$f":"'kros seznam'!IPJ147","v":0},{"$f":"'kros seznam'!IPK147","v":0},{"$f":"'kros seznam'!IPL147","v":0},{"$f":"'kros seznam'!IPM147","v":0},{"$f":"'kros seznam'!IPN147","v":0},{"$f":"'kros seznam'!IPO147","v":0},{"$f":"'kros seznam'!IPP147","v":0},{"$f":"'kros seznam'!IPQ147","v":0},{"$f":"'kros seznam'!IPR147","v":0},{"$f":"'kros seznam'!IPS147","v":0},{"$f":"'kros seznam'!IPT147","v":0},{"$f":"'kros seznam'!IPU147","v":0},{"$f":"'kros seznam'!IPV147","v":0},{"$f":"'kros seznam'!IPW147","v":0},{"$f":"'kros seznam'!IPX147","v":0},{"$f":"'kros seznam'!IPY147","v":0},{"$f":"'kros seznam'!IPZ147","v":0},{"$f":"'kros seznam'!IQA147","v":0},{"$f":"'kros seznam'!IQB147","v":0},{"$f":"'kros seznam'!IQC147","v":0},{"$f":"'kros seznam'!IQD147","v":0},{"$f":"'kros seznam'!IQE147","v":0},{"$f":"'kros seznam'!IQF147","v":0},{"$f":"'kros seznam'!IQG147","v":0},{"$f":"'kros seznam'!IQH147","v":0},{"$f":"'kros seznam'!IQI147","v":0},{"$f":"'kros seznam'!IQJ147","v":0},{"$f":"'kros seznam'!IQK147","v":0},{"$f":"'kros seznam'!IQL147","v":0},{"$f":"'kros seznam'!IQM147","v":0},{"$f":"'kros seznam'!IQN147","v":0},{"$f":"'kros seznam'!IQO147","v":0},{"$f":"'kros seznam'!IQP147","v":0},{"$f":"'kros seznam'!IQQ147","v":0},{"$f":"'kros seznam'!IQR147","v":0},{"$f":"'kros seznam'!IQS147","v":0},{"$f":"'kros seznam'!IQT147","v":0},{"$f":"'kros seznam'!IQU147","v":0},{"$f":"'kros seznam'!IQV147","v":0},{"$f":"'kros seznam'!IQW147","v":0},{"$f":"'kros seznam'!IQX147","v":0},{"$f":"'kros seznam'!IQY147","v":0},{"$f":"'kros seznam'!IQZ147","v":0},{"$f":"'kros seznam'!IRA147","v":0},{"$f":"'kros seznam'!IRB147","v":0},{"$f":"'kros seznam'!IRC147","v":0},{"$f":"'kros seznam'!IRD147","v":0},{"$f":"'kros seznam'!IRE147","v":0},{"$f":"'kros seznam'!IRF147","v":0},{"$f":"'kros seznam'!IRG147","v":0},{"$f":"'kros seznam'!IRH147","v":0},{"$f":"'kros seznam'!IRI147","v":0},{"$f":"'kros seznam'!IRJ147","v":0},{"$f":"'kros seznam'!IRK147","v":0},{"$f":"'kros seznam'!IRL147","v":0},{"$f":"'kros seznam'!IRM147","v":0},{"$f":"'kros seznam'!IRN147","v":0},{"$f":"'kros seznam'!IRO147","v":0},{"$f":"'kros seznam'!IRP147","v":0},{"$f":"'kros seznam'!IRQ147","v":0},{"$f":"'kros seznam'!IRR147","v":0},{"$f":"'kros seznam'!IRS147","v":0},{"$f":"'kros seznam'!IRT147","v":0},{"$f":"'kros seznam'!IRU147","v":0},{"$f":"'kros seznam'!IRV147","v":0},{"$f":"'kros seznam'!IRW147","v":0},{"$f":"'kros seznam'!IRX147","v":0},{"$f":"'kros seznam'!IRY147","v":0},{"$f":"'kros seznam'!IRZ147","v":0},{"$f":"'kros seznam'!ISA147","v":0},{"$f":"'kros seznam'!ISB147","v":0},{"$f":"'kros seznam'!ISC147","v":0},{"$f":"'kros seznam'!ISD147","v":0},{"$f":"'kros seznam'!ISE147","v":0},{"$f":"'kros seznam'!ISF147","v":0},{"$f":"'kros seznam'!ISG147","v":0},{"$f":"'kros seznam'!ISH147","v":0},{"$f":"'kros seznam'!ISI147","v":0},{"$f":"'kros seznam'!ISJ147","v":0},{"$f":"'kros seznam'!ISK147","v":0},{"$f":"'kros seznam'!ISL147","v":0},{"$f":"'kros seznam'!ISM147","v":0},{"$f":"'kros seznam'!ISN147","v":0},{"$f":"'kros seznam'!ISO147","v":0},{"$f":"'kros seznam'!ISP147","v":0},{"$f":"'kros seznam'!ISQ147","v":0},{"$f":"'kros seznam'!ISR147","v":0},{"$f":"'kros seznam'!ISS147","v":0},{"$f":"'kros seznam'!IST147","v":0},{"$f":"'kros seznam'!ISU147","v":0},{"$f":"'kros seznam'!ISV147","v":0},{"$f":"'kros seznam'!ISW147","v":0},{"$f":"'kros seznam'!ISX147","v":0},{"$f":"'kros seznam'!ISY147","v":0},{"$f":"'kros seznam'!ISZ147","v":0},{"$f":"'kros seznam'!ITA147","v":0},{"$f":"'kros seznam'!ITB147","v":0},{"$f":"'kros seznam'!ITC147","v":0},{"$f":"'kros seznam'!ITD147","v":0},{"$f":"'kros seznam'!ITE147","v":0},{"$f":"'kros seznam'!ITF147","v":0},{"$f":"'kros seznam'!ITG147","v":0},{"$f":"'kros seznam'!ITH147","v":0},{"$f":"'kros seznam'!ITI147","v":0},{"$f":"'kros seznam'!ITJ147","v":0},{"$f":"'kros seznam'!ITK147","v":0},{"$f":"'kros seznam'!ITL147","v":0},{"$f":"'kros seznam'!ITM147","v":0},{"$f":"'kros seznam'!ITN147","v":0},{"$f":"'kros seznam'!ITO147","v":0},{"$f":"'kros seznam'!ITP147","v":0},{"$f":"'kros seznam'!ITQ147","v":0},{"$f":"'kros seznam'!ITR147","v":0},{"$f":"'kros seznam'!ITS147","v":0},{"$f":"'kros seznam'!ITT147","v":0},{"$f":"'kros seznam'!ITU147","v":0},{"$f":"'kros seznam'!ITV147","v":0},{"$f":"'kros seznam'!ITW147","v":0},{"$f":"'kros seznam'!ITX147","v":0},{"$f":"'kros seznam'!ITY147","v":0},{"$f":"'kros seznam'!ITZ147","v":0},{"$f":"'kros seznam'!IUA147","v":0},{"$f":"'kros seznam'!IUB147","v":0},{"$f":"'kros seznam'!IUC147","v":0},{"$f":"'kros seznam'!IUD147","v":0},{"$f":"'kros seznam'!IUE147","v":0},{"$f":"'kros seznam'!IUF147","v":0},{"$f":"'kros seznam'!IUG147","v":0},{"$f":"'kros seznam'!IUH147","v":0},{"$f":"'kros seznam'!IUI147","v":0},{"$f":"'kros seznam'!IUJ147","v":0},{"$f":"'kros seznam'!IUK147","v":0},{"$f":"'kros seznam'!IUL147","v":0},{"$f":"'kros seznam'!IUM147","v":0},{"$f":"'kros seznam'!IUN147","v":0},{"$f":"'kros seznam'!IUO147","v":0},{"$f":"'kros seznam'!IUP147","v":0},{"$f":"'kros seznam'!IUQ147","v":0},{"$f":"'kros seznam'!IUR147","v":0},{"$f":"'kros seznam'!IUS147","v":0},{"$f":"'kros seznam'!IUT147","v":0},{"$f":"'kros seznam'!IUU147","v":0},{"$f":"'kros seznam'!IUV147","v":0},{"$f":"'kros seznam'!IUW147","v":0},{"$f":"'kros seznam'!IUX147","v":0},{"$f":"'kros seznam'!IUY147","v":0},{"$f":"'kros seznam'!IUZ147","v":0},{"$f":"'kros seznam'!IVA147","v":0},{"$f":"'kros seznam'!IVB147","v":0},{"$f":"'kros seznam'!IVC147","v":0},{"$f":"'kros seznam'!IVD147","v":0},{"$f":"'kros seznam'!IVE147","v":0},{"$f":"'kros seznam'!IVF147","v":0},{"$f":"'kros seznam'!IVG147","v":0},{"$f":"'kros seznam'!IVH147","v":0},{"$f":"'kros seznam'!IVI147","v":0},{"$f":"'kros seznam'!IVJ147","v":0},{"$f":"'kros seznam'!IVK147","v":0},{"$f":"'kros seznam'!IVL147","v":0},{"$f":"'kros seznam'!IVM147","v":0},{"$f":"'kros seznam'!IVN147","v":0},{"$f":"'kros seznam'!IVO147","v":0},{"$f":"'kros seznam'!IVP147","v":0},{"$f":"'kros seznam'!IVQ147","v":0},{"$f":"'kros seznam'!IVR147","v":0},{"$f":"'kros seznam'!IVS147","v":0},{"$f":"'kros seznam'!IVT147","v":0},{"$f":"'kros seznam'!IVU147","v":0},{"$f":"'kros seznam'!IVV147","v":0},{"$f":"'kros seznam'!IVW147","v":0},{"$f":"'kros seznam'!IVX147","v":0},{"$f":"'kros seznam'!IVY147","v":0},{"$f":"'kros seznam'!IVZ147","v":0},{"$f":"'kros seznam'!IWA147","v":0},{"$f":"'kros seznam'!IWB147","v":0},{"$f":"'kros seznam'!IWC147","v":0},{"$f":"'kros seznam'!IWD147","v":0},{"$f":"'kros seznam'!IWE147","v":0},{"$f":"'kros seznam'!IWF147","v":0},{"$f":"'kros seznam'!IWG147","v":0},{"$f":"'kros seznam'!IWH147","v":0},{"$f":"'kros seznam'!IWI147","v":0},{"$f":"'kros seznam'!IWJ147","v":0},{"$f":"'kros seznam'!IWK147","v":0},{"$f":"'kros seznam'!IWL147","v":0},{"$f":"'kros seznam'!IWM147","v":0},{"$f":"'kros seznam'!IWN147","v":0},{"$f":"'kros seznam'!IWO147","v":0},{"$f":"'kros seznam'!IWP147","v":0},{"$f":"'kros seznam'!IWQ147","v":0},{"$f":"'kros seznam'!IWR147","v":0},{"$f":"'kros seznam'!IWS147","v":0},{"$f":"'kros seznam'!IWT147","v":0},{"$f":"'kros seznam'!IWU147","v":0},{"$f":"'kros seznam'!IWV147","v":0},{"$f":"'kros seznam'!IWW147","v":0},{"$f":"'kros seznam'!IWX147","v":0},{"$f":"'kros seznam'!IWY147","v":0},{"$f":"'kros seznam'!IWZ147","v":0},{"$f":"'kros seznam'!IXA147","v":0},{"$f":"'kros seznam'!IXB147","v":0},{"$f":"'kros seznam'!IXC147","v":0},{"$f":"'kros seznam'!IXD147","v":0},{"$f":"'kros seznam'!IXE147","v":0},{"$f":"'kros seznam'!IXF147","v":0},{"$f":"'kros seznam'!IXG147","v":0},{"$f":"'kros seznam'!IXH147","v":0},{"$f":"'kros seznam'!IXI147","v":0},{"$f":"'kros seznam'!IXJ147","v":0},{"$f":"'kros seznam'!IXK147","v":0},{"$f":"'kros seznam'!IXL147","v":0},{"$f":"'kros seznam'!IXM147","v":0},{"$f":"'kros seznam'!IXN147","v":0},{"$f":"'kros seznam'!IXO147","v":0},{"$f":"'kros seznam'!IXP147","v":0},{"$f":"'kros seznam'!IXQ147","v":0},{"$f":"'kros seznam'!IXR147","v":0},{"$f":"'kros seznam'!IXS147","v":0},{"$f":"'kros seznam'!IXT147","v":0},{"$f":"'kros seznam'!IXU147","v":0},{"$f":"'kros seznam'!IXV147","v":0},{"$f":"'kros seznam'!IXW147","v":0},{"$f":"'kros seznam'!IXX147","v":0},{"$f":"'kros seznam'!IXY147","v":0},{"$f":"'kros seznam'!IXZ147","v":0},{"$f":"'kros seznam'!IYA147","v":0},{"$f":"'kros seznam'!IYB147","v":0},{"$f":"'kros seznam'!IYC147","v":0},{"$f":"'kros seznam'!IYD147","v":0},{"$f":"'kros seznam'!IYE147","v":0},{"$f":"'kros seznam'!IYF147","v":0},{"$f":"'kros seznam'!IYG147","v":0},{"$f":"'kros seznam'!IYH147","v":0},{"$f":"'kros seznam'!IYI147","v":0},{"$f":"'kros seznam'!IYJ147","v":0},{"$f":"'kros seznam'!IYK147","v":0},{"$f":"'kros seznam'!IYL147","v":0},{"$f":"'kros seznam'!IYM147","v":0},{"$f":"'kros seznam'!IYN147","v":0},{"$f":"'kros seznam'!IYO147","v":0},{"$f":"'kros seznam'!IYP147","v":0},{"$f":"'kros seznam'!IYQ147","v":0},{"$f":"'kros seznam'!IYR147","v":0},{"$f":"'kros seznam'!IYS147","v":0},{"$f":"'kros seznam'!IYT147","v":0},{"$f":"'kros seznam'!IYU147","v":0},{"$f":"'kros seznam'!IYV147","v":0},{"$f":"'kros seznam'!IYW147","v":0},{"$f":"'kros seznam'!IYX147","v":0},{"$f":"'kros seznam'!IYY147","v":0},{"$f":"'kros seznam'!IYZ147","v":0},{"$f":"'kros seznam'!IZA147","v":0},{"$f":"'kros seznam'!IZB147","v":0},{"$f":"'kros seznam'!IZC147","v":0},{"$f":"'kros seznam'!IZD147","v":0},{"$f":"'kros seznam'!IZE147","v":0},{"$f":"'kros seznam'!IZF147","v":0},{"$f":"'kros seznam'!IZG147","v":0},{"$f":"'kros seznam'!IZH147","v":0},{"$f":"'kros seznam'!IZI147","v":0},{"$f":"'kros seznam'!IZJ147","v":0},{"$f":"'kros seznam'!IZK147","v":0},{"$f":"'kros seznam'!IZL147","v":0},{"$f":"'kros seznam'!IZM147","v":0},{"$f":"'kros seznam'!IZN147","v":0},{"$f":"'kros seznam'!IZO147","v":0},{"$f":"'kros seznam'!IZP147","v":0},{"$f":"'kros seznam'!IZQ147","v":0},{"$f":"'kros seznam'!IZR147","v":0},{"$f":"'kros seznam'!IZS147","v":0},{"$f":"'kros seznam'!IZT147","v":0},{"$f":"'kros seznam'!IZU147","v":0},{"$f":"'kros seznam'!IZV147","v":0},{"$f":"'kros seznam'!IZW147","v":0},{"$f":"'kros seznam'!IZX147","v":0},{"$f":"'kros seznam'!IZY147","v":0},{"$f":"'kros seznam'!IZZ147","v":0},{"$f":"'kros seznam'!JAA147","v":0},{"$f":"'kros seznam'!JAB147","v":0},{"$f":"'kros seznam'!JAC147","v":0},{"$f":"'kros seznam'!JAD147","v":0},{"$f":"'kros seznam'!JAE147","v":0},{"$f":"'kros seznam'!JAF147","v":0},{"$f":"'kros seznam'!JAG147","v":0},{"$f":"'kros seznam'!JAH147","v":0},{"$f":"'kros seznam'!JAI147","v":0},{"$f":"'kros seznam'!JAJ147","v":0},{"$f":"'kros seznam'!JAK147","v":0},{"$f":"'kros seznam'!JAL147","v":0},{"$f":"'kros seznam'!JAM147","v":0},{"$f":"'kros seznam'!JAN147","v":0},{"$f":"'kros seznam'!JAO147","v":0},{"$f":"'kros seznam'!JAP147","v":0},{"$f":"'kros seznam'!JAQ147","v":0},{"$f":"'kros seznam'!JAR147","v":0},{"$f":"'kros seznam'!JAS147","v":0},{"$f":"'kros seznam'!JAT147","v":0},{"$f":"'kros seznam'!JAU147","v":0},{"$f":"'kros seznam'!JAV147","v":0},{"$f":"'kros seznam'!JAW147","v":0},{"$f":"'kros seznam'!JAX147","v":0},{"$f":"'kros seznam'!JAY147","v":0},{"$f":"'kros seznam'!JAZ147","v":0},{"$f":"'kros seznam'!JBA147","v":0},{"$f":"'kros seznam'!JBB147","v":0},{"$f":"'kros seznam'!JBC147","v":0},{"$f":"'kros seznam'!JBD147","v":0},{"$f":"'kros seznam'!JBE147","v":0},{"$f":"'kros seznam'!JBF147","v":0},{"$f":"'kros seznam'!JBG147","v":0},{"$f":"'kros seznam'!JBH147","v":0},{"$f":"'kros seznam'!JBI147","v":0},{"$f":"'kros seznam'!JBJ147","v":0},{"$f":"'kros seznam'!JBK147","v":0},{"$f":"'kros seznam'!JBL147","v":0},{"$f":"'kros seznam'!JBM147","v":0},{"$f":"'kros seznam'!JBN147","v":0},{"$f":"'kros seznam'!JBO147","v":0},{"$f":"'kros seznam'!JBP147","v":0},{"$f":"'kros seznam'!JBQ147","v":0},{"$f":"'kros seznam'!JBR147","v":0},{"$f":"'kros seznam'!JBS147","v":0},{"$f":"'kros seznam'!JBT147","v":0},{"$f":"'kros seznam'!JBU147","v":0},{"$f":"'kros seznam'!JBV147","v":0},{"$f":"'kros seznam'!JBW147","v":0},{"$f":"'kros seznam'!JBX147","v":0},{"$f":"'kros seznam'!JBY147","v":0},{"$f":"'kros seznam'!JBZ147","v":0},{"$f":"'kros seznam'!JCA147","v":0},{"$f":"'kros seznam'!JCB147","v":0},{"$f":"'kros seznam'!JCC147","v":0},{"$f":"'kros seznam'!JCD147","v":0},{"$f":"'kros seznam'!JCE147","v":0},{"$f":"'kros seznam'!JCF147","v":0},{"$f":"'kros seznam'!JCG147","v":0},{"$f":"'kros seznam'!JCH147","v":0},{"$f":"'kros seznam'!JCI147","v":0},{"$f":"'kros seznam'!JCJ147","v":0},{"$f":"'kros seznam'!JCK147","v":0},{"$f":"'kros seznam'!JCL147","v":0},{"$f":"'kros seznam'!JCM147","v":0},{"$f":"'kros seznam'!JCN147","v":0},{"$f":"'kros seznam'!JCO147","v":0},{"$f":"'kros seznam'!JCP147","v":0},{"$f":"'kros seznam'!JCQ147","v":0},{"$f":"'kros seznam'!JCR147","v":0},{"$f":"'kros seznam'!JCS147","v":0},{"$f":"'kros seznam'!JCT147","v":0},{"$f":"'kros seznam'!JCU147","v":0},{"$f":"'kros seznam'!JCV147","v":0},{"$f":"'kros seznam'!JCW147","v":0},{"$f":"'kros seznam'!JCX147","v":0},{"$f":"'kros seznam'!JCY147","v":0},{"$f":"'kros seznam'!JCZ147","v":0},{"$f":"'kros seznam'!JDA147","v":0},{"$f":"'kros seznam'!JDB147","v":0},{"$f":"'kros seznam'!JDC147","v":0},{"$f":"'kros seznam'!JDD147","v":0},{"$f":"'kros seznam'!JDE147","v":0},{"$f":"'kros seznam'!JDF147","v":0},{"$f":"'kros seznam'!JDG147","v":0},{"$f":"'kros seznam'!JDH147","v":0},{"$f":"'kros seznam'!JDI147","v":0},{"$f":"'kros seznam'!JDJ147","v":0},{"$f":"'kros seznam'!JDK147","v":0},{"$f":"'kros seznam'!JDL147","v":0},{"$f":"'kros seznam'!JDM147","v":0},{"$f":"'kros seznam'!JDN147","v":0},{"$f":"'kros seznam'!JDO147","v":0},{"$f":"'kros seznam'!JDP147","v":0},{"$f":"'kros seznam'!JDQ147","v":0},{"$f":"'kros seznam'!JDR147","v":0},{"$f":"'kros seznam'!JDS147","v":0},{"$f":"'kros seznam'!JDT147","v":0},{"$f":"'kros seznam'!JDU147","v":0},{"$f":"'kros seznam'!JDV147","v":0},{"$f":"'kros seznam'!JDW147","v":0},{"$f":"'kros seznam'!JDX147","v":0},{"$f":"'kros seznam'!JDY147","v":0},{"$f":"'kros seznam'!JDZ147","v":0},{"$f":"'kros seznam'!JEA147","v":0},{"$f":"'kros seznam'!JEB147","v":0},{"$f":"'kros seznam'!JEC147","v":0},{"$f":"'kros seznam'!JED147","v":0},{"$f":"'kros seznam'!JEE147","v":0},{"$f":"'kros seznam'!JEF147","v":0},{"$f":"'kros seznam'!JEG147","v":0},{"$f":"'kros seznam'!JEH147","v":0},{"$f":"'kros seznam'!JEI147","v":0},{"$f":"'kros seznam'!JEJ147","v":0},{"$f":"'kros seznam'!JEK147","v":0},{"$f":"'kros seznam'!JEL147","v":0},{"$f":"'kros seznam'!JEM147","v":0},{"$f":"'kros seznam'!JEN147","v":0},{"$f":"'kros seznam'!JEO147","v":0},{"$f":"'kros seznam'!JEP147","v":0},{"$f":"'kros seznam'!JEQ147","v":0},{"$f":"'kros seznam'!JER147","v":0},{"$f":"'kros seznam'!JES147","v":0},{"$f":"'kros seznam'!JET147","v":0},{"$f":"'kros seznam'!JEU147","v":0},{"$f":"'kros seznam'!JEV147","v":0},{"$f":"'kros seznam'!JEW147","v":0},{"$f":"'kros seznam'!JEX147","v":0},{"$f":"'kros seznam'!JEY147","v":0},{"$f":"'kros seznam'!JEZ147","v":0},{"$f":"'kros seznam'!JFA147","v":0},{"$f":"'kros seznam'!JFB147","v":0},{"$f":"'kros seznam'!JFC147","v":0},{"$f":"'kros seznam'!JFD147","v":0},{"$f":"'kros seznam'!JFE147","v":0},{"$f":"'kros seznam'!JFF147","v":0},{"$f":"'kros seznam'!JFG147","v":0},{"$f":"'kros seznam'!JFH147","v":0},{"$f":"'kros seznam'!JFI147","v":0},{"$f":"'kros seznam'!JFJ147","v":0},{"$f":"'kros seznam'!JFK147","v":0},{"$f":"'kros seznam'!JFL147","v":0},{"$f":"'kros seznam'!JFM147","v":0},{"$f":"'kros seznam'!JFN147","v":0},{"$f":"'kros seznam'!JFO147","v":0},{"$f":"'kros seznam'!JFP147","v":0},{"$f":"'kros seznam'!JFQ147","v":0},{"$f":"'kros seznam'!JFR147","v":0},{"$f":"'kros seznam'!JFS147","v":0},{"$f":"'kros seznam'!JFT147","v":0},{"$f":"'kros seznam'!JFU147","v":0},{"$f":"'kros seznam'!JFV147","v":0},{"$f":"'kros seznam'!JFW147","v":0},{"$f":"'kros seznam'!JFX147","v":0},{"$f":"'kros seznam'!JFY147","v":0},{"$f":"'kros seznam'!JFZ147","v":0},{"$f":"'kros seznam'!JGA147","v":0},{"$f":"'kros seznam'!JGB147","v":0},{"$f":"'kros seznam'!JGC147","v":0},{"$f":"'kros seznam'!JGD147","v":0},{"$f":"'kros seznam'!JGE147","v":0},{"$f":"'kros seznam'!JGF147","v":0},{"$f":"'kros seznam'!JGG147","v":0},{"$f":"'kros seznam'!JGH147","v":0},{"$f":"'kros seznam'!JGI147","v":0},{"$f":"'kros seznam'!JGJ147","v":0},{"$f":"'kros seznam'!JGK147","v":0},{"$f":"'kros seznam'!JGL147","v":0},{"$f":"'kros seznam'!JGM147","v":0},{"$f":"'kros seznam'!JGN147","v":0},{"$f":"'kros seznam'!JGO147","v":0},{"$f":"'kros seznam'!JGP147","v":0},{"$f":"'kros seznam'!JGQ147","v":0},{"$f":"'kros seznam'!JGR147","v":0},{"$f":"'kros seznam'!JGS147","v":0},{"$f":"'kros seznam'!JGT147","v":0},{"$f":"'kros seznam'!JGU147","v":0},{"$f":"'kros seznam'!JGV147","v":0},{"$f":"'kros seznam'!JGW147","v":0},{"$f":"'kros seznam'!JGX147","v":0},{"$f":"'kros seznam'!JGY147","v":0},{"$f":"'kros seznam'!JGZ147","v":0},{"$f":"'kros seznam'!JHA147","v":0},{"$f":"'kros seznam'!JHB147","v":0},{"$f":"'kros seznam'!JHC147","v":0},{"$f":"'kros seznam'!JHD147","v":0},{"$f":"'kros seznam'!JHE147","v":0},{"$f":"'kros seznam'!JHF147","v":0},{"$f":"'kros seznam'!JHG147","v":0},{"$f":"'kros seznam'!JHH147","v":0},{"$f":"'kros seznam'!JHI147","v":0},{"$f":"'kros seznam'!JHJ147","v":0},{"$f":"'kros seznam'!JHK147","v":0},{"$f":"'kros seznam'!JHL147","v":0},{"$f":"'kros seznam'!JHM147","v":0},{"$f":"'kros seznam'!JHN147","v":0},{"$f":"'kros seznam'!JHO147","v":0},{"$f":"'kros seznam'!JHP147","v":0},{"$f":"'kros seznam'!JHQ147","v":0},{"$f":"'kros seznam'!JHR147","v":0},{"$f":"'kros seznam'!JHS147","v":0},{"$f":"'kros seznam'!JHT147","v":0},{"$f":"'kros seznam'!JHU147","v":0},{"$f":"'kros seznam'!JHV147","v":0},{"$f":"'kros seznam'!JHW147","v":0},{"$f":"'kros seznam'!JHX147","v":0},{"$f":"'kros seznam'!JHY147","v":0},{"$f":"'kros seznam'!JHZ147","v":0},{"$f":"'kros seznam'!JIA147","v":0},{"$f":"'kros seznam'!JIB147","v":0},{"$f":"'kros seznam'!JIC147","v":0},{"$f":"'kros seznam'!JID147","v":0},{"$f":"'kros seznam'!JIE147","v":0},{"$f":"'kros seznam'!JIF147","v":0},{"$f":"'kros seznam'!JIG147","v":0},{"$f":"'kros seznam'!JIH147","v":0},{"$f":"'kros seznam'!JII147","v":0},{"$f":"'kros seznam'!JIJ147","v":0},{"$f":"'kros seznam'!JIK147","v":0},{"$f":"'kros seznam'!JIL147","v":0},{"$f":"'kros seznam'!JIM147","v":0},{"$f":"'kros seznam'!JIN147","v":0},{"$f":"'kros seznam'!JIO147","v":0},{"$f":"'kros seznam'!JIP147","v":0},{"$f":"'kros seznam'!JIQ147","v":0},{"$f":"'kros seznam'!JIR147","v":0},{"$f":"'kros seznam'!JIS147","v":0},{"$f":"'kros seznam'!JIT147","v":0},{"$f":"'kros seznam'!JIU147","v":0},{"$f":"'kros seznam'!JIV147","v":0},{"$f":"'kros seznam'!JIW147","v":0},{"$f":"'kros seznam'!JIX147","v":0},{"$f":"'kros seznam'!JIY147","v":0},{"$f":"'kros seznam'!JIZ147","v":0},{"$f":"'kros seznam'!JJA147","v":0},{"$f":"'kros seznam'!JJB147","v":0},{"$f":"'kros seznam'!JJC147","v":0},{"$f":"'kros seznam'!JJD147","v":0},{"$f":"'kros seznam'!JJE147","v":0},{"$f":"'kros seznam'!JJF147","v":0},{"$f":"'kros seznam'!JJG147","v":0},{"$f":"'kros seznam'!JJH147","v":0},{"$f":"'kros seznam'!JJI147","v":0},{"$f":"'kros seznam'!JJJ147","v":0},{"$f":"'kros seznam'!JJK147","v":0},{"$f":"'kros seznam'!JJL147","v":0},{"$f":"'kros seznam'!JJM147","v":0},{"$f":"'kros seznam'!JJN147","v":0},{"$f":"'kros seznam'!JJO147","v":0},{"$f":"'kros seznam'!JJP147","v":0},{"$f":"'kros seznam'!JJQ147","v":0},{"$f":"'kros seznam'!JJR147","v":0},{"$f":"'kros seznam'!JJS147","v":0},{"$f":"'kros seznam'!JJT147","v":0},{"$f":"'kros seznam'!JJU147","v":0},{"$f":"'kros seznam'!JJV147","v":0},{"$f":"'kros seznam'!JJW147","v":0},{"$f":"'kros seznam'!JJX147","v":0},{"$f":"'kros seznam'!JJY147","v":0},{"$f":"'kros seznam'!JJZ147","v":0},{"$f":"'kros seznam'!JKA147","v":0},{"$f":"'kros seznam'!JKB147","v":0},{"$f":"'kros seznam'!JKC147","v":0},{"$f":"'kros seznam'!JKD147","v":0},{"$f":"'kros seznam'!JKE147","v":0},{"$f":"'kros seznam'!JKF147","v":0},{"$f":"'kros seznam'!JKG147","v":0},{"$f":"'kros seznam'!JKH147","v":0},{"$f":"'kros seznam'!JKI147","v":0},{"$f":"'kros seznam'!JKJ147","v":0},{"$f":"'kros seznam'!JKK147","v":0},{"$f":"'kros seznam'!JKL147","v":0},{"$f":"'kros seznam'!JKM147","v":0},{"$f":"'kros seznam'!JKN147","v":0},{"$f":"'kros seznam'!JKO147","v":0},{"$f":"'kros seznam'!JKP147","v":0},{"$f":"'kros seznam'!JKQ147","v":0},{"$f":"'kros seznam'!JKR147","v":0},{"$f":"'kros seznam'!JKS147","v":0},{"$f":"'kros seznam'!JKT147","v":0},{"$f":"'kros seznam'!JKU147","v":0},{"$f":"'kros seznam'!JKV147","v":0},{"$f":"'kros seznam'!JKW147","v":0},{"$f":"'kros seznam'!JKX147","v":0},{"$f":"'kros seznam'!JKY147","v":0},{"$f":"'kros seznam'!JKZ147","v":0},{"$f":"'kros seznam'!JLA147","v":0},{"$f":"'kros seznam'!JLB147","v":0},{"$f":"'kros seznam'!JLC147","v":0},{"$f":"'kros seznam'!JLD147","v":0},{"$f":"'kros seznam'!JLE147","v":0},{"$f":"'kros seznam'!JLF147","v":0},{"$f":"'kros seznam'!JLG147","v":0},{"$f":"'kros seznam'!JLH147","v":0},{"$f":"'kros seznam'!JLI147","v":0},{"$f":"'kros seznam'!JLJ147","v":0},{"$f":"'kros seznam'!JLK147","v":0},{"$f":"'kros seznam'!JLL147","v":0},{"$f":"'kros seznam'!JLM147","v":0},{"$f":"'kros seznam'!JLN147","v":0},{"$f":"'kros seznam'!JLO147","v":0},{"$f":"'kros seznam'!JLP147","v":0},{"$f":"'kros seznam'!JLQ147","v":0},{"$f":"'kros seznam'!JLR147","v":0},{"$f":"'kros seznam'!JLS147","v":0},{"$f":"'kros seznam'!JLT147","v":0},{"$f":"'kros seznam'!JLU147","v":0},{"$f":"'kros seznam'!JLV147","v":0},{"$f":"'kros seznam'!JLW147","v":0},{"$f":"'kros seznam'!JLX147","v":0},{"$f":"'kros seznam'!JLY147","v":0},{"$f":"'kros seznam'!JLZ147","v":0},{"$f":"'kros seznam'!JMA147","v":0},{"$f":"'kros seznam'!JMB147","v":0},{"$f":"'kros seznam'!JMC147","v":0},{"$f":"'kros seznam'!JMD147","v":0},{"$f":"'kros seznam'!JME147","v":0},{"$f":"'kros seznam'!JMF147","v":0},{"$f":"'kros seznam'!JMG147","v":0},{"$f":"'kros seznam'!JMH147","v":0},{"$f":"'kros seznam'!JMI147","v":0},{"$f":"'kros seznam'!JMJ147","v":0},{"$f":"'kros seznam'!JMK147","v":0},{"$f":"'kros seznam'!JML147","v":0},{"$f":"'kros seznam'!JMM147","v":0},{"$f":"'kros seznam'!JMN147","v":0},{"$f":"'kros seznam'!JMO147","v":0},{"$f":"'kros seznam'!JMP147","v":0},{"$f":"'kros seznam'!JMQ147","v":0},{"$f":"'kros seznam'!JMR147","v":0},{"$f":"'kros seznam'!JMS147","v":0},{"$f":"'kros seznam'!JMT147","v":0},{"$f":"'kros seznam'!JMU147","v":0},{"$f":"'kros seznam'!JMV147","v":0},{"$f":"'kros seznam'!JMW147","v":0},{"$f":"'kros seznam'!JMX147","v":0},{"$f":"'kros seznam'!JMY147","v":0},{"$f":"'kros seznam'!JMZ147","v":0},{"$f":"'kros seznam'!JNA147","v":0},{"$f":"'kros seznam'!JNB147","v":0},{"$f":"'kros seznam'!JNC147","v":0},{"$f":"'kros seznam'!JND147","v":0},{"$f":"'kros seznam'!JNE147","v":0},{"$f":"'kros seznam'!JNF147","v":0},{"$f":"'kros seznam'!JNG147","v":0},{"$f":"'kros seznam'!JNH147","v":0},{"$f":"'kros seznam'!JNI147","v":0},{"$f":"'kros seznam'!JNJ147","v":0},{"$f":"'kros seznam'!JNK147","v":0},{"$f":"'kros seznam'!JNL147","v":0},{"$f":"'kros seznam'!JNM147","v":0},{"$f":"'kros seznam'!JNN147","v":0},{"$f":"'kros seznam'!JNO147","v":0},{"$f":"'kros seznam'!JNP147","v":0},{"$f":"'kros seznam'!JNQ147","v":0},{"$f":"'kros seznam'!JNR147","v":0},{"$f":"'kros seznam'!JNS147","v":0},{"$f":"'kros seznam'!JNT147","v":0},{"$f":"'kros seznam'!JNU147","v":0},{"$f":"'kros seznam'!JNV147","v":0},{"$f":"'kros seznam'!JNW147","v":0},{"$f":"'kros seznam'!JNX147","v":0},{"$f":"'kros seznam'!JNY147","v":0},{"$f":"'kros seznam'!JNZ147","v":0},{"$f":"'kros seznam'!JOA147","v":0},{"$f":"'kros seznam'!JOB147","v":0},{"$f":"'kros seznam'!JOC147","v":0},{"$f":"'kros seznam'!JOD147","v":0},{"$f":"'kros seznam'!JOE147","v":0},{"$f":"'kros seznam'!JOF147","v":0},{"$f":"'kros seznam'!JOG147","v":0},{"$f":"'kros seznam'!JOH147","v":0},{"$f":"'kros seznam'!JOI147","v":0},{"$f":"'kros seznam'!JOJ147","v":0},{"$f":"'kros seznam'!JOK147","v":0},{"$f":"'kros seznam'!JOL147","v":0},{"$f":"'kros seznam'!JOM147","v":0},{"$f":"'kros seznam'!JON147","v":0},{"$f":"'kros seznam'!JOO147","v":0},{"$f":"'kros seznam'!JOP147","v":0},{"$f":"'kros seznam'!JOQ147","v":0},{"$f":"'kros seznam'!JOR147","v":0},{"$f":"'kros seznam'!JOS147","v":0},{"$f":"'kros seznam'!JOT147","v":0},{"$f":"'kros seznam'!JOU147","v":0},{"$f":"'kros seznam'!JOV147","v":0},{"$f":"'kros seznam'!JOW147","v":0},{"$f":"'kros seznam'!JOX147","v":0},{"$f":"'kros seznam'!JOY147","v":0},{"$f":"'kros seznam'!JOZ147","v":0},{"$f":"'kros seznam'!JPA147","v":0},{"$f":"'kros seznam'!JPB147","v":0},{"$f":"'kros seznam'!JPC147","v":0},{"$f":"'kros seznam'!JPD147","v":0},{"$f":"'kros seznam'!JPE147","v":0},{"$f":"'kros seznam'!JPF147","v":0},{"$f":"'kros seznam'!JPG147","v":0},{"$f":"'kros seznam'!JPH147","v":0},{"$f":"'kros seznam'!JPI147","v":0},{"$f":"'kros seznam'!JPJ147","v":0},{"$f":"'kros seznam'!JPK147","v":0},{"$f":"'kros seznam'!JPL147","v":0},{"$f":"'kros seznam'!JPM147","v":0},{"$f":"'kros seznam'!JPN147","v":0},{"$f":"'kros seznam'!JPO147","v":0},{"$f":"'kros seznam'!JPP147","v":0},{"$f":"'kros seznam'!JPQ147","v":0},{"$f":"'kros seznam'!JPR147","v":0},{"$f":"'kros seznam'!JPS147","v":0},{"$f":"'kros seznam'!JPT147","v":0},{"$f":"'kros seznam'!JPU147","v":0},{"$f":"'kros seznam'!JPV147","v":0},{"$f":"'kros seznam'!JPW147","v":0},{"$f":"'kros seznam'!JPX147","v":0},{"$f":"'kros seznam'!JPY147","v":0},{"$f":"'kros seznam'!JPZ147","v":0},{"$f":"'kros seznam'!JQA147","v":0},{"$f":"'kros seznam'!JQB147","v":0},{"$f":"'kros seznam'!JQC147","v":0},{"$f":"'kros seznam'!JQD147","v":0},{"$f":"'kros seznam'!JQE147","v":0},{"$f":"'kros seznam'!JQF147","v":0},{"$f":"'kros seznam'!JQG147","v":0},{"$f":"'kros seznam'!JQH147","v":0},{"$f":"'kros seznam'!JQI147","v":0},{"$f":"'kros seznam'!JQJ147","v":0},{"$f":"'kros seznam'!JQK147","v":0},{"$f":"'kros seznam'!JQL147","v":0},{"$f":"'kros seznam'!JQM147","v":0},{"$f":"'kros seznam'!JQN147","v":0},{"$f":"'kros seznam'!JQO147","v":0},{"$f":"'kros seznam'!JQP147","v":0},{"$f":"'kros seznam'!JQQ147","v":0},{"$f":"'kros seznam'!JQR147","v":0},{"$f":"'kros seznam'!JQS147","v":0},{"$f":"'kros seznam'!JQT147","v":0},{"$f":"'kros seznam'!JQU147","v":0},{"$f":"'kros seznam'!JQV147","v":0},{"$f":"'kros seznam'!JQW147","v":0},{"$f":"'kros seznam'!JQX147","v":0},{"$f":"'kros seznam'!JQY147","v":0},{"$f":"'kros seznam'!JQZ147","v":0},{"$f":"'kros seznam'!JRA147","v":0},{"$f":"'kros seznam'!JRB147","v":0},{"$f":"'kros seznam'!JRC147","v":0},{"$f":"'kros seznam'!JRD147","v":0},{"$f":"'kros seznam'!JRE147","v":0},{"$f":"'kros seznam'!JRF147","v":0},{"$f":"'kros seznam'!JRG147","v":0},{"$f":"'kros seznam'!JRH147","v":0},{"$f":"'kros seznam'!JRI147","v":0},{"$f":"'kros seznam'!JRJ147","v":0},{"$f":"'kros seznam'!JRK147","v":0},{"$f":"'kros seznam'!JRL147","v":0},{"$f":"'kros seznam'!JRM147","v":0},{"$f":"'kros seznam'!JRN147","v":0},{"$f":"'kros seznam'!JRO147","v":0},{"$f":"'kros seznam'!JRP147","v":0},{"$f":"'kros seznam'!JRQ147","v":0},{"$f":"'kros seznam'!JRR147","v":0},{"$f":"'kros seznam'!JRS147","v":0},{"$f":"'kros seznam'!JRT147","v":0},{"$f":"'kros seznam'!JRU147","v":0},{"$f":"'kros seznam'!JRV147","v":0},{"$f":"'kros seznam'!JRW147","v":0},{"$f":"'kros seznam'!JRX147","v":0},{"$f":"'kros seznam'!JRY147","v":0},{"$f":"'kros seznam'!JRZ147","v":0},{"$f":"'kros seznam'!JSA147","v":0},{"$f":"'kros seznam'!JSB147","v":0},{"$f":"'kros seznam'!JSC147","v":0},{"$f":"'kros seznam'!JSD147","v":0},{"$f":"'kros seznam'!JSE147","v":0},{"$f":"'kros seznam'!JSF147","v":0},{"$f":"'kros seznam'!JSG147","v":0},{"$f":"'kros seznam'!JSH147","v":0},{"$f":"'kros seznam'!JSI147","v":0},{"$f":"'kros seznam'!JSJ147","v":0},{"$f":"'kros seznam'!JSK147","v":0},{"$f":"'kros seznam'!JSL147","v":0},{"$f":"'kros seznam'!JSM147","v":0},{"$f":"'kros seznam'!JSN147","v":0},{"$f":"'kros seznam'!JSO147","v":0},{"$f":"'kros seznam'!JSP147","v":0},{"$f":"'kros seznam'!JSQ147","v":0},{"$f":"'kros seznam'!JSR147","v":0},{"$f":"'kros seznam'!JSS147","v":0},{"$f":"'kros seznam'!JST147","v":0},{"$f":"'kros seznam'!JSU147","v":0},{"$f":"'kros seznam'!JSV147","v":0},{"$f":"'kros seznam'!JSW147","v":0},{"$f":"'kros seznam'!JSX147","v":0},{"$f":"'kros seznam'!JSY147","v":0},{"$f":"'kros seznam'!JSZ147","v":0},{"$f":"'kros seznam'!JTA147","v":0},{"$f":"'kros seznam'!JTB147","v":0},{"$f":"'kros seznam'!JTC147","v":0},{"$f":"'kros seznam'!JTD147","v":0},{"$f":"'kros seznam'!JTE147","v":0},{"$f":"'kros seznam'!JTF147","v":0},{"$f":"'kros seznam'!JTG147","v":0},{"$f":"'kros seznam'!JTH147","v":0},{"$f":"'kros seznam'!JTI147","v":0},{"$f":"'kros seznam'!JTJ147","v":0},{"$f":"'kros seznam'!JTK147","v":0},{"$f":"'kros seznam'!JTL147","v":0},{"$f":"'kros seznam'!JTM147","v":0},{"$f":"'kros seznam'!JTN147","v":0},{"$f":"'kros seznam'!JTO147","v":0},{"$f":"'kros seznam'!JTP147","v":0},{"$f":"'kros seznam'!JTQ147","v":0},{"$f":"'kros seznam'!JTR147","v":0},{"$f":"'kros seznam'!JTS147","v":0},{"$f":"'kros seznam'!JTT147","v":0},{"$f":"'kros seznam'!JTU147","v":0},{"$f":"'kros seznam'!JTV147","v":0},{"$f":"'kros seznam'!JTW147","v":0},{"$f":"'kros seznam'!JTX147","v":0},{"$f":"'kros seznam'!JTY147","v":0},{"$f":"'kros seznam'!JTZ147","v":0},{"$f":"'kros seznam'!JUA147","v":0},{"$f":"'kros seznam'!JUB147","v":0},{"$f":"'kros seznam'!JUC147","v":0},{"$f":"'kros seznam'!JUD147","v":0},{"$f":"'kros seznam'!JUE147","v":0},{"$f":"'kros seznam'!JUF147","v":0},{"$f":"'kros seznam'!JUG147","v":0},{"$f":"'kros seznam'!JUH147","v":0},{"$f":"'kros seznam'!JUI147","v":0},{"$f":"'kros seznam'!JUJ147","v":0},{"$f":"'kros seznam'!JUK147","v":0},{"$f":"'kros seznam'!JUL147","v":0},{"$f":"'kros seznam'!JUM147","v":0},{"$f":"'kros seznam'!JUN147","v":0},{"$f":"'kros seznam'!JUO147","v":0},{"$f":"'kros seznam'!JUP147","v":0},{"$f":"'kros seznam'!JUQ147","v":0},{"$f":"'kros seznam'!JUR147","v":0},{"$f":"'kros seznam'!JUS147","v":0},{"$f":"'kros seznam'!JUT147","v":0},{"$f":"'kros seznam'!JUU147","v":0},{"$f":"'kros seznam'!JUV147","v":0},{"$f":"'kros seznam'!JUW147","v":0},{"$f":"'kros seznam'!JUX147","v":0},{"$f":"'kros seznam'!JUY147","v":0},{"$f":"'kros seznam'!JUZ147","v":0},{"$f":"'kros seznam'!JVA147","v":0},{"$f":"'kros seznam'!JVB147","v":0},{"$f":"'kros seznam'!JVC147","v":0},{"$f":"'kros seznam'!JVD147","v":0},{"$f":"'kros seznam'!JVE147","v":0},{"$f":"'kros seznam'!JVF147","v":0},{"$f":"'kros seznam'!JVG147","v":0},{"$f":"'kros seznam'!JVH147","v":0},{"$f":"'kros seznam'!JVI147","v":0},{"$f":"'kros seznam'!JVJ147","v":0},{"$f":"'kros seznam'!JVK147","v":0},{"$f":"'kros seznam'!JVL147","v":0},{"$f":"'kros seznam'!JVM147","v":0},{"$f":"'kros seznam'!JVN147","v":0},{"$f":"'kros seznam'!JVO147","v":0},{"$f":"'kros seznam'!JVP147","v":0},{"$f":"'kros seznam'!JVQ147","v":0},{"$f":"'kros seznam'!JVR147","v":0},{"$f":"'kros seznam'!JVS147","v":0},{"$f":"'kros seznam'!JVT147","v":0},{"$f":"'kros seznam'!JVU147","v":0},{"$f":"'kros seznam'!JVV147","v":0},{"$f":"'kros seznam'!JVW147","v":0},{"$f":"'kros seznam'!JVX147","v":0},{"$f":"'kros seznam'!JVY147","v":0},{"$f":"'kros seznam'!JVZ147","v":0},{"$f":"'kros seznam'!JWA147","v":0},{"$f":"'kros seznam'!JWB147","v":0},{"$f":"'kros seznam'!JWC147","v":0},{"$f":"'kros seznam'!JWD147","v":0},{"$f":"'kros seznam'!JWE147","v":0},{"$f":"'kros seznam'!JWF147","v":0},{"$f":"'kros seznam'!JWG147","v":0},{"$f":"'kros seznam'!JWH147","v":0},{"$f":"'kros seznam'!JWI147","v":0},{"$f":"'kros seznam'!JWJ147","v":0},{"$f":"'kros seznam'!JWK147","v":0},{"$f":"'kros seznam'!JWL147","v":0},{"$f":"'kros seznam'!JWM147","v":0},{"$f":"'kros seznam'!JWN147","v":0},{"$f":"'kros seznam'!JWO147","v":0},{"$f":"'kros seznam'!JWP147","v":0},{"$f":"'kros seznam'!JWQ147","v":0},{"$f":"'kros seznam'!JWR147","v":0},{"$f":"'kros seznam'!JWS147","v":0},{"$f":"'kros seznam'!JWT147","v":0},{"$f":"'kros seznam'!JWU147","v":0},{"$f":"'kros seznam'!JWV147","v":0},{"$f":"'kros seznam'!JWW147","v":0},{"$f":"'kros seznam'!JWX147","v":0},{"$f":"'kros seznam'!JWY147","v":0},{"$f":"'kros seznam'!JWZ147","v":0},{"$f":"'kros seznam'!JXA147","v":0},{"$f":"'kros seznam'!JXB147","v":0},{"$f":"'kros seznam'!JXC147","v":0},{"$f":"'kros seznam'!JXD147","v":0},{"$f":"'kros seznam'!JXE147","v":0},{"$f":"'kros seznam'!JXF147","v":0},{"$f":"'kros seznam'!JXG147","v":0},{"$f":"'kros seznam'!JXH147","v":0},{"$f":"'kros seznam'!JXI147","v":0},{"$f":"'kros seznam'!JXJ147","v":0},{"$f":"'kros seznam'!JXK147","v":0},{"$f":"'kros seznam'!JXL147","v":0},{"$f":"'kros seznam'!JXM147","v":0},{"$f":"'kros seznam'!JXN147","v":0},{"$f":"'kros seznam'!JXO147","v":0},{"$f":"'kros seznam'!JXP147","v":0},{"$f":"'kros seznam'!JXQ147","v":0},{"$f":"'kros seznam'!JXR147","v":0},{"$f":"'kros seznam'!JXS147","v":0},{"$f":"'kros seznam'!JXT147","v":0},{"$f":"'kros seznam'!JXU147","v":0},{"$f":"'kros seznam'!JXV147","v":0},{"$f":"'kros seznam'!JXW147","v":0},{"$f":"'kros seznam'!JXX147","v":0},{"$f":"'kros seznam'!JXY147","v":0},{"$f":"'kros seznam'!JXZ147","v":0},{"$f":"'kros seznam'!JYA147","v":0},{"$f":"'kros seznam'!JYB147","v":0},{"$f":"'kros seznam'!JYC147","v":0},{"$f":"'kros seznam'!JYD147","v":0},{"$f":"'kros seznam'!JYE147","v":0},{"$f":"'kros seznam'!JYF147","v":0},{"$f":"'kros seznam'!JYG147","v":0},{"$f":"'kros seznam'!JYH147","v":0},{"$f":"'kros seznam'!JYI147","v":0},{"$f":"'kros seznam'!JYJ147","v":0},{"$f":"'kros seznam'!JYK147","v":0},{"$f":"'kros seznam'!JYL147","v":0},{"$f":"'kros seznam'!JYM147","v":0},{"$f":"'kros seznam'!JYN147","v":0},{"$f":"'kros seznam'!JYO147","v":0},{"$f":"'kros seznam'!JYP147","v":0},{"$f":"'kros seznam'!JYQ147","v":0},{"$f":"'kros seznam'!JYR147","v":0},{"$f":"'kros seznam'!JYS147","v":0},{"$f":"'kros seznam'!JYT147","v":0},{"$f":"'kros seznam'!JYU147","v":0},{"$f":"'kros seznam'!JYV147","v":0},{"$f":"'kros seznam'!JYW147","v":0},{"$f":"'kros seznam'!JYX147","v":0},{"$f":"'kros seznam'!JYY147","v":0},{"$f":"'kros seznam'!JYZ147","v":0},{"$f":"'kros seznam'!JZA147","v":0},{"$f":"'kros seznam'!JZB147","v":0},{"$f":"'kros seznam'!JZC147","v":0},{"$f":"'kros seznam'!JZD147","v":0},{"$f":"'kros seznam'!JZE147","v":0},{"$f":"'kros seznam'!JZF147","v":0},{"$f":"'kros seznam'!JZG147","v":0},{"$f":"'kros seznam'!JZH147","v":0},{"$f":"'kros seznam'!JZI147","v":0},{"$f":"'kros seznam'!JZJ147","v":0},{"$f":"'kros seznam'!JZK147","v":0},{"$f":"'kros seznam'!JZL147","v":0},{"$f":"'kros seznam'!JZM147","v":0},{"$f":"'kros seznam'!JZN147","v":0},{"$f":"'kros seznam'!JZO147","v":0},{"$f":"'kros seznam'!JZP147","v":0},{"$f":"'kros seznam'!JZQ147","v":0},{"$f":"'kros seznam'!JZR147","v":0},{"$f":"'kros seznam'!JZS147","v":0},{"$f":"'kros seznam'!JZT147","v":0},{"$f":"'kros seznam'!JZU147","v":0},{"$f":"'kros seznam'!JZV147","v":0},{"$f":"'kros seznam'!JZW147","v":0},{"$f":"'kros seznam'!JZX147","v":0},{"$f":"'kros seznam'!JZY147","v":0},{"$f":"'kros seznam'!JZZ147","v":0},{"$f":"'kros seznam'!KAA147","v":0},{"$f":"'kros seznam'!KAB147","v":0},{"$f":"'kros seznam'!KAC147","v":0},{"$f":"'kros seznam'!KAD147","v":0},{"$f":"'kros seznam'!KAE147","v":0},{"$f":"'kros seznam'!KAF147","v":0},{"$f":"'kros seznam'!KAG147","v":0},{"$f":"'kros seznam'!KAH147","v":0},{"$f":"'kros seznam'!KAI147","v":0},{"$f":"'kros seznam'!KAJ147","v":0},{"$f":"'kros seznam'!KAK147","v":0},{"$f":"'kros seznam'!KAL147","v":0},{"$f":"'kros seznam'!KAM147","v":0},{"$f":"'kros seznam'!KAN147","v":0},{"$f":"'kros seznam'!KAO147","v":0},{"$f":"'kros seznam'!KAP147","v":0},{"$f":"'kros seznam'!KAQ147","v":0},{"$f":"'kros seznam'!KAR147","v":0},{"$f":"'kros seznam'!KAS147","v":0},{"$f":"'kros seznam'!KAT147","v":0},{"$f":"'kros seznam'!KAU147","v":0},{"$f":"'kros seznam'!KAV147","v":0},{"$f":"'kros seznam'!KAW147","v":0},{"$f":"'kros seznam'!KAX147","v":0},{"$f":"'kros seznam'!KAY147","v":0},{"$f":"'kros seznam'!KAZ147","v":0},{"$f":"'kros seznam'!KBA147","v":0},{"$f":"'kros seznam'!KBB147","v":0},{"$f":"'kros seznam'!KBC147","v":0},{"$f":"'kros seznam'!KBD147","v":0},{"$f":"'kros seznam'!KBE147","v":0},{"$f":"'kros seznam'!KBF147","v":0},{"$f":"'kros seznam'!KBG147","v":0},{"$f":"'kros seznam'!KBH147","v":0},{"$f":"'kros seznam'!KBI147","v":0},{"$f":"'kros seznam'!KBJ147","v":0},{"$f":"'kros seznam'!KBK147","v":0},{"$f":"'kros seznam'!KBL147","v":0},{"$f":"'kros seznam'!KBM147","v":0},{"$f":"'kros seznam'!KBN147","v":0},{"$f":"'kros seznam'!KBO147","v":0},{"$f":"'kros seznam'!KBP147","v":0},{"$f":"'kros seznam'!KBQ147","v":0},{"$f":"'kros seznam'!KBR147","v":0},{"$f":"'kros seznam'!KBS147","v":0},{"$f":"'kros seznam'!KBT147","v":0},{"$f":"'kros seznam'!KBU147","v":0},{"$f":"'kros seznam'!KBV147","v":0},{"$f":"'kros seznam'!KBW147","v":0},{"$f":"'kros seznam'!KBX147","v":0},{"$f":"'kros seznam'!KBY147","v":0},{"$f":"'kros seznam'!KBZ147","v":0},{"$f":"'kros seznam'!KCA147","v":0},{"$f":"'kros seznam'!KCB147","v":0},{"$f":"'kros seznam'!KCC147","v":0},{"$f":"'kros seznam'!KCD147","v":0},{"$f":"'kros seznam'!KCE147","v":0},{"$f":"'kros seznam'!KCF147","v":0},{"$f":"'kros seznam'!KCG147","v":0},{"$f":"'kros seznam'!KCH147","v":0},{"$f":"'kros seznam'!KCI147","v":0},{"$f":"'kros seznam'!KCJ147","v":0},{"$f":"'kros seznam'!KCK147","v":0},{"$f":"'kros seznam'!KCL147","v":0},{"$f":"'kros seznam'!KCM147","v":0},{"$f":"'kros seznam'!KCN147","v":0},{"$f":"'kros seznam'!KCO147","v":0},{"$f":"'kros seznam'!KCP147","v":0},{"$f":"'kros seznam'!KCQ147","v":0},{"$f":"'kros seznam'!KCR147","v":0},{"$f":"'kros seznam'!KCS147","v":0},{"$f":"'kros seznam'!KCT147","v":0},{"$f":"'kros seznam'!KCU147","v":0},{"$f":"'kros seznam'!KCV147","v":0},{"$f":"'kros seznam'!KCW147","v":0},{"$f":"'kros seznam'!KCX147","v":0},{"$f":"'kros seznam'!KCY147","v":0},{"$f":"'kros seznam'!KCZ147","v":0},{"$f":"'kros seznam'!KDA147","v":0},{"$f":"'kros seznam'!KDB147","v":0},{"$f":"'kros seznam'!KDC147","v":0},{"$f":"'kros seznam'!KDD147","v":0},{"$f":"'kros seznam'!KDE147","v":0},{"$f":"'kros seznam'!KDF147","v":0},{"$f":"'kros seznam'!KDG147","v":0},{"$f":"'kros seznam'!KDH147","v":0},{"$f":"'kros seznam'!KDI147","v":0},{"$f":"'kros seznam'!KDJ147","v":0},{"$f":"'kros seznam'!KDK147","v":0},{"$f":"'kros seznam'!KDL147","v":0},{"$f":"'kros seznam'!KDM147","v":0},{"$f":"'kros seznam'!KDN147","v":0},{"$f":"'kros seznam'!KDO147","v":0},{"$f":"'kros seznam'!KDP147","v":0},{"$f":"'kros seznam'!KDQ147","v":0},{"$f":"'kros seznam'!KDR147","v":0},{"$f":"'kros seznam'!KDS147","v":0},{"$f":"'kros seznam'!KDT147","v":0},{"$f":"'kros seznam'!KDU147","v":0},{"$f":"'kros seznam'!KDV147","v":0},{"$f":"'kros seznam'!KDW147","v":0},{"$f":"'kros seznam'!KDX147","v":0},{"$f":"'kros seznam'!KDY147","v":0},{"$f":"'kros seznam'!KDZ147","v":0},{"$f":"'kros seznam'!KEA147","v":0},{"$f":"'kros seznam'!KEB147","v":0},{"$f":"'kros seznam'!KEC147","v":0},{"$f":"'kros seznam'!KED147","v":0},{"$f":"'kros seznam'!KEE147","v":0},{"$f":"'kros seznam'!KEF147","v":0},{"$f":"'kros seznam'!KEG147","v":0},{"$f":"'kros seznam'!KEH147","v":0},{"$f":"'kros seznam'!KEI147","v":0},{"$f":"'kros seznam'!KEJ147","v":0},{"$f":"'kros seznam'!KEK147","v":0},{"$f":"'kros seznam'!KEL147","v":0},{"$f":"'kros seznam'!KEM147","v":0},{"$f":"'kros seznam'!KEN147","v":0},{"$f":"'kros seznam'!KEO147","v":0},{"$f":"'kros seznam'!KEP147","v":0},{"$f":"'kros seznam'!KEQ147","v":0},{"$f":"'kros seznam'!KER147","v":0},{"$f":"'kros seznam'!KES147","v":0},{"$f":"'kros seznam'!KET147","v":0},{"$f":"'kros seznam'!KEU147","v":0},{"$f":"'kros seznam'!KEV147","v":0},{"$f":"'kros seznam'!KEW147","v":0},{"$f":"'kros seznam'!KEX147","v":0},{"$f":"'kros seznam'!KEY147","v":0},{"$f":"'kros seznam'!KEZ147","v":0},{"$f":"'kros seznam'!KFA147","v":0},{"$f":"'kros seznam'!KFB147","v":0},{"$f":"'kros seznam'!KFC147","v":0},{"$f":"'kros seznam'!KFD147","v":0},{"$f":"'kros seznam'!KFE147","v":0},{"$f":"'kros seznam'!KFF147","v":0},{"$f":"'kros seznam'!KFG147","v":0},{"$f":"'kros seznam'!KFH147","v":0},{"$f":"'kros seznam'!KFI147","v":0},{"$f":"'kros seznam'!KFJ147","v":0},{"$f":"'kros seznam'!KFK147","v":0},{"$f":"'kros seznam'!KFL147","v":0},{"$f":"'kros seznam'!KFM147","v":0},{"$f":"'kros seznam'!KFN147","v":0},{"$f":"'kros seznam'!KFO147","v":0},{"$f":"'kros seznam'!KFP147","v":0},{"$f":"'kros seznam'!KFQ147","v":0},{"$f":"'kros seznam'!KFR147","v":0},{"$f":"'kros seznam'!KFS147","v":0},{"$f":"'kros seznam'!KFT147","v":0},{"$f":"'kros seznam'!KFU147","v":0},{"$f":"'kros seznam'!KFV147","v":0},{"$f":"'kros seznam'!KFW147","v":0},{"$f":"'kros seznam'!KFX147","v":0},{"$f":"'kros seznam'!KFY147","v":0},{"$f":"'kros seznam'!KFZ147","v":0},{"$f":"'kros seznam'!KGA147","v":0},{"$f":"'kros seznam'!KGB147","v":0},{"$f":"'kros seznam'!KGC147","v":0},{"$f":"'kros seznam'!KGD147","v":0},{"$f":"'kros seznam'!KGE147","v":0},{"$f":"'kros seznam'!KGF147","v":0},{"$f":"'kros seznam'!KGG147","v":0},{"$f":"'kros seznam'!KGH147","v":0},{"$f":"'kros seznam'!KGI147","v":0},{"$f":"'kros seznam'!KGJ147","v":0},{"$f":"'kros seznam'!KGK147","v":0},{"$f":"'kros seznam'!KGL147","v":0},{"$f":"'kros seznam'!KGM147","v":0},{"$f":"'kros seznam'!KGN147","v":0},{"$f":"'kros seznam'!KGO147","v":0},{"$f":"'kros seznam'!KGP147","v":0},{"$f":"'kros seznam'!KGQ147","v":0},{"$f":"'kros seznam'!KGR147","v":0},{"$f":"'kros seznam'!KGS147","v":0},{"$f":"'kros seznam'!KGT147","v":0},{"$f":"'kros seznam'!KGU147","v":0},{"$f":"'kros seznam'!KGV147","v":0},{"$f":"'kros seznam'!KGW147","v":0},{"$f":"'kros seznam'!KGX147","v":0},{"$f":"'kros seznam'!KGY147","v":0},{"$f":"'kros seznam'!KGZ147","v":0},{"$f":"'kros seznam'!KHA147","v":0},{"$f":"'kros seznam'!KHB147","v":0},{"$f":"'kros seznam'!KHC147","v":0},{"$f":"'kros seznam'!KHD147","v":0},{"$f":"'kros seznam'!KHE147","v":0},{"$f":"'kros seznam'!KHF147","v":0},{"$f":"'kros seznam'!KHG147","v":0},{"$f":"'kros seznam'!KHH147","v":0},{"$f":"'kros seznam'!KHI147","v":0},{"$f":"'kros seznam'!KHJ147","v":0},{"$f":"'kros seznam'!KHK147","v":0},{"$f":"'kros seznam'!KHL147","v":0},{"$f":"'kros seznam'!KHM147","v":0},{"$f":"'kros seznam'!KHN147","v":0},{"$f":"'kros seznam'!KHO147","v":0},{"$f":"'kros seznam'!KHP147","v":0},{"$f":"'kros seznam'!KHQ147","v":0},{"$f":"'kros seznam'!KHR147","v":0},{"$f":"'kros seznam'!KHS147","v":0},{"$f":"'kros seznam'!KHT147","v":0},{"$f":"'kros seznam'!KHU147","v":0},{"$f":"'kros seznam'!KHV147","v":0},{"$f":"'kros seznam'!KHW147","v":0},{"$f":"'kros seznam'!KHX147","v":0},{"$f":"'kros seznam'!KHY147","v":0},{"$f":"'kros seznam'!KHZ147","v":0},{"$f":"'kros seznam'!KIA147","v":0},{"$f":"'kros seznam'!KIB147","v":0},{"$f":"'kros seznam'!KIC147","v":0},{"$f":"'kros seznam'!KID147","v":0},{"$f":"'kros seznam'!KIE147","v":0},{"$f":"'kros seznam'!KIF147","v":0},{"$f":"'kros seznam'!KIG147","v":0},{"$f":"'kros seznam'!KIH147","v":0},{"$f":"'kros seznam'!KII147","v":0},{"$f":"'kros seznam'!KIJ147","v":0},{"$f":"'kros seznam'!KIK147","v":0},{"$f":"'kros seznam'!KIL147","v":0},{"$f":"'kros seznam'!KIM147","v":0},{"$f":"'kros seznam'!KIN147","v":0},{"$f":"'kros seznam'!KIO147","v":0},{"$f":"'kros seznam'!KIP147","v":0},{"$f":"'kros seznam'!KIQ147","v":0},{"$f":"'kros seznam'!KIR147","v":0},{"$f":"'kros seznam'!KIS147","v":0},{"$f":"'kros seznam'!KIT147","v":0},{"$f":"'kros seznam'!KIU147","v":0},{"$f":"'kros seznam'!KIV147","v":0},{"$f":"'kros seznam'!KIW147","v":0},{"$f":"'kros seznam'!KIX147","v":0},{"$f":"'kros seznam'!KIY147","v":0},{"$f":"'kros seznam'!KIZ147","v":0},{"$f":"'kros seznam'!KJA147","v":0},{"$f":"'kros seznam'!KJB147","v":0},{"$f":"'kros seznam'!KJC147","v":0},{"$f":"'kros seznam'!KJD147","v":0},{"$f":"'kros seznam'!KJE147","v":0},{"$f":"'kros seznam'!KJF147","v":0},{"$f":"'kros seznam'!KJG147","v":0},{"$f":"'kros seznam'!KJH147","v":0},{"$f":"'kros seznam'!KJI147","v":0},{"$f":"'kros seznam'!KJJ147","v":0},{"$f":"'kros seznam'!KJK147","v":0},{"$f":"'kros seznam'!KJL147","v":0},{"$f":"'kros seznam'!KJM147","v":0},{"$f":"'kros seznam'!KJN147","v":0},{"$f":"'kros seznam'!KJO147","v":0},{"$f":"'kros seznam'!KJP147","v":0},{"$f":"'kros seznam'!KJQ147","v":0},{"$f":"'kros seznam'!KJR147","v":0},{"$f":"'kros seznam'!KJS147","v":0},{"$f":"'kros seznam'!KJT147","v":0},{"$f":"'kros seznam'!KJU147","v":0},{"$f":"'kros seznam'!KJV147","v":0},{"$f":"'kros seznam'!KJW147","v":0},{"$f":"'kros seznam'!KJX147","v":0},{"$f":"'kros seznam'!KJY147","v":0},{"$f":"'kros seznam'!KJZ147","v":0},{"$f":"'kros seznam'!KKA147","v":0},{"$f":"'kros seznam'!KKB147","v":0},{"$f":"'kros seznam'!KKC147","v":0},{"$f":"'kros seznam'!KKD147","v":0},{"$f":"'kros seznam'!KKE147","v":0},{"$f":"'kros seznam'!KKF147","v":0},{"$f":"'kros seznam'!KKG147","v":0},{"$f":"'kros seznam'!KKH147","v":0},{"$f":"'kros seznam'!KKI147","v":0},{"$f":"'kros seznam'!KKJ147","v":0},{"$f":"'kros seznam'!KKK147","v":0},{"$f":"'kros seznam'!KKL147","v":0},{"$f":"'kros seznam'!KKM147","v":0},{"$f":"'kros seznam'!KKN147","v":0},{"$f":"'kros seznam'!KKO147","v":0},{"$f":"'kros seznam'!KKP147","v":0},{"$f":"'kros seznam'!KKQ147","v":0},{"$f":"'kros seznam'!KKR147","v":0},{"$f":"'kros seznam'!KKS147","v":0},{"$f":"'kros seznam'!KKT147","v":0},{"$f":"'kros seznam'!KKU147","v":0},{"$f":"'kros seznam'!KKV147","v":0},{"$f":"'kros seznam'!KKW147","v":0},{"$f":"'kros seznam'!KKX147","v":0},{"$f":"'kros seznam'!KKY147","v":0},{"$f":"'kros seznam'!KKZ147","v":0},{"$f":"'kros seznam'!KLA147","v":0},{"$f":"'kros seznam'!KLB147","v":0},{"$f":"'kros seznam'!KLC147","v":0},{"$f":"'kros seznam'!KLD147","v":0},{"$f":"'kros seznam'!KLE147","v":0},{"$f":"'kros seznam'!KLF147","v":0},{"$f":"'kros seznam'!KLG147","v":0},{"$f":"'kros seznam'!KLH147","v":0},{"$f":"'kros seznam'!KLI147","v":0},{"$f":"'kros seznam'!KLJ147","v":0},{"$f":"'kros seznam'!KLK147","v":0},{"$f":"'kros seznam'!KLL147","v":0},{"$f":"'kros seznam'!KLM147","v":0},{"$f":"'kros seznam'!KLN147","v":0},{"$f":"'kros seznam'!KLO147","v":0},{"$f":"'kros seznam'!KLP147","v":0},{"$f":"'kros seznam'!KLQ147","v":0},{"$f":"'kros seznam'!KLR147","v":0},{"$f":"'kros seznam'!KLS147","v":0},{"$f":"'kros seznam'!KLT147","v":0},{"$f":"'kros seznam'!KLU147","v":0},{"$f":"'kros seznam'!KLV147","v":0},{"$f":"'kros seznam'!KLW147","v":0},{"$f":"'kros seznam'!KLX147","v":0},{"$f":"'kros seznam'!KLY147","v":0},{"$f":"'kros seznam'!KLZ147","v":0},{"$f":"'kros seznam'!KMA147","v":0},{"$f":"'kros seznam'!KMB147","v":0},{"$f":"'kros seznam'!KMC147","v":0},{"$f":"'kros seznam'!KMD147","v":0},{"$f":"'kros seznam'!KME147","v":0},{"$f":"'kros seznam'!KMF147","v":0},{"$f":"'kros seznam'!KMG147","v":0},{"$f":"'kros seznam'!KMH147","v":0},{"$f":"'kros seznam'!KMI147","v":0},{"$f":"'kros seznam'!KMJ147","v":0},{"$f":"'kros seznam'!KMK147","v":0},{"$f":"'kros seznam'!KML147","v":0},{"$f":"'kros seznam'!KMM147","v":0},{"$f":"'kros seznam'!KMN147","v":0},{"$f":"'kros seznam'!KMO147","v":0},{"$f":"'kros seznam'!KMP147","v":0},{"$f":"'kros seznam'!KMQ147","v":0},{"$f":"'kros seznam'!KMR147","v":0},{"$f":"'kros seznam'!KMS147","v":0},{"$f":"'kros seznam'!KMT147","v":0},{"$f":"'kros seznam'!KMU147","v":0},{"$f":"'kros seznam'!KMV147","v":0},{"$f":"'kros seznam'!KMW147","v":0},{"$f":"'kros seznam'!KMX147","v":0},{"$f":"'kros seznam'!KMY147","v":0},{"$f":"'kros seznam'!KMZ147","v":0},{"$f":"'kros seznam'!KNA147","v":0},{"$f":"'kros seznam'!KNB147","v":0},{"$f":"'kros seznam'!KNC147","v":0},{"$f":"'kros seznam'!KND147","v":0},{"$f":"'kros seznam'!KNE147","v":0},{"$f":"'kros seznam'!KNF147","v":0},{"$f":"'kros seznam'!KNG147","v":0},{"$f":"'kros seznam'!KNH147","v":0},{"$f":"'kros seznam'!KNI147","v":0},{"$f":"'kros seznam'!KNJ147","v":0},{"$f":"'kros seznam'!KNK147","v":0},{"$f":"'kros seznam'!KNL147","v":0},{"$f":"'kros seznam'!KNM147","v":0},{"$f":"'kros seznam'!KNN147","v":0},{"$f":"'kros seznam'!KNO147","v":0},{"$f":"'kros seznam'!KNP147","v":0},{"$f":"'kros seznam'!KNQ147","v":0},{"$f":"'kros seznam'!KNR147","v":0},{"$f":"'kros seznam'!KNS147","v":0},{"$f":"'kros seznam'!KNT147","v":0},{"$f":"'kros seznam'!KNU147","v":0},{"$f":"'kros seznam'!KNV147","v":0},{"$f":"'kros seznam'!KNW147","v":0},{"$f":"'kros seznam'!KNX147","v":0},{"$f":"'kros seznam'!KNY147","v":0},{"$f":"'kros seznam'!KNZ147","v":0},{"$f":"'kros seznam'!KOA147","v":0},{"$f":"'kros seznam'!KOB147","v":0},{"$f":"'kros seznam'!KOC147","v":0},{"$f":"'kros seznam'!KOD147","v":0},{"$f":"'kros seznam'!KOE147","v":0},{"$f":"'kros seznam'!KOF147","v":0},{"$f":"'kros seznam'!KOG147","v":0},{"$f":"'kros seznam'!KOH147","v":0},{"$f":"'kros seznam'!KOI147","v":0},{"$f":"'kros seznam'!KOJ147","v":0},{"$f":"'kros seznam'!KOK147","v":0},{"$f":"'kros seznam'!KOL147","v":0},{"$f":"'kros seznam'!KOM147","v":0},{"$f":"'kros seznam'!KON147","v":0},{"$f":"'kros seznam'!KOO147","v":0},{"$f":"'kros seznam'!KOP147","v":0},{"$f":"'kros seznam'!KOQ147","v":0},{"$f":"'kros seznam'!KOR147","v":0},{"$f":"'kros seznam'!KOS147","v":0},{"$f":"'kros seznam'!KOT147","v":0},{"$f":"'kros seznam'!KOU147","v":0},{"$f":"'kros seznam'!KOV147","v":0},{"$f":"'kros seznam'!KOW147","v":0},{"$f":"'kros seznam'!KOX147","v":0},{"$f":"'kros seznam'!KOY147","v":0},{"$f":"'kros seznam'!KOZ147","v":0},{"$f":"'kros seznam'!KPA147","v":0},{"$f":"'kros seznam'!KPB147","v":0},{"$f":"'kros seznam'!KPC147","v":0},{"$f":"'kros seznam'!KPD147","v":0},{"$f":"'kros seznam'!KPE147","v":0},{"$f":"'kros seznam'!KPF147","v":0},{"$f":"'kros seznam'!KPG147","v":0},{"$f":"'kros seznam'!KPH147","v":0},{"$f":"'kros seznam'!KPI147","v":0},{"$f":"'kros seznam'!KPJ147","v":0},{"$f":"'kros seznam'!KPK147","v":0},{"$f":"'kros seznam'!KPL147","v":0},{"$f":"'kros seznam'!KPM147","v":0},{"$f":"'kros seznam'!KPN147","v":0},{"$f":"'kros seznam'!KPO147","v":0},{"$f":"'kros seznam'!KPP147","v":0},{"$f":"'kros seznam'!KPQ147","v":0},{"$f":"'kros seznam'!KPR147","v":0},{"$f":"'kros seznam'!KPS147","v":0},{"$f":"'kros seznam'!KPT147","v":0},{"$f":"'kros seznam'!KPU147","v":0},{"$f":"'kros seznam'!KPV147","v":0},{"$f":"'kros seznam'!KPW147","v":0},{"$f":"'kros seznam'!KPX147","v":0},{"$f":"'kros seznam'!KPY147","v":0},{"$f":"'kros seznam'!KPZ147","v":0},{"$f":"'kros seznam'!KQA147","v":0},{"$f":"'kros seznam'!KQB147","v":0},{"$f":"'kros seznam'!KQC147","v":0},{"$f":"'kros seznam'!KQD147","v":0},{"$f":"'kros seznam'!KQE147","v":0},{"$f":"'kros seznam'!KQF147","v":0},{"$f":"'kros seznam'!KQG147","v":0},{"$f":"'kros seznam'!KQH147","v":0},{"$f":"'kros seznam'!KQI147","v":0},{"$f":"'kros seznam'!KQJ147","v":0},{"$f":"'kros seznam'!KQK147","v":0},{"$f":"'kros seznam'!KQL147","v":0},{"$f":"'kros seznam'!KQM147","v":0},{"$f":"'kros seznam'!KQN147","v":0},{"$f":"'kros seznam'!KQO147","v":0},{"$f":"'kros seznam'!KQP147","v":0},{"$f":"'kros seznam'!KQQ147","v":0},{"$f":"'kros seznam'!KQR147","v":0},{"$f":"'kros seznam'!KQS147","v":0},{"$f":"'kros seznam'!KQT147","v":0},{"$f":"'kros seznam'!KQU147","v":0},{"$f":"'kros seznam'!KQV147","v":0},{"$f":"'kros seznam'!KQW147","v":0},{"$f":"'kros seznam'!KQX147","v":0},{"$f":"'kros seznam'!KQY147","v":0},{"$f":"'kros seznam'!KQZ147","v":0},{"$f":"'kros seznam'!KRA147","v":0},{"$f":"'kros seznam'!KRB147","v":0},{"$f":"'kros seznam'!KRC147","v":0},{"$f":"'kros seznam'!KRD147","v":0},{"$f":"'kros seznam'!KRE147","v":0},{"$f":"'kros seznam'!KRF147","v":0},{"$f":"'kros seznam'!KRG147","v":0},{"$f":"'kros seznam'!KRH147","v":0},{"$f":"'kros seznam'!KRI147","v":0},{"$f":"'kros seznam'!KRJ147","v":0},{"$f":"'kros seznam'!KRK147","v":0},{"$f":"'kros seznam'!KRL147","v":0},{"$f":"'kros seznam'!KRM147","v":0},{"$f":"'kros seznam'!KRN147","v":0},{"$f":"'kros seznam'!KRO147","v":0},{"$f":"'kros seznam'!KRP147","v":0},{"$f":"'kros seznam'!KRQ147","v":0},{"$f":"'kros seznam'!KRR147","v":0},{"$f":"'kros seznam'!KRS147","v":0},{"$f":"'kros seznam'!KRT147","v":0},{"$f":"'kros seznam'!KRU147","v":0},{"$f":"'kros seznam'!KRV147","v":0},{"$f":"'kros seznam'!KRW147","v":0},{"$f":"'kros seznam'!KRX147","v":0},{"$f":"'kros seznam'!KRY147","v":0},{"$f":"'kros seznam'!KRZ147","v":0},{"$f":"'kros seznam'!KSA147","v":0},{"$f":"'kros seznam'!KSB147","v":0},{"$f":"'kros seznam'!KSC147","v":0},{"$f":"'kros seznam'!KSD147","v":0},{"$f":"'kros seznam'!KSE147","v":0},{"$f":"'kros seznam'!KSF147","v":0},{"$f":"'kros seznam'!KSG147","v":0},{"$f":"'kros seznam'!KSH147","v":0},{"$f":"'kros seznam'!KSI147","v":0},{"$f":"'kros seznam'!KSJ147","v":0},{"$f":"'kros seznam'!KSK147","v":0},{"$f":"'kros seznam'!KSL147","v":0},{"$f":"'kros seznam'!KSM147","v":0},{"$f":"'kros seznam'!KSN147","v":0},{"$f":"'kros seznam'!KSO147","v":0},{"$f":"'kros seznam'!KSP147","v":0},{"$f":"'kros seznam'!KSQ147","v":0},{"$f":"'kros seznam'!KSR147","v":0},{"$f":"'kros seznam'!KSS147","v":0},{"$f":"'kros seznam'!KST147","v":0},{"$f":"'kros seznam'!KSU147","v":0},{"$f":"'kros seznam'!KSV147","v":0},{"$f":"'kros seznam'!KSW147","v":0},{"$f":"'kros seznam'!KSX147","v":0},{"$f":"'kros seznam'!KSY147","v":0},{"$f":"'kros seznam'!KSZ147","v":0},{"$f":"'kros seznam'!KTA147","v":0},{"$f":"'kros seznam'!KTB147","v":0},{"$f":"'kros seznam'!KTC147","v":0},{"$f":"'kros seznam'!KTD147","v":0},{"$f":"'kros seznam'!KTE147","v":0},{"$f":"'kros seznam'!KTF147","v":0},{"$f":"'kros seznam'!KTG147","v":0},{"$f":"'kros seznam'!KTH147","v":0},{"$f":"'kros seznam'!KTI147","v":0},{"$f":"'kros seznam'!KTJ147","v":0},{"$f":"'kros seznam'!KTK147","v":0},{"$f":"'kros seznam'!KTL147","v":0},{"$f":"'kros seznam'!KTM147","v":0},{"$f":"'kros seznam'!KTN147","v":0},{"$f":"'kros seznam'!KTO147","v":0},{"$f":"'kros seznam'!KTP147","v":0},{"$f":"'kros seznam'!KTQ147","v":0},{"$f":"'kros seznam'!KTR147","v":0},{"$f":"'kros seznam'!KTS147","v":0},{"$f":"'kros seznam'!KTT147","v":0},{"$f":"'kros seznam'!KTU147","v":0},{"$f":"'kros seznam'!KTV147","v":0},{"$f":"'kros seznam'!KTW147","v":0},{"$f":"'kros seznam'!KTX147","v":0},{"$f":"'kros seznam'!KTY147","v":0},{"$f":"'kros seznam'!KTZ147","v":0},{"$f":"'kros seznam'!KUA147","v":0},{"$f":"'kros seznam'!KUB147","v":0},{"$f":"'kros seznam'!KUC147","v":0},{"$f":"'kros seznam'!KUD147","v":0},{"$f":"'kros seznam'!KUE147","v":0},{"$f":"'kros seznam'!KUF147","v":0},{"$f":"'kros seznam'!KUG147","v":0},{"$f":"'kros seznam'!KUH147","v":0},{"$f":"'kros seznam'!KUI147","v":0},{"$f":"'kros seznam'!KUJ147","v":0},{"$f":"'kros seznam'!KUK147","v":0},{"$f":"'kros seznam'!KUL147","v":0},{"$f":"'kros seznam'!KUM147","v":0},{"$f":"'kros seznam'!KUN147","v":0},{"$f":"'kros seznam'!KUO147","v":0},{"$f":"'kros seznam'!KUP147","v":0},{"$f":"'kros seznam'!KUQ147","v":0},{"$f":"'kros seznam'!KUR147","v":0},{"$f":"'kros seznam'!KUS147","v":0},{"$f":"'kros seznam'!KUT147","v":0},{"$f":"'kros seznam'!KUU147","v":0},{"$f":"'kros seznam'!KUV147","v":0},{"$f":"'kros seznam'!KUW147","v":0},{"$f":"'kros seznam'!KUX147","v":0},{"$f":"'kros seznam'!KUY147","v":0},{"$f":"'kros seznam'!KUZ147","v":0},{"$f":"'kros seznam'!KVA147","v":0},{"$f":"'kros seznam'!KVB147","v":0},{"$f":"'kros seznam'!KVC147","v":0},{"$f":"'kros seznam'!KVD147","v":0},{"$f":"'kros seznam'!KVE147","v":0},{"$f":"'kros seznam'!KVF147","v":0},{"$f":"'kros seznam'!KVG147","v":0},{"$f":"'kros seznam'!KVH147","v":0},{"$f":"'kros seznam'!KVI147","v":0},{"$f":"'kros seznam'!KVJ147","v":0},{"$f":"'kros seznam'!KVK147","v":0},{"$f":"'kros seznam'!KVL147","v":0},{"$f":"'kros seznam'!KVM147","v":0},{"$f":"'kros seznam'!KVN147","v":0},{"$f":"'kros seznam'!KVO147","v":0},{"$f":"'kros seznam'!KVP147","v":0},{"$f":"'kros seznam'!KVQ147","v":0},{"$f":"'kros seznam'!KVR147","v":0},{"$f":"'kros seznam'!KVS147","v":0},{"$f":"'kros seznam'!KVT147","v":0},{"$f":"'kros seznam'!KVU147","v":0},{"$f":"'kros seznam'!KVV147","v":0},{"$f":"'kros seznam'!KVW147","v":0},{"$f":"'kros seznam'!KVX147","v":0},{"$f":"'kros seznam'!KVY147","v":0},{"$f":"'kros seznam'!KVZ147","v":0},{"$f":"'kros seznam'!KWA147","v":0},{"$f":"'kros seznam'!KWB147","v":0},{"$f":"'kros seznam'!KWC147","v":0},{"$f":"'kros seznam'!KWD147","v":0},{"$f":"'kros seznam'!KWE147","v":0},{"$f":"'kros seznam'!KWF147","v":0},{"$f":"'kros seznam'!KWG147","v":0},{"$f":"'kros seznam'!KWH147","v":0},{"$f":"'kros seznam'!KWI147","v":0},{"$f":"'kros seznam'!KWJ147","v":0},{"$f":"'kros seznam'!KWK147","v":0},{"$f":"'kros seznam'!KWL147","v":0},{"$f":"'kros seznam'!KWM147","v":0},{"$f":"'kros seznam'!KWN147","v":0},{"$f":"'kros seznam'!KWO147","v":0},{"$f":"'kros seznam'!KWP147","v":0},{"$f":"'kros seznam'!KWQ147","v":0},{"$f":"'kros seznam'!KWR147","v":0},{"$f":"'kros seznam'!KWS147","v":0},{"$f":"'kros seznam'!KWT147","v":0},{"$f":"'kros seznam'!KWU147","v":0},{"$f":"'kros seznam'!KWV147","v":0},{"$f":"'kros seznam'!KWW147","v":0},{"$f":"'kros seznam'!KWX147","v":0},{"$f":"'kros seznam'!KWY147","v":0},{"$f":"'kros seznam'!KWZ147","v":0},{"$f":"'kros seznam'!KXA147","v":0},{"$f":"'kros seznam'!KXB147","v":0},{"$f":"'kros seznam'!KXC147","v":0},{"$f":"'kros seznam'!KXD147","v":0},{"$f":"'kros seznam'!KXE147","v":0},{"$f":"'kros seznam'!KXF147","v":0},{"$f":"'kros seznam'!KXG147","v":0},{"$f":"'kros seznam'!KXH147","v":0},{"$f":"'kros seznam'!KXI147","v":0},{"$f":"'kros seznam'!KXJ147","v":0},{"$f":"'kros seznam'!KXK147","v":0},{"$f":"'kros seznam'!KXL147","v":0},{"$f":"'kros seznam'!KXM147","v":0},{"$f":"'kros seznam'!KXN147","v":0},{"$f":"'kros seznam'!KXO147","v":0},{"$f":"'kros seznam'!KXP147","v":0},{"$f":"'kros seznam'!KXQ147","v":0},{"$f":"'kros seznam'!KXR147","v":0},{"$f":"'kros seznam'!KXS147","v":0},{"$f":"'kros seznam'!KXT147","v":0},{"$f":"'kros seznam'!KXU147","v":0},{"$f":"'kros seznam'!KXV147","v":0},{"$f":"'kros seznam'!KXW147","v":0},{"$f":"'kros seznam'!KXX147","v":0},{"$f":"'kros seznam'!KXY147","v":0},{"$f":"'kros seznam'!KXZ147","v":0},{"$f":"'kros seznam'!KYA147","v":0},{"$f":"'kros seznam'!KYB147","v":0},{"$f":"'kros seznam'!KYC147","v":0},{"$f":"'kros seznam'!KYD147","v":0},{"$f":"'kros seznam'!KYE147","v":0},{"$f":"'kros seznam'!KYF147","v":0},{"$f":"'kros seznam'!KYG147","v":0},{"$f":"'kros seznam'!KYH147","v":0},{"$f":"'kros seznam'!KYI147","v":0},{"$f":"'kros seznam'!KYJ147","v":0},{"$f":"'kros seznam'!KYK147","v":0},{"$f":"'kros seznam'!KYL147","v":0},{"$f":"'kros seznam'!KYM147","v":0},{"$f":"'kros seznam'!KYN147","v":0},{"$f":"'kros seznam'!KYO147","v":0},{"$f":"'kros seznam'!KYP147","v":0},{"$f":"'kros seznam'!KYQ147","v":0},{"$f":"'kros seznam'!KYR147","v":0},{"$f":"'kros seznam'!KYS147","v":0},{"$f":"'kros seznam'!KYT147","v":0},{"$f":"'kros seznam'!KYU147","v":0},{"$f":"'kros seznam'!KYV147","v":0},{"$f":"'kros seznam'!KYW147","v":0},{"$f":"'kros seznam'!KYX147","v":0},{"$f":"'kros seznam'!KYY147","v":0},{"$f":"'kros seznam'!KYZ147","v":0},{"$f":"'kros seznam'!KZA147","v":0},{"$f":"'kros seznam'!KZB147","v":0},{"$f":"'kros seznam'!KZC147","v":0},{"$f":"'kros seznam'!KZD147","v":0},{"$f":"'kros seznam'!KZE147","v":0},{"$f":"'kros seznam'!KZF147","v":0},{"$f":"'kros seznam'!KZG147","v":0},{"$f":"'kros seznam'!KZH147","v":0},{"$f":"'kros seznam'!KZI147","v":0},{"$f":"'kros seznam'!KZJ147","v":0},{"$f":"'kros seznam'!KZK147","v":0},{"$f":"'kros seznam'!KZL147","v":0},{"$f":"'kros seznam'!KZM147","v":0},{"$f":"'kros seznam'!KZN147","v":0},{"$f":"'kros seznam'!KZO147","v":0},{"$f":"'kros seznam'!KZP147","v":0},{"$f":"'kros seznam'!KZQ147","v":0},{"$f":"'kros seznam'!KZR147","v":0},{"$f":"'kros seznam'!KZS147","v":0},{"$f":"'kros seznam'!KZT147","v":0},{"$f":"'kros seznam'!KZU147","v":0},{"$f":"'kros seznam'!KZV147","v":0},{"$f":"'kros seznam'!KZW147","v":0},{"$f":"'kros seznam'!KZX147","v":0},{"$f":"'kros seznam'!KZY147","v":0},{"$f":"'kros seznam'!KZZ147","v":0},{"$f":"'kros seznam'!LAA147","v":0},{"$f":"'kros seznam'!LAB147","v":0},{"$f":"'kros seznam'!LAC147","v":0},{"$f":"'kros seznam'!LAD147","v":0},{"$f":"'kros seznam'!LAE147","v":0},{"$f":"'kros seznam'!LAF147","v":0},{"$f":"'kros seznam'!LAG147","v":0},{"$f":"'kros seznam'!LAH147","v":0},{"$f":"'kros seznam'!LAI147","v":0},{"$f":"'kros seznam'!LAJ147","v":0},{"$f":"'kros seznam'!LAK147","v":0},{"$f":"'kros seznam'!LAL147","v":0},{"$f":"'kros seznam'!LAM147","v":0},{"$f":"'kros seznam'!LAN147","v":0},{"$f":"'kros seznam'!LAO147","v":0},{"$f":"'kros seznam'!LAP147","v":0},{"$f":"'kros seznam'!LAQ147","v":0},{"$f":"'kros seznam'!LAR147","v":0},{"$f":"'kros seznam'!LAS147","v":0},{"$f":"'kros seznam'!LAT147","v":0},{"$f":"'kros seznam'!LAU147","v":0},{"$f":"'kros seznam'!LAV147","v":0},{"$f":"'kros seznam'!LAW147","v":0},{"$f":"'kros seznam'!LAX147","v":0},{"$f":"'kros seznam'!LAY147","v":0},{"$f":"'kros seznam'!LAZ147","v":0},{"$f":"'kros seznam'!LBA147","v":0},{"$f":"'kros seznam'!LBB147","v":0},{"$f":"'kros seznam'!LBC147","v":0},{"$f":"'kros seznam'!LBD147","v":0},{"$f":"'kros seznam'!LBE147","v":0},{"$f":"'kros seznam'!LBF147","v":0},{"$f":"'kros seznam'!LBG147","v":0},{"$f":"'kros seznam'!LBH147","v":0},{"$f":"'kros seznam'!LBI147","v":0},{"$f":"'kros seznam'!LBJ147","v":0},{"$f":"'kros seznam'!LBK147","v":0},{"$f":"'kros seznam'!LBL147","v":0},{"$f":"'kros seznam'!LBM147","v":0},{"$f":"'kros seznam'!LBN147","v":0},{"$f":"'kros seznam'!LBO147","v":0},{"$f":"'kros seznam'!LBP147","v":0},{"$f":"'kros seznam'!LBQ147","v":0},{"$f":"'kros seznam'!LBR147","v":0},{"$f":"'kros seznam'!LBS147","v":0},{"$f":"'kros seznam'!LBT147","v":0},{"$f":"'kros seznam'!LBU147","v":0},{"$f":"'kros seznam'!LBV147","v":0},{"$f":"'kros seznam'!LBW147","v":0},{"$f":"'kros seznam'!LBX147","v":0},{"$f":"'kros seznam'!LBY147","v":0},{"$f":"'kros seznam'!LBZ147","v":0},{"$f":"'kros seznam'!LCA147","v":0},{"$f":"'kros seznam'!LCB147","v":0},{"$f":"'kros seznam'!LCC147","v":0},{"$f":"'kros seznam'!LCD147","v":0},{"$f":"'kros seznam'!LCE147","v":0},{"$f":"'kros seznam'!LCF147","v":0},{"$f":"'kros seznam'!LCG147","v":0},{"$f":"'kros seznam'!LCH147","v":0},{"$f":"'kros seznam'!LCI147","v":0},{"$f":"'kros seznam'!LCJ147","v":0},{"$f":"'kros seznam'!LCK147","v":0},{"$f":"'kros seznam'!LCL147","v":0},{"$f":"'kros seznam'!LCM147","v":0},{"$f":"'kros seznam'!LCN147","v":0},{"$f":"'kros seznam'!LCO147","v":0},{"$f":"'kros seznam'!LCP147","v":0},{"$f":"'kros seznam'!LCQ147","v":0},{"$f":"'kros seznam'!LCR147","v":0},{"$f":"'kros seznam'!LCS147","v":0},{"$f":"'kros seznam'!LCT147","v":0},{"$f":"'kros seznam'!LCU147","v":0},{"$f":"'kros seznam'!LCV147","v":0},{"$f":"'kros seznam'!LCW147","v":0},{"$f":"'kros seznam'!LCX147","v":0},{"$f":"'kros seznam'!LCY147","v":0},{"$f":"'kros seznam'!LCZ147","v":0},{"$f":"'kros seznam'!LDA147","v":0},{"$f":"'kros seznam'!LDB147","v":0},{"$f":"'kros seznam'!LDC147","v":0},{"$f":"'kros seznam'!LDD147","v":0},{"$f":"'kros seznam'!LDE147","v":0},{"$f":"'kros seznam'!LDF147","v":0},{"$f":"'kros seznam'!LDG147","v":0},{"$f":"'kros seznam'!LDH147","v":0},{"$f":"'kros seznam'!LDI147","v":0},{"$f":"'kros seznam'!LDJ147","v":0},{"$f":"'kros seznam'!LDK147","v":0},{"$f":"'kros seznam'!LDL147","v":0},{"$f":"'kros seznam'!LDM147","v":0},{"$f":"'kros seznam'!LDN147","v":0},{"$f":"'kros seznam'!LDO147","v":0},{"$f":"'kros seznam'!LDP147","v":0},{"$f":"'kros seznam'!LDQ147","v":0},{"$f":"'kros seznam'!LDR147","v":0},{"$f":"'kros seznam'!LDS147","v":0},{"$f":"'kros seznam'!LDT147","v":0},{"$f":"'kros seznam'!LDU147","v":0},{"$f":"'kros seznam'!LDV147","v":0},{"$f":"'kros seznam'!LDW147","v":0},{"$f":"'kros seznam'!LDX147","v":0},{"$f":"'kros seznam'!LDY147","v":0},{"$f":"'kros seznam'!LDZ147","v":0},{"$f":"'kros seznam'!LEA147","v":0},{"$f":"'kros seznam'!LEB147","v":0},{"$f":"'kros seznam'!LEC147","v":0},{"$f":"'kros seznam'!LED147","v":0},{"$f":"'kros seznam'!LEE147","v":0},{"$f":"'kros seznam'!LEF147","v":0},{"$f":"'kros seznam'!LEG147","v":0},{"$f":"'kros seznam'!LEH147","v":0},{"$f":"'kros seznam'!LEI147","v":0},{"$f":"'kros seznam'!LEJ147","v":0},{"$f":"'kros seznam'!LEK147","v":0},{"$f":"'kros seznam'!LEL147","v":0},{"$f":"'kros seznam'!LEM147","v":0},{"$f":"'kros seznam'!LEN147","v":0},{"$f":"'kros seznam'!LEO147","v":0},{"$f":"'kros seznam'!LEP147","v":0},{"$f":"'kros seznam'!LEQ147","v":0},{"$f":"'kros seznam'!LER147","v":0},{"$f":"'kros seznam'!LES147","v":0},{"$f":"'kros seznam'!LET147","v":0},{"$f":"'kros seznam'!LEU147","v":0},{"$f":"'kros seznam'!LEV147","v":0},{"$f":"'kros seznam'!LEW147","v":0},{"$f":"'kros seznam'!LEX147","v":0},{"$f":"'kros seznam'!LEY147","v":0},{"$f":"'kros seznam'!LEZ147","v":0},{"$f":"'kros seznam'!LFA147","v":0},{"$f":"'kros seznam'!LFB147","v":0},{"$f":"'kros seznam'!LFC147","v":0},{"$f":"'kros seznam'!LFD147","v":0},{"$f":"'kros seznam'!LFE147","v":0},{"$f":"'kros seznam'!LFF147","v":0},{"$f":"'kros seznam'!LFG147","v":0},{"$f":"'kros seznam'!LFH147","v":0},{"$f":"'kros seznam'!LFI147","v":0},{"$f":"'kros seznam'!LFJ147","v":0},{"$f":"'kros seznam'!LFK147","v":0},{"$f":"'kros seznam'!LFL147","v":0},{"$f":"'kros seznam'!LFM147","v":0},{"$f":"'kros seznam'!LFN147","v":0},{"$f":"'kros seznam'!LFO147","v":0},{"$f":"'kros seznam'!LFP147","v":0},{"$f":"'kros seznam'!LFQ147","v":0},{"$f":"'kros seznam'!LFR147","v":0},{"$f":"'kros seznam'!LFS147","v":0},{"$f":"'kros seznam'!LFT147","v":0},{"$f":"'kros seznam'!LFU147","v":0},{"$f":"'kros seznam'!LFV147","v":0},{"$f":"'kros seznam'!LFW147","v":0},{"$f":"'kros seznam'!LFX147","v":0},{"$f":"'kros seznam'!LFY147","v":0},{"$f":"'kros seznam'!LFZ147","v":0},{"$f":"'kros seznam'!LGA147","v":0},{"$f":"'kros seznam'!LGB147","v":0},{"$f":"'kros seznam'!LGC147","v":0},{"$f":"'kros seznam'!LGD147","v":0},{"$f":"'kros seznam'!LGE147","v":0},{"$f":"'kros seznam'!LGF147","v":0},{"$f":"'kros seznam'!LGG147","v":0},{"$f":"'kros seznam'!LGH147","v":0},{"$f":"'kros seznam'!LGI147","v":0},{"$f":"'kros seznam'!LGJ147","v":0},{"$f":"'kros seznam'!LGK147","v":0},{"$f":"'kros seznam'!LGL147","v":0},{"$f":"'kros seznam'!LGM147","v":0},{"$f":"'kros seznam'!LGN147","v":0},{"$f":"'kros seznam'!LGO147","v":0},{"$f":"'kros seznam'!LGP147","v":0},{"$f":"'kros seznam'!LGQ147","v":0},{"$f":"'kros seznam'!LGR147","v":0},{"$f":"'kros seznam'!LGS147","v":0},{"$f":"'kros seznam'!LGT147","v":0},{"$f":"'kros seznam'!LGU147","v":0},{"$f":"'kros seznam'!LGV147","v":0},{"$f":"'kros seznam'!LGW147","v":0},{"$f":"'kros seznam'!LGX147","v":0},{"$f":"'kros seznam'!LGY147","v":0},{"$f":"'kros seznam'!LGZ147","v":0},{"$f":"'kros seznam'!LHA147","v":0},{"$f":"'kros seznam'!LHB147","v":0},{"$f":"'kros seznam'!LHC147","v":0},{"$f":"'kros seznam'!LHD147","v":0},{"$f":"'kros seznam'!LHE147","v":0},{"$f":"'kros seznam'!LHF147","v":0},{"$f":"'kros seznam'!LHG147","v":0},{"$f":"'kros seznam'!LHH147","v":0},{"$f":"'kros seznam'!LHI147","v":0},{"$f":"'kros seznam'!LHJ147","v":0},{"$f":"'kros seznam'!LHK147","v":0},{"$f":"'kros seznam'!LHL147","v":0},{"$f":"'kros seznam'!LHM147","v":0},{"$f":"'kros seznam'!LHN147","v":0},{"$f":"'kros seznam'!LHO147","v":0},{"$f":"'kros seznam'!LHP147","v":0},{"$f":"'kros seznam'!LHQ147","v":0},{"$f":"'kros seznam'!LHR147","v":0},{"$f":"'kros seznam'!LHS147","v":0},{"$f":"'kros seznam'!LHT147","v":0},{"$f":"'kros seznam'!LHU147","v":0},{"$f":"'kros seznam'!LHV147","v":0},{"$f":"'kros seznam'!LHW147","v":0},{"$f":"'kros seznam'!LHX147","v":0},{"$f":"'kros seznam'!LHY147","v":0},{"$f":"'kros seznam'!LHZ147","v":0},{"$f":"'kros seznam'!LIA147","v":0},{"$f":"'kros seznam'!LIB147","v":0},{"$f":"'kros seznam'!LIC147","v":0},{"$f":"'kros seznam'!LID147","v":0},{"$f":"'kros seznam'!LIE147","v":0},{"$f":"'kros seznam'!LIF147","v":0},{"$f":"'kros seznam'!LIG147","v":0},{"$f":"'kros seznam'!LIH147","v":0},{"$f":"'kros seznam'!LII147","v":0},{"$f":"'kros seznam'!LIJ147","v":0},{"$f":"'kros seznam'!LIK147","v":0},{"$f":"'kros seznam'!LIL147","v":0},{"$f":"'kros seznam'!LIM147","v":0},{"$f":"'kros seznam'!LIN147","v":0},{"$f":"'kros seznam'!LIO147","v":0},{"$f":"'kros seznam'!LIP147","v":0},{"$f":"'kros seznam'!LIQ147","v":0},{"$f":"'kros seznam'!LIR147","v":0},{"$f":"'kros seznam'!LIS147","v":0},{"$f":"'kros seznam'!LIT147","v":0},{"$f":"'kros seznam'!LIU147","v":0},{"$f":"'kros seznam'!LIV147","v":0},{"$f":"'kros seznam'!LIW147","v":0},{"$f":"'kros seznam'!LIX147","v":0},{"$f":"'kros seznam'!LIY147","v":0},{"$f":"'kros seznam'!LIZ147","v":0},{"$f":"'kros seznam'!LJA147","v":0},{"$f":"'kros seznam'!LJB147","v":0},{"$f":"'kros seznam'!LJC147","v":0},{"$f":"'kros seznam'!LJD147","v":0},{"$f":"'kros seznam'!LJE147","v":0},{"$f":"'kros seznam'!LJF147","v":0},{"$f":"'kros seznam'!LJG147","v":0},{"$f":"'kros seznam'!LJH147","v":0},{"$f":"'kros seznam'!LJI147","v":0},{"$f":"'kros seznam'!LJJ147","v":0},{"$f":"'kros seznam'!LJK147","v":0},{"$f":"'kros seznam'!LJL147","v":0},{"$f":"'kros seznam'!LJM147","v":0},{"$f":"'kros seznam'!LJN147","v":0},{"$f":"'kros seznam'!LJO147","v":0},{"$f":"'kros seznam'!LJP147","v":0},{"$f":"'kros seznam'!LJQ147","v":0},{"$f":"'kros seznam'!LJR147","v":0},{"$f":"'kros seznam'!LJS147","v":0},{"$f":"'kros seznam'!LJT147","v":0},{"$f":"'kros seznam'!LJU147","v":0},{"$f":"'kros seznam'!LJV147","v":0},{"$f":"'kros seznam'!LJW147","v":0},{"$f":"'kros seznam'!LJX147","v":0},{"$f":"'kros seznam'!LJY147","v":0},{"$f":"'kros seznam'!LJZ147","v":0},{"$f":"'kros seznam'!LKA147","v":0},{"$f":"'kros seznam'!LKB147","v":0},{"$f":"'kros seznam'!LKC147","v":0},{"$f":"'kros seznam'!LKD147","v":0},{"$f":"'kros seznam'!LKE147","v":0},{"$f":"'kros seznam'!LKF147","v":0},{"$f":"'kros seznam'!LKG147","v":0},{"$f":"'kros seznam'!LKH147","v":0},{"$f":"'kros seznam'!LKI147","v":0},{"$f":"'kros seznam'!LKJ147","v":0},{"$f":"'kros seznam'!LKK147","v":0},{"$f":"'kros seznam'!LKL147","v":0},{"$f":"'kros seznam'!LKM147","v":0},{"$f":"'kros seznam'!LKN147","v":0},{"$f":"'kros seznam'!LKO147","v":0},{"$f":"'kros seznam'!LKP147","v":0},{"$f":"'kros seznam'!LKQ147","v":0},{"$f":"'kros seznam'!LKR147","v":0},{"$f":"'kros seznam'!LKS147","v":0},{"$f":"'kros seznam'!LKT147","v":0},{"$f":"'kros seznam'!LKU147","v":0},{"$f":"'kros seznam'!LKV147","v":0},{"$f":"'kros seznam'!LKW147","v":0},{"$f":"'kros seznam'!LKX147","v":0},{"$f":"'kros seznam'!LKY147","v":0},{"$f":"'kros seznam'!LKZ147","v":0},{"$f":"'kros seznam'!LLA147","v":0},{"$f":"'kros seznam'!LLB147","v":0},{"$f":"'kros seznam'!LLC147","v":0},{"$f":"'kros seznam'!LLD147","v":0},{"$f":"'kros seznam'!LLE147","v":0},{"$f":"'kros seznam'!LLF147","v":0},{"$f":"'kros seznam'!LLG147","v":0},{"$f":"'kros seznam'!LLH147","v":0},{"$f":"'kros seznam'!LLI147","v":0},{"$f":"'kros seznam'!LLJ147","v":0},{"$f":"'kros seznam'!LLK147","v":0},{"$f":"'kros seznam'!LLL147","v":0},{"$f":"'kros seznam'!LLM147","v":0},{"$f":"'kros seznam'!LLN147","v":0},{"$f":"'kros seznam'!LLO147","v":0},{"$f":"'kros seznam'!LLP147","v":0},{"$f":"'kros seznam'!LLQ147","v":0},{"$f":"'kros seznam'!LLR147","v":0},{"$f":"'kros seznam'!LLS147","v":0},{"$f":"'kros seznam'!LLT147","v":0},{"$f":"'kros seznam'!LLU147","v":0},{"$f":"'kros seznam'!LLV147","v":0},{"$f":"'kros seznam'!LLW147","v":0},{"$f":"'kros seznam'!LLX147","v":0},{"$f":"'kros seznam'!LLY147","v":0},{"$f":"'kros seznam'!LLZ147","v":0},{"$f":"'kros seznam'!LMA147","v":0},{"$f":"'kros seznam'!LMB147","v":0},{"$f":"'kros seznam'!LMC147","v":0},{"$f":"'kros seznam'!LMD147","v":0},{"$f":"'kros seznam'!LME147","v":0},{"$f":"'kros seznam'!LMF147","v":0},{"$f":"'kros seznam'!LMG147","v":0},{"$f":"'kros seznam'!LMH147","v":0},{"$f":"'kros seznam'!LMI147","v":0},{"$f":"'kros seznam'!LMJ147","v":0},{"$f":"'kros seznam'!LMK147","v":0},{"$f":"'kros seznam'!LML147","v":0},{"$f":"'kros seznam'!LMM147","v":0},{"$f":"'kros seznam'!LMN147","v":0},{"$f":"'kros seznam'!LMO147","v":0},{"$f":"'kros seznam'!LMP147","v":0},{"$f":"'kros seznam'!LMQ147","v":0},{"$f":"'kros seznam'!LMR147","v":0},{"$f":"'kros seznam'!LMS147","v":0},{"$f":"'kros seznam'!LMT147","v":0},{"$f":"'kros seznam'!LMU147","v":0},{"$f":"'kros seznam'!LMV147","v":0},{"$f":"'kros seznam'!LMW147","v":0},{"$f":"'kros seznam'!LMX147","v":0},{"$f":"'kros seznam'!LMY147","v":0},{"$f":"'kros seznam'!LMZ147","v":0},{"$f":"'kros seznam'!LNA147","v":0},{"$f":"'kros seznam'!LNB147","v":0},{"$f":"'kros seznam'!LNC147","v":0},{"$f":"'kros seznam'!LND147","v":0},{"$f":"'kros seznam'!LNE147","v":0},{"$f":"'kros seznam'!LNF147","v":0},{"$f":"'kros seznam'!LNG147","v":0},{"$f":"'kros seznam'!LNH147","v":0},{"$f":"'kros seznam'!LNI147","v":0},{"$f":"'kros seznam'!LNJ147","v":0},{"$f":"'kros seznam'!LNK147","v":0},{"$f":"'kros seznam'!LNL147","v":0},{"$f":"'kros seznam'!LNM147","v":0},{"$f":"'kros seznam'!LNN147","v":0},{"$f":"'kros seznam'!LNO147","v":0},{"$f":"'kros seznam'!LNP147","v":0},{"$f":"'kros seznam'!LNQ147","v":0},{"$f":"'kros seznam'!LNR147","v":0},{"$f":"'kros seznam'!LNS147","v":0},{"$f":"'kros seznam'!LNT147","v":0},{"$f":"'kros seznam'!LNU147","v":0},{"$f":"'kros seznam'!LNV147","v":0},{"$f":"'kros seznam'!LNW147","v":0},{"$f":"'kros seznam'!LNX147","v":0},{"$f":"'kros seznam'!LNY147","v":0},{"$f":"'kros seznam'!LNZ147","v":0},{"$f":"'kros seznam'!LOA147","v":0},{"$f":"'kros seznam'!LOB147","v":0},{"$f":"'kros seznam'!LOC147","v":0},{"$f":"'kros seznam'!LOD147","v":0},{"$f":"'kros seznam'!LOE147","v":0},{"$f":"'kros seznam'!LOF147","v":0},{"$f":"'kros seznam'!LOG147","v":0},{"$f":"'kros seznam'!LOH147","v":0},{"$f":"'kros seznam'!LOI147","v":0},{"$f":"'kros seznam'!LOJ147","v":0},{"$f":"'kros seznam'!LOK147","v":0},{"$f":"'kros seznam'!LOL147","v":0},{"$f":"'kros seznam'!LOM147","v":0},{"$f":"'kros seznam'!LON147","v":0},{"$f":"'kros seznam'!LOO147","v":0},{"$f":"'kros seznam'!LOP147","v":0},{"$f":"'kros seznam'!LOQ147","v":0},{"$f":"'kros seznam'!LOR147","v":0},{"$f":"'kros seznam'!LOS147","v":0},{"$f":"'kros seznam'!LOT147","v":0},{"$f":"'kros seznam'!LOU147","v":0},{"$f":"'kros seznam'!LOV147","v":0},{"$f":"'kros seznam'!LOW147","v":0},{"$f":"'kros seznam'!LOX147","v":0},{"$f":"'kros seznam'!LOY147","v":0},{"$f":"'kros seznam'!LOZ147","v":0},{"$f":"'kros seznam'!LPA147","v":0},{"$f":"'kros seznam'!LPB147","v":0},{"$f":"'kros seznam'!LPC147","v":0},{"$f":"'kros seznam'!LPD147","v":0},{"$f":"'kros seznam'!LPE147","v":0},{"$f":"'kros seznam'!LPF147","v":0},{"$f":"'kros seznam'!LPG147","v":0},{"$f":"'kros seznam'!LPH147","v":0},{"$f":"'kros seznam'!LPI147","v":0},{"$f":"'kros seznam'!LPJ147","v":0},{"$f":"'kros seznam'!LPK147","v":0},{"$f":"'kros seznam'!LPL147","v":0},{"$f":"'kros seznam'!LPM147","v":0},{"$f":"'kros seznam'!LPN147","v":0},{"$f":"'kros seznam'!LPO147","v":0},{"$f":"'kros seznam'!LPP147","v":0},{"$f":"'kros seznam'!LPQ147","v":0},{"$f":"'kros seznam'!LPR147","v":0},{"$f":"'kros seznam'!LPS147","v":0},{"$f":"'kros seznam'!LPT147","v":0},{"$f":"'kros seznam'!LPU147","v":0},{"$f":"'kros seznam'!LPV147","v":0},{"$f":"'kros seznam'!LPW147","v":0},{"$f":"'kros seznam'!LPX147","v":0},{"$f":"'kros seznam'!LPY147","v":0},{"$f":"'kros seznam'!LPZ147","v":0},{"$f":"'kros seznam'!LQA147","v":0},{"$f":"'kros seznam'!LQB147","v":0},{"$f":"'kros seznam'!LQC147","v":0},{"$f":"'kros seznam'!LQD147","v":0},{"$f":"'kros seznam'!LQE147","v":0},{"$f":"'kros seznam'!LQF147","v":0},{"$f":"'kros seznam'!LQG147","v":0},{"$f":"'kros seznam'!LQH147","v":0},{"$f":"'kros seznam'!LQI147","v":0},{"$f":"'kros seznam'!LQJ147","v":0},{"$f":"'kros seznam'!LQK147","v":0},{"$f":"'kros seznam'!LQL147","v":0},{"$f":"'kros seznam'!LQM147","v":0},{"$f":"'kros seznam'!LQN147","v":0},{"$f":"'kros seznam'!LQO147","v":0},{"$f":"'kros seznam'!LQP147","v":0},{"$f":"'kros seznam'!LQQ147","v":0},{"$f":"'kros seznam'!LQR147","v":0},{"$f":"'kros seznam'!LQS147","v":0},{"$f":"'kros seznam'!LQT147","v":0},{"$f":"'kros seznam'!LQU147","v":0},{"$f":"'kros seznam'!LQV147","v":0},{"$f":"'kros seznam'!LQW147","v":0},{"$f":"'kros seznam'!LQX147","v":0},{"$f":"'kros seznam'!LQY147","v":0},{"$f":"'kros seznam'!LQZ147","v":0},{"$f":"'kros seznam'!LRA147","v":0},{"$f":"'kros seznam'!LRB147","v":0},{"$f":"'kros seznam'!LRC147","v":0},{"$f":"'kros seznam'!LRD147","v":0},{"$f":"'kros seznam'!LRE147","v":0},{"$f":"'kros seznam'!LRF147","v":0},{"$f":"'kros seznam'!LRG147","v":0},{"$f":"'kros seznam'!LRH147","v":0},{"$f":"'kros seznam'!LRI147","v":0},{"$f":"'kros seznam'!LRJ147","v":0},{"$f":"'kros seznam'!LRK147","v":0},{"$f":"'kros seznam'!LRL147","v":0},{"$f":"'kros seznam'!LRM147","v":0},{"$f":"'kros seznam'!LRN147","v":0},{"$f":"'kros seznam'!LRO147","v":0},{"$f":"'kros seznam'!LRP147","v":0},{"$f":"'kros seznam'!LRQ147","v":0},{"$f":"'kros seznam'!LRR147","v":0},{"$f":"'kros seznam'!LRS147","v":0},{"$f":"'kros seznam'!LRT147","v":0},{"$f":"'kros seznam'!LRU147","v":0},{"$f":"'kros seznam'!LRV147","v":0},{"$f":"'kros seznam'!LRW147","v":0},{"$f":"'kros seznam'!LRX147","v":0},{"$f":"'kros seznam'!LRY147","v":0},{"$f":"'kros seznam'!LRZ147","v":0},{"$f":"'kros seznam'!LSA147","v":0},{"$f":"'kros seznam'!LSB147","v":0},{"$f":"'kros seznam'!LSC147","v":0},{"$f":"'kros seznam'!LSD147","v":0},{"$f":"'kros seznam'!LSE147","v":0},{"$f":"'kros seznam'!LSF147","v":0},{"$f":"'kros seznam'!LSG147","v":0},{"$f":"'kros seznam'!LSH147","v":0},{"$f":"'kros seznam'!LSI147","v":0},{"$f":"'kros seznam'!LSJ147","v":0},{"$f":"'kros seznam'!LSK147","v":0},{"$f":"'kros seznam'!LSL147","v":0},{"$f":"'kros seznam'!LSM147","v":0},{"$f":"'kros seznam'!LSN147","v":0},{"$f":"'kros seznam'!LSO147","v":0},{"$f":"'kros seznam'!LSP147","v":0},{"$f":"'kros seznam'!LSQ147","v":0},{"$f":"'kros seznam'!LSR147","v":0},{"$f":"'kros seznam'!LSS147","v":0},{"$f":"'kros seznam'!LST147","v":0},{"$f":"'kros seznam'!LSU147","v":0},{"$f":"'kros seznam'!LSV147","v":0},{"$f":"'kros seznam'!LSW147","v":0},{"$f":"'kros seznam'!LSX147","v":0},{"$f":"'kros seznam'!LSY147","v":0},{"$f":"'kros seznam'!LSZ147","v":0},{"$f":"'kros seznam'!LTA147","v":0},{"$f":"'kros seznam'!LTB147","v":0},{"$f":"'kros seznam'!LTC147","v":0},{"$f":"'kros seznam'!LTD147","v":0},{"$f":"'kros seznam'!LTE147","v":0},{"$f":"'kros seznam'!LTF147","v":0},{"$f":"'kros seznam'!LTG147","v":0},{"$f":"'kros seznam'!LTH147","v":0},{"$f":"'kros seznam'!LTI147","v":0},{"$f":"'kros seznam'!LTJ147","v":0},{"$f":"'kros seznam'!LTK147","v":0},{"$f":"'kros seznam'!LTL147","v":0},{"$f":"'kros seznam'!LTM147","v":0},{"$f":"'kros seznam'!LTN147","v":0},{"$f":"'kros seznam'!LTO147","v":0},{"$f":"'kros seznam'!LTP147","v":0},{"$f":"'kros seznam'!LTQ147","v":0},{"$f":"'kros seznam'!LTR147","v":0},{"$f":"'kros seznam'!LTS147","v":0},{"$f":"'kros seznam'!LTT147","v":0},{"$f":"'kros seznam'!LTU147","v":0},{"$f":"'kros seznam'!LTV147","v":0},{"$f":"'kros seznam'!LTW147","v":0},{"$f":"'kros seznam'!LTX147","v":0},{"$f":"'kros seznam'!LTY147","v":0},{"$f":"'kros seznam'!LTZ147","v":0},{"$f":"'kros seznam'!LUA147","v":0},{"$f":"'kros seznam'!LUB147","v":0},{"$f":"'kros seznam'!LUC147","v":0},{"$f":"'kros seznam'!LUD147","v":0},{"$f":"'kros seznam'!LUE147","v":0},{"$f":"'kros seznam'!LUF147","v":0},{"$f":"'kros seznam'!LUG147","v":0},{"$f":"'kros seznam'!LUH147","v":0},{"$f":"'kros seznam'!LUI147","v":0},{"$f":"'kros seznam'!LUJ147","v":0},{"$f":"'kros seznam'!LUK147","v":0},{"$f":"'kros seznam'!LUL147","v":0},{"$f":"'kros seznam'!LUM147","v":0},{"$f":"'kros seznam'!LUN147","v":0},{"$f":"'kros seznam'!LUO147","v":0},{"$f":"'kros seznam'!LUP147","v":0},{"$f":"'kros seznam'!LUQ147","v":0},{"$f":"'kros seznam'!LUR147","v":0},{"$f":"'kros seznam'!LUS147","v":0},{"$f":"'kros seznam'!LUT147","v":0},{"$f":"'kros seznam'!LUU147","v":0},{"$f":"'kros seznam'!LUV147","v":0},{"$f":"'kros seznam'!LUW147","v":0},{"$f":"'kros seznam'!LUX147","v":0},{"$f":"'kros seznam'!LUY147","v":0},{"$f":"'kros seznam'!LUZ147","v":0},{"$f":"'kros seznam'!LVA147","v":0},{"$f":"'kros seznam'!LVB147","v":0},{"$f":"'kros seznam'!LVC147","v":0},{"$f":"'kros seznam'!LVD147","v":0},{"$f":"'kros seznam'!LVE147","v":0},{"$f":"'kros seznam'!LVF147","v":0},{"$f":"'kros seznam'!LVG147","v":0},{"$f":"'kros seznam'!LVH147","v":0},{"$f":"'kros seznam'!LVI147","v":0},{"$f":"'kros seznam'!LVJ147","v":0},{"$f":"'kros seznam'!LVK147","v":0},{"$f":"'kros seznam'!LVL147","v":0},{"$f":"'kros seznam'!LVM147","v":0},{"$f":"'kros seznam'!LVN147","v":0},{"$f":"'kros seznam'!LVO147","v":0},{"$f":"'kros seznam'!LVP147","v":0},{"$f":"'kros seznam'!LVQ147","v":0},{"$f":"'kros seznam'!LVR147","v":0},{"$f":"'kros seznam'!LVS147","v":0},{"$f":"'kros seznam'!LVT147","v":0},{"$f":"'kros seznam'!LVU147","v":0},{"$f":"'kros seznam'!LVV147","v":0},{"$f":"'kros seznam'!LVW147","v":0},{"$f":"'kros seznam'!LVX147","v":0},{"$f":"'kros seznam'!LVY147","v":0},{"$f":"'kros seznam'!LVZ147","v":0},{"$f":"'kros seznam'!LWA147","v":0},{"$f":"'kros seznam'!LWB147","v":0},{"$f":"'kros seznam'!LWC147","v":0},{"$f":"'kros seznam'!LWD147","v":0},{"$f":"'kros seznam'!LWE147","v":0},{"$f":"'kros seznam'!LWF147","v":0},{"$f":"'kros seznam'!LWG147","v":0},{"$f":"'kros seznam'!LWH147","v":0},{"$f":"'kros seznam'!LWI147","v":0},{"$f":"'kros seznam'!LWJ147","v":0},{"$f":"'kros seznam'!LWK147","v":0},{"$f":"'kros seznam'!LWL147","v":0},{"$f":"'kros seznam'!LWM147","v":0},{"$f":"'kros seznam'!LWN147","v":0},{"$f":"'kros seznam'!LWO147","v":0},{"$f":"'kros seznam'!LWP147","v":0},{"$f":"'kros seznam'!LWQ147","v":0},{"$f":"'kros seznam'!LWR147","v":0},{"$f":"'kros seznam'!LWS147","v":0},{"$f":"'kros seznam'!LWT147","v":0},{"$f":"'kros seznam'!LWU147","v":0},{"$f":"'kros seznam'!LWV147","v":0},{"$f":"'kros seznam'!LWW147","v":0},{"$f":"'kros seznam'!LWX147","v":0},{"$f":"'kros seznam'!LWY147","v":0},{"$f":"'kros seznam'!LWZ147","v":0},{"$f":"'kros seznam'!LXA147","v":0},{"$f":"'kros seznam'!LXB147","v":0},{"$f":"'kros seznam'!LXC147","v":0},{"$f":"'kros seznam'!LXD147","v":0},{"$f":"'kros seznam'!LXE147","v":0},{"$f":"'kros seznam'!LXF147","v":0},{"$f":"'kros seznam'!LXG147","v":0},{"$f":"'kros seznam'!LXH147","v":0},{"$f":"'kros seznam'!LXI147","v":0},{"$f":"'kros seznam'!LXJ147","v":0},{"$f":"'kros seznam'!LXK147","v":0},{"$f":"'kros seznam'!LXL147","v":0},{"$f":"'kros seznam'!LXM147","v":0},{"$f":"'kros seznam'!LXN147","v":0},{"$f":"'kros seznam'!LXO147","v":0},{"$f":"'kros seznam'!LXP147","v":0},{"$f":"'kros seznam'!LXQ147","v":0},{"$f":"'kros seznam'!LXR147","v":0},{"$f":"'kros seznam'!LXS147","v":0},{"$f":"'kros seznam'!LXT147","v":0},{"$f":"'kros seznam'!LXU147","v":0},{"$f":"'kros seznam'!LXV147","v":0},{"$f":"'kros seznam'!LXW147","v":0},{"$f":"'kros seznam'!LXX147","v":0},{"$f":"'kros seznam'!LXY147","v":0},{"$f":"'kros seznam'!LXZ147","v":0},{"$f":"'kros seznam'!LYA147","v":0},{"$f":"'kros seznam'!LYB147","v":0},{"$f":"'kros seznam'!LYC147","v":0},{"$f":"'kros seznam'!LYD147","v":0},{"$f":"'kros seznam'!LYE147","v":0},{"$f":"'kros seznam'!LYF147","v":0},{"$f":"'kros seznam'!LYG147","v":0},{"$f":"'kros seznam'!LYH147","v":0},{"$f":"'kros seznam'!LYI147","v":0},{"$f":"'kros seznam'!LYJ147","v":0},{"$f":"'kros seznam'!LYK147","v":0},{"$f":"'kros seznam'!LYL147","v":0},{"$f":"'kros seznam'!LYM147","v":0},{"$f":"'kros seznam'!LYN147","v":0},{"$f":"'kros seznam'!LYO147","v":0},{"$f":"'kros seznam'!LYP147","v":0},{"$f":"'kros seznam'!LYQ147","v":0},{"$f":"'kros seznam'!LYR147","v":0},{"$f":"'kros seznam'!LYS147","v":0},{"$f":"'kros seznam'!LYT147","v":0},{"$f":"'kros seznam'!LYU147","v":0},{"$f":"'kros seznam'!LYV147","v":0},{"$f":"'kros seznam'!LYW147","v":0},{"$f":"'kros seznam'!LYX147","v":0},{"$f":"'kros seznam'!LYY147","v":0},{"$f":"'kros seznam'!LYZ147","v":0},{"$f":"'kros seznam'!LZA147","v":0},{"$f":"'kros seznam'!LZB147","v":0},{"$f":"'kros seznam'!LZC147","v":0},{"$f":"'kros seznam'!LZD147","v":0},{"$f":"'kros seznam'!LZE147","v":0},{"$f":"'kros seznam'!LZF147","v":0},{"$f":"'kros seznam'!LZG147","v":0},{"$f":"'kros seznam'!LZH147","v":0},{"$f":"'kros seznam'!LZI147","v":0},{"$f":"'kros seznam'!LZJ147","v":0},{"$f":"'kros seznam'!LZK147","v":0},{"$f":"'kros seznam'!LZL147","v":0},{"$f":"'kros seznam'!LZM147","v":0},{"$f":"'kros seznam'!LZN147","v":0},{"$f":"'kros seznam'!LZO147","v":0},{"$f":"'kros seznam'!LZP147","v":0},{"$f":"'kros seznam'!LZQ147","v":0},{"$f":"'kros seznam'!LZR147","v":0},{"$f":"'kros seznam'!LZS147","v":0},{"$f":"'kros seznam'!LZT147","v":0},{"$f":"'kros seznam'!LZU147","v":0},{"$f":"'kros seznam'!LZV147","v":0},{"$f":"'kros seznam'!LZW147","v":0},{"$f":"'kros seznam'!LZX147","v":0},{"$f":"'kros seznam'!LZY147","v":0},{"$f":"'kros seznam'!LZZ147","v":0},{"$f":"'kros seznam'!MAA147","v":0},{"$f":"'kros seznam'!MAB147","v":0},{"$f":"'kros seznam'!MAC147","v":0},{"$f":"'kros seznam'!MAD147","v":0},{"$f":"'kros seznam'!MAE147","v":0},{"$f":"'kros seznam'!MAF147","v":0},{"$f":"'kros seznam'!MAG147","v":0},{"$f":"'kros seznam'!MAH147","v":0},{"$f":"'kros seznam'!MAI147","v":0},{"$f":"'kros seznam'!MAJ147","v":0},{"$f":"'kros seznam'!MAK147","v":0},{"$f":"'kros seznam'!MAL147","v":0},{"$f":"'kros seznam'!MAM147","v":0},{"$f":"'kros seznam'!MAN147","v":0},{"$f":"'kros seznam'!MAO147","v":0},{"$f":"'kros seznam'!MAP147","v":0},{"$f":"'kros seznam'!MAQ147","v":0},{"$f":"'kros seznam'!MAR147","v":0},{"$f":"'kros seznam'!MAS147","v":0},{"$f":"'kros seznam'!MAT147","v":0},{"$f":"'kros seznam'!MAU147","v":0},{"$f":"'kros seznam'!MAV147","v":0},{"$f":"'kros seznam'!MAW147","v":0},{"$f":"'kros seznam'!MAX147","v":0},{"$f":"'kros seznam'!MAY147","v":0},{"$f":"'kros seznam'!MAZ147","v":0},{"$f":"'kros seznam'!MBA147","v":0},{"$f":"'kros seznam'!MBB147","v":0},{"$f":"'kros seznam'!MBC147","v":0},{"$f":"'kros seznam'!MBD147","v":0},{"$f":"'kros seznam'!MBE147","v":0},{"$f":"'kros seznam'!MBF147","v":0},{"$f":"'kros seznam'!MBG147","v":0},{"$f":"'kros seznam'!MBH147","v":0},{"$f":"'kros seznam'!MBI147","v":0},{"$f":"'kros seznam'!MBJ147","v":0},{"$f":"'kros seznam'!MBK147","v":0},{"$f":"'kros seznam'!MBL147","v":0},{"$f":"'kros seznam'!MBM147","v":0},{"$f":"'kros seznam'!MBN147","v":0},{"$f":"'kros seznam'!MBO147","v":0},{"$f":"'kros seznam'!MBP147","v":0},{"$f":"'kros seznam'!MBQ147","v":0},{"$f":"'kros seznam'!MBR147","v":0},{"$f":"'kros seznam'!MBS147","v":0},{"$f":"'kros seznam'!MBT147","v":0},{"$f":"'kros seznam'!MBU147","v":0},{"$f":"'kros seznam'!MBV147","v":0},{"$f":"'kros seznam'!MBW147","v":0},{"$f":"'kros seznam'!MBX147","v":0},{"$f":"'kros seznam'!MBY147","v":0},{"$f":"'kros seznam'!MBZ147","v":0},{"$f":"'kros seznam'!MCA147","v":0},{"$f":"'kros seznam'!MCB147","v":0},{"$f":"'kros seznam'!MCC147","v":0},{"$f":"'kros seznam'!MCD147","v":0},{"$f":"'kros seznam'!MCE147","v":0},{"$f":"'kros seznam'!MCF147","v":0},{"$f":"'kros seznam'!MCG147","v":0},{"$f":"'kros seznam'!MCH147","v":0},{"$f":"'kros seznam'!MCI147","v":0},{"$f":"'kros seznam'!MCJ147","v":0},{"$f":"'kros seznam'!MCK147","v":0},{"$f":"'kros seznam'!MCL147","v":0},{"$f":"'kros seznam'!MCM147","v":0},{"$f":"'kros seznam'!MCN147","v":0},{"$f":"'kros seznam'!MCO147","v":0},{"$f":"'kros seznam'!MCP147","v":0},{"$f":"'kros seznam'!MCQ147","v":0},{"$f":"'kros seznam'!MCR147","v":0},{"$f":"'kros seznam'!MCS147","v":0},{"$f":"'kros seznam'!MCT147","v":0},{"$f":"'kros seznam'!MCU147","v":0},{"$f":"'kros seznam'!MCV147","v":0},{"$f":"'kros seznam'!MCW147","v":0},{"$f":"'kros seznam'!MCX147","v":0},{"$f":"'kros seznam'!MCY147","v":0},{"$f":"'kros seznam'!MCZ147","v":0},{"$f":"'kros seznam'!MDA147","v":0},{"$f":"'kros seznam'!MDB147","v":0},{"$f":"'kros seznam'!MDC147","v":0},{"$f":"'kros seznam'!MDD147","v":0},{"$f":"'kros seznam'!MDE147","v":0},{"$f":"'kros seznam'!MDF147","v":0},{"$f":"'kros seznam'!MDG147","v":0},{"$f":"'kros seznam'!MDH147","v":0},{"$f":"'kros seznam'!MDI147","v":0},{"$f":"'kros seznam'!MDJ147","v":0},{"$f":"'kros seznam'!MDK147","v":0},{"$f":"'kros seznam'!MDL147","v":0},{"$f":"'kros seznam'!MDM147","v":0},{"$f":"'kros seznam'!MDN147","v":0},{"$f":"'kros seznam'!MDO147","v":0},{"$f":"'kros seznam'!MDP147","v":0},{"$f":"'kros seznam'!MDQ147","v":0},{"$f":"'kros seznam'!MDR147","v":0},{"$f":"'kros seznam'!MDS147","v":0},{"$f":"'kros seznam'!MDT147","v":0},{"$f":"'kros seznam'!MDU147","v":0},{"$f":"'kros seznam'!MDV147","v":0},{"$f":"'kros seznam'!MDW147","v":0},{"$f":"'kros seznam'!MDX147","v":0},{"$f":"'kros seznam'!MDY147","v":0},{"$f":"'kros seznam'!MDZ147","v":0},{"$f":"'kros seznam'!MEA147","v":0},{"$f":"'kros seznam'!MEB147","v":0},{"$f":"'kros seznam'!MEC147","v":0},{"$f":"'kros seznam'!MED147","v":0},{"$f":"'kros seznam'!MEE147","v":0},{"$f":"'kros seznam'!MEF147","v":0},{"$f":"'kros seznam'!MEG147","v":0},{"$f":"'kros seznam'!MEH147","v":0},{"$f":"'kros seznam'!MEI147","v":0},{"$f":"'kros seznam'!MEJ147","v":0},{"$f":"'kros seznam'!MEK147","v":0},{"$f":"'kros seznam'!MEL147","v":0},{"$f":"'kros seznam'!MEM147","v":0},{"$f":"'kros seznam'!MEN147","v":0},{"$f":"'kros seznam'!MEO147","v":0},{"$f":"'kros seznam'!MEP147","v":0},{"$f":"'kros seznam'!MEQ147","v":0},{"$f":"'kros seznam'!MER147","v":0},{"$f":"'kros seznam'!MES147","v":0},{"$f":"'kros seznam'!MET147","v":0},{"$f":"'kros seznam'!MEU147","v":0},{"$f":"'kros seznam'!MEV147","v":0},{"$f":"'kros seznam'!MEW147","v":0},{"$f":"'kros seznam'!MEX147","v":0},{"$f":"'kros seznam'!MEY147","v":0},{"$f":"'kros seznam'!MEZ147","v":0},{"$f":"'kros seznam'!MFA147","v":0},{"$f":"'kros seznam'!MFB147","v":0},{"$f":"'kros seznam'!MFC147","v":0},{"$f":"'kros seznam'!MFD147","v":0},{"$f":"'kros seznam'!MFE147","v":0},{"$f":"'kros seznam'!MFF147","v":0},{"$f":"'kros seznam'!MFG147","v":0},{"$f":"'kros seznam'!MFH147","v":0},{"$f":"'kros seznam'!MFI147","v":0},{"$f":"'kros seznam'!MFJ147","v":0},{"$f":"'kros seznam'!MFK147","v":0},{"$f":"'kros seznam'!MFL147","v":0},{"$f":"'kros seznam'!MFM147","v":0},{"$f":"'kros seznam'!MFN147","v":0},{"$f":"'kros seznam'!MFO147","v":0},{"$f":"'kros seznam'!MFP147","v":0},{"$f":"'kros seznam'!MFQ147","v":0},{"$f":"'kros seznam'!MFR147","v":0},{"$f":"'kros seznam'!MFS147","v":0},{"$f":"'kros seznam'!MFT147","v":0},{"$f":"'kros seznam'!MFU147","v":0},{"$f":"'kros seznam'!MFV147","v":0},{"$f":"'kros seznam'!MFW147","v":0},{"$f":"'kros seznam'!MFX147","v":0},{"$f":"'kros seznam'!MFY147","v":0},{"$f":"'kros seznam'!MFZ147","v":0},{"$f":"'kros seznam'!MGA147","v":0},{"$f":"'kros seznam'!MGB147","v":0},{"$f":"'kros seznam'!MGC147","v":0},{"$f":"'kros seznam'!MGD147","v":0},{"$f":"'kros seznam'!MGE147","v":0},{"$f":"'kros seznam'!MGF147","v":0},{"$f":"'kros seznam'!MGG147","v":0},{"$f":"'kros seznam'!MGH147","v":0},{"$f":"'kros seznam'!MGI147","v":0},{"$f":"'kros seznam'!MGJ147","v":0},{"$f":"'kros seznam'!MGK147","v":0},{"$f":"'kros seznam'!MGL147","v":0},{"$f":"'kros seznam'!MGM147","v":0},{"$f":"'kros seznam'!MGN147","v":0},{"$f":"'kros seznam'!MGO147","v":0},{"$f":"'kros seznam'!MGP147","v":0},{"$f":"'kros seznam'!MGQ147","v":0},{"$f":"'kros seznam'!MGR147","v":0},{"$f":"'kros seznam'!MGS147","v":0},{"$f":"'kros seznam'!MGT147","v":0},{"$f":"'kros seznam'!MGU147","v":0},{"$f":"'kros seznam'!MGV147","v":0},{"$f":"'kros seznam'!MGW147","v":0},{"$f":"'kros seznam'!MGX147","v":0},{"$f":"'kros seznam'!MGY147","v":0},{"$f":"'kros seznam'!MGZ147","v":0},{"$f":"'kros seznam'!MHA147","v":0},{"$f":"'kros seznam'!MHB147","v":0},{"$f":"'kros seznam'!MHC147","v":0},{"$f":"'kros seznam'!MHD147","v":0},{"$f":"'kros seznam'!MHE147","v":0},{"$f":"'kros seznam'!MHF147","v":0},{"$f":"'kros seznam'!MHG147","v":0},{"$f":"'kros seznam'!MHH147","v":0},{"$f":"'kros seznam'!MHI147","v":0},{"$f":"'kros seznam'!MHJ147","v":0},{"$f":"'kros seznam'!MHK147","v":0},{"$f":"'kros seznam'!MHL147","v":0},{"$f":"'kros seznam'!MHM147","v":0},{"$f":"'kros seznam'!MHN147","v":0},{"$f":"'kros seznam'!MHO147","v":0},{"$f":"'kros seznam'!MHP147","v":0},{"$f":"'kros seznam'!MHQ147","v":0},{"$f":"'kros seznam'!MHR147","v":0},{"$f":"'kros seznam'!MHS147","v":0},{"$f":"'kros seznam'!MHT147","v":0},{"$f":"'kros seznam'!MHU147","v":0},{"$f":"'kros seznam'!MHV147","v":0},{"$f":"'kros seznam'!MHW147","v":0},{"$f":"'kros seznam'!MHX147","v":0},{"$f":"'kros seznam'!MHY147","v":0},{"$f":"'kros seznam'!MHZ147","v":0},{"$f":"'kros seznam'!MIA147","v":0},{"$f":"'kros seznam'!MIB147","v":0},{"$f":"'kros seznam'!MIC147","v":0},{"$f":"'kros seznam'!MID147","v":0},{"$f":"'kros seznam'!MIE147","v":0},{"$f":"'kros seznam'!MIF147","v":0},{"$f":"'kros seznam'!MIG147","v":0},{"$f":"'kros seznam'!MIH147","v":0},{"$f":"'kros seznam'!MII147","v":0},{"$f":"'kros seznam'!MIJ147","v":0},{"$f":"'kros seznam'!MIK147","v":0},{"$f":"'kros seznam'!MIL147","v":0},{"$f":"'kros seznam'!MIM147","v":0},{"$f":"'kros seznam'!MIN147","v":0},{"$f":"'kros seznam'!MIO147","v":0},{"$f":"'kros seznam'!MIP147","v":0},{"$f":"'kros seznam'!MIQ147","v":0},{"$f":"'kros seznam'!MIR147","v":0},{"$f":"'kros seznam'!MIS147","v":0},{"$f":"'kros seznam'!MIT147","v":0},{"$f":"'kros seznam'!MIU147","v":0},{"$f":"'kros seznam'!MIV147","v":0},{"$f":"'kros seznam'!MIW147","v":0},{"$f":"'kros seznam'!MIX147","v":0},{"$f":"'kros seznam'!MIY147","v":0},{"$f":"'kros seznam'!MIZ147","v":0},{"$f":"'kros seznam'!MJA147","v":0},{"$f":"'kros seznam'!MJB147","v":0},{"$f":"'kros seznam'!MJC147","v":0},{"$f":"'kros seznam'!MJD147","v":0},{"$f":"'kros seznam'!MJE147","v":0},{"$f":"'kros seznam'!MJF147","v":0},{"$f":"'kros seznam'!MJG147","v":0},{"$f":"'kros seznam'!MJH147","v":0},{"$f":"'kros seznam'!MJI147","v":0},{"$f":"'kros seznam'!MJJ147","v":0},{"$f":"'kros seznam'!MJK147","v":0},{"$f":"'kros seznam'!MJL147","v":0},{"$f":"'kros seznam'!MJM147","v":0},{"$f":"'kros seznam'!MJN147","v":0},{"$f":"'kros seznam'!MJO147","v":0},{"$f":"'kros seznam'!MJP147","v":0},{"$f":"'kros seznam'!MJQ147","v":0},{"$f":"'kros seznam'!MJR147","v":0},{"$f":"'kros seznam'!MJS147","v":0},{"$f":"'kros seznam'!MJT147","v":0},{"$f":"'kros seznam'!MJU147","v":0},{"$f":"'kros seznam'!MJV147","v":0},{"$f":"'kros seznam'!MJW147","v":0},{"$f":"'kros seznam'!MJX147","v":0},{"$f":"'kros seznam'!MJY147","v":0},{"$f":"'kros seznam'!MJZ147","v":0},{"$f":"'kros seznam'!MKA147","v":0},{"$f":"'kros seznam'!MKB147","v":0},{"$f":"'kros seznam'!MKC147","v":0},{"$f":"'kros seznam'!MKD147","v":0},{"$f":"'kros seznam'!MKE147","v":0},{"$f":"'kros seznam'!MKF147","v":0},{"$f":"'kros seznam'!MKG147","v":0},{"$f":"'kros seznam'!MKH147","v":0},{"$f":"'kros seznam'!MKI147","v":0},{"$f":"'kros seznam'!MKJ147","v":0},{"$f":"'kros seznam'!MKK147","v":0},{"$f":"'kros seznam'!MKL147","v":0},{"$f":"'kros seznam'!MKM147","v":0},{"$f":"'kros seznam'!MKN147","v":0},{"$f":"'kros seznam'!MKO147","v":0},{"$f":"'kros seznam'!MKP147","v":0},{"$f":"'kros seznam'!MKQ147","v":0},{"$f":"'kros seznam'!MKR147","v":0},{"$f":"'kros seznam'!MKS147","v":0},{"$f":"'kros seznam'!MKT147","v":0},{"$f":"'kros seznam'!MKU147","v":0},{"$f":"'kros seznam'!MKV147","v":0},{"$f":"'kros seznam'!MKW147","v":0},{"$f":"'kros seznam'!MKX147","v":0},{"$f":"'kros seznam'!MKY147","v":0},{"$f":"'kros seznam'!MKZ147","v":0},{"$f":"'kros seznam'!MLA147","v":0},{"$f":"'kros seznam'!MLB147","v":0},{"$f":"'kros seznam'!MLC147","v":0},{"$f":"'kros seznam'!MLD147","v":0},{"$f":"'kros seznam'!MLE147","v":0},{"$f":"'kros seznam'!MLF147","v":0},{"$f":"'kros seznam'!MLG147","v":0},{"$f":"'kros seznam'!MLH147","v":0},{"$f":"'kros seznam'!MLI147","v":0},{"$f":"'kros seznam'!MLJ147","v":0},{"$f":"'kros seznam'!MLK147","v":0},{"$f":"'kros seznam'!MLL147","v":0},{"$f":"'kros seznam'!MLM147","v":0},{"$f":"'kros seznam'!MLN147","v":0},{"$f":"'kros seznam'!MLO147","v":0},{"$f":"'kros seznam'!MLP147","v":0},{"$f":"'kros seznam'!MLQ147","v":0},{"$f":"'kros seznam'!MLR147","v":0},{"$f":"'kros seznam'!MLS147","v":0},{"$f":"'kros seznam'!MLT147","v":0},{"$f":"'kros seznam'!MLU147","v":0},{"$f":"'kros seznam'!MLV147","v":0},{"$f":"'kros seznam'!MLW147","v":0},{"$f":"'kros seznam'!MLX147","v":0},{"$f":"'kros seznam'!MLY147","v":0},{"$f":"'kros seznam'!MLZ147","v":0},{"$f":"'kros seznam'!MMA147","v":0},{"$f":"'kros seznam'!MMB147","v":0},{"$f":"'kros seznam'!MMC147","v":0},{"$f":"'kros seznam'!MMD147","v":0},{"$f":"'kros seznam'!MME147","v":0},{"$f":"'kros seznam'!MMF147","v":0},{"$f":"'kros seznam'!MMG147","v":0},{"$f":"'kros seznam'!MMH147","v":0},{"$f":"'kros seznam'!MMI147","v":0},{"$f":"'kros seznam'!MMJ147","v":0},{"$f":"'kros seznam'!MMK147","v":0},{"$f":"'kros seznam'!MML147","v":0},{"$f":"'kros seznam'!MMM147","v":0},{"$f":"'kros seznam'!MMN147","v":0},{"$f":"'kros seznam'!MMO147","v":0},{"$f":"'kros seznam'!MMP147","v":0},{"$f":"'kros seznam'!MMQ147","v":0},{"$f":"'kros seznam'!MMR147","v":0},{"$f":"'kros seznam'!MMS147","v":0},{"$f":"'kros seznam'!MMT147","v":0},{"$f":"'kros seznam'!MMU147","v":0},{"$f":"'kros seznam'!MMV147","v":0},{"$f":"'kros seznam'!MMW147","v":0},{"$f":"'kros seznam'!MMX147","v":0},{"$f":"'kros seznam'!MMY147","v":0},{"$f":"'kros seznam'!MMZ147","v":0},{"$f":"'kros seznam'!MNA147","v":0},{"$f":"'kros seznam'!MNB147","v":0},{"$f":"'kros seznam'!MNC147","v":0},{"$f":"'kros seznam'!MND147","v":0},{"$f":"'kros seznam'!MNE147","v":0},{"$f":"'kros seznam'!MNF147","v":0},{"$f":"'kros seznam'!MNG147","v":0},{"$f":"'kros seznam'!MNH147","v":0},{"$f":"'kros seznam'!MNI147","v":0},{"$f":"'kros seznam'!MNJ147","v":0},{"$f":"'kros seznam'!MNK147","v":0},{"$f":"'kros seznam'!MNL147","v":0},{"$f":"'kros seznam'!MNM147","v":0},{"$f":"'kros seznam'!MNN147","v":0},{"$f":"'kros seznam'!MNO147","v":0},{"$f":"'kros seznam'!MNP147","v":0},{"$f":"'kros seznam'!MNQ147","v":0},{"$f":"'kros seznam'!MNR147","v":0},{"$f":"'kros seznam'!MNS147","v":0},{"$f":"'kros seznam'!MNT147","v":0},{"$f":"'kros seznam'!MNU147","v":0},{"$f":"'kros seznam'!MNV147","v":0},{"$f":"'kros seznam'!MNW147","v":0},{"$f":"'kros seznam'!MNX147","v":0},{"$f":"'kros seznam'!MNY147","v":0},{"$f":"'kros seznam'!MNZ147","v":0},{"$f":"'kros seznam'!MOA147","v":0},{"$f":"'kros seznam'!MOB147","v":0},{"$f":"'kros seznam'!MOC147","v":0},{"$f":"'kros seznam'!MOD147","v":0},{"$f":"'kros seznam'!MOE147","v":0},{"$f":"'kros seznam'!MOF147","v":0},{"$f":"'kros seznam'!MOG147","v":0},{"$f":"'kros seznam'!MOH147","v":0},{"$f":"'kros seznam'!MOI147","v":0},{"$f":"'kros seznam'!MOJ147","v":0},{"$f":"'kros seznam'!MOK147","v":0},{"$f":"'kros seznam'!MOL147","v":0},{"$f":"'kros seznam'!MOM147","v":0},{"$f":"'kros seznam'!MON147","v":0},{"$f":"'kros seznam'!MOO147","v":0},{"$f":"'kros seznam'!MOP147","v":0},{"$f":"'kros seznam'!MOQ147","v":0},{"$f":"'kros seznam'!MOR147","v":0},{"$f":"'kros seznam'!MOS147","v":0},{"$f":"'kros seznam'!MOT147","v":0},{"$f":"'kros seznam'!MOU147","v":0},{"$f":"'kros seznam'!MOV147","v":0},{"$f":"'kros seznam'!MOW147","v":0},{"$f":"'kros seznam'!MOX147","v":0},{"$f":"'kros seznam'!MOY147","v":0},{"$f":"'kros seznam'!MOZ147","v":0},{"$f":"'kros seznam'!MPA147","v":0},{"$f":"'kros seznam'!MPB147","v":0},{"$f":"'kros seznam'!MPC147","v":0},{"$f":"'kros seznam'!MPD147","v":0},{"$f":"'kros seznam'!MPE147","v":0},{"$f":"'kros seznam'!MPF147","v":0},{"$f":"'kros seznam'!MPG147","v":0},{"$f":"'kros seznam'!MPH147","v":0},{"$f":"'kros seznam'!MPI147","v":0},{"$f":"'kros seznam'!MPJ147","v":0},{"$f":"'kros seznam'!MPK147","v":0},{"$f":"'kros seznam'!MPL147","v":0},{"$f":"'kros seznam'!MPM147","v":0},{"$f":"'kros seznam'!MPN147","v":0},{"$f":"'kros seznam'!MPO147","v":0},{"$f":"'kros seznam'!MPP147","v":0},{"$f":"'kros seznam'!MPQ147","v":0},{"$f":"'kros seznam'!MPR147","v":0},{"$f":"'kros seznam'!MPS147","v":0},{"$f":"'kros seznam'!MPT147","v":0},{"$f":"'kros seznam'!MPU147","v":0},{"$f":"'kros seznam'!MPV147","v":0},{"$f":"'kros seznam'!MPW147","v":0},{"$f":"'kros seznam'!MPX147","v":0},{"$f":"'kros seznam'!MPY147","v":0},{"$f":"'kros seznam'!MPZ147","v":0},{"$f":"'kros seznam'!MQA147","v":0},{"$f":"'kros seznam'!MQB147","v":0},{"$f":"'kros seznam'!MQC147","v":0},{"$f":"'kros seznam'!MQD147","v":0},{"$f":"'kros seznam'!MQE147","v":0},{"$f":"'kros seznam'!MQF147","v":0},{"$f":"'kros seznam'!MQG147","v":0},{"$f":"'kros seznam'!MQH147","v":0},{"$f":"'kros seznam'!MQI147","v":0},{"$f":"'kros seznam'!MQJ147","v":0},{"$f":"'kros seznam'!MQK147","v":0},{"$f":"'kros seznam'!MQL147","v":0},{"$f":"'kros seznam'!MQM147","v":0},{"$f":"'kros seznam'!MQN147","v":0},{"$f":"'kros seznam'!MQO147","v":0},{"$f":"'kros seznam'!MQP147","v":0},{"$f":"'kros seznam'!MQQ147","v":0},{"$f":"'kros seznam'!MQR147","v":0},{"$f":"'kros seznam'!MQS147","v":0},{"$f":"'kros seznam'!MQT147","v":0},{"$f":"'kros seznam'!MQU147","v":0},{"$f":"'kros seznam'!MQV147","v":0},{"$f":"'kros seznam'!MQW147","v":0},{"$f":"'kros seznam'!MQX147","v":0},{"$f":"'kros seznam'!MQY147","v":0},{"$f":"'kros seznam'!MQZ147","v":0},{"$f":"'kros seznam'!MRA147","v":0},{"$f":"'kros seznam'!MRB147","v":0},{"$f":"'kros seznam'!MRC147","v":0},{"$f":"'kros seznam'!MRD147","v":0},{"$f":"'kros seznam'!MRE147","v":0},{"$f":"'kros seznam'!MRF147","v":0},{"$f":"'kros seznam'!MRG147","v":0},{"$f":"'kros seznam'!MRH147","v":0},{"$f":"'kros seznam'!MRI147","v":0},{"$f":"'kros seznam'!MRJ147","v":0},{"$f":"'kros seznam'!MRK147","v":0},{"$f":"'kros seznam'!MRL147","v":0},{"$f":"'kros seznam'!MRM147","v":0},{"$f":"'kros seznam'!MRN147","v":0},{"$f":"'kros seznam'!MRO147","v":0},{"$f":"'kros seznam'!MRP147","v":0},{"$f":"'kros seznam'!MRQ147","v":0},{"$f":"'kros seznam'!MRR147","v":0},{"$f":"'kros seznam'!MRS147","v":0},{"$f":"'kros seznam'!MRT147","v":0},{"$f":"'kros seznam'!MRU147","v":0},{"$f":"'kros seznam'!MRV147","v":0},{"$f":"'kros seznam'!MRW147","v":0},{"$f":"'kros seznam'!MRX147","v":0},{"$f":"'kros seznam'!MRY147","v":0},{"$f":"'kros seznam'!MRZ147","v":0},{"$f":"'kros seznam'!MSA147","v":0},{"$f":"'kros seznam'!MSB147","v":0},{"$f":"'kros seznam'!MSC147","v":0},{"$f":"'kros seznam'!MSD147","v":0},{"$f":"'kros seznam'!MSE147","v":0},{"$f":"'kros seznam'!MSF147","v":0},{"$f":"'kros seznam'!MSG147","v":0},{"$f":"'kros seznam'!MSH147","v":0},{"$f":"'kros seznam'!MSI147","v":0},{"$f":"'kros seznam'!MSJ147","v":0},{"$f":"'kros seznam'!MSK147","v":0},{"$f":"'kros seznam'!MSL147","v":0},{"$f":"'kros seznam'!MSM147","v":0},{"$f":"'kros seznam'!MSN147","v":0},{"$f":"'kros seznam'!MSO147","v":0},{"$f":"'kros seznam'!MSP147","v":0},{"$f":"'kros seznam'!MSQ147","v":0},{"$f":"'kros seznam'!MSR147","v":0},{"$f":"'kros seznam'!MSS147","v":0},{"$f":"'kros seznam'!MST147","v":0},{"$f":"'kros seznam'!MSU147","v":0},{"$f":"'kros seznam'!MSV147","v":0},{"$f":"'kros seznam'!MSW147","v":0},{"$f":"'kros seznam'!MSX147","v":0},{"$f":"'kros seznam'!MSY147","v":0},{"$f":"'kros seznam'!MSZ147","v":0},{"$f":"'kros seznam'!MTA147","v":0},{"$f":"'kros seznam'!MTB147","v":0},{"$f":"'kros seznam'!MTC147","v":0},{"$f":"'kros seznam'!MTD147","v":0},{"$f":"'kros seznam'!MTE147","v":0},{"$f":"'kros seznam'!MTF147","v":0},{"$f":"'kros seznam'!MTG147","v":0},{"$f":"'kros seznam'!MTH147","v":0},{"$f":"'kros seznam'!MTI147","v":0},{"$f":"'kros seznam'!MTJ147","v":0},{"$f":"'kros seznam'!MTK147","v":0},{"$f":"'kros seznam'!MTL147","v":0},{"$f":"'kros seznam'!MTM147","v":0},{"$f":"'kros seznam'!MTN147","v":0},{"$f":"'kros seznam'!MTO147","v":0},{"$f":"'kros seznam'!MTP147","v":0},{"$f":"'kros seznam'!MTQ147","v":0},{"$f":"'kros seznam'!MTR147","v":0},{"$f":"'kros seznam'!MTS147","v":0},{"$f":"'kros seznam'!MTT147","v":0},{"$f":"'kros seznam'!MTU147","v":0},{"$f":"'kros seznam'!MTV147","v":0},{"$f":"'kros seznam'!MTW147","v":0},{"$f":"'kros seznam'!MTX147","v":0},{"$f":"'kros seznam'!MTY147","v":0},{"$f":"'kros seznam'!MTZ147","v":0},{"$f":"'kros seznam'!MUA147","v":0},{"$f":"'kros seznam'!MUB147","v":0},{"$f":"'kros seznam'!MUC147","v":0},{"$f":"'kros seznam'!MUD147","v":0},{"$f":"'kros seznam'!MUE147","v":0},{"$f":"'kros seznam'!MUF147","v":0},{"$f":"'kros seznam'!MUG147","v":0},{"$f":"'kros seznam'!MUH147","v":0},{"$f":"'kros seznam'!MUI147","v":0},{"$f":"'kros seznam'!MUJ147","v":0},{"$f":"'kros seznam'!MUK147","v":0},{"$f":"'kros seznam'!MUL147","v":0},{"$f":"'kros seznam'!MUM147","v":0},{"$f":"'kros seznam'!MUN147","v":0},{"$f":"'kros seznam'!MUO147","v":0},{"$f":"'kros seznam'!MUP147","v":0},{"$f":"'kros seznam'!MUQ147","v":0},{"$f":"'kros seznam'!MUR147","v":0},{"$f":"'kros seznam'!MUS147","v":0},{"$f":"'kros seznam'!MUT147","v":0},{"$f":"'kros seznam'!MUU147","v":0},{"$f":"'kros seznam'!MUV147","v":0},{"$f":"'kros seznam'!MUW147","v":0},{"$f":"'kros seznam'!MUX147","v":0},{"$f":"'kros seznam'!MUY147","v":0},{"$f":"'kros seznam'!MUZ147","v":0},{"$f":"'kros seznam'!MVA147","v":0},{"$f":"'kros seznam'!MVB147","v":0},{"$f":"'kros seznam'!MVC147","v":0},{"$f":"'kros seznam'!MVD147","v":0},{"$f":"'kros seznam'!MVE147","v":0},{"$f":"'kros seznam'!MVF147","v":0},{"$f":"'kros seznam'!MVG147","v":0},{"$f":"'kros seznam'!MVH147","v":0},{"$f":"'kros seznam'!MVI147","v":0},{"$f":"'kros seznam'!MVJ147","v":0},{"$f":"'kros seznam'!MVK147","v":0},{"$f":"'kros seznam'!MVL147","v":0},{"$f":"'kros seznam'!MVM147","v":0},{"$f":"'kros seznam'!MVN147","v":0},{"$f":"'kros seznam'!MVO147","v":0},{"$f":"'kros seznam'!MVP147","v":0},{"$f":"'kros seznam'!MVQ147","v":0},{"$f":"'kros seznam'!MVR147","v":0},{"$f":"'kros seznam'!MVS147","v":0},{"$f":"'kros seznam'!MVT147","v":0},{"$f":"'kros seznam'!MVU147","v":0},{"$f":"'kros seznam'!MVV147","v":0},{"$f":"'kros seznam'!MVW147","v":0},{"$f":"'kros seznam'!MVX147","v":0},{"$f":"'kros seznam'!MVY147","v":0},{"$f":"'kros seznam'!MVZ147","v":0},{"$f":"'kros seznam'!MWA147","v":0},{"$f":"'kros seznam'!MWB147","v":0},{"$f":"'kros seznam'!MWC147","v":0},{"$f":"'kros seznam'!MWD147","v":0},{"$f":"'kros seznam'!MWE147","v":0},{"$f":"'kros seznam'!MWF147","v":0},{"$f":"'kros seznam'!MWG147","v":0},{"$f":"'kros seznam'!MWH147","v":0},{"$f":"'kros seznam'!MWI147","v":0},{"$f":"'kros seznam'!MWJ147","v":0},{"$f":"'kros seznam'!MWK147","v":0},{"$f":"'kros seznam'!MWL147","v":0},{"$f":"'kros seznam'!MWM147","v":0},{"$f":"'kros seznam'!MWN147","v":0},{"$f":"'kros seznam'!MWO147","v":0},{"$f":"'kros seznam'!MWP147","v":0},{"$f":"'kros seznam'!MWQ147","v":0},{"$f":"'kros seznam'!MWR147","v":0},{"$f":"'kros seznam'!MWS147","v":0},{"$f":"'kros seznam'!MWT147","v":0},{"$f":"'kros seznam'!MWU147","v":0},{"$f":"'kros seznam'!MWV147","v":0},{"$f":"'kros seznam'!MWW147","v":0},{"$f":"'kros seznam'!MWX147","v":0},{"$f":"'kros seznam'!MWY147","v":0},{"$f":"'kros seznam'!MWZ147","v":0},{"$f":"'kros seznam'!MXA147","v":0},{"$f":"'kros seznam'!MXB147","v":0},{"$f":"'kros seznam'!MXC147","v":0},{"$f":"'kros seznam'!MXD147","v":0},{"$f":"'kros seznam'!MXE147","v":0},{"$f":"'kros seznam'!MXF147","v":0},{"$f":"'kros seznam'!MXG147","v":0},{"$f":"'kros seznam'!MXH147","v":0},{"$f":"'kros seznam'!MXI147","v":0},{"$f":"'kros seznam'!MXJ147","v":0},{"$f":"'kros seznam'!MXK147","v":0},{"$f":"'kros seznam'!MXL147","v":0},{"$f":"'kros seznam'!MXM147","v":0},{"$f":"'kros seznam'!MXN147","v":0},{"$f":"'kros seznam'!MXO147","v":0},{"$f":"'kros seznam'!MXP147","v":0},{"$f":"'kros seznam'!MXQ147","v":0},{"$f":"'kros seznam'!MXR147","v":0},{"$f":"'kros seznam'!MXS147","v":0},{"$f":"'kros seznam'!MXT147","v":0},{"$f":"'kros seznam'!MXU147","v":0},{"$f":"'kros seznam'!MXV147","v":0},{"$f":"'kros seznam'!MXW147","v":0},{"$f":"'kros seznam'!MXX147","v":0},{"$f":"'kros seznam'!MXY147","v":0},{"$f":"'kros seznam'!MXZ147","v":0},{"$f":"'kros seznam'!MYA147","v":0},{"$f":"'kros seznam'!MYB147","v":0},{"$f":"'kros seznam'!MYC147","v":0},{"$f":"'kros seznam'!MYD147","v":0},{"$f":"'kros seznam'!MYE147","v":0},{"$f":"'kros seznam'!MYF147","v":0},{"$f":"'kros seznam'!MYG147","v":0},{"$f":"'kros seznam'!MYH147","v":0},{"$f":"'kros seznam'!MYI147","v":0},{"$f":"'kros seznam'!MYJ147","v":0},{"$f":"'kros seznam'!MYK147","v":0},{"$f":"'kros seznam'!MYL147","v":0},{"$f":"'kros seznam'!MYM147","v":0},{"$f":"'kros seznam'!MYN147","v":0},{"$f":"'kros seznam'!MYO147","v":0},{"$f":"'kros seznam'!MYP147","v":0},{"$f":"'kros seznam'!MYQ147","v":0},{"$f":"'kros seznam'!MYR147","v":0},{"$f":"'kros seznam'!MYS147","v":0},{"$f":"'kros seznam'!MYT147","v":0},{"$f":"'kros seznam'!MYU147","v":0},{"$f":"'kros seznam'!MYV147","v":0},{"$f":"'kros seznam'!MYW147","v":0},{"$f":"'kros seznam'!MYX147","v":0},{"$f":"'kros seznam'!MYY147","v":0},{"$f":"'kros seznam'!MYZ147","v":0},{"$f":"'kros seznam'!MZA147","v":0},{"$f":"'kros seznam'!MZB147","v":0},{"$f":"'kros seznam'!MZC147","v":0},{"$f":"'kros seznam'!MZD147","v":0},{"$f":"'kros seznam'!MZE147","v":0},{"$f":"'kros seznam'!MZF147","v":0},{"$f":"'kros seznam'!MZG147","v":0},{"$f":"'kros seznam'!MZH147","v":0},{"$f":"'kros seznam'!MZI147","v":0},{"$f":"'kros seznam'!MZJ147","v":0},{"$f":"'kros seznam'!MZK147","v":0},{"$f":"'kros seznam'!MZL147","v":0},{"$f":"'kros seznam'!MZM147","v":0},{"$f":"'kros seznam'!MZN147","v":0},{"$f":"'kros seznam'!MZO147","v":0},{"$f":"'kros seznam'!MZP147","v":0},{"$f":"'kros seznam'!MZQ147","v":0},{"$f":"'kros seznam'!MZR147","v":0},{"$f":"'kros seznam'!MZS147","v":0},{"$f":"'kros seznam'!MZT147","v":0},{"$f":"'kros seznam'!MZU147","v":0},{"$f":"'kros seznam'!MZV147","v":0},{"$f":"'kros seznam'!MZW147","v":0},{"$f":"'kros seznam'!MZX147","v":0},{"$f":"'kros seznam'!MZY147","v":0},{"$f":"'kros seznam'!MZZ147","v":0},{"$f":"'kros seznam'!NAA147","v":0},{"$f":"'kros seznam'!NAB147","v":0},{"$f":"'kros seznam'!NAC147","v":0},{"$f":"'kros seznam'!NAD147","v":0},{"$f":"'kros seznam'!NAE147","v":0},{"$f":"'kros seznam'!NAF147","v":0},{"$f":"'kros seznam'!NAG147","v":0},{"$f":"'kros seznam'!NAH147","v":0},{"$f":"'kros seznam'!NAI147","v":0},{"$f":"'kros seznam'!NAJ147","v":0},{"$f":"'kros seznam'!NAK147","v":0},{"$f":"'kros seznam'!NAL147","v":0},{"$f":"'kros seznam'!NAM147","v":0},{"$f":"'kros seznam'!NAN147","v":0},{"$f":"'kros seznam'!NAO147","v":0},{"$f":"'kros seznam'!NAP147","v":0},{"$f":"'kros seznam'!NAQ147","v":0},{"$f":"'kros seznam'!NAR147","v":0},{"$f":"'kros seznam'!NAS147","v":0},{"$f":"'kros seznam'!NAT147","v":0},{"$f":"'kros seznam'!NAU147","v":0},{"$f":"'kros seznam'!NAV147","v":0},{"$f":"'kros seznam'!NAW147","v":0},{"$f":"'kros seznam'!NAX147","v":0},{"$f":"'kros seznam'!NAY147","v":0},{"$f":"'kros seznam'!NAZ147","v":0},{"$f":"'kros seznam'!NBA147","v":0},{"$f":"'kros seznam'!NBB147","v":0},{"$f":"'kros seznam'!NBC147","v":0},{"$f":"'kros seznam'!NBD147","v":0},{"$f":"'kros seznam'!NBE147","v":0},{"$f":"'kros seznam'!NBF147","v":0},{"$f":"'kros seznam'!NBG147","v":0},{"$f":"'kros seznam'!NBH147","v":0},{"$f":"'kros seznam'!NBI147","v":0},{"$f":"'kros seznam'!NBJ147","v":0},{"$f":"'kros seznam'!NBK147","v":0},{"$f":"'kros seznam'!NBL147","v":0},{"$f":"'kros seznam'!NBM147","v":0},{"$f":"'kros seznam'!NBN147","v":0},{"$f":"'kros seznam'!NBO147","v":0},{"$f":"'kros seznam'!NBP147","v":0},{"$f":"'kros seznam'!NBQ147","v":0},{"$f":"'kros seznam'!NBR147","v":0},{"$f":"'kros seznam'!NBS147","v":0},{"$f":"'kros seznam'!NBT147","v":0},{"$f":"'kros seznam'!NBU147","v":0},{"$f":"'kros seznam'!NBV147","v":0},{"$f":"'kros seznam'!NBW147","v":0},{"$f":"'kros seznam'!NBX147","v":0},{"$f":"'kros seznam'!NBY147","v":0},{"$f":"'kros seznam'!NBZ147","v":0},{"$f":"'kros seznam'!NCA147","v":0},{"$f":"'kros seznam'!NCB147","v":0},{"$f":"'kros seznam'!NCC147","v":0},{"$f":"'kros seznam'!NCD147","v":0},{"$f":"'kros seznam'!NCE147","v":0},{"$f":"'kros seznam'!NCF147","v":0},{"$f":"'kros seznam'!NCG147","v":0},{"$f":"'kros seznam'!NCH147","v":0},{"$f":"'kros seznam'!NCI147","v":0},{"$f":"'kros seznam'!NCJ147","v":0},{"$f":"'kros seznam'!NCK147","v":0},{"$f":"'kros seznam'!NCL147","v":0},{"$f":"'kros seznam'!NCM147","v":0},{"$f":"'kros seznam'!NCN147","v":0},{"$f":"'kros seznam'!NCO147","v":0},{"$f":"'kros seznam'!NCP147","v":0},{"$f":"'kros seznam'!NCQ147","v":0},{"$f":"'kros seznam'!NCR147","v":0},{"$f":"'kros seznam'!NCS147","v":0},{"$f":"'kros seznam'!NCT147","v":0},{"$f":"'kros seznam'!NCU147","v":0},{"$f":"'kros seznam'!NCV147","v":0},{"$f":"'kros seznam'!NCW147","v":0},{"$f":"'kros seznam'!NCX147","v":0},{"$f":"'kros seznam'!NCY147","v":0},{"$f":"'kros seznam'!NCZ147","v":0},{"$f":"'kros seznam'!NDA147","v":0},{"$f":"'kros seznam'!NDB147","v":0},{"$f":"'kros seznam'!NDC147","v":0},{"$f":"'kros seznam'!NDD147","v":0},{"$f":"'kros seznam'!NDE147","v":0},{"$f":"'kros seznam'!NDF147","v":0},{"$f":"'kros seznam'!NDG147","v":0},{"$f":"'kros seznam'!NDH147","v":0},{"$f":"'kros seznam'!NDI147","v":0},{"$f":"'kros seznam'!NDJ147","v":0},{"$f":"'kros seznam'!NDK147","v":0},{"$f":"'kros seznam'!NDL147","v":0},{"$f":"'kros seznam'!NDM147","v":0},{"$f":"'kros seznam'!NDN147","v":0},{"$f":"'kros seznam'!NDO147","v":0},{"$f":"'kros seznam'!NDP147","v":0},{"$f":"'kros seznam'!NDQ147","v":0},{"$f":"'kros seznam'!NDR147","v":0},{"$f":"'kros seznam'!NDS147","v":0},{"$f":"'kros seznam'!NDT147","v":0},{"$f":"'kros seznam'!NDU147","v":0},{"$f":"'kros seznam'!NDV147","v":0},{"$f":"'kros seznam'!NDW147","v":0},{"$f":"'kros seznam'!NDX147","v":0},{"$f":"'kros seznam'!NDY147","v":0},{"$f":"'kros seznam'!NDZ147","v":0},{"$f":"'kros seznam'!NEA147","v":0},{"$f":"'kros seznam'!NEB147","v":0},{"$f":"'kros seznam'!NEC147","v":0},{"$f":"'kros seznam'!NED147","v":0},{"$f":"'kros seznam'!NEE147","v":0},{"$f":"'kros seznam'!NEF147","v":0},{"$f":"'kros seznam'!NEG147","v":0},{"$f":"'kros seznam'!NEH147","v":0},{"$f":"'kros seznam'!NEI147","v":0},{"$f":"'kros seznam'!NEJ147","v":0},{"$f":"'kros seznam'!NEK147","v":0},{"$f":"'kros seznam'!NEL147","v":0},{"$f":"'kros seznam'!NEM147","v":0},{"$f":"'kros seznam'!NEN147","v":0},{"$f":"'kros seznam'!NEO147","v":0},{"$f":"'kros seznam'!NEP147","v":0},{"$f":"'kros seznam'!NEQ147","v":0},{"$f":"'kros seznam'!NER147","v":0},{"$f":"'kros seznam'!NES147","v":0},{"$f":"'kros seznam'!NET147","v":0},{"$f":"'kros seznam'!NEU147","v":0},{"$f":"'kros seznam'!NEV147","v":0},{"$f":"'kros seznam'!NEW147","v":0},{"$f":"'kros seznam'!NEX147","v":0},{"$f":"'kros seznam'!NEY147","v":0},{"$f":"'kros seznam'!NEZ147","v":0},{"$f":"'kros seznam'!NFA147","v":0},{"$f":"'kros seznam'!NFB147","v":0},{"$f":"'kros seznam'!NFC147","v":0},{"$f":"'kros seznam'!NFD147","v":0},{"$f":"'kros seznam'!NFE147","v":0},{"$f":"'kros seznam'!NFF147","v":0},{"$f":"'kros seznam'!NFG147","v":0},{"$f":"'kros seznam'!NFH147","v":0},{"$f":"'kros seznam'!NFI147","v":0},{"$f":"'kros seznam'!NFJ147","v":0},{"$f":"'kros seznam'!NFK147","v":0},{"$f":"'kros seznam'!NFL147","v":0},{"$f":"'kros seznam'!NFM147","v":0},{"$f":"'kros seznam'!NFN147","v":0},{"$f":"'kros seznam'!NFO147","v":0},{"$f":"'kros seznam'!NFP147","v":0},{"$f":"'kros seznam'!NFQ147","v":0},{"$f":"'kros seznam'!NFR147","v":0},{"$f":"'kros seznam'!NFS147","v":0},{"$f":"'kros seznam'!NFT147","v":0},{"$f":"'kros seznam'!NFU147","v":0},{"$f":"'kros seznam'!NFV147","v":0},{"$f":"'kros seznam'!NFW147","v":0},{"$f":"'kros seznam'!NFX147","v":0},{"$f":"'kros seznam'!NFY147","v":0},{"$f":"'kros seznam'!NFZ147","v":0},{"$f":"'kros seznam'!NGA147","v":0},{"$f":"'kros seznam'!NGB147","v":0},{"$f":"'kros seznam'!NGC147","v":0},{"$f":"'kros seznam'!NGD147","v":0},{"$f":"'kros seznam'!NGE147","v":0},{"$f":"'kros seznam'!NGF147","v":0},{"$f":"'kros seznam'!NGG147","v":0},{"$f":"'kros seznam'!NGH147","v":0},{"$f":"'kros seznam'!NGI147","v":0},{"$f":"'kros seznam'!NGJ147","v":0},{"$f":"'kros seznam'!NGK147","v":0},{"$f":"'kros seznam'!NGL147","v":0},{"$f":"'kros seznam'!NGM147","v":0},{"$f":"'kros seznam'!NGN147","v":0},{"$f":"'kros seznam'!NGO147","v":0},{"$f":"'kros seznam'!NGP147","v":0},{"$f":"'kros seznam'!NGQ147","v":0},{"$f":"'kros seznam'!NGR147","v":0},{"$f":"'kros seznam'!NGS147","v":0},{"$f":"'kros seznam'!NGT147","v":0},{"$f":"'kros seznam'!NGU147","v":0},{"$f":"'kros seznam'!NGV147","v":0},{"$f":"'kros seznam'!NGW147","v":0},{"$f":"'kros seznam'!NGX147","v":0},{"$f":"'kros seznam'!NGY147","v":0},{"$f":"'kros seznam'!NGZ147","v":0},{"$f":"'kros seznam'!NHA147","v":0},{"$f":"'kros seznam'!NHB147","v":0},{"$f":"'kros seznam'!NHC147","v":0},{"$f":"'kros seznam'!NHD147","v":0},{"$f":"'kros seznam'!NHE147","v":0},{"$f":"'kros seznam'!NHF147","v":0},{"$f":"'kros seznam'!NHG147","v":0},{"$f":"'kros seznam'!NHH147","v":0},{"$f":"'kros seznam'!NHI147","v":0},{"$f":"'kros seznam'!NHJ147","v":0},{"$f":"'kros seznam'!NHK147","v":0},{"$f":"'kros seznam'!NHL147","v":0},{"$f":"'kros seznam'!NHM147","v":0},{"$f":"'kros seznam'!NHN147","v":0},{"$f":"'kros seznam'!NHO147","v":0},{"$f":"'kros seznam'!NHP147","v":0},{"$f":"'kros seznam'!NHQ147","v":0},{"$f":"'kros seznam'!NHR147","v":0},{"$f":"'kros seznam'!NHS147","v":0},{"$f":"'kros seznam'!NHT147","v":0},{"$f":"'kros seznam'!NHU147","v":0},{"$f":"'kros seznam'!NHV147","v":0},{"$f":"'kros seznam'!NHW147","v":0},{"$f":"'kros seznam'!NHX147","v":0},{"$f":"'kros seznam'!NHY147","v":0},{"$f":"'kros seznam'!NHZ147","v":0},{"$f":"'kros seznam'!NIA147","v":0},{"$f":"'kros seznam'!NIB147","v":0},{"$f":"'kros seznam'!NIC147","v":0},{"$f":"'kros seznam'!NID147","v":0},{"$f":"'kros seznam'!NIE147","v":0},{"$f":"'kros seznam'!NIF147","v":0},{"$f":"'kros seznam'!NIG147","v":0},{"$f":"'kros seznam'!NIH147","v":0},{"$f":"'kros seznam'!NII147","v":0},{"$f":"'kros seznam'!NIJ147","v":0},{"$f":"'kros seznam'!NIK147","v":0},{"$f":"'kros seznam'!NIL147","v":0},{"$f":"'kros seznam'!NIM147","v":0},{"$f":"'kros seznam'!NIN147","v":0},{"$f":"'kros seznam'!NIO147","v":0},{"$f":"'kros seznam'!NIP147","v":0},{"$f":"'kros seznam'!NIQ147","v":0},{"$f":"'kros seznam'!NIR147","v":0},{"$f":"'kros seznam'!NIS147","v":0},{"$f":"'kros seznam'!NIT147","v":0},{"$f":"'kros seznam'!NIU147","v":0},{"$f":"'kros seznam'!NIV147","v":0},{"$f":"'kros seznam'!NIW147","v":0},{"$f":"'kros seznam'!NIX147","v":0},{"$f":"'kros seznam'!NIY147","v":0},{"$f":"'kros seznam'!NIZ147","v":0},{"$f":"'kros seznam'!NJA147","v":0},{"$f":"'kros seznam'!NJB147","v":0},{"$f":"'kros seznam'!NJC147","v":0},{"$f":"'kros seznam'!NJD147","v":0},{"$f":"'kros seznam'!NJE147","v":0},{"$f":"'kros seznam'!NJF147","v":0},{"$f":"'kros seznam'!NJG147","v":0},{"$f":"'kros seznam'!NJH147","v":0},{"$f":"'kros seznam'!NJI147","v":0},{"$f":"'kros seznam'!NJJ147","v":0},{"$f":"'kros seznam'!NJK147","v":0},{"$f":"'kros seznam'!NJL147","v":0},{"$f":"'kros seznam'!NJM147","v":0},{"$f":"'kros seznam'!NJN147","v":0},{"$f":"'kros seznam'!NJO147","v":0},{"$f":"'kros seznam'!NJP147","v":0},{"$f":"'kros seznam'!NJQ147","v":0},{"$f":"'kros seznam'!NJR147","v":0},{"$f":"'kros seznam'!NJS147","v":0},{"$f":"'kros seznam'!NJT147","v":0},{"$f":"'kros seznam'!NJU147","v":0},{"$f":"'kros seznam'!NJV147","v":0},{"$f":"'kros seznam'!NJW147","v":0},{"$f":"'kros seznam'!NJX147","v":0},{"$f":"'kros seznam'!NJY147","v":0},{"$f":"'kros seznam'!NJZ147","v":0},{"$f":"'kros seznam'!NKA147","v":0},{"$f":"'kros seznam'!NKB147","v":0},{"$f":"'kros seznam'!NKC147","v":0},{"$f":"'kros seznam'!NKD147","v":0},{"$f":"'kros seznam'!NKE147","v":0},{"$f":"'kros seznam'!NKF147","v":0},{"$f":"'kros seznam'!NKG147","v":0},{"$f":"'kros seznam'!NKH147","v":0},{"$f":"'kros seznam'!NKI147","v":0},{"$f":"'kros seznam'!NKJ147","v":0},{"$f":"'kros seznam'!NKK147","v":0},{"$f":"'kros seznam'!NKL147","v":0},{"$f":"'kros seznam'!NKM147","v":0},{"$f":"'kros seznam'!NKN147","v":0},{"$f":"'kros seznam'!NKO147","v":0},{"$f":"'kros seznam'!NKP147","v":0},{"$f":"'kros seznam'!NKQ147","v":0},{"$f":"'kros seznam'!NKR147","v":0},{"$f":"'kros seznam'!NKS147","v":0},{"$f":"'kros seznam'!NKT147","v":0},{"$f":"'kros seznam'!NKU147","v":0},{"$f":"'kros seznam'!NKV147","v":0},{"$f":"'kros seznam'!NKW147","v":0},{"$f":"'kros seznam'!NKX147","v":0},{"$f":"'kros seznam'!NKY147","v":0},{"$f":"'kros seznam'!NKZ147","v":0},{"$f":"'kros seznam'!NLA147","v":0},{"$f":"'kros seznam'!NLB147","v":0},{"$f":"'kros seznam'!NLC147","v":0},{"$f":"'kros seznam'!NLD147","v":0},{"$f":"'kros seznam'!NLE147","v":0},{"$f":"'kros seznam'!NLF147","v":0},{"$f":"'kros seznam'!NLG147","v":0},{"$f":"'kros seznam'!NLH147","v":0},{"$f":"'kros seznam'!NLI147","v":0},{"$f":"'kros seznam'!NLJ147","v":0},{"$f":"'kros seznam'!NLK147","v":0},{"$f":"'kros seznam'!NLL147","v":0},{"$f":"'kros seznam'!NLM147","v":0},{"$f":"'kros seznam'!NLN147","v":0},{"$f":"'kros seznam'!NLO147","v":0},{"$f":"'kros seznam'!NLP147","v":0},{"$f":"'kros seznam'!NLQ147","v":0},{"$f":"'kros seznam'!NLR147","v":0},{"$f":"'kros seznam'!NLS147","v":0},{"$f":"'kros seznam'!NLT147","v":0},{"$f":"'kros seznam'!NLU147","v":0},{"$f":"'kros seznam'!NLV147","v":0},{"$f":"'kros seznam'!NLW147","v":0},{"$f":"'kros seznam'!NLX147","v":0},{"$f":"'kros seznam'!NLY147","v":0},{"$f":"'kros seznam'!NLZ147","v":0},{"$f":"'kros seznam'!NMA147","v":0},{"$f":"'kros seznam'!NMB147","v":0},{"$f":"'kros seznam'!NMC147","v":0},{"$f":"'kros seznam'!NMD147","v":0},{"$f":"'kros seznam'!NME147","v":0},{"$f":"'kros seznam'!NMF147","v":0},{"$f":"'kros seznam'!NMG147","v":0},{"$f":"'kros seznam'!NMH147","v":0},{"$f":"'kros seznam'!NMI147","v":0},{"$f":"'kros seznam'!NMJ147","v":0},{"$f":"'kros seznam'!NMK147","v":0},{"$f":"'kros seznam'!NML147","v":0},{"$f":"'kros seznam'!NMM147","v":0},{"$f":"'kros seznam'!NMN147","v":0},{"$f":"'kros seznam'!NMO147","v":0},{"$f":"'kros seznam'!NMP147","v":0},{"$f":"'kros seznam'!NMQ147","v":0},{"$f":"'kros seznam'!NMR147","v":0},{"$f":"'kros seznam'!NMS147","v":0},{"$f":"'kros seznam'!NMT147","v":0},{"$f":"'kros seznam'!NMU147","v":0},{"$f":"'kros seznam'!NMV147","v":0},{"$f":"'kros seznam'!NMW147","v":0},{"$f":"'kros seznam'!NMX147","v":0},{"$f":"'kros seznam'!NMY147","v":0},{"$f":"'kros seznam'!NMZ147","v":0},{"$f":"'kros seznam'!NNA147","v":0},{"$f":"'kros seznam'!NNB147","v":0},{"$f":"'kros seznam'!NNC147","v":0},{"$f":"'kros seznam'!NND147","v":0},{"$f":"'kros seznam'!NNE147","v":0},{"$f":"'kros seznam'!NNF147","v":0},{"$f":"'kros seznam'!NNG147","v":0},{"$f":"'kros seznam'!NNH147","v":0},{"$f":"'kros seznam'!NNI147","v":0},{"$f":"'kros seznam'!NNJ147","v":0},{"$f":"'kros seznam'!NNK147","v":0},{"$f":"'kros seznam'!NNL147","v":0},{"$f":"'kros seznam'!NNM147","v":0},{"$f":"'kros seznam'!NNN147","v":0},{"$f":"'kros seznam'!NNO147","v":0},{"$f":"'kros seznam'!NNP147","v":0},{"$f":"'kros seznam'!NNQ147","v":0},{"$f":"'kros seznam'!NNR147","v":0},{"$f":"'kros seznam'!NNS147","v":0},{"$f":"'kros seznam'!NNT147","v":0},{"$f":"'kros seznam'!NNU147","v":0},{"$f":"'kros seznam'!NNV147","v":0},{"$f":"'kros seznam'!NNW147","v":0},{"$f":"'kros seznam'!NNX147","v":0},{"$f":"'kros seznam'!NNY147","v":0},{"$f":"'kros seznam'!NNZ147","v":0},{"$f":"'kros seznam'!NOA147","v":0},{"$f":"'kros seznam'!NOB147","v":0},{"$f":"'kros seznam'!NOC147","v":0},{"$f":"'kros seznam'!NOD147","v":0},{"$f":"'kros seznam'!NOE147","v":0},{"$f":"'kros seznam'!NOF147","v":0},{"$f":"'kros seznam'!NOG147","v":0},{"$f":"'kros seznam'!NOH147","v":0},{"$f":"'kros seznam'!NOI147","v":0},{"$f":"'kros seznam'!NOJ147","v":0},{"$f":"'kros seznam'!NOK147","v":0},{"$f":"'kros seznam'!NOL147","v":0},{"$f":"'kros seznam'!NOM147","v":0},{"$f":"'kros seznam'!NON147","v":0},{"$f":"'kros seznam'!NOO147","v":0},{"$f":"'kros seznam'!NOP147","v":0},{"$f":"'kros seznam'!NOQ147","v":0},{"$f":"'kros seznam'!NOR147","v":0},{"$f":"'kros seznam'!NOS147","v":0},{"$f":"'kros seznam'!NOT147","v":0},{"$f":"'kros seznam'!NOU147","v":0},{"$f":"'kros seznam'!NOV147","v":0},{"$f":"'kros seznam'!NOW147","v":0},{"$f":"'kros seznam'!NOX147","v":0},{"$f":"'kros seznam'!NOY147","v":0},{"$f":"'kros seznam'!NOZ147","v":0},{"$f":"'kros seznam'!NPA147","v":0},{"$f":"'kros seznam'!NPB147","v":0},{"$f":"'kros seznam'!NPC147","v":0},{"$f":"'kros seznam'!NPD147","v":0},{"$f":"'kros seznam'!NPE147","v":0},{"$f":"'kros seznam'!NPF147","v":0},{"$f":"'kros seznam'!NPG147","v":0},{"$f":"'kros seznam'!NPH147","v":0},{"$f":"'kros seznam'!NPI147","v":0},{"$f":"'kros seznam'!NPJ147","v":0},{"$f":"'kros seznam'!NPK147","v":0},{"$f":"'kros seznam'!NPL147","v":0},{"$f":"'kros seznam'!NPM147","v":0},{"$f":"'kros seznam'!NPN147","v":0},{"$f":"'kros seznam'!NPO147","v":0},{"$f":"'kros seznam'!NPP147","v":0},{"$f":"'kros seznam'!NPQ147","v":0},{"$f":"'kros seznam'!NPR147","v":0},{"$f":"'kros seznam'!NPS147","v":0},{"$f":"'kros seznam'!NPT147","v":0},{"$f":"'kros seznam'!NPU147","v":0},{"$f":"'kros seznam'!NPV147","v":0},{"$f":"'kros seznam'!NPW147","v":0},{"$f":"'kros seznam'!NPX147","v":0},{"$f":"'kros seznam'!NPY147","v":0},{"$f":"'kros seznam'!NPZ147","v":0},{"$f":"'kros seznam'!NQA147","v":0},{"$f":"'kros seznam'!NQB147","v":0},{"$f":"'kros seznam'!NQC147","v":0},{"$f":"'kros seznam'!NQD147","v":0},{"$f":"'kros seznam'!NQE147","v":0},{"$f":"'kros seznam'!NQF147","v":0},{"$f":"'kros seznam'!NQG147","v":0},{"$f":"'kros seznam'!NQH147","v":0},{"$f":"'kros seznam'!NQI147","v":0},{"$f":"'kros seznam'!NQJ147","v":0},{"$f":"'kros seznam'!NQK147","v":0},{"$f":"'kros seznam'!NQL147","v":0},{"$f":"'kros seznam'!NQM147","v":0},{"$f":"'kros seznam'!NQN147","v":0},{"$f":"'kros seznam'!NQO147","v":0},{"$f":"'kros seznam'!NQP147","v":0},{"$f":"'kros seznam'!NQQ147","v":0},{"$f":"'kros seznam'!NQR147","v":0},{"$f":"'kros seznam'!NQS147","v":0},{"$f":"'kros seznam'!NQT147","v":0},{"$f":"'kros seznam'!NQU147","v":0},{"$f":"'kros seznam'!NQV147","v":0},{"$f":"'kros seznam'!NQW147","v":0},{"$f":"'kros seznam'!NQX147","v":0},{"$f":"'kros seznam'!NQY147","v":0},{"$f":"'kros seznam'!NQZ147","v":0},{"$f":"'kros seznam'!NRA147","v":0},{"$f":"'kros seznam'!NRB147","v":0},{"$f":"'kros seznam'!NRC147","v":0},{"$f":"'kros seznam'!NRD147","v":0},{"$f":"'kros seznam'!NRE147","v":0},{"$f":"'kros seznam'!NRF147","v":0},{"$f":"'kros seznam'!NRG147","v":0},{"$f":"'kros seznam'!NRH147","v":0},{"$f":"'kros seznam'!NRI147","v":0},{"$f":"'kros seznam'!NRJ147","v":0},{"$f":"'kros seznam'!NRK147","v":0},{"$f":"'kros seznam'!NRL147","v":0},{"$f":"'kros seznam'!NRM147","v":0},{"$f":"'kros seznam'!NRN147","v":0},{"$f":"'kros seznam'!NRO147","v":0},{"$f":"'kros seznam'!NRP147","v":0},{"$f":"'kros seznam'!NRQ147","v":0},{"$f":"'kros seznam'!NRR147","v":0},{"$f":"'kros seznam'!NRS147","v":0},{"$f":"'kros seznam'!NRT147","v":0},{"$f":"'kros seznam'!NRU147","v":0},{"$f":"'kros seznam'!NRV147","v":0},{"$f":"'kros seznam'!NRW147","v":0},{"$f":"'kros seznam'!NRX147","v":0},{"$f":"'kros seznam'!NRY147","v":0},{"$f":"'kros seznam'!NRZ147","v":0},{"$f":"'kros seznam'!NSA147","v":0},{"$f":"'kros seznam'!NSB147","v":0},{"$f":"'kros seznam'!NSC147","v":0},{"$f":"'kros seznam'!NSD147","v":0},{"$f":"'kros seznam'!NSE147","v":0},{"$f":"'kros seznam'!NSF147","v":0},{"$f":"'kros seznam'!NSG147","v":0},{"$f":"'kros seznam'!NSH147","v":0},{"$f":"'kros seznam'!NSI147","v":0},{"$f":"'kros seznam'!NSJ147","v":0},{"$f":"'kros seznam'!NSK147","v":0},{"$f":"'kros seznam'!NSL147","v":0},{"$f":"'kros seznam'!NSM147","v":0},{"$f":"'kros seznam'!NSN147","v":0},{"$f":"'kros seznam'!NSO147","v":0},{"$f":"'kros seznam'!NSP147","v":0},{"$f":"'kros seznam'!NSQ147","v":0},{"$f":"'kros seznam'!NSR147","v":0},{"$f":"'kros seznam'!NSS147","v":0},{"$f":"'kros seznam'!NST147","v":0},{"$f":"'kros seznam'!NSU147","v":0},{"$f":"'kros seznam'!NSV147","v":0},{"$f":"'kros seznam'!NSW147","v":0},{"$f":"'kros seznam'!NSX147","v":0},{"$f":"'kros seznam'!NSY147","v":0},{"$f":"'kros seznam'!NSZ147","v":0},{"$f":"'kros seznam'!NTA147","v":0},{"$f":"'kros seznam'!NTB147","v":0},{"$f":"'kros seznam'!NTC147","v":0},{"$f":"'kros seznam'!NTD147","v":0},{"$f":"'kros seznam'!NTE147","v":0},{"$f":"'kros seznam'!NTF147","v":0},{"$f":"'kros seznam'!NTG147","v":0},{"$f":"'kros seznam'!NTH147","v":0},{"$f":"'kros seznam'!NTI147","v":0},{"$f":"'kros seznam'!NTJ147","v":0},{"$f":"'kros seznam'!NTK147","v":0},{"$f":"'kros seznam'!NTL147","v":0},{"$f":"'kros seznam'!NTM147","v":0},{"$f":"'kros seznam'!NTN147","v":0},{"$f":"'kros seznam'!NTO147","v":0},{"$f":"'kros seznam'!NTP147","v":0},{"$f":"'kros seznam'!NTQ147","v":0},{"$f":"'kros seznam'!NTR147","v":0},{"$f":"'kros seznam'!NTS147","v":0},{"$f":"'kros seznam'!NTT147","v":0},{"$f":"'kros seznam'!NTU147","v":0},{"$f":"'kros seznam'!NTV147","v":0},{"$f":"'kros seznam'!NTW147","v":0},{"$f":"'kros seznam'!NTX147","v":0},{"$f":"'kros seznam'!NTY147","v":0},{"$f":"'kros seznam'!NTZ147","v":0},{"$f":"'kros seznam'!NUA147","v":0},{"$f":"'kros seznam'!NUB147","v":0},{"$f":"'kros seznam'!NUC147","v":0},{"$f":"'kros seznam'!NUD147","v":0},{"$f":"'kros seznam'!NUE147","v":0},{"$f":"'kros seznam'!NUF147","v":0},{"$f":"'kros seznam'!NUG147","v":0},{"$f":"'kros seznam'!NUH147","v":0},{"$f":"'kros seznam'!NUI147","v":0},{"$f":"'kros seznam'!NUJ147","v":0},{"$f":"'kros seznam'!NUK147","v":0},{"$f":"'kros seznam'!NUL147","v":0},{"$f":"'kros seznam'!NUM147","v":0},{"$f":"'kros seznam'!NUN147","v":0},{"$f":"'kros seznam'!NUO147","v":0},{"$f":"'kros seznam'!NUP147","v":0},{"$f":"'kros seznam'!NUQ147","v":0},{"$f":"'kros seznam'!NUR147","v":0},{"$f":"'kros seznam'!NUS147","v":0},{"$f":"'kros seznam'!NUT147","v":0},{"$f":"'kros seznam'!NUU147","v":0},{"$f":"'kros seznam'!NUV147","v":0},{"$f":"'kros seznam'!NUW147","v":0},{"$f":"'kros seznam'!NUX147","v":0},{"$f":"'kros seznam'!NUY147","v":0},{"$f":"'kros seznam'!NUZ147","v":0},{"$f":"'kros seznam'!NVA147","v":0},{"$f":"'kros seznam'!NVB147","v":0},{"$f":"'kros seznam'!NVC147","v":0},{"$f":"'kros seznam'!NVD147","v":0},{"$f":"'kros seznam'!NVE147","v":0},{"$f":"'kros seznam'!NVF147","v":0},{"$f":"'kros seznam'!NVG147","v":0},{"$f":"'kros seznam'!NVH147","v":0},{"$f":"'kros seznam'!NVI147","v":0},{"$f":"'kros seznam'!NVJ147","v":0},{"$f":"'kros seznam'!NVK147","v":0},{"$f":"'kros seznam'!NVL147","v":0},{"$f":"'kros seznam'!NVM147","v":0},{"$f":"'kros seznam'!NVN147","v":0},{"$f":"'kros seznam'!NVO147","v":0},{"$f":"'kros seznam'!NVP147","v":0},{"$f":"'kros seznam'!NVQ147","v":0},{"$f":"'kros seznam'!NVR147","v":0},{"$f":"'kros seznam'!NVS147","v":0},{"$f":"'kros seznam'!NVT147","v":0},{"$f":"'kros seznam'!NVU147","v":0},{"$f":"'kros seznam'!NVV147","v":0},{"$f":"'kros seznam'!NVW147","v":0},{"$f":"'kros seznam'!NVX147","v":0},{"$f":"'kros seznam'!NVY147","v":0},{"$f":"'kros seznam'!NVZ147","v":0},{"$f":"'kros seznam'!NWA147","v":0},{"$f":"'kros seznam'!NWB147","v":0},{"$f":"'kros seznam'!NWC147","v":0},{"$f":"'kros seznam'!NWD147","v":0},{"$f":"'kros seznam'!NWE147","v":0},{"$f":"'kros seznam'!NWF147","v":0},{"$f":"'kros seznam'!NWG147","v":0},{"$f":"'kros seznam'!NWH147","v":0},{"$f":"'kros seznam'!NWI147","v":0},{"$f":"'kros seznam'!NWJ147","v":0},{"$f":"'kros seznam'!NWK147","v":0},{"$f":"'kros seznam'!NWL147","v":0},{"$f":"'kros seznam'!NWM147","v":0},{"$f":"'kros seznam'!NWN147","v":0},{"$f":"'kros seznam'!NWO147","v":0},{"$f":"'kros seznam'!NWP147","v":0},{"$f":"'kros seznam'!NWQ147","v":0},{"$f":"'kros seznam'!NWR147","v":0},{"$f":"'kros seznam'!NWS147","v":0},{"$f":"'kros seznam'!NWT147","v":0},{"$f":"'kros seznam'!NWU147","v":0},{"$f":"'kros seznam'!NWV147","v":0},{"$f":"'kros seznam'!NWW147","v":0},{"$f":"'kros seznam'!NWX147","v":0},{"$f":"'kros seznam'!NWY147","v":0},{"$f":"'kros seznam'!NWZ147","v":0},{"$f":"'kros seznam'!NXA147","v":0},{"$f":"'kros seznam'!NXB147","v":0},{"$f":"'kros seznam'!NXC147","v":0},{"$f":"'kros seznam'!NXD147","v":0},{"$f":"'kros seznam'!NXE147","v":0},{"$f":"'kros seznam'!NXF147","v":0},{"$f":"'kros seznam'!NXG147","v":0},{"$f":"'kros seznam'!NXH147","v":0},{"$f":"'kros seznam'!NXI147","v":0},{"$f":"'kros seznam'!NXJ147","v":0},{"$f":"'kros seznam'!NXK147","v":0},{"$f":"'kros seznam'!NXL147","v":0},{"$f":"'kros seznam'!NXM147","v":0},{"$f":"'kros seznam'!NXN147","v":0},{"$f":"'kros seznam'!NXO147","v":0},{"$f":"'kros seznam'!NXP147","v":0},{"$f":"'kros seznam'!NXQ147","v":0},{"$f":"'kros seznam'!NXR147","v":0},{"$f":"'kros seznam'!NXS147","v":0},{"$f":"'kros seznam'!NXT147","v":0},{"$f":"'kros seznam'!NXU147","v":0},{"$f":"'kros seznam'!NXV147","v":0},{"$f":"'kros seznam'!NXW147","v":0},{"$f":"'kros seznam'!NXX147","v":0},{"$f":"'kros seznam'!NXY147","v":0},{"$f":"'kros seznam'!NXZ147","v":0},{"$f":"'kros seznam'!NYA147","v":0},{"$f":"'kros seznam'!NYB147","v":0},{"$f":"'kros seznam'!NYC147","v":0},{"$f":"'kros seznam'!NYD147","v":0},{"$f":"'kros seznam'!NYE147","v":0},{"$f":"'kros seznam'!NYF147","v":0},{"$f":"'kros seznam'!NYG147","v":0},{"$f":"'kros seznam'!NYH147","v":0},{"$f":"'kros seznam'!NYI147","v":0},{"$f":"'kros seznam'!NYJ147","v":0},{"$f":"'kros seznam'!NYK147","v":0},{"$f":"'kros seznam'!NYL147","v":0},{"$f":"'kros seznam'!NYM147","v":0},{"$f":"'kros seznam'!NYN147","v":0},{"$f":"'kros seznam'!NYO147","v":0},{"$f":"'kros seznam'!NYP147","v":0},{"$f":"'kros seznam'!NYQ147","v":0},{"$f":"'kros seznam'!NYR147","v":0},{"$f":"'kros seznam'!NYS147","v":0},{"$f":"'kros seznam'!NYT147","v":0},{"$f":"'kros seznam'!NYU147","v":0},{"$f":"'kros seznam'!NYV147","v":0},{"$f":"'kros seznam'!NYW147","v":0},{"$f":"'kros seznam'!NYX147","v":0},{"$f":"'kros seznam'!NYY147","v":0},{"$f":"'kros seznam'!NYZ147","v":0},{"$f":"'kros seznam'!NZA147","v":0},{"$f":"'kros seznam'!NZB147","v":0},{"$f":"'kros seznam'!NZC147","v":0},{"$f":"'kros seznam'!NZD147","v":0},{"$f":"'kros seznam'!NZE147","v":0},{"$f":"'kros seznam'!NZF147","v":0},{"$f":"'kros seznam'!NZG147","v":0},{"$f":"'kros seznam'!NZH147","v":0},{"$f":"'kros seznam'!NZI147","v":0},{"$f":"'kros seznam'!NZJ147","v":0},{"$f":"'kros seznam'!NZK147","v":0},{"$f":"'kros seznam'!NZL147","v":0},{"$f":"'kros seznam'!NZM147","v":0},{"$f":"'kros seznam'!NZN147","v":0},{"$f":"'kros seznam'!NZO147","v":0},{"$f":"'kros seznam'!NZP147","v":0},{"$f":"'kros seznam'!NZQ147","v":0},{"$f":"'kros seznam'!NZR147","v":0},{"$f":"'kros seznam'!NZS147","v":0},{"$f":"'kros seznam'!NZT147","v":0},{"$f":"'kros seznam'!NZU147","v":0},{"$f":"'kros seznam'!NZV147","v":0},{"$f":"'kros seznam'!NZW147","v":0},{"$f":"'kros seznam'!NZX147","v":0},{"$f":"'kros seznam'!NZY147","v":0},{"$f":"'kros seznam'!NZZ147","v":0},{"$f":"'kros seznam'!OAA147","v":0},{"$f":"'kros seznam'!OAB147","v":0},{"$f":"'kros seznam'!OAC147","v":0},{"$f":"'kros seznam'!OAD147","v":0},{"$f":"'kros seznam'!OAE147","v":0},{"$f":"'kros seznam'!OAF147","v":0},{"$f":"'kros seznam'!OAG147","v":0},{"$f":"'kros seznam'!OAH147","v":0},{"$f":"'kros seznam'!OAI147","v":0},{"$f":"'kros seznam'!OAJ147","v":0},{"$f":"'kros seznam'!OAK147","v":0},{"$f":"'kros seznam'!OAL147","v":0},{"$f":"'kros seznam'!OAM147","v":0},{"$f":"'kros seznam'!OAN147","v":0},{"$f":"'kros seznam'!OAO147","v":0},{"$f":"'kros seznam'!OAP147","v":0},{"$f":"'kros seznam'!OAQ147","v":0},{"$f":"'kros seznam'!OAR147","v":0},{"$f":"'kros seznam'!OAS147","v":0},{"$f":"'kros seznam'!OAT147","v":0},{"$f":"'kros seznam'!OAU147","v":0},{"$f":"'kros seznam'!OAV147","v":0},{"$f":"'kros seznam'!OAW147","v":0},{"$f":"'kros seznam'!OAX147","v":0},{"$f":"'kros seznam'!OAY147","v":0},{"$f":"'kros seznam'!OAZ147","v":0},{"$f":"'kros seznam'!OBA147","v":0},{"$f":"'kros seznam'!OBB147","v":0},{"$f":"'kros seznam'!OBC147","v":0},{"$f":"'kros seznam'!OBD147","v":0},{"$f":"'kros seznam'!OBE147","v":0},{"$f":"'kros seznam'!OBF147","v":0},{"$f":"'kros seznam'!OBG147","v":0},{"$f":"'kros seznam'!OBH147","v":0},{"$f":"'kros seznam'!OBI147","v":0},{"$f":"'kros seznam'!OBJ147","v":0},{"$f":"'kros seznam'!OBK147","v":0},{"$f":"'kros seznam'!OBL147","v":0},{"$f":"'kros seznam'!OBM147","v":0},{"$f":"'kros seznam'!OBN147","v":0},{"$f":"'kros seznam'!OBO147","v":0},{"$f":"'kros seznam'!OBP147","v":0},{"$f":"'kros seznam'!OBQ147","v":0},{"$f":"'kros seznam'!OBR147","v":0},{"$f":"'kros seznam'!OBS147","v":0},{"$f":"'kros seznam'!OBT147","v":0},{"$f":"'kros seznam'!OBU147","v":0},{"$f":"'kros seznam'!OBV147","v":0},{"$f":"'kros seznam'!OBW147","v":0},{"$f":"'kros seznam'!OBX147","v":0},{"$f":"'kros seznam'!OBY147","v":0},{"$f":"'kros seznam'!OBZ147","v":0},{"$f":"'kros seznam'!OCA147","v":0},{"$f":"'kros seznam'!OCB147","v":0},{"$f":"'kros seznam'!OCC147","v":0},{"$f":"'kros seznam'!OCD147","v":0},{"$f":"'kros seznam'!OCE147","v":0},{"$f":"'kros seznam'!OCF147","v":0},{"$f":"'kros seznam'!OCG147","v":0},{"$f":"'kros seznam'!OCH147","v":0},{"$f":"'kros seznam'!OCI147","v":0},{"$f":"'kros seznam'!OCJ147","v":0},{"$f":"'kros seznam'!OCK147","v":0},{"$f":"'kros seznam'!OCL147","v":0},{"$f":"'kros seznam'!OCM147","v":0},{"$f":"'kros seznam'!OCN147","v":0},{"$f":"'kros seznam'!OCO147","v":0},{"$f":"'kros seznam'!OCP147","v":0},{"$f":"'kros seznam'!OCQ147","v":0},{"$f":"'kros seznam'!OCR147","v":0},{"$f":"'kros seznam'!OCS147","v":0},{"$f":"'kros seznam'!OCT147","v":0},{"$f":"'kros seznam'!OCU147","v":0},{"$f":"'kros seznam'!OCV147","v":0},{"$f":"'kros seznam'!OCW147","v":0},{"$f":"'kros seznam'!OCX147","v":0},{"$f":"'kros seznam'!OCY147","v":0},{"$f":"'kros seznam'!OCZ147","v":0},{"$f":"'kros seznam'!ODA147","v":0},{"$f":"'kros seznam'!ODB147","v":0},{"$f":"'kros seznam'!ODC147","v":0},{"$f":"'kros seznam'!ODD147","v":0},{"$f":"'kros seznam'!ODE147","v":0},{"$f":"'kros seznam'!ODF147","v":0},{"$f":"'kros seznam'!ODG147","v":0},{"$f":"'kros seznam'!ODH147","v":0},{"$f":"'kros seznam'!ODI147","v":0},{"$f":"'kros seznam'!ODJ147","v":0},{"$f":"'kros seznam'!ODK147","v":0},{"$f":"'kros seznam'!ODL147","v":0},{"$f":"'kros seznam'!ODM147","v":0},{"$f":"'kros seznam'!ODN147","v":0},{"$f":"'kros seznam'!ODO147","v":0},{"$f":"'kros seznam'!ODP147","v":0},{"$f":"'kros seznam'!ODQ147","v":0},{"$f":"'kros seznam'!ODR147","v":0},{"$f":"'kros seznam'!ODS147","v":0},{"$f":"'kros seznam'!ODT147","v":0},{"$f":"'kros seznam'!ODU147","v":0},{"$f":"'kros seznam'!ODV147","v":0},{"$f":"'kros seznam'!ODW147","v":0},{"$f":"'kros seznam'!ODX147","v":0},{"$f":"'kros seznam'!ODY147","v":0},{"$f":"'kros seznam'!ODZ147","v":0},{"$f":"'kros seznam'!OEA147","v":0},{"$f":"'kros seznam'!OEB147","v":0},{"$f":"'kros seznam'!OEC147","v":0},{"$f":"'kros seznam'!OED147","v":0},{"$f":"'kros seznam'!OEE147","v":0},{"$f":"'kros seznam'!OEF147","v":0},{"$f":"'kros seznam'!OEG147","v":0},{"$f":"'kros seznam'!OEH147","v":0},{"$f":"'kros seznam'!OEI147","v":0},{"$f":"'kros seznam'!OEJ147","v":0},{"$f":"'kros seznam'!OEK147","v":0},{"$f":"'kros seznam'!OEL147","v":0},{"$f":"'kros seznam'!OEM147","v":0},{"$f":"'kros seznam'!OEN147","v":0},{"$f":"'kros seznam'!OEO147","v":0},{"$f":"'kros seznam'!OEP147","v":0},{"$f":"'kros seznam'!OEQ147","v":0},{"$f":"'kros seznam'!OER147","v":0},{"$f":"'kros seznam'!OES147","v":0},{"$f":"'kros seznam'!OET147","v":0},{"$f":"'kros seznam'!OEU147","v":0},{"$f":"'kros seznam'!OEV147","v":0},{"$f":"'kros seznam'!OEW147","v":0},{"$f":"'kros seznam'!OEX147","v":0},{"$f":"'kros seznam'!OEY147","v":0},{"$f":"'kros seznam'!OEZ147","v":0},{"$f":"'kros seznam'!OFA147","v":0},{"$f":"'kros seznam'!OFB147","v":0},{"$f":"'kros seznam'!OFC147","v":0},{"$f":"'kros seznam'!OFD147","v":0},{"$f":"'kros seznam'!OFE147","v":0},{"$f":"'kros seznam'!OFF147","v":0},{"$f":"'kros seznam'!OFG147","v":0},{"$f":"'kros seznam'!OFH147","v":0},{"$f":"'kros seznam'!OFI147","v":0},{"$f":"'kros seznam'!OFJ147","v":0},{"$f":"'kros seznam'!OFK147","v":0},{"$f":"'kros seznam'!OFL147","v":0},{"$f":"'kros seznam'!OFM147","v":0},{"$f":"'kros seznam'!OFN147","v":0},{"$f":"'kros seznam'!OFO147","v":0},{"$f":"'kros seznam'!OFP147","v":0},{"$f":"'kros seznam'!OFQ147","v":0},{"$f":"'kros seznam'!OFR147","v":0},{"$f":"'kros seznam'!OFS147","v":0},{"$f":"'kros seznam'!OFT147","v":0},{"$f":"'kros seznam'!OFU147","v":0},{"$f":"'kros seznam'!OFV147","v":0},{"$f":"'kros seznam'!OFW147","v":0},{"$f":"'kros seznam'!OFX147","v":0},{"$f":"'kros seznam'!OFY147","v":0},{"$f":"'kros seznam'!OFZ147","v":0},{"$f":"'kros seznam'!OGA147","v":0},{"$f":"'kros seznam'!OGB147","v":0},{"$f":"'kros seznam'!OGC147","v":0},{"$f":"'kros seznam'!OGD147","v":0},{"$f":"'kros seznam'!OGE147","v":0},{"$f":"'kros seznam'!OGF147","v":0},{"$f":"'kros seznam'!OGG147","v":0},{"$f":"'kros seznam'!OGH147","v":0},{"$f":"'kros seznam'!OGI147","v":0},{"$f":"'kros seznam'!OGJ147","v":0},{"$f":"'kros seznam'!OGK147","v":0},{"$f":"'kros seznam'!OGL147","v":0},{"$f":"'kros seznam'!OGM147","v":0},{"$f":"'kros seznam'!OGN147","v":0},{"$f":"'kros seznam'!OGO147","v":0},{"$f":"'kros seznam'!OGP147","v":0},{"$f":"'kros seznam'!OGQ147","v":0},{"$f":"'kros seznam'!OGR147","v":0},{"$f":"'kros seznam'!OGS147","v":0},{"$f":"'kros seznam'!OGT147","v":0},{"$f":"'kros seznam'!OGU147","v":0},{"$f":"'kros seznam'!OGV147","v":0},{"$f":"'kros seznam'!OGW147","v":0},{"$f":"'kros seznam'!OGX147","v":0},{"$f":"'kros seznam'!OGY147","v":0},{"$f":"'kros seznam'!OGZ147","v":0},{"$f":"'kros seznam'!OHA147","v":0},{"$f":"'kros seznam'!OHB147","v":0},{"$f":"'kros seznam'!OHC147","v":0},{"$f":"'kros seznam'!OHD147","v":0},{"$f":"'kros seznam'!OHE147","v":0},{"$f":"'kros seznam'!OHF147","v":0},{"$f":"'kros seznam'!OHG147","v":0},{"$f":"'kros seznam'!OHH147","v":0},{"$f":"'kros seznam'!OHI147","v":0},{"$f":"'kros seznam'!OHJ147","v":0},{"$f":"'kros seznam'!OHK147","v":0},{"$f":"'kros seznam'!OHL147","v":0},{"$f":"'kros seznam'!OHM147","v":0},{"$f":"'kros seznam'!OHN147","v":0},{"$f":"'kros seznam'!OHO147","v":0},{"$f":"'kros seznam'!OHP147","v":0},{"$f":"'kros seznam'!OHQ147","v":0},{"$f":"'kros seznam'!OHR147","v":0},{"$f":"'kros seznam'!OHS147","v":0},{"$f":"'kros seznam'!OHT147","v":0},{"$f":"'kros seznam'!OHU147","v":0},{"$f":"'kros seznam'!OHV147","v":0},{"$f":"'kros seznam'!OHW147","v":0},{"$f":"'kros seznam'!OHX147","v":0},{"$f":"'kros seznam'!OHY147","v":0},{"$f":"'kros seznam'!OHZ147","v":0},{"$f":"'kros seznam'!OIA147","v":0},{"$f":"'kros seznam'!OIB147","v":0},{"$f":"'kros seznam'!OIC147","v":0},{"$f":"'kros seznam'!OID147","v":0},{"$f":"'kros seznam'!OIE147","v":0},{"$f":"'kros seznam'!OIF147","v":0},{"$f":"'kros seznam'!OIG147","v":0},{"$f":"'kros seznam'!OIH147","v":0},{"$f":"'kros seznam'!OII147","v":0},{"$f":"'kros seznam'!OIJ147","v":0},{"$f":"'kros seznam'!OIK147","v":0},{"$f":"'kros seznam'!OIL147","v":0},{"$f":"'kros seznam'!OIM147","v":0},{"$f":"'kros seznam'!OIN147","v":0},{"$f":"'kros seznam'!OIO147","v":0},{"$f":"'kros seznam'!OIP147","v":0},{"$f":"'kros seznam'!OIQ147","v":0},{"$f":"'kros seznam'!OIR147","v":0},{"$f":"'kros seznam'!OIS147","v":0},{"$f":"'kros seznam'!OIT147","v":0},{"$f":"'kros seznam'!OIU147","v":0},{"$f":"'kros seznam'!OIV147","v":0},{"$f":"'kros seznam'!OIW147","v":0},{"$f":"'kros seznam'!OIX147","v":0},{"$f":"'kros seznam'!OIY147","v":0},{"$f":"'kros seznam'!OIZ147","v":0},{"$f":"'kros seznam'!OJA147","v":0},{"$f":"'kros seznam'!OJB147","v":0},{"$f":"'kros seznam'!OJC147","v":0},{"$f":"'kros seznam'!OJD147","v":0},{"$f":"'kros seznam'!OJE147","v":0},{"$f":"'kros seznam'!OJF147","v":0},{"$f":"'kros seznam'!OJG147","v":0},{"$f":"'kros seznam'!OJH147","v":0},{"$f":"'kros seznam'!OJI147","v":0},{"$f":"'kros seznam'!OJJ147","v":0},{"$f":"'kros seznam'!OJK147","v":0},{"$f":"'kros seznam'!OJL147","v":0},{"$f":"'kros seznam'!OJM147","v":0},{"$f":"'kros seznam'!OJN147","v":0},{"$f":"'kros seznam'!OJO147","v":0},{"$f":"'kros seznam'!OJP147","v":0},{"$f":"'kros seznam'!OJQ147","v":0},{"$f":"'kros seznam'!OJR147","v":0},{"$f":"'kros seznam'!OJS147","v":0},{"$f":"'kros seznam'!OJT147","v":0},{"$f":"'kros seznam'!OJU147","v":0},{"$f":"'kros seznam'!OJV147","v":0},{"$f":"'kros seznam'!OJW147","v":0},{"$f":"'kros seznam'!OJX147","v":0},{"$f":"'kros seznam'!OJY147","v":0},{"$f":"'kros seznam'!OJZ147","v":0},{"$f":"'kros seznam'!OKA147","v":0},{"$f":"'kros seznam'!OKB147","v":0},{"$f":"'kros seznam'!OKC147","v":0},{"$f":"'kros seznam'!OKD147","v":0},{"$f":"'kros seznam'!OKE147","v":0},{"$f":"'kros seznam'!OKF147","v":0},{"$f":"'kros seznam'!OKG147","v":0},{"$f":"'kros seznam'!OKH147","v":0},{"$f":"'kros seznam'!OKI147","v":0},{"$f":"'kros seznam'!OKJ147","v":0},{"$f":"'kros seznam'!OKK147","v":0},{"$f":"'kros seznam'!OKL147","v":0},{"$f":"'kros seznam'!OKM147","v":0},{"$f":"'kros seznam'!OKN147","v":0},{"$f":"'kros seznam'!OKO147","v":0},{"$f":"'kros seznam'!OKP147","v":0},{"$f":"'kros seznam'!OKQ147","v":0},{"$f":"'kros seznam'!OKR147","v":0},{"$f":"'kros seznam'!OKS147","v":0},{"$f":"'kros seznam'!OKT147","v":0},{"$f":"'kros seznam'!OKU147","v":0},{"$f":"'kros seznam'!OKV147","v":0},{"$f":"'kros seznam'!OKW147","v":0},{"$f":"'kros seznam'!OKX147","v":0},{"$f":"'kros seznam'!OKY147","v":0},{"$f":"'kros seznam'!OKZ147","v":0},{"$f":"'kros seznam'!OLA147","v":0},{"$f":"'kros seznam'!OLB147","v":0},{"$f":"'kros seznam'!OLC147","v":0},{"$f":"'kros seznam'!OLD147","v":0},{"$f":"'kros seznam'!OLE147","v":0},{"$f":"'kros seznam'!OLF147","v":0},{"$f":"'kros seznam'!OLG147","v":0},{"$f":"'kros seznam'!OLH147","v":0},{"$f":"'kros seznam'!OLI147","v":0},{"$f":"'kros seznam'!OLJ147","v":0},{"$f":"'kros seznam'!OLK147","v":0},{"$f":"'kros seznam'!OLL147","v":0},{"$f":"'kros seznam'!OLM147","v":0},{"$f":"'kros seznam'!OLN147","v":0},{"$f":"'kros seznam'!OLO147","v":0},{"$f":"'kros seznam'!OLP147","v":0},{"$f":"'kros seznam'!OLQ147","v":0},{"$f":"'kros seznam'!OLR147","v":0},{"$f":"'kros seznam'!OLS147","v":0},{"$f":"'kros seznam'!OLT147","v":0},{"$f":"'kros seznam'!OLU147","v":0},{"$f":"'kros seznam'!OLV147","v":0},{"$f":"'kros seznam'!OLW147","v":0},{"$f":"'kros seznam'!OLX147","v":0},{"$f":"'kros seznam'!OLY147","v":0},{"$f":"'kros seznam'!OLZ147","v":0},{"$f":"'kros seznam'!OMA147","v":0},{"$f":"'kros seznam'!OMB147","v":0},{"$f":"'kros seznam'!OMC147","v":0},{"$f":"'kros seznam'!OMD147","v":0},{"$f":"'kros seznam'!OME147","v":0},{"$f":"'kros seznam'!OMF147","v":0},{"$f":"'kros seznam'!OMG147","v":0},{"$f":"'kros seznam'!OMH147","v":0},{"$f":"'kros seznam'!OMI147","v":0},{"$f":"'kros seznam'!OMJ147","v":0},{"$f":"'kros seznam'!OMK147","v":0},{"$f":"'kros seznam'!OML147","v":0},{"$f":"'kros seznam'!OMM147","v":0},{"$f":"'kros seznam'!OMN147","v":0},{"$f":"'kros seznam'!OMO147","v":0},{"$f":"'kros seznam'!OMP147","v":0},{"$f":"'kros seznam'!OMQ147","v":0},{"$f":"'kros seznam'!OMR147","v":0},{"$f":"'kros seznam'!OMS147","v":0},{"$f":"'kros seznam'!OMT147","v":0},{"$f":"'kros seznam'!OMU147","v":0},{"$f":"'kros seznam'!OMV147","v":0},{"$f":"'kros seznam'!OMW147","v":0},{"$f":"'kros seznam'!OMX147","v":0},{"$f":"'kros seznam'!OMY147","v":0},{"$f":"'kros seznam'!OMZ147","v":0},{"$f":"'kros seznam'!ONA147","v":0},{"$f":"'kros seznam'!ONB147","v":0},{"$f":"'kros seznam'!ONC147","v":0},{"$f":"'kros seznam'!OND147","v":0},{"$f":"'kros seznam'!ONE147","v":0},{"$f":"'kros seznam'!ONF147","v":0},{"$f":"'kros seznam'!ONG147","v":0},{"$f":"'kros seznam'!ONH147","v":0},{"$f":"'kros seznam'!ONI147","v":0},{"$f":"'kros seznam'!ONJ147","v":0},{"$f":"'kros seznam'!ONK147","v":0},{"$f":"'kros seznam'!ONL147","v":0},{"$f":"'kros seznam'!ONM147","v":0},{"$f":"'kros seznam'!ONN147","v":0},{"$f":"'kros seznam'!ONO147","v":0},{"$f":"'kros seznam'!ONP147","v":0},{"$f":"'kros seznam'!ONQ147","v":0},{"$f":"'kros seznam'!ONR147","v":0},{"$f":"'kros seznam'!ONS147","v":0},{"$f":"'kros seznam'!ONT147","v":0},{"$f":"'kros seznam'!ONU147","v":0},{"$f":"'kros seznam'!ONV147","v":0},{"$f":"'kros seznam'!ONW147","v":0},{"$f":"'kros seznam'!ONX147","v":0},{"$f":"'kros seznam'!ONY147","v":0},{"$f":"'kros seznam'!ONZ147","v":0},{"$f":"'kros seznam'!OOA147","v":0},{"$f":"'kros seznam'!OOB147","v":0},{"$f":"'kros seznam'!OOC147","v":0},{"$f":"'kros seznam'!OOD147","v":0},{"$f":"'kros seznam'!OOE147","v":0},{"$f":"'kros seznam'!OOF147","v":0},{"$f":"'kros seznam'!OOG147","v":0},{"$f":"'kros seznam'!OOH147","v":0},{"$f":"'kros seznam'!OOI147","v":0},{"$f":"'kros seznam'!OOJ147","v":0},{"$f":"'kros seznam'!OOK147","v":0},{"$f":"'kros seznam'!OOL147","v":0},{"$f":"'kros seznam'!OOM147","v":0},{"$f":"'kros seznam'!OON147","v":0},{"$f":"'kros seznam'!OOO147","v":0},{"$f":"'kros seznam'!OOP147","v":0},{"$f":"'kros seznam'!OOQ147","v":0},{"$f":"'kros seznam'!OOR147","v":0},{"$f":"'kros seznam'!OOS147","v":0},{"$f":"'kros seznam'!OOT147","v":0},{"$f":"'kros seznam'!OOU147","v":0},{"$f":"'kros seznam'!OOV147","v":0},{"$f":"'kros seznam'!OOW147","v":0},{"$f":"'kros seznam'!OOX147","v":0},{"$f":"'kros seznam'!OOY147","v":0},{"$f":"'kros seznam'!OOZ147","v":0},{"$f":"'kros seznam'!OPA147","v":0},{"$f":"'kros seznam'!OPB147","v":0},{"$f":"'kros seznam'!OPC147","v":0},{"$f":"'kros seznam'!OPD147","v":0},{"$f":"'kros seznam'!OPE147","v":0},{"$f":"'kros seznam'!OPF147","v":0},{"$f":"'kros seznam'!OPG147","v":0},{"$f":"'kros seznam'!OPH147","v":0},{"$f":"'kros seznam'!OPI147","v":0},{"$f":"'kros seznam'!OPJ147","v":0},{"$f":"'kros seznam'!OPK147","v":0},{"$f":"'kros seznam'!OPL147","v":0},{"$f":"'kros seznam'!OPM147","v":0},{"$f":"'kros seznam'!OPN147","v":0},{"$f":"'kros seznam'!OPO147","v":0},{"$f":"'kros seznam'!OPP147","v":0},{"$f":"'kros seznam'!OPQ147","v":0},{"$f":"'kros seznam'!OPR147","v":0},{"$f":"'kros seznam'!OPS147","v":0},{"$f":"'kros seznam'!OPT147","v":0},{"$f":"'kros seznam'!OPU147","v":0},{"$f":"'kros seznam'!OPV147","v":0},{"$f":"'kros seznam'!OPW147","v":0},{"$f":"'kros seznam'!OPX147","v":0},{"$f":"'kros seznam'!OPY147","v":0},{"$f":"'kros seznam'!OPZ147","v":0},{"$f":"'kros seznam'!OQA147","v":0},{"$f":"'kros seznam'!OQB147","v":0},{"$f":"'kros seznam'!OQC147","v":0},{"$f":"'kros seznam'!OQD147","v":0},{"$f":"'kros seznam'!OQE147","v":0},{"$f":"'kros seznam'!OQF147","v":0},{"$f":"'kros seznam'!OQG147","v":0},{"$f":"'kros seznam'!OQH147","v":0},{"$f":"'kros seznam'!OQI147","v":0},{"$f":"'kros seznam'!OQJ147","v":0},{"$f":"'kros seznam'!OQK147","v":0},{"$f":"'kros seznam'!OQL147","v":0},{"$f":"'kros seznam'!OQM147","v":0},{"$f":"'kros seznam'!OQN147","v":0},{"$f":"'kros seznam'!OQO147","v":0},{"$f":"'kros seznam'!OQP147","v":0},{"$f":"'kros seznam'!OQQ147","v":0},{"$f":"'kros seznam'!OQR147","v":0},{"$f":"'kros seznam'!OQS147","v":0},{"$f":"'kros seznam'!OQT147","v":0},{"$f":"'kros seznam'!OQU147","v":0},{"$f":"'kros seznam'!OQV147","v":0},{"$f":"'kros seznam'!OQW147","v":0},{"$f":"'kros seznam'!OQX147","v":0},{"$f":"'kros seznam'!OQY147","v":0},{"$f":"'kros seznam'!OQZ147","v":0},{"$f":"'kros seznam'!ORA147","v":0},{"$f":"'kros seznam'!ORB147","v":0},{"$f":"'kros seznam'!ORC147","v":0},{"$f":"'kros seznam'!ORD147","v":0},{"$f":"'kros seznam'!ORE147","v":0},{"$f":"'kros seznam'!ORF147","v":0},{"$f":"'kros seznam'!ORG147","v":0},{"$f":"'kros seznam'!ORH147","v":0},{"$f":"'kros seznam'!ORI147","v":0},{"$f":"'kros seznam'!ORJ147","v":0},{"$f":"'kros seznam'!ORK147","v":0},{"$f":"'kros seznam'!ORL147","v":0},{"$f":"'kros seznam'!ORM147","v":0},{"$f":"'kros seznam'!ORN147","v":0},{"$f":"'kros seznam'!ORO147","v":0},{"$f":"'kros seznam'!ORP147","v":0},{"$f":"'kros seznam'!ORQ147","v":0},{"$f":"'kros seznam'!ORR147","v":0},{"$f":"'kros seznam'!ORS147","v":0},{"$f":"'kros seznam'!ORT147","v":0},{"$f":"'kros seznam'!ORU147","v":0},{"$f":"'kros seznam'!ORV147","v":0},{"$f":"'kros seznam'!ORW147","v":0},{"$f":"'kros seznam'!ORX147","v":0},{"$f":"'kros seznam'!ORY147","v":0},{"$f":"'kros seznam'!ORZ147","v":0},{"$f":"'kros seznam'!OSA147","v":0},{"$f":"'kros seznam'!OSB147","v":0},{"$f":"'kros seznam'!OSC147","v":0},{"$f":"'kros seznam'!OSD147","v":0},{"$f":"'kros seznam'!OSE147","v":0},{"$f":"'kros seznam'!OSF147","v":0},{"$f":"'kros seznam'!OSG147","v":0},{"$f":"'kros seznam'!OSH147","v":0},{"$f":"'kros seznam'!OSI147","v":0},{"$f":"'kros seznam'!OSJ147","v":0},{"$f":"'kros seznam'!OSK147","v":0},{"$f":"'kros seznam'!OSL147","v":0},{"$f":"'kros seznam'!OSM147","v":0},{"$f":"'kros seznam'!OSN147","v":0},{"$f":"'kros seznam'!OSO147","v":0},{"$f":"'kros seznam'!OSP147","v":0},{"$f":"'kros seznam'!OSQ147","v":0},{"$f":"'kros seznam'!OSR147","v":0},{"$f":"'kros seznam'!OSS147","v":0},{"$f":"'kros seznam'!OST147","v":0},{"$f":"'kros seznam'!OSU147","v":0},{"$f":"'kros seznam'!OSV147","v":0},{"$f":"'kros seznam'!OSW147","v":0},{"$f":"'kros seznam'!OSX147","v":0},{"$f":"'kros seznam'!OSY147","v":0},{"$f":"'kros seznam'!OSZ147","v":0},{"$f":"'kros seznam'!OTA147","v":0},{"$f":"'kros seznam'!OTB147","v":0},{"$f":"'kros seznam'!OTC147","v":0},{"$f":"'kros seznam'!OTD147","v":0},{"$f":"'kros seznam'!OTE147","v":0},{"$f":"'kros seznam'!OTF147","v":0},{"$f":"'kros seznam'!OTG147","v":0},{"$f":"'kros seznam'!OTH147","v":0},{"$f":"'kros seznam'!OTI147","v":0},{"$f":"'kros seznam'!OTJ147","v":0},{"$f":"'kros seznam'!OTK147","v":0},{"$f":"'kros seznam'!OTL147","v":0},{"$f":"'kros seznam'!OTM147","v":0},{"$f":"'kros seznam'!OTN147","v":0},{"$f":"'kros seznam'!OTO147","v":0},{"$f":"'kros seznam'!OTP147","v":0},{"$f":"'kros seznam'!OTQ147","v":0},{"$f":"'kros seznam'!OTR147","v":0},{"$f":"'kros seznam'!OTS147","v":0},{"$f":"'kros seznam'!OTT147","v":0},{"$f":"'kros seznam'!OTU147","v":0},{"$f":"'kros seznam'!OTV147","v":0},{"$f":"'kros seznam'!OTW147","v":0},{"$f":"'kros seznam'!OTX147","v":0},{"$f":"'kros seznam'!OTY147","v":0},{"$f":"'kros seznam'!OTZ147","v":0},{"$f":"'kros seznam'!OUA147","v":0},{"$f":"'kros seznam'!OUB147","v":0},{"$f":"'kros seznam'!OUC147","v":0},{"$f":"'kros seznam'!OUD147","v":0},{"$f":"'kros seznam'!OUE147","v":0},{"$f":"'kros seznam'!OUF147","v":0},{"$f":"'kros seznam'!OUG147","v":0},{"$f":"'kros seznam'!OUH147","v":0},{"$f":"'kros seznam'!OUI147","v":0},{"$f":"'kros seznam'!OUJ147","v":0},{"$f":"'kros seznam'!OUK147","v":0},{"$f":"'kros seznam'!OUL147","v":0},{"$f":"'kros seznam'!OUM147","v":0},{"$f":"'kros seznam'!OUN147","v":0},{"$f":"'kros seznam'!OUO147","v":0},{"$f":"'kros seznam'!OUP147","v":0},{"$f":"'kros seznam'!OUQ147","v":0},{"$f":"'kros seznam'!OUR147","v":0},{"$f":"'kros seznam'!OUS147","v":0},{"$f":"'kros seznam'!OUT147","v":0},{"$f":"'kros seznam'!OUU147","v":0},{"$f":"'kros seznam'!OUV147","v":0},{"$f":"'kros seznam'!OUW147","v":0},{"$f":"'kros seznam'!OUX147","v":0},{"$f":"'kros seznam'!OUY147","v":0},{"$f":"'kros seznam'!OUZ147","v":0},{"$f":"'kros seznam'!OVA147","v":0},{"$f":"'kros seznam'!OVB147","v":0},{"$f":"'kros seznam'!OVC147","v":0},{"$f":"'kros seznam'!OVD147","v":0},{"$f":"'kros seznam'!OVE147","v":0},{"$f":"'kros seznam'!OVF147","v":0},{"$f":"'kros seznam'!OVG147","v":0},{"$f":"'kros seznam'!OVH147","v":0},{"$f":"'kros seznam'!OVI147","v":0},{"$f":"'kros seznam'!OVJ147","v":0},{"$f":"'kros seznam'!OVK147","v":0},{"$f":"'kros seznam'!OVL147","v":0},{"$f":"'kros seznam'!OVM147","v":0},{"$f":"'kros seznam'!OVN147","v":0},{"$f":"'kros seznam'!OVO147","v":0},{"$f":"'kros seznam'!OVP147","v":0},{"$f":"'kros seznam'!OVQ147","v":0},{"$f":"'kros seznam'!OVR147","v":0},{"$f":"'kros seznam'!OVS147","v":0},{"$f":"'kros seznam'!OVT147","v":0},{"$f":"'kros seznam'!OVU147","v":0},{"$f":"'kros seznam'!OVV147","v":0},{"$f":"'kros seznam'!OVW147","v":0},{"$f":"'kros seznam'!OVX147","v":0},{"$f":"'kros seznam'!OVY147","v":0},{"$f":"'kros seznam'!OVZ147","v":0},{"$f":"'kros seznam'!OWA147","v":0},{"$f":"'kros seznam'!OWB147","v":0},{"$f":"'kros seznam'!OWC147","v":0},{"$f":"'kros seznam'!OWD147","v":0},{"$f":"'kros seznam'!OWE147","v":0},{"$f":"'kros seznam'!OWF147","v":0},{"$f":"'kros seznam'!OWG147","v":0},{"$f":"'kros seznam'!OWH147","v":0},{"$f":"'kros seznam'!OWI147","v":0},{"$f":"'kros seznam'!OWJ147","v":0},{"$f":"'kros seznam'!OWK147","v":0},{"$f":"'kros seznam'!OWL147","v":0},{"$f":"'kros seznam'!OWM147","v":0},{"$f":"'kros seznam'!OWN147","v":0},{"$f":"'kros seznam'!OWO147","v":0},{"$f":"'kros seznam'!OWP147","v":0},{"$f":"'kros seznam'!OWQ147","v":0},{"$f":"'kros seznam'!OWR147","v":0},{"$f":"'kros seznam'!OWS147","v":0},{"$f":"'kros seznam'!OWT147","v":0},{"$f":"'kros seznam'!OWU147","v":0},{"$f":"'kros seznam'!OWV147","v":0},{"$f":"'kros seznam'!OWW147","v":0},{"$f":"'kros seznam'!OWX147","v":0},{"$f":"'kros seznam'!OWY147","v":0},{"$f":"'kros seznam'!OWZ147","v":0},{"$f":"'kros seznam'!OXA147","v":0},{"$f":"'kros seznam'!OXB147","v":0},{"$f":"'kros seznam'!OXC147","v":0},{"$f":"'kros seznam'!OXD147","v":0},{"$f":"'kros seznam'!OXE147","v":0},{"$f":"'kros seznam'!OXF147","v":0},{"$f":"'kros seznam'!OXG147","v":0},{"$f":"'kros seznam'!OXH147","v":0},{"$f":"'kros seznam'!OXI147","v":0},{"$f":"'kros seznam'!OXJ147","v":0},{"$f":"'kros seznam'!OXK147","v":0},{"$f":"'kros seznam'!OXL147","v":0},{"$f":"'kros seznam'!OXM147","v":0},{"$f":"'kros seznam'!OXN147","v":0},{"$f":"'kros seznam'!OXO147","v":0},{"$f":"'kros seznam'!OXP147","v":0},{"$f":"'kros seznam'!OXQ147","v":0},{"$f":"'kros seznam'!OXR147","v":0},{"$f":"'kros seznam'!OXS147","v":0},{"$f":"'kros seznam'!OXT147","v":0},{"$f":"'kros seznam'!OXU147","v":0},{"$f":"'kros seznam'!OXV147","v":0},{"$f":"'kros seznam'!OXW147","v":0},{"$f":"'kros seznam'!OXX147","v":0},{"$f":"'kros seznam'!OXY147","v":0},{"$f":"'kros seznam'!OXZ147","v":0},{"$f":"'kros seznam'!OYA147","v":0},{"$f":"'kros seznam'!OYB147","v":0},{"$f":"'kros seznam'!OYC147","v":0},{"$f":"'kros seznam'!OYD147","v":0},{"$f":"'kros seznam'!OYE147","v":0},{"$f":"'kros seznam'!OYF147","v":0},{"$f":"'kros seznam'!OYG147","v":0},{"$f":"'kros seznam'!OYH147","v":0},{"$f":"'kros seznam'!OYI147","v":0},{"$f":"'kros seznam'!OYJ147","v":0},{"$f":"'kros seznam'!OYK147","v":0},{"$f":"'kros seznam'!OYL147","v":0},{"$f":"'kros seznam'!OYM147","v":0},{"$f":"'kros seznam'!OYN147","v":0},{"$f":"'kros seznam'!OYO147","v":0},{"$f":"'kros seznam'!OYP147","v":0},{"$f":"'kros seznam'!OYQ147","v":0},{"$f":"'kros seznam'!OYR147","v":0},{"$f":"'kros seznam'!OYS147","v":0},{"$f":"'kros seznam'!OYT147","v":0},{"$f":"'kros seznam'!OYU147","v":0},{"$f":"'kros seznam'!OYV147","v":0},{"$f":"'kros seznam'!OYW147","v":0},{"$f":"'kros seznam'!OYX147","v":0},{"$f":"'kros seznam'!OYY147","v":0},{"$f":"'kros seznam'!OYZ147","v":0},{"$f":"'kros seznam'!OZA147","v":0},{"$f":"'kros seznam'!OZB147","v":0},{"$f":"'kros seznam'!OZC147","v":0},{"$f":"'kros seznam'!OZD147","v":0},{"$f":"'kros seznam'!OZE147","v":0},{"$f":"'kros seznam'!OZF147","v":0},{"$f":"'kros seznam'!OZG147","v":0},{"$f":"'kros seznam'!OZH147","v":0},{"$f":"'kros seznam'!OZI147","v":0},{"$f":"'kros seznam'!OZJ147","v":0},{"$f":"'kros seznam'!OZK147","v":0},{"$f":"'kros seznam'!OZL147","v":0},{"$f":"'kros seznam'!OZM147","v":0},{"$f":"'kros seznam'!OZN147","v":0},{"$f":"'kros seznam'!OZO147","v":0},{"$f":"'kros seznam'!OZP147","v":0},{"$f":"'kros seznam'!OZQ147","v":0},{"$f":"'kros seznam'!OZR147","v":0},{"$f":"'kros seznam'!OZS147","v":0},{"$f":"'kros seznam'!OZT147","v":0},{"$f":"'kros seznam'!OZU147","v":0},{"$f":"'kros seznam'!OZV147","v":0},{"$f":"'kros seznam'!OZW147","v":0},{"$f":"'kros seznam'!OZX147","v":0},{"$f":"'kros seznam'!OZY147","v":0},{"$f":"'kros seznam'!OZZ147","v":0},{"$f":"'kros seznam'!PAA147","v":0},{"$f":"'kros seznam'!PAB147","v":0},{"$f":"'kros seznam'!PAC147","v":0},{"$f":"'kros seznam'!PAD147","v":0},{"$f":"'kros seznam'!PAE147","v":0},{"$f":"'kros seznam'!PAF147","v":0},{"$f":"'kros seznam'!PAG147","v":0},{"$f":"'kros seznam'!PAH147","v":0},{"$f":"'kros seznam'!PAI147","v":0},{"$f":"'kros seznam'!PAJ147","v":0},{"$f":"'kros seznam'!PAK147","v":0},{"$f":"'kros seznam'!PAL147","v":0},{"$f":"'kros seznam'!PAM147","v":0},{"$f":"'kros seznam'!PAN147","v":0},{"$f":"'kros seznam'!PAO147","v":0},{"$f":"'kros seznam'!PAP147","v":0},{"$f":"'kros seznam'!PAQ147","v":0},{"$f":"'kros seznam'!PAR147","v":0},{"$f":"'kros seznam'!PAS147","v":0},{"$f":"'kros seznam'!PAT147","v":0},{"$f":"'kros seznam'!PAU147","v":0},{"$f":"'kros seznam'!PAV147","v":0},{"$f":"'kros seznam'!PAW147","v":0},{"$f":"'kros seznam'!PAX147","v":0},{"$f":"'kros seznam'!PAY147","v":0},{"$f":"'kros seznam'!PAZ147","v":0},{"$f":"'kros seznam'!PBA147","v":0},{"$f":"'kros seznam'!PBB147","v":0},{"$f":"'kros seznam'!PBC147","v":0},{"$f":"'kros seznam'!PBD147","v":0},{"$f":"'kros seznam'!PBE147","v":0},{"$f":"'kros seznam'!PBF147","v":0},{"$f":"'kros seznam'!PBG147","v":0},{"$f":"'kros seznam'!PBH147","v":0},{"$f":"'kros seznam'!PBI147","v":0},{"$f":"'kros seznam'!PBJ147","v":0},{"$f":"'kros seznam'!PBK147","v":0},{"$f":"'kros seznam'!PBL147","v":0},{"$f":"'kros seznam'!PBM147","v":0},{"$f":"'kros seznam'!PBN147","v":0},{"$f":"'kros seznam'!PBO147","v":0},{"$f":"'kros seznam'!PBP147","v":0},{"$f":"'kros seznam'!PBQ147","v":0},{"$f":"'kros seznam'!PBR147","v":0},{"$f":"'kros seznam'!PBS147","v":0},{"$f":"'kros seznam'!PBT147","v":0},{"$f":"'kros seznam'!PBU147","v":0},{"$f":"'kros seznam'!PBV147","v":0},{"$f":"'kros seznam'!PBW147","v":0},{"$f":"'kros seznam'!PBX147","v":0},{"$f":"'kros seznam'!PBY147","v":0},{"$f":"'kros seznam'!PBZ147","v":0},{"$f":"'kros seznam'!PCA147","v":0},{"$f":"'kros seznam'!PCB147","v":0},{"$f":"'kros seznam'!PCC147","v":0},{"$f":"'kros seznam'!PCD147","v":0},{"$f":"'kros seznam'!PCE147","v":0},{"$f":"'kros seznam'!PCF147","v":0},{"$f":"'kros seznam'!PCG147","v":0},{"$f":"'kros seznam'!PCH147","v":0},{"$f":"'kros seznam'!PCI147","v":0},{"$f":"'kros seznam'!PCJ147","v":0},{"$f":"'kros seznam'!PCK147","v":0},{"$f":"'kros seznam'!PCL147","v":0},{"$f":"'kros seznam'!PCM147","v":0},{"$f":"'kros seznam'!PCN147","v":0},{"$f":"'kros seznam'!PCO147","v":0},{"$f":"'kros seznam'!PCP147","v":0},{"$f":"'kros seznam'!PCQ147","v":0},{"$f":"'kros seznam'!PCR147","v":0},{"$f":"'kros seznam'!PCS147","v":0},{"$f":"'kros seznam'!PCT147","v":0},{"$f":"'kros seznam'!PCU147","v":0},{"$f":"'kros seznam'!PCV147","v":0},{"$f":"'kros seznam'!PCW147","v":0},{"$f":"'kros seznam'!PCX147","v":0},{"$f":"'kros seznam'!PCY147","v":0},{"$f":"'kros seznam'!PCZ147","v":0},{"$f":"'kros seznam'!PDA147","v":0},{"$f":"'kros seznam'!PDB147","v":0},{"$f":"'kros seznam'!PDC147","v":0},{"$f":"'kros seznam'!PDD147","v":0},{"$f":"'kros seznam'!PDE147","v":0},{"$f":"'kros seznam'!PDF147","v":0},{"$f":"'kros seznam'!PDG147","v":0},{"$f":"'kros seznam'!PDH147","v":0},{"$f":"'kros seznam'!PDI147","v":0},{"$f":"'kros seznam'!PDJ147","v":0},{"$f":"'kros seznam'!PDK147","v":0},{"$f":"'kros seznam'!PDL147","v":0},{"$f":"'kros seznam'!PDM147","v":0},{"$f":"'kros seznam'!PDN147","v":0},{"$f":"'kros seznam'!PDO147","v":0},{"$f":"'kros seznam'!PDP147","v":0},{"$f":"'kros seznam'!PDQ147","v":0},{"$f":"'kros seznam'!PDR147","v":0},{"$f":"'kros seznam'!PDS147","v":0},{"$f":"'kros seznam'!PDT147","v":0},{"$f":"'kros seznam'!PDU147","v":0},{"$f":"'kros seznam'!PDV147","v":0},{"$f":"'kros seznam'!PDW147","v":0},{"$f":"'kros seznam'!PDX147","v":0},{"$f":"'kros seznam'!PDY147","v":0},{"$f":"'kros seznam'!PDZ147","v":0},{"$f":"'kros seznam'!PEA147","v":0},{"$f":"'kros seznam'!PEB147","v":0},{"$f":"'kros seznam'!PEC147","v":0},{"$f":"'kros seznam'!PED147","v":0},{"$f":"'kros seznam'!PEE147","v":0},{"$f":"'kros seznam'!PEF147","v":0},{"$f":"'kros seznam'!PEG147","v":0},{"$f":"'kros seznam'!PEH147","v":0},{"$f":"'kros seznam'!PEI147","v":0},{"$f":"'kros seznam'!PEJ147","v":0},{"$f":"'kros seznam'!PEK147","v":0},{"$f":"'kros seznam'!PEL147","v":0},{"$f":"'kros seznam'!PEM147","v":0},{"$f":"'kros seznam'!PEN147","v":0},{"$f":"'kros seznam'!PEO147","v":0},{"$f":"'kros seznam'!PEP147","v":0},{"$f":"'kros seznam'!PEQ147","v":0},{"$f":"'kros seznam'!PER147","v":0},{"$f":"'kros seznam'!PES147","v":0},{"$f":"'kros seznam'!PET147","v":0},{"$f":"'kros seznam'!PEU147","v":0},{"$f":"'kros seznam'!PEV147","v":0},{"$f":"'kros seznam'!PEW147","v":0},{"$f":"'kros seznam'!PEX147","v":0},{"$f":"'kros seznam'!PEY147","v":0},{"$f":"'kros seznam'!PEZ147","v":0},{"$f":"'kros seznam'!PFA147","v":0},{"$f":"'kros seznam'!PFB147","v":0},{"$f":"'kros seznam'!PFC147","v":0},{"$f":"'kros seznam'!PFD147","v":0},{"$f":"'kros seznam'!PFE147","v":0},{"$f":"'kros seznam'!PFF147","v":0},{"$f":"'kros seznam'!PFG147","v":0},{"$f":"'kros seznam'!PFH147","v":0},{"$f":"'kros seznam'!PFI147","v":0},{"$f":"'kros seznam'!PFJ147","v":0},{"$f":"'kros seznam'!PFK147","v":0},{"$f":"'kros seznam'!PFL147","v":0},{"$f":"'kros seznam'!PFM147","v":0},{"$f":"'kros seznam'!PFN147","v":0},{"$f":"'kros seznam'!PFO147","v":0},{"$f":"'kros seznam'!PFP147","v":0},{"$f":"'kros seznam'!PFQ147","v":0},{"$f":"'kros seznam'!PFR147","v":0},{"$f":"'kros seznam'!PFS147","v":0},{"$f":"'kros seznam'!PFT147","v":0},{"$f":"'kros seznam'!PFU147","v":0},{"$f":"'kros seznam'!PFV147","v":0},{"$f":"'kros seznam'!PFW147","v":0},{"$f":"'kros seznam'!PFX147","v":0},{"$f":"'kros seznam'!PFY147","v":0},{"$f":"'kros seznam'!PFZ147","v":0},{"$f":"'kros seznam'!PGA147","v":0},{"$f":"'kros seznam'!PGB147","v":0},{"$f":"'kros seznam'!PGC147","v":0},{"$f":"'kros seznam'!PGD147","v":0},{"$f":"'kros seznam'!PGE147","v":0},{"$f":"'kros seznam'!PGF147","v":0},{"$f":"'kros seznam'!PGG147","v":0},{"$f":"'kros seznam'!PGH147","v":0},{"$f":"'kros seznam'!PGI147","v":0},{"$f":"'kros seznam'!PGJ147","v":0},{"$f":"'kros seznam'!PGK147","v":0},{"$f":"'kros seznam'!PGL147","v":0},{"$f":"'kros seznam'!PGM147","v":0},{"$f":"'kros seznam'!PGN147","v":0},{"$f":"'kros seznam'!PGO147","v":0},{"$f":"'kros seznam'!PGP147","v":0},{"$f":"'kros seznam'!PGQ147","v":0},{"$f":"'kros seznam'!PGR147","v":0},{"$f":"'kros seznam'!PGS147","v":0},{"$f":"'kros seznam'!PGT147","v":0},{"$f":"'kros seznam'!PGU147","v":0},{"$f":"'kros seznam'!PGV147","v":0},{"$f":"'kros seznam'!PGW147","v":0},{"$f":"'kros seznam'!PGX147","v":0},{"$f":"'kros seznam'!PGY147","v":0},{"$f":"'kros seznam'!PGZ147","v":0},{"$f":"'kros seznam'!PHA147","v":0},{"$f":"'kros seznam'!PHB147","v":0},{"$f":"'kros seznam'!PHC147","v":0},{"$f":"'kros seznam'!PHD147","v":0},{"$f":"'kros seznam'!PHE147","v":0},{"$f":"'kros seznam'!PHF147","v":0},{"$f":"'kros seznam'!PHG147","v":0},{"$f":"'kros seznam'!PHH147","v":0},{"$f":"'kros seznam'!PHI147","v":0},{"$f":"'kros seznam'!PHJ147","v":0},{"$f":"'kros seznam'!PHK147","v":0},{"$f":"'kros seznam'!PHL147","v":0},{"$f":"'kros seznam'!PHM147","v":0},{"$f":"'kros seznam'!PHN147","v":0},{"$f":"'kros seznam'!PHO147","v":0},{"$f":"'kros seznam'!PHP147","v":0},{"$f":"'kros seznam'!PHQ147","v":0},{"$f":"'kros seznam'!PHR147","v":0},{"$f":"'kros seznam'!PHS147","v":0},{"$f":"'kros seznam'!PHT147","v":0},{"$f":"'kros seznam'!PHU147","v":0},{"$f":"'kros seznam'!PHV147","v":0},{"$f":"'kros seznam'!PHW147","v":0},{"$f":"'kros seznam'!PHX147","v":0},{"$f":"'kros seznam'!PHY147","v":0},{"$f":"'kros seznam'!PHZ147","v":0},{"$f":"'kros seznam'!PIA147","v":0},{"$f":"'kros seznam'!PIB147","v":0},{"$f":"'kros seznam'!PIC147","v":0},{"$f":"'kros seznam'!PID147","v":0},{"$f":"'kros seznam'!PIE147","v":0},{"$f":"'kros seznam'!PIF147","v":0},{"$f":"'kros seznam'!PIG147","v":0},{"$f":"'kros seznam'!PIH147","v":0},{"$f":"'kros seznam'!PII147","v":0},{"$f":"'kros seznam'!PIJ147","v":0},{"$f":"'kros seznam'!PIK147","v":0},{"$f":"'kros seznam'!PIL147","v":0},{"$f":"'kros seznam'!PIM147","v":0},{"$f":"'kros seznam'!PIN147","v":0},{"$f":"'kros seznam'!PIO147","v":0},{"$f":"'kros seznam'!PIP147","v":0},{"$f":"'kros seznam'!PIQ147","v":0},{"$f":"'kros seznam'!PIR147","v":0},{"$f":"'kros seznam'!PIS147","v":0},{"$f":"'kros seznam'!PIT147","v":0},{"$f":"'kros seznam'!PIU147","v":0},{"$f":"'kros seznam'!PIV147","v":0},{"$f":"'kros seznam'!PIW147","v":0},{"$f":"'kros seznam'!PIX147","v":0},{"$f":"'kros seznam'!PIY147","v":0},{"$f":"'kros seznam'!PIZ147","v":0},{"$f":"'kros seznam'!PJA147","v":0},{"$f":"'kros seznam'!PJB147","v":0},{"$f":"'kros seznam'!PJC147","v":0},{"$f":"'kros seznam'!PJD147","v":0},{"$f":"'kros seznam'!PJE147","v":0},{"$f":"'kros seznam'!PJF147","v":0},{"$f":"'kros seznam'!PJG147","v":0},{"$f":"'kros seznam'!PJH147","v":0},{"$f":"'kros seznam'!PJI147","v":0},{"$f":"'kros seznam'!PJJ147","v":0},{"$f":"'kros seznam'!PJK147","v":0},{"$f":"'kros seznam'!PJL147","v":0},{"$f":"'kros seznam'!PJM147","v":0},{"$f":"'kros seznam'!PJN147","v":0},{"$f":"'kros seznam'!PJO147","v":0},{"$f":"'kros seznam'!PJP147","v":0},{"$f":"'kros seznam'!PJQ147","v":0},{"$f":"'kros seznam'!PJR147","v":0},{"$f":"'kros seznam'!PJS147","v":0},{"$f":"'kros seznam'!PJT147","v":0},{"$f":"'kros seznam'!PJU147","v":0},{"$f":"'kros seznam'!PJV147","v":0},{"$f":"'kros seznam'!PJW147","v":0},{"$f":"'kros seznam'!PJX147","v":0},{"$f":"'kros seznam'!PJY147","v":0},{"$f":"'kros seznam'!PJZ147","v":0},{"$f":"'kros seznam'!PKA147","v":0},{"$f":"'kros seznam'!PKB147","v":0},{"$f":"'kros seznam'!PKC147","v":0},{"$f":"'kros seznam'!PKD147","v":0},{"$f":"'kros seznam'!PKE147","v":0},{"$f":"'kros seznam'!PKF147","v":0},{"$f":"'kros seznam'!PKG147","v":0},{"$f":"'kros seznam'!PKH147","v":0},{"$f":"'kros seznam'!PKI147","v":0},{"$f":"'kros seznam'!PKJ147","v":0},{"$f":"'kros seznam'!PKK147","v":0},{"$f":"'kros seznam'!PKL147","v":0},{"$f":"'kros seznam'!PKM147","v":0},{"$f":"'kros seznam'!PKN147","v":0},{"$f":"'kros seznam'!PKO147","v":0},{"$f":"'kros seznam'!PKP147","v":0},{"$f":"'kros seznam'!PKQ147","v":0},{"$f":"'kros seznam'!PKR147","v":0},{"$f":"'kros seznam'!PKS147","v":0},{"$f":"'kros seznam'!PKT147","v":0},{"$f":"'kros seznam'!PKU147","v":0},{"$f":"'kros seznam'!PKV147","v":0},{"$f":"'kros seznam'!PKW147","v":0},{"$f":"'kros seznam'!PKX147","v":0},{"$f":"'kros seznam'!PKY147","v":0},{"$f":"'kros seznam'!PKZ147","v":0},{"$f":"'kros seznam'!PLA147","v":0},{"$f":"'kros seznam'!PLB147","v":0},{"$f":"'kros seznam'!PLC147","v":0},{"$f":"'kros seznam'!PLD147","v":0},{"$f":"'kros seznam'!PLE147","v":0},{"$f":"'kros seznam'!PLF147","v":0},{"$f":"'kros seznam'!PLG147","v":0},{"$f":"'kros seznam'!PLH147","v":0},{"$f":"'kros seznam'!PLI147","v":0},{"$f":"'kros seznam'!PLJ147","v":0},{"$f":"'kros seznam'!PLK147","v":0},{"$f":"'kros seznam'!PLL147","v":0},{"$f":"'kros seznam'!PLM147","v":0},{"$f":"'kros seznam'!PLN147","v":0},{"$f":"'kros seznam'!PLO147","v":0},{"$f":"'kros seznam'!PLP147","v":0},{"$f":"'kros seznam'!PLQ147","v":0},{"$f":"'kros seznam'!PLR147","v":0},{"$f":"'kros seznam'!PLS147","v":0},{"$f":"'kros seznam'!PLT147","v":0},{"$f":"'kros seznam'!PLU147","v":0},{"$f":"'kros seznam'!PLV147","v":0},{"$f":"'kros seznam'!PLW147","v":0},{"$f":"'kros seznam'!PLX147","v":0},{"$f":"'kros seznam'!PLY147","v":0},{"$f":"'kros seznam'!PLZ147","v":0},{"$f":"'kros seznam'!PMA147","v":0},{"$f":"'kros seznam'!PMB147","v":0},{"$f":"'kros seznam'!PMC147","v":0},{"$f":"'kros seznam'!PMD147","v":0},{"$f":"'kros seznam'!PME147","v":0},{"$f":"'kros seznam'!PMF147","v":0},{"$f":"'kros seznam'!PMG147","v":0},{"$f":"'kros seznam'!PMH147","v":0},{"$f":"'kros seznam'!PMI147","v":0},{"$f":"'kros seznam'!PMJ147","v":0},{"$f":"'kros seznam'!PMK147","v":0},{"$f":"'kros seznam'!PML147","v":0},{"$f":"'kros seznam'!PMM147","v":0},{"$f":"'kros seznam'!PMN147","v":0},{"$f":"'kros seznam'!PMO147","v":0},{"$f":"'kros seznam'!PMP147","v":0},{"$f":"'kros seznam'!PMQ147","v":0},{"$f":"'kros seznam'!PMR147","v":0},{"$f":"'kros seznam'!PMS147","v":0},{"$f":"'kros seznam'!PMT147","v":0},{"$f":"'kros seznam'!PMU147","v":0},{"$f":"'kros seznam'!PMV147","v":0},{"$f":"'kros seznam'!PMW147","v":0},{"$f":"'kros seznam'!PMX147","v":0},{"$f":"'kros seznam'!PMY147","v":0},{"$f":"'kros seznam'!PMZ147","v":0},{"$f":"'kros seznam'!PNA147","v":0},{"$f":"'kros seznam'!PNB147","v":0},{"$f":"'kros seznam'!PNC147","v":0},{"$f":"'kros seznam'!PND147","v":0},{"$f":"'kros seznam'!PNE147","v":0},{"$f":"'kros seznam'!PNF147","v":0},{"$f":"'kros seznam'!PNG147","v":0},{"$f":"'kros seznam'!PNH147","v":0},{"$f":"'kros seznam'!PNI147","v":0},{"$f":"'kros seznam'!PNJ147","v":0},{"$f":"'kros seznam'!PNK147","v":0},{"$f":"'kros seznam'!PNL147","v":0},{"$f":"'kros seznam'!PNM147","v":0},{"$f":"'kros seznam'!PNN147","v":0},{"$f":"'kros seznam'!PNO147","v":0},{"$f":"'kros seznam'!PNP147","v":0},{"$f":"'kros seznam'!PNQ147","v":0},{"$f":"'kros seznam'!PNR147","v":0},{"$f":"'kros seznam'!PNS147","v":0},{"$f":"'kros seznam'!PNT147","v":0},{"$f":"'kros seznam'!PNU147","v":0},{"$f":"'kros seznam'!PNV147","v":0},{"$f":"'kros seznam'!PNW147","v":0},{"$f":"'kros seznam'!PNX147","v":0},{"$f":"'kros seznam'!PNY147","v":0},{"$f":"'kros seznam'!PNZ147","v":0},{"$f":"'kros seznam'!POA147","v":0},{"$f":"'kros seznam'!POB147","v":0},{"$f":"'kros seznam'!POC147","v":0},{"$f":"'kros seznam'!POD147","v":0},{"$f":"'kros seznam'!POE147","v":0},{"$f":"'kros seznam'!POF147","v":0},{"$f":"'kros seznam'!POG147","v":0},{"$f":"'kros seznam'!POH147","v":0},{"$f":"'kros seznam'!POI147","v":0},{"$f":"'kros seznam'!POJ147","v":0},{"$f":"'kros seznam'!POK147","v":0},{"$f":"'kros seznam'!POL147","v":0},{"$f":"'kros seznam'!POM147","v":0},{"$f":"'kros seznam'!PON147","v":0},{"$f":"'kros seznam'!POO147","v":0},{"$f":"'kros seznam'!POP147","v":0},{"$f":"'kros seznam'!POQ147","v":0},{"$f":"'kros seznam'!POR147","v":0},{"$f":"'kros seznam'!POS147","v":0},{"$f":"'kros seznam'!POT147","v":0},{"$f":"'kros seznam'!POU147","v":0},{"$f":"'kros seznam'!POV147","v":0},{"$f":"'kros seznam'!POW147","v":0},{"$f":"'kros seznam'!POX147","v":0},{"$f":"'kros seznam'!POY147","v":0},{"$f":"'kros seznam'!POZ147","v":0},{"$f":"'kros seznam'!PPA147","v":0},{"$f":"'kros seznam'!PPB147","v":0},{"$f":"'kros seznam'!PPC147","v":0},{"$f":"'kros seznam'!PPD147","v":0},{"$f":"'kros seznam'!PPE147","v":0},{"$f":"'kros seznam'!PPF147","v":0},{"$f":"'kros seznam'!PPG147","v":0},{"$f":"'kros seznam'!PPH147","v":0},{"$f":"'kros seznam'!PPI147","v":0},{"$f":"'kros seznam'!PPJ147","v":0},{"$f":"'kros seznam'!PPK147","v":0},{"$f":"'kros seznam'!PPL147","v":0},{"$f":"'kros seznam'!PPM147","v":0},{"$f":"'kros seznam'!PPN147","v":0},{"$f":"'kros seznam'!PPO147","v":0},{"$f":"'kros seznam'!PPP147","v":0},{"$f":"'kros seznam'!PPQ147","v":0},{"$f":"'kros seznam'!PPR147","v":0},{"$f":"'kros seznam'!PPS147","v":0},{"$f":"'kros seznam'!PPT147","v":0},{"$f":"'kros seznam'!PPU147","v":0},{"$f":"'kros seznam'!PPV147","v":0},{"$f":"'kros seznam'!PPW147","v":0},{"$f":"'kros seznam'!PPX147","v":0},{"$f":"'kros seznam'!PPY147","v":0},{"$f":"'kros seznam'!PPZ147","v":0},{"$f":"'kros seznam'!PQA147","v":0},{"$f":"'kros seznam'!PQB147","v":0},{"$f":"'kros seznam'!PQC147","v":0},{"$f":"'kros seznam'!PQD147","v":0},{"$f":"'kros seznam'!PQE147","v":0},{"$f":"'kros seznam'!PQF147","v":0},{"$f":"'kros seznam'!PQG147","v":0},{"$f":"'kros seznam'!PQH147","v":0},{"$f":"'kros seznam'!PQI147","v":0},{"$f":"'kros seznam'!PQJ147","v":0},{"$f":"'kros seznam'!PQK147","v":0},{"$f":"'kros seznam'!PQL147","v":0},{"$f":"'kros seznam'!PQM147","v":0},{"$f":"'kros seznam'!PQN147","v":0},{"$f":"'kros seznam'!PQO147","v":0},{"$f":"'kros seznam'!PQP147","v":0},{"$f":"'kros seznam'!PQQ147","v":0},{"$f":"'kros seznam'!PQR147","v":0},{"$f":"'kros seznam'!PQS147","v":0},{"$f":"'kros seznam'!PQT147","v":0},{"$f":"'kros seznam'!PQU147","v":0},{"$f":"'kros seznam'!PQV147","v":0},{"$f":"'kros seznam'!PQW147","v":0},{"$f":"'kros seznam'!PQX147","v":0},{"$f":"'kros seznam'!PQY147","v":0},{"$f":"'kros seznam'!PQZ147","v":0},{"$f":"'kros seznam'!PRA147","v":0},{"$f":"'kros seznam'!PRB147","v":0},{"$f":"'kros seznam'!PRC147","v":0},{"$f":"'kros seznam'!PRD147","v":0},{"$f":"'kros seznam'!PRE147","v":0},{"$f":"'kros seznam'!PRF147","v":0},{"$f":"'kros seznam'!PRG147","v":0},{"$f":"'kros seznam'!PRH147","v":0},{"$f":"'kros seznam'!PRI147","v":0},{"$f":"'kros seznam'!PRJ147","v":0},{"$f":"'kros seznam'!PRK147","v":0},{"$f":"'kros seznam'!PRL147","v":0},{"$f":"'kros seznam'!PRM147","v":0},{"$f":"'kros seznam'!PRN147","v":0},{"$f":"'kros seznam'!PRO147","v":0},{"$f":"'kros seznam'!PRP147","v":0},{"$f":"'kros seznam'!PRQ147","v":0},{"$f":"'kros seznam'!PRR147","v":0},{"$f":"'kros seznam'!PRS147","v":0},{"$f":"'kros seznam'!PRT147","v":0},{"$f":"'kros seznam'!PRU147","v":0},{"$f":"'kros seznam'!PRV147","v":0},{"$f":"'kros seznam'!PRW147","v":0},{"$f":"'kros seznam'!PRX147","v":0},{"$f":"'kros seznam'!PRY147","v":0},{"$f":"'kros seznam'!PRZ147","v":0},{"$f":"'kros seznam'!PSA147","v":0},{"$f":"'kros seznam'!PSB147","v":0},{"$f":"'kros seznam'!PSC147","v":0},{"$f":"'kros seznam'!PSD147","v":0},{"$f":"'kros seznam'!PSE147","v":0},{"$f":"'kros seznam'!PSF147","v":0},{"$f":"'kros seznam'!PSG147","v":0},{"$f":"'kros seznam'!PSH147","v":0},{"$f":"'kros seznam'!PSI147","v":0},{"$f":"'kros seznam'!PSJ147","v":0},{"$f":"'kros seznam'!PSK147","v":0},{"$f":"'kros seznam'!PSL147","v":0},{"$f":"'kros seznam'!PSM147","v":0},{"$f":"'kros seznam'!PSN147","v":0},{"$f":"'kros seznam'!PSO147","v":0},{"$f":"'kros seznam'!PSP147","v":0},{"$f":"'kros seznam'!PSQ147","v":0},{"$f":"'kros seznam'!PSR147","v":0},{"$f":"'kros seznam'!PSS147","v":0},{"$f":"'kros seznam'!PST147","v":0},{"$f":"'kros seznam'!PSU147","v":0},{"$f":"'kros seznam'!PSV147","v":0},{"$f":"'kros seznam'!PSW147","v":0},{"$f":"'kros seznam'!PSX147","v":0},{"$f":"'kros seznam'!PSY147","v":0},{"$f":"'kros seznam'!PSZ147","v":0},{"$f":"'kros seznam'!PTA147","v":0},{"$f":"'kros seznam'!PTB147","v":0},{"$f":"'kros seznam'!PTC147","v":0},{"$f":"'kros seznam'!PTD147","v":0},{"$f":"'kros seznam'!PTE147","v":0},{"$f":"'kros seznam'!PTF147","v":0},{"$f":"'kros seznam'!PTG147","v":0},{"$f":"'kros seznam'!PTH147","v":0},{"$f":"'kros seznam'!PTI147","v":0},{"$f":"'kros seznam'!PTJ147","v":0},{"$f":"'kros seznam'!PTK147","v":0},{"$f":"'kros seznam'!PTL147","v":0},{"$f":"'kros seznam'!PTM147","v":0},{"$f":"'kros seznam'!PTN147","v":0},{"$f":"'kros seznam'!PTO147","v":0},{"$f":"'kros seznam'!PTP147","v":0},{"$f":"'kros seznam'!PTQ147","v":0},{"$f":"'kros seznam'!PTR147","v":0},{"$f":"'kros seznam'!PTS147","v":0},{"$f":"'kros seznam'!PTT147","v":0},{"$f":"'kros seznam'!PTU147","v":0},{"$f":"'kros seznam'!PTV147","v":0},{"$f":"'kros seznam'!PTW147","v":0},{"$f":"'kros seznam'!PTX147","v":0},{"$f":"'kros seznam'!PTY147","v":0},{"$f":"'kros seznam'!PTZ147","v":0},{"$f":"'kros seznam'!PUA147","v":0},{"$f":"'kros seznam'!PUB147","v":0},{"$f":"'kros seznam'!PUC147","v":0},{"$f":"'kros seznam'!PUD147","v":0},{"$f":"'kros seznam'!PUE147","v":0},{"$f":"'kros seznam'!PUF147","v":0},{"$f":"'kros seznam'!PUG147","v":0},{"$f":"'kros seznam'!PUH147","v":0},{"$f":"'kros seznam'!PUI147","v":0},{"$f":"'kros seznam'!PUJ147","v":0},{"$f":"'kros seznam'!PUK147","v":0},{"$f":"'kros seznam'!PUL147","v":0},{"$f":"'kros seznam'!PUM147","v":0},{"$f":"'kros seznam'!PUN147","v":0},{"$f":"'kros seznam'!PUO147","v":0},{"$f":"'kros seznam'!PUP147","v":0},{"$f":"'kros seznam'!PUQ147","v":0},{"$f":"'kros seznam'!PUR147","v":0},{"$f":"'kros seznam'!PUS147","v":0},{"$f":"'kros seznam'!PUT147","v":0},{"$f":"'kros seznam'!PUU147","v":0},{"$f":"'kros seznam'!PUV147","v":0},{"$f":"'kros seznam'!PUW147","v":0},{"$f":"'kros seznam'!PUX147","v":0},{"$f":"'kros seznam'!PUY147","v":0},{"$f":"'kros seznam'!PUZ147","v":0},{"$f":"'kros seznam'!PVA147","v":0},{"$f":"'kros seznam'!PVB147","v":0},{"$f":"'kros seznam'!PVC147","v":0},{"$f":"'kros seznam'!PVD147","v":0},{"$f":"'kros seznam'!PVE147","v":0},{"$f":"'kros seznam'!PVF147","v":0},{"$f":"'kros seznam'!PVG147","v":0},{"$f":"'kros seznam'!PVH147","v":0},{"$f":"'kros seznam'!PVI147","v":0},{"$f":"'kros seznam'!PVJ147","v":0},{"$f":"'kros seznam'!PVK147","v":0},{"$f":"'kros seznam'!PVL147","v":0},{"$f":"'kros seznam'!PVM147","v":0},{"$f":"'kros seznam'!PVN147","v":0},{"$f":"'kros seznam'!PVO147","v":0},{"$f":"'kros seznam'!PVP147","v":0},{"$f":"'kros seznam'!PVQ147","v":0},{"$f":"'kros seznam'!PVR147","v":0},{"$f":"'kros seznam'!PVS147","v":0},{"$f":"'kros seznam'!PVT147","v":0},{"$f":"'kros seznam'!PVU147","v":0},{"$f":"'kros seznam'!PVV147","v":0},{"$f":"'kros seznam'!PVW147","v":0},{"$f":"'kros seznam'!PVX147","v":0},{"$f":"'kros seznam'!PVY147","v":0},{"$f":"'kros seznam'!PVZ147","v":0},{"$f":"'kros seznam'!PWA147","v":0},{"$f":"'kros seznam'!PWB147","v":0},{"$f":"'kros seznam'!PWC147","v":0},{"$f":"'kros seznam'!PWD147","v":0},{"$f":"'kros seznam'!PWE147","v":0},{"$f":"'kros seznam'!PWF147","v":0},{"$f":"'kros seznam'!PWG147","v":0},{"$f":"'kros seznam'!PWH147","v":0},{"$f":"'kros seznam'!PWI147","v":0},{"$f":"'kros seznam'!PWJ147","v":0},{"$f":"'kros seznam'!PWK147","v":0},{"$f":"'kros seznam'!PWL147","v":0},{"$f":"'kros seznam'!PWM147","v":0},{"$f":"'kros seznam'!PWN147","v":0},{"$f":"'kros seznam'!PWO147","v":0},{"$f":"'kros seznam'!PWP147","v":0},{"$f":"'kros seznam'!PWQ147","v":0},{"$f":"'kros seznam'!PWR147","v":0},{"$f":"'kros seznam'!PWS147","v":0},{"$f":"'kros seznam'!PWT147","v":0},{"$f":"'kros seznam'!PWU147","v":0},{"$f":"'kros seznam'!PWV147","v":0},{"$f":"'kros seznam'!PWW147","v":0},{"$f":"'kros seznam'!PWX147","v":0},{"$f":"'kros seznam'!PWY147","v":0},{"$f":"'kros seznam'!PWZ147","v":0},{"$f":"'kros seznam'!PXA147","v":0},{"$f":"'kros seznam'!PXB147","v":0},{"$f":"'kros seznam'!PXC147","v":0},{"$f":"'kros seznam'!PXD147","v":0},{"$f":"'kros seznam'!PXE147","v":0},{"$f":"'kros seznam'!PXF147","v":0},{"$f":"'kros seznam'!PXG147","v":0},{"$f":"'kros seznam'!PXH147","v":0},{"$f":"'kros seznam'!PXI147","v":0},{"$f":"'kros seznam'!PXJ147","v":0},{"$f":"'kros seznam'!PXK147","v":0},{"$f":"'kros seznam'!PXL147","v":0},{"$f":"'kros seznam'!PXM147","v":0},{"$f":"'kros seznam'!PXN147","v":0},{"$f":"'kros seznam'!PXO147","v":0},{"$f":"'kros seznam'!PXP147","v":0},{"$f":"'kros seznam'!PXQ147","v":0},{"$f":"'kros seznam'!PXR147","v":0},{"$f":"'kros seznam'!PXS147","v":0},{"$f":"'kros seznam'!PXT147","v":0},{"$f":"'kros seznam'!PXU147","v":0},{"$f":"'kros seznam'!PXV147","v":0},{"$f":"'kros seznam'!PXW147","v":0},{"$f":"'kros seznam'!PXX147","v":0},{"$f":"'kros seznam'!PXY147","v":0},{"$f":"'kros seznam'!PXZ147","v":0},{"$f":"'kros seznam'!PYA147","v":0},{"$f":"'kros seznam'!PYB147","v":0},{"$f":"'kros seznam'!PYC147","v":0},{"$f":"'kros seznam'!PYD147","v":0},{"$f":"'kros seznam'!PYE147","v":0},{"$f":"'kros seznam'!PYF147","v":0},{"$f":"'kros seznam'!PYG147","v":0},{"$f":"'kros seznam'!PYH147","v":0},{"$f":"'kros seznam'!PYI147","v":0},{"$f":"'kros seznam'!PYJ147","v":0},{"$f":"'kros seznam'!PYK147","v":0},{"$f":"'kros seznam'!PYL147","v":0},{"$f":"'kros seznam'!PYM147","v":0},{"$f":"'kros seznam'!PYN147","v":0},{"$f":"'kros seznam'!PYO147","v":0},{"$f":"'kros seznam'!PYP147","v":0},{"$f":"'kros seznam'!PYQ147","v":0},{"$f":"'kros seznam'!PYR147","v":0},{"$f":"'kros seznam'!PYS147","v":0},{"$f":"'kros seznam'!PYT147","v":0},{"$f":"'kros seznam'!PYU147","v":0},{"$f":"'kros seznam'!PYV147","v":0},{"$f":"'kros seznam'!PYW147","v":0},{"$f":"'kros seznam'!PYX147","v":0},{"$f":"'kros seznam'!PYY147","v":0},{"$f":"'kros seznam'!PYZ147","v":0},{"$f":"'kros seznam'!PZA147","v":0},{"$f":"'kros seznam'!PZB147","v":0},{"$f":"'kros seznam'!PZC147","v":0},{"$f":"'kros seznam'!PZD147","v":0},{"$f":"'kros seznam'!PZE147","v":0},{"$f":"'kros seznam'!PZF147","v":0},{"$f":"'kros seznam'!PZG147","v":0},{"$f":"'kros seznam'!PZH147","v":0},{"$f":"'kros seznam'!PZI147","v":0},{"$f":"'kros seznam'!PZJ147","v":0},{"$f":"'kros seznam'!PZK147","v":0},{"$f":"'kros seznam'!PZL147","v":0},{"$f":"'kros seznam'!PZM147","v":0},{"$f":"'kros seznam'!PZN147","v":0},{"$f":"'kros seznam'!PZO147","v":0},{"$f":"'kros seznam'!PZP147","v":0},{"$f":"'kros seznam'!PZQ147","v":0},{"$f":"'kros seznam'!PZR147","v":0},{"$f":"'kros seznam'!PZS147","v":0},{"$f":"'kros seznam'!PZT147","v":0},{"$f":"'kros seznam'!PZU147","v":0},{"$f":"'kros seznam'!PZV147","v":0},{"$f":"'kros seznam'!PZW147","v":0},{"$f":"'kros seznam'!PZX147","v":0},{"$f":"'kros seznam'!PZY147","v":0},{"$f":"'kros seznam'!PZZ147","v":0},{"$f":"'kros seznam'!QAA147","v":0},{"$f":"'kros seznam'!QAB147","v":0},{"$f":"'kros seznam'!QAC147","v":0},{"$f":"'kros seznam'!QAD147","v":0},{"$f":"'kros seznam'!QAE147","v":0},{"$f":"'kros seznam'!QAF147","v":0},{"$f":"'kros seznam'!QAG147","v":0},{"$f":"'kros seznam'!QAH147","v":0},{"$f":"'kros seznam'!QAI147","v":0},{"$f":"'kros seznam'!QAJ147","v":0},{"$f":"'kros seznam'!QAK147","v":0},{"$f":"'kros seznam'!QAL147","v":0},{"$f":"'kros seznam'!QAM147","v":0},{"$f":"'kros seznam'!QAN147","v":0},{"$f":"'kros seznam'!QAO147","v":0},{"$f":"'kros seznam'!QAP147","v":0},{"$f":"'kros seznam'!QAQ147","v":0},{"$f":"'kros seznam'!QAR147","v":0},{"$f":"'kros seznam'!QAS147","v":0},{"$f":"'kros seznam'!QAT147","v":0},{"$f":"'kros seznam'!QAU147","v":0},{"$f":"'kros seznam'!QAV147","v":0},{"$f":"'kros seznam'!QAW147","v":0},{"$f":"'kros seznam'!QAX147","v":0},{"$f":"'kros seznam'!QAY147","v":0},{"$f":"'kros seznam'!QAZ147","v":0},{"$f":"'kros seznam'!QBA147","v":0},{"$f":"'kros seznam'!QBB147","v":0},{"$f":"'kros seznam'!QBC147","v":0},{"$f":"'kros seznam'!QBD147","v":0},{"$f":"'kros seznam'!QBE147","v":0},{"$f":"'kros seznam'!QBF147","v":0},{"$f":"'kros seznam'!QBG147","v":0},{"$f":"'kros seznam'!QBH147","v":0},{"$f":"'kros seznam'!QBI147","v":0},{"$f":"'kros seznam'!QBJ147","v":0},{"$f":"'kros seznam'!QBK147","v":0},{"$f":"'kros seznam'!QBL147","v":0},{"$f":"'kros seznam'!QBM147","v":0},{"$f":"'kros seznam'!QBN147","v":0},{"$f":"'kros seznam'!QBO147","v":0},{"$f":"'kros seznam'!QBP147","v":0},{"$f":"'kros seznam'!QBQ147","v":0},{"$f":"'kros seznam'!QBR147","v":0},{"$f":"'kros seznam'!QBS147","v":0},{"$f":"'kros seznam'!QBT147","v":0},{"$f":"'kros seznam'!QBU147","v":0},{"$f":"'kros seznam'!QBV147","v":0},{"$f":"'kros seznam'!QBW147","v":0},{"$f":"'kros seznam'!QBX147","v":0},{"$f":"'kros seznam'!QBY147","v":0},{"$f":"'kros seznam'!QBZ147","v":0},{"$f":"'kros seznam'!QCA147","v":0},{"$f":"'kros seznam'!QCB147","v":0},{"$f":"'kros seznam'!QCC147","v":0},{"$f":"'kros seznam'!QCD147","v":0},{"$f":"'kros seznam'!QCE147","v":0},{"$f":"'kros seznam'!QCF147","v":0},{"$f":"'kros seznam'!QCG147","v":0},{"$f":"'kros seznam'!QCH147","v":0},{"$f":"'kros seznam'!QCI147","v":0},{"$f":"'kros seznam'!QCJ147","v":0},{"$f":"'kros seznam'!QCK147","v":0},{"$f":"'kros seznam'!QCL147","v":0},{"$f":"'kros seznam'!QCM147","v":0},{"$f":"'kros seznam'!QCN147","v":0},{"$f":"'kros seznam'!QCO147","v":0},{"$f":"'kros seznam'!QCP147","v":0},{"$f":"'kros seznam'!QCQ147","v":0},{"$f":"'kros seznam'!QCR147","v":0},{"$f":"'kros seznam'!QCS147","v":0},{"$f":"'kros seznam'!QCT147","v":0},{"$f":"'kros seznam'!QCU147","v":0},{"$f":"'kros seznam'!QCV147","v":0},{"$f":"'kros seznam'!QCW147","v":0},{"$f":"'kros seznam'!QCX147","v":0},{"$f":"'kros seznam'!QCY147","v":0},{"$f":"'kros seznam'!QCZ147","v":0},{"$f":"'kros seznam'!QDA147","v":0},{"$f":"'kros seznam'!QDB147","v":0},{"$f":"'kros seznam'!QDC147","v":0},{"$f":"'kros seznam'!QDD147","v":0},{"$f":"'kros seznam'!QDE147","v":0},{"$f":"'kros seznam'!QDF147","v":0},{"$f":"'kros seznam'!QDG147","v":0},{"$f":"'kros seznam'!QDH147","v":0},{"$f":"'kros seznam'!QDI147","v":0},{"$f":"'kros seznam'!QDJ147","v":0},{"$f":"'kros seznam'!QDK147","v":0},{"$f":"'kros seznam'!QDL147","v":0},{"$f":"'kros seznam'!QDM147","v":0},{"$f":"'kros seznam'!QDN147","v":0},{"$f":"'kros seznam'!QDO147","v":0},{"$f":"'kros seznam'!QDP147","v":0},{"$f":"'kros seznam'!QDQ147","v":0},{"$f":"'kros seznam'!QDR147","v":0},{"$f":"'kros seznam'!QDS147","v":0},{"$f":"'kros seznam'!QDT147","v":0},{"$f":"'kros seznam'!QDU147","v":0},{"$f":"'kros seznam'!QDV147","v":0},{"$f":"'kros seznam'!QDW147","v":0},{"$f":"'kros seznam'!QDX147","v":0},{"$f":"'kros seznam'!QDY147","v":0},{"$f":"'kros seznam'!QDZ147","v":0},{"$f":"'kros seznam'!QEA147","v":0},{"$f":"'kros seznam'!QEB147","v":0},{"$f":"'kros seznam'!QEC147","v":0},{"$f":"'kros seznam'!QED147","v":0},{"$f":"'kros seznam'!QEE147","v":0},{"$f":"'kros seznam'!QEF147","v":0},{"$f":"'kros seznam'!QEG147","v":0},{"$f":"'kros seznam'!QEH147","v":0},{"$f":"'kros seznam'!QEI147","v":0},{"$f":"'kros seznam'!QEJ147","v":0},{"$f":"'kros seznam'!QEK147","v":0},{"$f":"'kros seznam'!QEL147","v":0},{"$f":"'kros seznam'!QEM147","v":0},{"$f":"'kros seznam'!QEN147","v":0},{"$f":"'kros seznam'!QEO147","v":0},{"$f":"'kros seznam'!QEP147","v":0},{"$f":"'kros seznam'!QEQ147","v":0},{"$f":"'kros seznam'!QER147","v":0},{"$f":"'kros seznam'!QES147","v":0},{"$f":"'kros seznam'!QET147","v":0},{"$f":"'kros seznam'!QEU147","v":0},{"$f":"'kros seznam'!QEV147","v":0},{"$f":"'kros seznam'!QEW147","v":0},{"$f":"'kros seznam'!QEX147","v":0},{"$f":"'kros seznam'!QEY147","v":0},{"$f":"'kros seznam'!QEZ147","v":0},{"$f":"'kros seznam'!QFA147","v":0},{"$f":"'kros seznam'!QFB147","v":0},{"$f":"'kros seznam'!QFC147","v":0},{"$f":"'kros seznam'!QFD147","v":0},{"$f":"'kros seznam'!QFE147","v":0},{"$f":"'kros seznam'!QFF147","v":0},{"$f":"'kros seznam'!QFG147","v":0},{"$f":"'kros seznam'!QFH147","v":0},{"$f":"'kros seznam'!QFI147","v":0},{"$f":"'kros seznam'!QFJ147","v":0},{"$f":"'kros seznam'!QFK147","v":0},{"$f":"'kros seznam'!QFL147","v":0},{"$f":"'kros seznam'!QFM147","v":0},{"$f":"'kros seznam'!QFN147","v":0},{"$f":"'kros seznam'!QFO147","v":0},{"$f":"'kros seznam'!QFP147","v":0},{"$f":"'kros seznam'!QFQ147","v":0},{"$f":"'kros seznam'!QFR147","v":0},{"$f":"'kros seznam'!QFS147","v":0},{"$f":"'kros seznam'!QFT147","v":0},{"$f":"'kros seznam'!QFU147","v":0},{"$f":"'kros seznam'!QFV147","v":0},{"$f":"'kros seznam'!QFW147","v":0},{"$f":"'kros seznam'!QFX147","v":0},{"$f":"'kros seznam'!QFY147","v":0},{"$f":"'kros seznam'!QFZ147","v":0},{"$f":"'kros seznam'!QGA147","v":0},{"$f":"'kros seznam'!QGB147","v":0},{"$f":"'kros seznam'!QGC147","v":0},{"$f":"'kros seznam'!QGD147","v":0},{"$f":"'kros seznam'!QGE147","v":0},{"$f":"'kros seznam'!QGF147","v":0},{"$f":"'kros seznam'!QGG147","v":0},{"$f":"'kros seznam'!QGH147","v":0},{"$f":"'kros seznam'!QGI147","v":0},{"$f":"'kros seznam'!QGJ147","v":0},{"$f":"'kros seznam'!QGK147","v":0},{"$f":"'kros seznam'!QGL147","v":0},{"$f":"'kros seznam'!QGM147","v":0},{"$f":"'kros seznam'!QGN147","v":0},{"$f":"'kros seznam'!QGO147","v":0},{"$f":"'kros seznam'!QGP147","v":0},{"$f":"'kros seznam'!QGQ147","v":0},{"$f":"'kros seznam'!QGR147","v":0},{"$f":"'kros seznam'!QGS147","v":0},{"$f":"'kros seznam'!QGT147","v":0},{"$f":"'kros seznam'!QGU147","v":0},{"$f":"'kros seznam'!QGV147","v":0},{"$f":"'kros seznam'!QGW147","v":0},{"$f":"'kros seznam'!QGX147","v":0},{"$f":"'kros seznam'!QGY147","v":0},{"$f":"'kros seznam'!QGZ147","v":0},{"$f":"'kros seznam'!QHA147","v":0},{"$f":"'kros seznam'!QHB147","v":0},{"$f":"'kros seznam'!QHC147","v":0},{"$f":"'kros seznam'!QHD147","v":0},{"$f":"'kros seznam'!QHE147","v":0},{"$f":"'kros seznam'!QHF147","v":0},{"$f":"'kros seznam'!QHG147","v":0},{"$f":"'kros seznam'!QHH147","v":0},{"$f":"'kros seznam'!QHI147","v":0},{"$f":"'kros seznam'!QHJ147","v":0},{"$f":"'kros seznam'!QHK147","v":0},{"$f":"'kros seznam'!QHL147","v":0},{"$f":"'kros seznam'!QHM147","v":0},{"$f":"'kros seznam'!QHN147","v":0},{"$f":"'kros seznam'!QHO147","v":0},{"$f":"'kros seznam'!QHP147","v":0},{"$f":"'kros seznam'!QHQ147","v":0},{"$f":"'kros seznam'!QHR147","v":0},{"$f":"'kros seznam'!QHS147","v":0},{"$f":"'kros seznam'!QHT147","v":0},{"$f":"'kros seznam'!QHU147","v":0},{"$f":"'kros seznam'!QHV147","v":0},{"$f":"'kros seznam'!QHW147","v":0},{"$f":"'kros seznam'!QHX147","v":0},{"$f":"'kros seznam'!QHY147","v":0},{"$f":"'kros seznam'!QHZ147","v":0},{"$f":"'kros seznam'!QIA147","v":0},{"$f":"'kros seznam'!QIB147","v":0},{"$f":"'kros seznam'!QIC147","v":0},{"$f":"'kros seznam'!QID147","v":0},{"$f":"'kros seznam'!QIE147","v":0},{"$f":"'kros seznam'!QIF147","v":0},{"$f":"'kros seznam'!QIG147","v":0},{"$f":"'kros seznam'!QIH147","v":0},{"$f":"'kros seznam'!QII147","v":0},{"$f":"'kros seznam'!QIJ147","v":0},{"$f":"'kros seznam'!QIK147","v":0},{"$f":"'kros seznam'!QIL147","v":0},{"$f":"'kros seznam'!QIM147","v":0},{"$f":"'kros seznam'!QIN147","v":0},{"$f":"'kros seznam'!QIO147","v":0},{"$f":"'kros seznam'!QIP147","v":0},{"$f":"'kros seznam'!QIQ147","v":0},{"$f":"'kros seznam'!QIR147","v":0},{"$f":"'kros seznam'!QIS147","v":0},{"$f":"'kros seznam'!QIT147","v":0},{"$f":"'kros seznam'!QIU147","v":0},{"$f":"'kros seznam'!QIV147","v":0},{"$f":"'kros seznam'!QIW147","v":0},{"$f":"'kros seznam'!QIX147","v":0},{"$f":"'kros seznam'!QIY147","v":0},{"$f":"'kros seznam'!QIZ147","v":0},{"$f":"'kros seznam'!QJA147","v":0},{"$f":"'kros seznam'!QJB147","v":0},{"$f":"'kros seznam'!QJC147","v":0},{"$f":"'kros seznam'!QJD147","v":0},{"$f":"'kros seznam'!QJE147","v":0},{"$f":"'kros seznam'!QJF147","v":0},{"$f":"'kros seznam'!QJG147","v":0},{"$f":"'kros seznam'!QJH147","v":0},{"$f":"'kros seznam'!QJI147","v":0},{"$f":"'kros seznam'!QJJ147","v":0},{"$f":"'kros seznam'!QJK147","v":0},{"$f":"'kros seznam'!QJL147","v":0},{"$f":"'kros seznam'!QJM147","v":0},{"$f":"'kros seznam'!QJN147","v":0},{"$f":"'kros seznam'!QJO147","v":0},{"$f":"'kros seznam'!QJP147","v":0},{"$f":"'kros seznam'!QJQ147","v":0},{"$f":"'kros seznam'!QJR147","v":0},{"$f":"'kros seznam'!QJS147","v":0},{"$f":"'kros seznam'!QJT147","v":0},{"$f":"'kros seznam'!QJU147","v":0},{"$f":"'kros seznam'!QJV147","v":0},{"$f":"'kros seznam'!QJW147","v":0},{"$f":"'kros seznam'!QJX147","v":0},{"$f":"'kros seznam'!QJY147","v":0},{"$f":"'kros seznam'!QJZ147","v":0},{"$f":"'kros seznam'!QKA147","v":0},{"$f":"'kros seznam'!QKB147","v":0},{"$f":"'kros seznam'!QKC147","v":0},{"$f":"'kros seznam'!QKD147","v":0},{"$f":"'kros seznam'!QKE147","v":0},{"$f":"'kros seznam'!QKF147","v":0},{"$f":"'kros seznam'!QKG147","v":0},{"$f":"'kros seznam'!QKH147","v":0},{"$f":"'kros seznam'!QKI147","v":0},{"$f":"'kros seznam'!QKJ147","v":0},{"$f":"'kros seznam'!QKK147","v":0},{"$f":"'kros seznam'!QKL147","v":0},{"$f":"'kros seznam'!QKM147","v":0},{"$f":"'kros seznam'!QKN147","v":0},{"$f":"'kros seznam'!QKO147","v":0},{"$f":"'kros seznam'!QKP147","v":0},{"$f":"'kros seznam'!QKQ147","v":0},{"$f":"'kros seznam'!QKR147","v":0},{"$f":"'kros seznam'!QKS147","v":0},{"$f":"'kros seznam'!QKT147","v":0},{"$f":"'kros seznam'!QKU147","v":0},{"$f":"'kros seznam'!QKV147","v":0},{"$f":"'kros seznam'!QKW147","v":0},{"$f":"'kros seznam'!QKX147","v":0},{"$f":"'kros seznam'!QKY147","v":0},{"$f":"'kros seznam'!QKZ147","v":0},{"$f":"'kros seznam'!QLA147","v":0},{"$f":"'kros seznam'!QLB147","v":0},{"$f":"'kros seznam'!QLC147","v":0},{"$f":"'kros seznam'!QLD147","v":0},{"$f":"'kros seznam'!QLE147","v":0},{"$f":"'kros seznam'!QLF147","v":0},{"$f":"'kros seznam'!QLG147","v":0},{"$f":"'kros seznam'!QLH147","v":0},{"$f":"'kros seznam'!QLI147","v":0},{"$f":"'kros seznam'!QLJ147","v":0},{"$f":"'kros seznam'!QLK147","v":0},{"$f":"'kros seznam'!QLL147","v":0},{"$f":"'kros seznam'!QLM147","v":0},{"$f":"'kros seznam'!QLN147","v":0},{"$f":"'kros seznam'!QLO147","v":0},{"$f":"'kros seznam'!QLP147","v":0},{"$f":"'kros seznam'!QLQ147","v":0},{"$f":"'kros seznam'!QLR147","v":0},{"$f":"'kros seznam'!QLS147","v":0},{"$f":"'kros seznam'!QLT147","v":0},{"$f":"'kros seznam'!QLU147","v":0},{"$f":"'kros seznam'!QLV147","v":0},{"$f":"'kros seznam'!QLW147","v":0},{"$f":"'kros seznam'!QLX147","v":0},{"$f":"'kros seznam'!QLY147","v":0},{"$f":"'kros seznam'!QLZ147","v":0},{"$f":"'kros seznam'!QMA147","v":0},{"$f":"'kros seznam'!QMB147","v":0},{"$f":"'kros seznam'!QMC147","v":0},{"$f":"'kros seznam'!QMD147","v":0},{"$f":"'kros seznam'!QME147","v":0},{"$f":"'kros seznam'!QMF147","v":0},{"$f":"'kros seznam'!QMG147","v":0},{"$f":"'kros seznam'!QMH147","v":0},{"$f":"'kros seznam'!QMI147","v":0},{"$f":"'kros seznam'!QMJ147","v":0},{"$f":"'kros seznam'!QMK147","v":0},{"$f":"'kros seznam'!QML147","v":0},{"$f":"'kros seznam'!QMM147","v":0},{"$f":"'kros seznam'!QMN147","v":0},{"$f":"'kros seznam'!QMO147","v":0},{"$f":"'kros seznam'!QMP147","v":0},{"$f":"'kros seznam'!QMQ147","v":0},{"$f":"'kros seznam'!QMR147","v":0},{"$f":"'kros seznam'!QMS147","v":0},{"$f":"'kros seznam'!QMT147","v":0},{"$f":"'kros seznam'!QMU147","v":0},{"$f":"'kros seznam'!QMV147","v":0},{"$f":"'kros seznam'!QMW147","v":0},{"$f":"'kros seznam'!QMX147","v":0},{"$f":"'kros seznam'!QMY147","v":0},{"$f":"'kros seznam'!QMZ147","v":0},{"$f":"'kros seznam'!QNA147","v":0},{"$f":"'kros seznam'!QNB147","v":0},{"$f":"'kros seznam'!QNC147","v":0},{"$f":"'kros seznam'!QND147","v":0},{"$f":"'kros seznam'!QNE147","v":0},{"$f":"'kros seznam'!QNF147","v":0},{"$f":"'kros seznam'!QNG147","v":0},{"$f":"'kros seznam'!QNH147","v":0},{"$f":"'kros seznam'!QNI147","v":0},{"$f":"'kros seznam'!QNJ147","v":0},{"$f":"'kros seznam'!QNK147","v":0},{"$f":"'kros seznam'!QNL147","v":0},{"$f":"'kros seznam'!QNM147","v":0},{"$f":"'kros seznam'!QNN147","v":0},{"$f":"'kros seznam'!QNO147","v":0},{"$f":"'kros seznam'!QNP147","v":0},{"$f":"'kros seznam'!QNQ147","v":0},{"$f":"'kros seznam'!QNR147","v":0},{"$f":"'kros seznam'!QNS147","v":0},{"$f":"'kros seznam'!QNT147","v":0},{"$f":"'kros seznam'!QNU147","v":0},{"$f":"'kros seznam'!QNV147","v":0},{"$f":"'kros seznam'!QNW147","v":0},{"$f":"'kros seznam'!QNX147","v":0},{"$f":"'kros seznam'!QNY147","v":0},{"$f":"'kros seznam'!QNZ147","v":0},{"$f":"'kros seznam'!QOA147","v":0},{"$f":"'kros seznam'!QOB147","v":0},{"$f":"'kros seznam'!QOC147","v":0},{"$f":"'kros seznam'!QOD147","v":0},{"$f":"'kros seznam'!QOE147","v":0},{"$f":"'kros seznam'!QOF147","v":0},{"$f":"'kros seznam'!QOG147","v":0},{"$f":"'kros seznam'!QOH147","v":0},{"$f":"'kros seznam'!QOI147","v":0},{"$f":"'kros seznam'!QOJ147","v":0},{"$f":"'kros seznam'!QOK147","v":0},{"$f":"'kros seznam'!QOL147","v":0},{"$f":"'kros seznam'!QOM147","v":0},{"$f":"'kros seznam'!QON147","v":0},{"$f":"'kros seznam'!QOO147","v":0},{"$f":"'kros seznam'!QOP147","v":0},{"$f":"'kros seznam'!QOQ147","v":0},{"$f":"'kros seznam'!QOR147","v":0},{"$f":"'kros seznam'!QOS147","v":0},{"$f":"'kros seznam'!QOT147","v":0},{"$f":"'kros seznam'!QOU147","v":0},{"$f":"'kros seznam'!QOV147","v":0},{"$f":"'kros seznam'!QOW147","v":0},{"$f":"'kros seznam'!QOX147","v":0},{"$f":"'kros seznam'!QOY147","v":0},{"$f":"'kros seznam'!QOZ147","v":0},{"$f":"'kros seznam'!QPA147","v":0},{"$f":"'kros seznam'!QPB147","v":0},{"$f":"'kros seznam'!QPC147","v":0},{"$f":"'kros seznam'!QPD147","v":0},{"$f":"'kros seznam'!QPE147","v":0},{"$f":"'kros seznam'!QPF147","v":0},{"$f":"'kros seznam'!QPG147","v":0},{"$f":"'kros seznam'!QPH147","v":0},{"$f":"'kros seznam'!QPI147","v":0},{"$f":"'kros seznam'!QPJ147","v":0},{"$f":"'kros seznam'!QPK147","v":0},{"$f":"'kros seznam'!QPL147","v":0},{"$f":"'kros seznam'!QPM147","v":0},{"$f":"'kros seznam'!QPN147","v":0},{"$f":"'kros seznam'!QPO147","v":0},{"$f":"'kros seznam'!QPP147","v":0},{"$f":"'kros seznam'!QPQ147","v":0},{"$f":"'kros seznam'!QPR147","v":0},{"$f":"'kros seznam'!QPS147","v":0},{"$f":"'kros seznam'!QPT147","v":0},{"$f":"'kros seznam'!QPU147","v":0},{"$f":"'kros seznam'!QPV147","v":0},{"$f":"'kros seznam'!QPW147","v":0},{"$f":"'kros seznam'!QPX147","v":0},{"$f":"'kros seznam'!QPY147","v":0},{"$f":"'kros seznam'!QPZ147","v":0},{"$f":"'kros seznam'!QQA147","v":0},{"$f":"'kros seznam'!QQB147","v":0},{"$f":"'kros seznam'!QQC147","v":0},{"$f":"'kros seznam'!QQD147","v":0},{"$f":"'kros seznam'!QQE147","v":0},{"$f":"'kros seznam'!QQF147","v":0},{"$f":"'kros seznam'!QQG147","v":0},{"$f":"'kros seznam'!QQH147","v":0},{"$f":"'kros seznam'!QQI147","v":0},{"$f":"'kros seznam'!QQJ147","v":0},{"$f":"'kros seznam'!QQK147","v":0},{"$f":"'kros seznam'!QQL147","v":0},{"$f":"'kros seznam'!QQM147","v":0},{"$f":"'kros seznam'!QQN147","v":0},{"$f":"'kros seznam'!QQO147","v":0},{"$f":"'kros seznam'!QQP147","v":0},{"$f":"'kros seznam'!QQQ147","v":0},{"$f":"'kros seznam'!QQR147","v":0},{"$f":"'kros seznam'!QQS147","v":0},{"$f":"'kros seznam'!QQT147","v":0},{"$f":"'kros seznam'!QQU147","v":0},{"$f":"'kros seznam'!QQV147","v":0},{"$f":"'kros seznam'!QQW147","v":0},{"$f":"'kros seznam'!QQX147","v":0},{"$f":"'kros seznam'!QQY147","v":0},{"$f":"'kros seznam'!QQZ147","v":0},{"$f":"'kros seznam'!QRA147","v":0},{"$f":"'kros seznam'!QRB147","v":0},{"$f":"'kros seznam'!QRC147","v":0},{"$f":"'kros seznam'!QRD147","v":0},{"$f":"'kros seznam'!QRE147","v":0},{"$f":"'kros seznam'!QRF147","v":0},{"$f":"'kros seznam'!QRG147","v":0},{"$f":"'kros seznam'!QRH147","v":0},{"$f":"'kros seznam'!QRI147","v":0},{"$f":"'kros seznam'!QRJ147","v":0},{"$f":"'kros seznam'!QRK147","v":0},{"$f":"'kros seznam'!QRL147","v":0},{"$f":"'kros seznam'!QRM147","v":0},{"$f":"'kros seznam'!QRN147","v":0},{"$f":"'kros seznam'!QRO147","v":0},{"$f":"'kros seznam'!QRP147","v":0},{"$f":"'kros seznam'!QRQ147","v":0},{"$f":"'kros seznam'!QRR147","v":0},{"$f":"'kros seznam'!QRS147","v":0},{"$f":"'kros seznam'!QRT147","v":0},{"$f":"'kros seznam'!QRU147","v":0},{"$f":"'kros seznam'!QRV147","v":0},{"$f":"'kros seznam'!QRW147","v":0},{"$f":"'kros seznam'!QRX147","v":0},{"$f":"'kros seznam'!QRY147","v":0},{"$f":"'kros seznam'!QRZ147","v":0},{"$f":"'kros seznam'!QSA147","v":0},{"$f":"'kros seznam'!QSB147","v":0},{"$f":"'kros seznam'!QSC147","v":0},{"$f":"'kros seznam'!QSD147","v":0},{"$f":"'kros seznam'!QSE147","v":0},{"$f":"'kros seznam'!QSF147","v":0},{"$f":"'kros seznam'!QSG147","v":0},{"$f":"'kros seznam'!QSH147","v":0},{"$f":"'kros seznam'!QSI147","v":0},{"$f":"'kros seznam'!QSJ147","v":0},{"$f":"'kros seznam'!QSK147","v":0},{"$f":"'kros seznam'!QSL147","v":0},{"$f":"'kros seznam'!QSM147","v":0},{"$f":"'kros seznam'!QSN147","v":0},{"$f":"'kros seznam'!QSO147","v":0},{"$f":"'kros seznam'!QSP147","v":0},{"$f":"'kros seznam'!QSQ147","v":0},{"$f":"'kros seznam'!QSR147","v":0},{"$f":"'kros seznam'!QSS147","v":0},{"$f":"'kros seznam'!QST147","v":0},{"$f":"'kros seznam'!QSU147","v":0},{"$f":"'kros seznam'!QSV147","v":0},{"$f":"'kros seznam'!QSW147","v":0},{"$f":"'kros seznam'!QSX147","v":0},{"$f":"'kros seznam'!QSY147","v":0},{"$f":"'kros seznam'!QSZ147","v":0},{"$f":"'kros seznam'!QTA147","v":0},{"$f":"'kros seznam'!QTB147","v":0},{"$f":"'kros seznam'!QTC147","v":0},{"$f":"'kros seznam'!QTD147","v":0},{"$f":"'kros seznam'!QTE147","v":0},{"$f":"'kros seznam'!QTF147","v":0},{"$f":"'kros seznam'!QTG147","v":0},{"$f":"'kros seznam'!QTH147","v":0},{"$f":"'kros seznam'!QTI147","v":0},{"$f":"'kros seznam'!QTJ147","v":0},{"$f":"'kros seznam'!QTK147","v":0},{"$f":"'kros seznam'!QTL147","v":0},{"$f":"'kros seznam'!QTM147","v":0},{"$f":"'kros seznam'!QTN147","v":0},{"$f":"'kros seznam'!QTO147","v":0},{"$f":"'kros seznam'!QTP147","v":0},{"$f":"'kros seznam'!QTQ147","v":0},{"$f":"'kros seznam'!QTR147","v":0},{"$f":"'kros seznam'!QTS147","v":0},{"$f":"'kros seznam'!QTT147","v":0},{"$f":"'kros seznam'!QTU147","v":0},{"$f":"'kros seznam'!QTV147","v":0},{"$f":"'kros seznam'!QTW147","v":0},{"$f":"'kros seznam'!QTX147","v":0},{"$f":"'kros seznam'!QTY147","v":0},{"$f":"'kros seznam'!QTZ147","v":0},{"$f":"'kros seznam'!QUA147","v":0},{"$f":"'kros seznam'!QUB147","v":0},{"$f":"'kros seznam'!QUC147","v":0},{"$f":"'kros seznam'!QUD147","v":0},{"$f":"'kros seznam'!QUE147","v":0},{"$f":"'kros seznam'!QUF147","v":0},{"$f":"'kros seznam'!QUG147","v":0},{"$f":"'kros seznam'!QUH147","v":0},{"$f":"'kros seznam'!QUI147","v":0},{"$f":"'kros seznam'!QUJ147","v":0},{"$f":"'kros seznam'!QUK147","v":0},{"$f":"'kros seznam'!QUL147","v":0},{"$f":"'kros seznam'!QUM147","v":0},{"$f":"'kros seznam'!QUN147","v":0},{"$f":"'kros seznam'!QUO147","v":0},{"$f":"'kros seznam'!QUP147","v":0},{"$f":"'kros seznam'!QUQ147","v":0},{"$f":"'kros seznam'!QUR147","v":0},{"$f":"'kros seznam'!QUS147","v":0},{"$f":"'kros seznam'!QUT147","v":0},{"$f":"'kros seznam'!QUU147","v":0},{"$f":"'kros seznam'!QUV147","v":0},{"$f":"'kros seznam'!QUW147","v":0},{"$f":"'kros seznam'!QUX147","v":0},{"$f":"'kros seznam'!QUY147","v":0},{"$f":"'kros seznam'!QUZ147","v":0},{"$f":"'kros seznam'!QVA147","v":0},{"$f":"'kros seznam'!QVB147","v":0},{"$f":"'kros seznam'!QVC147","v":0},{"$f":"'kros seznam'!QVD147","v":0},{"$f":"'kros seznam'!QVE147","v":0},{"$f":"'kros seznam'!QVF147","v":0},{"$f":"'kros seznam'!QVG147","v":0},{"$f":"'kros seznam'!QVH147","v":0},{"$f":"'kros seznam'!QVI147","v":0},{"$f":"'kros seznam'!QVJ147","v":0},{"$f":"'kros seznam'!QVK147","v":0},{"$f":"'kros seznam'!QVL147","v":0},{"$f":"'kros seznam'!QVM147","v":0},{"$f":"'kros seznam'!QVN147","v":0},{"$f":"'kros seznam'!QVO147","v":0},{"$f":"'kros seznam'!QVP147","v":0},{"$f":"'kros seznam'!QVQ147","v":0},{"$f":"'kros seznam'!QVR147","v":0},{"$f":"'kros seznam'!QVS147","v":0},{"$f":"'kros seznam'!QVT147","v":0},{"$f":"'kros seznam'!QVU147","v":0},{"$f":"'kros seznam'!QVV147","v":0},{"$f":"'kros seznam'!QVW147","v":0},{"$f":"'kros seznam'!QVX147","v":0},{"$f":"'kros seznam'!QVY147","v":0},{"$f":"'kros seznam'!QVZ147","v":0},{"$f":"'kros seznam'!QWA147","v":0},{"$f":"'kros seznam'!QWB147","v":0},{"$f":"'kros seznam'!QWC147","v":0},{"$f":"'kros seznam'!QWD147","v":0},{"$f":"'kros seznam'!QWE147","v":0},{"$f":"'kros seznam'!QWF147","v":0},{"$f":"'kros seznam'!QWG147","v":0},{"$f":"'kros seznam'!QWH147","v":0},{"$f":"'kros seznam'!QWI147","v":0},{"$f":"'kros seznam'!QWJ147","v":0},{"$f":"'kros seznam'!QWK147","v":0},{"$f":"'kros seznam'!QWL147","v":0},{"$f":"'kros seznam'!QWM147","v":0},{"$f":"'kros seznam'!QWN147","v":0},{"$f":"'kros seznam'!QWO147","v":0},{"$f":"'kros seznam'!QWP147","v":0},{"$f":"'kros seznam'!QWQ147","v":0},{"$f":"'kros seznam'!QWR147","v":0},{"$f":"'kros seznam'!QWS147","v":0},{"$f":"'kros seznam'!QWT147","v":0},{"$f":"'kros seznam'!QWU147","v":0},{"$f":"'kros seznam'!QWV147","v":0},{"$f":"'kros seznam'!QWW147","v":0},{"$f":"'kros seznam'!QWX147","v":0},{"$f":"'kros seznam'!QWY147","v":0},{"$f":"'kros seznam'!QWZ147","v":0},{"$f":"'kros seznam'!QXA147","v":0},{"$f":"'kros seznam'!QXB147","v":0},{"$f":"'kros seznam'!QXC147","v":0},{"$f":"'kros seznam'!QXD147","v":0},{"$f":"'kros seznam'!QXE147","v":0},{"$f":"'kros seznam'!QXF147","v":0},{"$f":"'kros seznam'!QXG147","v":0},{"$f":"'kros seznam'!QXH147","v":0},{"$f":"'kros seznam'!QXI147","v":0},{"$f":"'kros seznam'!QXJ147","v":0},{"$f":"'kros seznam'!QXK147","v":0},{"$f":"'kros seznam'!QXL147","v":0},{"$f":"'kros seznam'!QXM147","v":0},{"$f":"'kros seznam'!QXN147","v":0},{"$f":"'kros seznam'!QXO147","v":0},{"$f":"'kros seznam'!QXP147","v":0},{"$f":"'kros seznam'!QXQ147","v":0},{"$f":"'kros seznam'!QXR147","v":0},{"$f":"'kros seznam'!QXS147","v":0},{"$f":"'kros seznam'!QXT147","v":0},{"$f":"'kros seznam'!QXU147","v":0},{"$f":"'kros seznam'!QXV147","v":0},{"$f":"'kros seznam'!QXW147","v":0},{"$f":"'kros seznam'!QXX147","v":0},{"$f":"'kros seznam'!QXY147","v":0},{"$f":"'kros seznam'!QXZ147","v":0},{"$f":"'kros seznam'!QYA147","v":0},{"$f":"'kros seznam'!QYB147","v":0},{"$f":"'kros seznam'!QYC147","v":0},{"$f":"'kros seznam'!QYD147","v":0},{"$f":"'kros seznam'!QYE147","v":0},{"$f":"'kros seznam'!QYF147","v":0},{"$f":"'kros seznam'!QYG147","v":0},{"$f":"'kros seznam'!QYH147","v":0},{"$f":"'kros seznam'!QYI147","v":0},{"$f":"'kros seznam'!QYJ147","v":0},{"$f":"'kros seznam'!QYK147","v":0},{"$f":"'kros seznam'!QYL147","v":0},{"$f":"'kros seznam'!QYM147","v":0},{"$f":"'kros seznam'!QYN147","v":0},{"$f":"'kros seznam'!QYO147","v":0},{"$f":"'kros seznam'!QYP147","v":0},{"$f":"'kros seznam'!QYQ147","v":0},{"$f":"'kros seznam'!QYR147","v":0},{"$f":"'kros seznam'!QYS147","v":0},{"$f":"'kros seznam'!QYT147","v":0},{"$f":"'kros seznam'!QYU147","v":0},{"$f":"'kros seznam'!QYV147","v":0},{"$f":"'kros seznam'!QYW147","v":0},{"$f":"'kros seznam'!QYX147","v":0},{"$f":"'kros seznam'!QYY147","v":0},{"$f":"'kros seznam'!QYZ147","v":0},{"$f":"'kros seznam'!QZA147","v":0},{"$f":"'kros seznam'!QZB147","v":0},{"$f":"'kros seznam'!QZC147","v":0},{"$f":"'kros seznam'!QZD147","v":0},{"$f":"'kros seznam'!QZE147","v":0},{"$f":"'kros seznam'!QZF147","v":0},{"$f":"'kros seznam'!QZG147","v":0},{"$f":"'kros seznam'!QZH147","v":0},{"$f":"'kros seznam'!QZI147","v":0},{"$f":"'kros seznam'!QZJ147","v":0},{"$f":"'kros seznam'!QZK147","v":0},{"$f":"'kros seznam'!QZL147","v":0},{"$f":"'kros seznam'!QZM147","v":0},{"$f":"'kros seznam'!QZN147","v":0},{"$f":"'kros seznam'!QZO147","v":0},{"$f":"'kros seznam'!QZP147","v":0},{"$f":"'kros seznam'!QZQ147","v":0},{"$f":"'kros seznam'!QZR147","v":0},{"$f":"'kros seznam'!QZS147","v":0},{"$f":"'kros seznam'!QZT147","v":0},{"$f":"'kros seznam'!QZU147","v":0},{"$f":"'kros seznam'!QZV147","v":0},{"$f":"'kros seznam'!QZW147","v":0},{"$f":"'kros seznam'!QZX147","v":0},{"$f":"'kros seznam'!QZY147","v":0},{"$f":"'kros seznam'!QZZ147","v":0},{"$f":"'kros seznam'!RAA147","v":0},{"$f":"'kros seznam'!RAB147","v":0},{"$f":"'kros seznam'!RAC147","v":0},{"$f":"'kros seznam'!RAD147","v":0},{"$f":"'kros seznam'!RAE147","v":0},{"$f":"'kros seznam'!RAF147","v":0},{"$f":"'kros seznam'!RAG147","v":0},{"$f":"'kros seznam'!RAH147","v":0},{"$f":"'kros seznam'!RAI147","v":0},{"$f":"'kros seznam'!RAJ147","v":0},{"$f":"'kros seznam'!RAK147","v":0},{"$f":"'kros seznam'!RAL147","v":0},{"$f":"'kros seznam'!RAM147","v":0},{"$f":"'kros seznam'!RAN147","v":0},{"$f":"'kros seznam'!RAO147","v":0},{"$f":"'kros seznam'!RAP147","v":0},{"$f":"'kros seznam'!RAQ147","v":0},{"$f":"'kros seznam'!RAR147","v":0},{"$f":"'kros seznam'!RAS147","v":0},{"$f":"'kros seznam'!RAT147","v":0},{"$f":"'kros seznam'!RAU147","v":0},{"$f":"'kros seznam'!RAV147","v":0},{"$f":"'kros seznam'!RAW147","v":0},{"$f":"'kros seznam'!RAX147","v":0},{"$f":"'kros seznam'!RAY147","v":0},{"$f":"'kros seznam'!RAZ147","v":0},{"$f":"'kros seznam'!RBA147","v":0},{"$f":"'kros seznam'!RBB147","v":0},{"$f":"'kros seznam'!RBC147","v":0},{"$f":"'kros seznam'!RBD147","v":0},{"$f":"'kros seznam'!RBE147","v":0},{"$f":"'kros seznam'!RBF147","v":0},{"$f":"'kros seznam'!RBG147","v":0},{"$f":"'kros seznam'!RBH147","v":0},{"$f":"'kros seznam'!RBI147","v":0},{"$f":"'kros seznam'!RBJ147","v":0},{"$f":"'kros seznam'!RBK147","v":0},{"$f":"'kros seznam'!RBL147","v":0},{"$f":"'kros seznam'!RBM147","v":0},{"$f":"'kros seznam'!RBN147","v":0},{"$f":"'kros seznam'!RBO147","v":0},{"$f":"'kros seznam'!RBP147","v":0},{"$f":"'kros seznam'!RBQ147","v":0},{"$f":"'kros seznam'!RBR147","v":0},{"$f":"'kros seznam'!RBS147","v":0},{"$f":"'kros seznam'!RBT147","v":0},{"$f":"'kros seznam'!RBU147","v":0},{"$f":"'kros seznam'!RBV147","v":0},{"$f":"'kros seznam'!RBW147","v":0},{"$f":"'kros seznam'!RBX147","v":0},{"$f":"'kros seznam'!RBY147","v":0},{"$f":"'kros seznam'!RBZ147","v":0},{"$f":"'kros seznam'!RCA147","v":0},{"$f":"'kros seznam'!RCB147","v":0},{"$f":"'kros seznam'!RCC147","v":0},{"$f":"'kros seznam'!RCD147","v":0},{"$f":"'kros seznam'!RCE147","v":0},{"$f":"'kros seznam'!RCF147","v":0},{"$f":"'kros seznam'!RCG147","v":0},{"$f":"'kros seznam'!RCH147","v":0},{"$f":"'kros seznam'!RCI147","v":0},{"$f":"'kros seznam'!RCJ147","v":0},{"$f":"'kros seznam'!RCK147","v":0},{"$f":"'kros seznam'!RCL147","v":0},{"$f":"'kros seznam'!RCM147","v":0},{"$f":"'kros seznam'!RCN147","v":0},{"$f":"'kros seznam'!RCO147","v":0},{"$f":"'kros seznam'!RCP147","v":0},{"$f":"'kros seznam'!RCQ147","v":0},{"$f":"'kros seznam'!RCR147","v":0},{"$f":"'kros seznam'!RCS147","v":0},{"$f":"'kros seznam'!RCT147","v":0},{"$f":"'kros seznam'!RCU147","v":0},{"$f":"'kros seznam'!RCV147","v":0},{"$f":"'kros seznam'!RCW147","v":0},{"$f":"'kros seznam'!RCX147","v":0},{"$f":"'kros seznam'!RCY147","v":0},{"$f":"'kros seznam'!RCZ147","v":0},{"$f":"'kros seznam'!RDA147","v":0},{"$f":"'kros seznam'!RDB147","v":0},{"$f":"'kros seznam'!RDC147","v":0},{"$f":"'kros seznam'!RDD147","v":0},{"$f":"'kros seznam'!RDE147","v":0},{"$f":"'kros seznam'!RDF147","v":0},{"$f":"'kros seznam'!RDG147","v":0},{"$f":"'kros seznam'!RDH147","v":0},{"$f":"'kros seznam'!RDI147","v":0},{"$f":"'kros seznam'!RDJ147","v":0},{"$f":"'kros seznam'!RDK147","v":0},{"$f":"'kros seznam'!RDL147","v":0},{"$f":"'kros seznam'!RDM147","v":0},{"$f":"'kros seznam'!RDN147","v":0},{"$f":"'kros seznam'!RDO147","v":0},{"$f":"'kros seznam'!RDP147","v":0},{"$f":"'kros seznam'!RDQ147","v":0},{"$f":"'kros seznam'!RDR147","v":0},{"$f":"'kros seznam'!RDS147","v":0},{"$f":"'kros seznam'!RDT147","v":0},{"$f":"'kros seznam'!RDU147","v":0},{"$f":"'kros seznam'!RDV147","v":0},{"$f":"'kros seznam'!RDW147","v":0},{"$f":"'kros seznam'!RDX147","v":0},{"$f":"'kros seznam'!RDY147","v":0},{"$f":"'kros seznam'!RDZ147","v":0},{"$f":"'kros seznam'!REA147","v":0},{"$f":"'kros seznam'!REB147","v":0},{"$f":"'kros seznam'!REC147","v":0},{"$f":"'kros seznam'!RED147","v":0},{"$f":"'kros seznam'!REE147","v":0},{"$f":"'kros seznam'!REF147","v":0},{"$f":"'kros seznam'!REG147","v":0},{"$f":"'kros seznam'!REH147","v":0},{"$f":"'kros seznam'!REI147","v":0},{"$f":"'kros seznam'!REJ147","v":0},{"$f":"'kros seznam'!REK147","v":0},{"$f":"'kros seznam'!REL147","v":0},{"$f":"'kros seznam'!REM147","v":0},{"$f":"'kros seznam'!REN147","v":0},{"$f":"'kros seznam'!REO147","v":0},{"$f":"'kros seznam'!REP147","v":0},{"$f":"'kros seznam'!REQ147","v":0},{"$f":"'kros seznam'!RER147","v":0},{"$f":"'kros seznam'!RES147","v":0},{"$f":"'kros seznam'!RET147","v":0},{"$f":"'kros seznam'!REU147","v":0},{"$f":"'kros seznam'!REV147","v":0},{"$f":"'kros seznam'!REW147","v":0},{"$f":"'kros seznam'!REX147","v":0},{"$f":"'kros seznam'!REY147","v":0},{"$f":"'kros seznam'!REZ147","v":0},{"$f":"'kros seznam'!RFA147","v":0},{"$f":"'kros seznam'!RFB147","v":0},{"$f":"'kros seznam'!RFC147","v":0},{"$f":"'kros seznam'!RFD147","v":0},{"$f":"'kros seznam'!RFE147","v":0},{"$f":"'kros seznam'!RFF147","v":0},{"$f":"'kros seznam'!RFG147","v":0},{"$f":"'kros seznam'!RFH147","v":0},{"$f":"'kros seznam'!RFI147","v":0},{"$f":"'kros seznam'!RFJ147","v":0},{"$f":"'kros seznam'!RFK147","v":0},{"$f":"'kros seznam'!RFL147","v":0},{"$f":"'kros seznam'!RFM147","v":0},{"$f":"'kros seznam'!RFN147","v":0},{"$f":"'kros seznam'!RFO147","v":0},{"$f":"'kros seznam'!RFP147","v":0},{"$f":"'kros seznam'!RFQ147","v":0},{"$f":"'kros seznam'!RFR147","v":0},{"$f":"'kros seznam'!RFS147","v":0},{"$f":"'kros seznam'!RFT147","v":0},{"$f":"'kros seznam'!RFU147","v":0},{"$f":"'kros seznam'!RFV147","v":0},{"$f":"'kros seznam'!RFW147","v":0},{"$f":"'kros seznam'!RFX147","v":0},{"$f":"'kros seznam'!RFY147","v":0},{"$f":"'kros seznam'!RFZ147","v":0},{"$f":"'kros seznam'!RGA147","v":0},{"$f":"'kros seznam'!RGB147","v":0},{"$f":"'kros seznam'!RGC147","v":0},{"$f":"'kros seznam'!RGD147","v":0},{"$f":"'kros seznam'!RGE147","v":0},{"$f":"'kros seznam'!RGF147","v":0},{"$f":"'kros seznam'!RGG147","v":0},{"$f":"'kros seznam'!RGH147","v":0},{"$f":"'kros seznam'!RGI147","v":0},{"$f":"'kros seznam'!RGJ147","v":0},{"$f":"'kros seznam'!RGK147","v":0},{"$f":"'kros seznam'!RGL147","v":0},{"$f":"'kros seznam'!RGM147","v":0},{"$f":"'kros seznam'!RGN147","v":0},{"$f":"'kros seznam'!RGO147","v":0},{"$f":"'kros seznam'!RGP147","v":0},{"$f":"'kros seznam'!RGQ147","v":0},{"$f":"'kros seznam'!RGR147","v":0},{"$f":"'kros seznam'!RGS147","v":0},{"$f":"'kros seznam'!RGT147","v":0},{"$f":"'kros seznam'!RGU147","v":0},{"$f":"'kros seznam'!RGV147","v":0},{"$f":"'kros seznam'!RGW147","v":0},{"$f":"'kros seznam'!RGX147","v":0},{"$f":"'kros seznam'!RGY147","v":0},{"$f":"'kros seznam'!RGZ147","v":0},{"$f":"'kros seznam'!RHA147","v":0},{"$f":"'kros seznam'!RHB147","v":0},{"$f":"'kros seznam'!RHC147","v":0},{"$f":"'kros seznam'!RHD147","v":0},{"$f":"'kros seznam'!RHE147","v":0},{"$f":"'kros seznam'!RHF147","v":0},{"$f":"'kros seznam'!RHG147","v":0},{"$f":"'kros seznam'!RHH147","v":0},{"$f":"'kros seznam'!RHI147","v":0},{"$f":"'kros seznam'!RHJ147","v":0},{"$f":"'kros seznam'!RHK147","v":0},{"$f":"'kros seznam'!RHL147","v":0},{"$f":"'kros seznam'!RHM147","v":0},{"$f":"'kros seznam'!RHN147","v":0},{"$f":"'kros seznam'!RHO147","v":0},{"$f":"'kros seznam'!RHP147","v":0},{"$f":"'kros seznam'!RHQ147","v":0},{"$f":"'kros seznam'!RHR147","v":0},{"$f":"'kros seznam'!RHS147","v":0},{"$f":"'kros seznam'!RHT147","v":0},{"$f":"'kros seznam'!RHU147","v":0},{"$f":"'kros seznam'!RHV147","v":0},{"$f":"'kros seznam'!RHW147","v":0},{"$f":"'kros seznam'!RHX147","v":0},{"$f":"'kros seznam'!RHY147","v":0},{"$f":"'kros seznam'!RHZ147","v":0},{"$f":"'kros seznam'!RIA147","v":0},{"$f":"'kros seznam'!RIB147","v":0},{"$f":"'kros seznam'!RIC147","v":0},{"$f":"'kros seznam'!RID147","v":0},{"$f":"'kros seznam'!RIE147","v":0},{"$f":"'kros seznam'!RIF147","v":0},{"$f":"'kros seznam'!RIG147","v":0},{"$f":"'kros seznam'!RIH147","v":0},{"$f":"'kros seznam'!RII147","v":0},{"$f":"'kros seznam'!RIJ147","v":0},{"$f":"'kros seznam'!RIK147","v":0},{"$f":"'kros seznam'!RIL147","v":0},{"$f":"'kros seznam'!RIM147","v":0},{"$f":"'kros seznam'!RIN147","v":0},{"$f":"'kros seznam'!RIO147","v":0},{"$f":"'kros seznam'!RIP147","v":0},{"$f":"'kros seznam'!RIQ147","v":0},{"$f":"'kros seznam'!RIR147","v":0},{"$f":"'kros seznam'!RIS147","v":0},{"$f":"'kros seznam'!RIT147","v":0},{"$f":"'kros seznam'!RIU147","v":0},{"$f":"'kros seznam'!RIV147","v":0},{"$f":"'kros seznam'!RIW147","v":0},{"$f":"'kros seznam'!RIX147","v":0},{"$f":"'kros seznam'!RIY147","v":0},{"$f":"'kros seznam'!RIZ147","v":0},{"$f":"'kros seznam'!RJA147","v":0},{"$f":"'kros seznam'!RJB147","v":0},{"$f":"'kros seznam'!RJC147","v":0},{"$f":"'kros seznam'!RJD147","v":0},{"$f":"'kros seznam'!RJE147","v":0},{"$f":"'kros seznam'!RJF147","v":0},{"$f":"'kros seznam'!RJG147","v":0},{"$f":"'kros seznam'!RJH147","v":0},{"$f":"'kros seznam'!RJI147","v":0},{"$f":"'kros seznam'!RJJ147","v":0},{"$f":"'kros seznam'!RJK147","v":0},{"$f":"'kros seznam'!RJL147","v":0},{"$f":"'kros seznam'!RJM147","v":0},{"$f":"'kros seznam'!RJN147","v":0},{"$f":"'kros seznam'!RJO147","v":0},{"$f":"'kros seznam'!RJP147","v":0},{"$f":"'kros seznam'!RJQ147","v":0},{"$f":"'kros seznam'!RJR147","v":0},{"$f":"'kros seznam'!RJS147","v":0},{"$f":"'kros seznam'!RJT147","v":0},{"$f":"'kros seznam'!RJU147","v":0},{"$f":"'kros seznam'!RJV147","v":0},{"$f":"'kros seznam'!RJW147","v":0},{"$f":"'kros seznam'!RJX147","v":0},{"$f":"'kros seznam'!RJY147","v":0},{"$f":"'kros seznam'!RJZ147","v":0},{"$f":"'kros seznam'!RKA147","v":0},{"$f":"'kros seznam'!RKB147","v":0},{"$f":"'kros seznam'!RKC147","v":0},{"$f":"'kros seznam'!RKD147","v":0},{"$f":"'kros seznam'!RKE147","v":0},{"$f":"'kros seznam'!RKF147","v":0},{"$f":"'kros seznam'!RKG147","v":0},{"$f":"'kros seznam'!RKH147","v":0},{"$f":"'kros seznam'!RKI147","v":0},{"$f":"'kros seznam'!RKJ147","v":0},{"$f":"'kros seznam'!RKK147","v":0},{"$f":"'kros seznam'!RKL147","v":0},{"$f":"'kros seznam'!RKM147","v":0},{"$f":"'kros seznam'!RKN147","v":0},{"$f":"'kros seznam'!RKO147","v":0},{"$f":"'kros seznam'!RKP147","v":0},{"$f":"'kros seznam'!RKQ147","v":0},{"$f":"'kros seznam'!RKR147","v":0},{"$f":"'kros seznam'!RKS147","v":0},{"$f":"'kros seznam'!RKT147","v":0},{"$f":"'kros seznam'!RKU147","v":0},{"$f":"'kros seznam'!RKV147","v":0},{"$f":"'kros seznam'!RKW147","v":0},{"$f":"'kros seznam'!RKX147","v":0},{"$f":"'kros seznam'!RKY147","v":0},{"$f":"'kros seznam'!RKZ147","v":0},{"$f":"'kros seznam'!RLA147","v":0},{"$f":"'kros seznam'!RLB147","v":0},{"$f":"'kros seznam'!RLC147","v":0},{"$f":"'kros seznam'!RLD147","v":0},{"$f":"'kros seznam'!RLE147","v":0},{"$f":"'kros seznam'!RLF147","v":0},{"$f":"'kros seznam'!RLG147","v":0},{"$f":"'kros seznam'!RLH147","v":0},{"$f":"'kros seznam'!RLI147","v":0},{"$f":"'kros seznam'!RLJ147","v":0},{"$f":"'kros seznam'!RLK147","v":0},{"$f":"'kros seznam'!RLL147","v":0},{"$f":"'kros seznam'!RLM147","v":0},{"$f":"'kros seznam'!RLN147","v":0},{"$f":"'kros seznam'!RLO147","v":0},{"$f":"'kros seznam'!RLP147","v":0},{"$f":"'kros seznam'!RLQ147","v":0},{"$f":"'kros seznam'!RLR147","v":0},{"$f":"'kros seznam'!RLS147","v":0},{"$f":"'kros seznam'!RLT147","v":0},{"$f":"'kros seznam'!RLU147","v":0},{"$f":"'kros seznam'!RLV147","v":0},{"$f":"'kros seznam'!RLW147","v":0},{"$f":"'kros seznam'!RLX147","v":0},{"$f":"'kros seznam'!RLY147","v":0},{"$f":"'kros seznam'!RLZ147","v":0},{"$f":"'kros seznam'!RMA147","v":0},{"$f":"'kros seznam'!RMB147","v":0},{"$f":"'kros seznam'!RMC147","v":0},{"$f":"'kros seznam'!RMD147","v":0},{"$f":"'kros seznam'!RME147","v":0},{"$f":"'kros seznam'!RMF147","v":0},{"$f":"'kros seznam'!RMG147","v":0},{"$f":"'kros seznam'!RMH147","v":0},{"$f":"'kros seznam'!RMI147","v":0},{"$f":"'kros seznam'!RMJ147","v":0},{"$f":"'kros seznam'!RMK147","v":0},{"$f":"'kros seznam'!RML147","v":0},{"$f":"'kros seznam'!RMM147","v":0},{"$f":"'kros seznam'!RMN147","v":0},{"$f":"'kros seznam'!RMO147","v":0},{"$f":"'kros seznam'!RMP147","v":0},{"$f":"'kros seznam'!RMQ147","v":0},{"$f":"'kros seznam'!RMR147","v":0},{"$f":"'kros seznam'!RMS147","v":0},{"$f":"'kros seznam'!RMT147","v":0},{"$f":"'kros seznam'!RMU147","v":0},{"$f":"'kros seznam'!RMV147","v":0},{"$f":"'kros seznam'!RMW147","v":0},{"$f":"'kros seznam'!RMX147","v":0},{"$f":"'kros seznam'!RMY147","v":0},{"$f":"'kros seznam'!RMZ147","v":0},{"$f":"'kros seznam'!RNA147","v":0},{"$f":"'kros seznam'!RNB147","v":0},{"$f":"'kros seznam'!RNC147","v":0},{"$f":"'kros seznam'!RND147","v":0},{"$f":"'kros seznam'!RNE147","v":0},{"$f":"'kros seznam'!RNF147","v":0},{"$f":"'kros seznam'!RNG147","v":0},{"$f":"'kros seznam'!RNH147","v":0},{"$f":"'kros seznam'!RNI147","v":0},{"$f":"'kros seznam'!RNJ147","v":0},{"$f":"'kros seznam'!RNK147","v":0},{"$f":"'kros seznam'!RNL147","v":0},{"$f":"'kros seznam'!RNM147","v":0},{"$f":"'kros seznam'!RNN147","v":0},{"$f":"'kros seznam'!RNO147","v":0},{"$f":"'kros seznam'!RNP147","v":0},{"$f":"'kros seznam'!RNQ147","v":0},{"$f":"'kros seznam'!RNR147","v":0},{"$f":"'kros seznam'!RNS147","v":0},{"$f":"'kros seznam'!RNT147","v":0},{"$f":"'kros seznam'!RNU147","v":0},{"$f":"'kros seznam'!RNV147","v":0},{"$f":"'kros seznam'!RNW147","v":0},{"$f":"'kros seznam'!RNX147","v":0},{"$f":"'kros seznam'!RNY147","v":0},{"$f":"'kros seznam'!RNZ147","v":0},{"$f":"'kros seznam'!ROA147","v":0},{"$f":"'kros seznam'!ROB147","v":0},{"$f":"'kros seznam'!ROC147","v":0},{"$f":"'kros seznam'!ROD147","v":0},{"$f":"'kros seznam'!ROE147","v":0},{"$f":"'kros seznam'!ROF147","v":0},{"$f":"'kros seznam'!ROG147","v":0},{"$f":"'kros seznam'!ROH147","v":0},{"$f":"'kros seznam'!ROI147","v":0},{"$f":"'kros seznam'!ROJ147","v":0},{"$f":"'kros seznam'!ROK147","v":0},{"$f":"'kros seznam'!ROL147","v":0},{"$f":"'kros seznam'!ROM147","v":0},{"$f":"'kros seznam'!RON147","v":0},{"$f":"'kros seznam'!ROO147","v":0},{"$f":"'kros seznam'!ROP147","v":0},{"$f":"'kros seznam'!ROQ147","v":0},{"$f":"'kros seznam'!ROR147","v":0},{"$f":"'kros seznam'!ROS147","v":0},{"$f":"'kros seznam'!ROT147","v":0},{"$f":"'kros seznam'!ROU147","v":0},{"$f":"'kros seznam'!ROV147","v":0},{"$f":"'kros seznam'!ROW147","v":0},{"$f":"'kros seznam'!ROX147","v":0},{"$f":"'kros seznam'!ROY147","v":0},{"$f":"'kros seznam'!ROZ147","v":0},{"$f":"'kros seznam'!RPA147","v":0},{"$f":"'kros seznam'!RPB147","v":0},{"$f":"'kros seznam'!RPC147","v":0},{"$f":"'kros seznam'!RPD147","v":0},{"$f":"'kros seznam'!RPE147","v":0},{"$f":"'kros seznam'!RPF147","v":0},{"$f":"'kros seznam'!RPG147","v":0},{"$f":"'kros seznam'!RPH147","v":0},{"$f":"'kros seznam'!RPI147","v":0},{"$f":"'kros seznam'!RPJ147","v":0},{"$f":"'kros seznam'!RPK147","v":0},{"$f":"'kros seznam'!RPL147","v":0},{"$f":"'kros seznam'!RPM147","v":0},{"$f":"'kros seznam'!RPN147","v":0},{"$f":"'kros seznam'!RPO147","v":0},{"$f":"'kros seznam'!RPP147","v":0},{"$f":"'kros seznam'!RPQ147","v":0},{"$f":"'kros seznam'!RPR147","v":0},{"$f":"'kros seznam'!RPS147","v":0},{"$f":"'kros seznam'!RPT147","v":0},{"$f":"'kros seznam'!RPU147","v":0},{"$f":"'kros seznam'!RPV147","v":0},{"$f":"'kros seznam'!RPW147","v":0},{"$f":"'kros seznam'!RPX147","v":0},{"$f":"'kros seznam'!RPY147","v":0},{"$f":"'kros seznam'!RPZ147","v":0},{"$f":"'kros seznam'!RQA147","v":0},{"$f":"'kros seznam'!RQB147","v":0},{"$f":"'kros seznam'!RQC147","v":0},{"$f":"'kros seznam'!RQD147","v":0},{"$f":"'kros seznam'!RQE147","v":0},{"$f":"'kros seznam'!RQF147","v":0},{"$f":"'kros seznam'!RQG147","v":0},{"$f":"'kros seznam'!RQH147","v":0},{"$f":"'kros seznam'!RQI147","v":0},{"$f":"'kros seznam'!RQJ147","v":0},{"$f":"'kros seznam'!RQK147","v":0},{"$f":"'kros seznam'!RQL147","v":0},{"$f":"'kros seznam'!RQM147","v":0},{"$f":"'kros seznam'!RQN147","v":0},{"$f":"'kros seznam'!RQO147","v":0},{"$f":"'kros seznam'!RQP147","v":0},{"$f":"'kros seznam'!RQQ147","v":0},{"$f":"'kros seznam'!RQR147","v":0},{"$f":"'kros seznam'!RQS147","v":0},{"$f":"'kros seznam'!RQT147","v":0},{"$f":"'kros seznam'!RQU147","v":0},{"$f":"'kros seznam'!RQV147","v":0},{"$f":"'kros seznam'!RQW147","v":0},{"$f":"'kros seznam'!RQX147","v":0},{"$f":"'kros seznam'!RQY147","v":0},{"$f":"'kros seznam'!RQZ147","v":0},{"$f":"'kros seznam'!RRA147","v":0},{"$f":"'kros seznam'!RRB147","v":0},{"$f":"'kros seznam'!RRC147","v":0},{"$f":"'kros seznam'!RRD147","v":0},{"$f":"'kros seznam'!RRE147","v":0},{"$f":"'kros seznam'!RRF147","v":0},{"$f":"'kros seznam'!RRG147","v":0},{"$f":"'kros seznam'!RRH147","v":0},{"$f":"'kros seznam'!RRI147","v":0},{"$f":"'kros seznam'!RRJ147","v":0},{"$f":"'kros seznam'!RRK147","v":0},{"$f":"'kros seznam'!RRL147","v":0},{"$f":"'kros seznam'!RRM147","v":0},{"$f":"'kros seznam'!RRN147","v":0},{"$f":"'kros seznam'!RRO147","v":0},{"$f":"'kros seznam'!RRP147","v":0},{"$f":"'kros seznam'!RRQ147","v":0},{"$f":"'kros seznam'!RRR147","v":0},{"$f":"'kros seznam'!RRS147","v":0},{"$f":"'kros seznam'!RRT147","v":0},{"$f":"'kros seznam'!RRU147","v":0},{"$f":"'kros seznam'!RRV147","v":0},{"$f":"'kros seznam'!RRW147","v":0},{"$f":"'kros seznam'!RRX147","v":0},{"$f":"'kros seznam'!RRY147","v":0},{"$f":"'kros seznam'!RRZ147","v":0},{"$f":"'kros seznam'!RSA147","v":0},{"$f":"'kros seznam'!RSB147","v":0},{"$f":"'kros seznam'!RSC147","v":0},{"$f":"'kros seznam'!RSD147","v":0},{"$f":"'kros seznam'!RSE147","v":0},{"$f":"'kros seznam'!RSF147","v":0},{"$f":"'kros seznam'!RSG147","v":0},{"$f":"'kros seznam'!RSH147","v":0},{"$f":"'kros seznam'!RSI147","v":0},{"$f":"'kros seznam'!RSJ147","v":0},{"$f":"'kros seznam'!RSK147","v":0},{"$f":"'kros seznam'!RSL147","v":0},{"$f":"'kros seznam'!RSM147","v":0},{"$f":"'kros seznam'!RSN147","v":0},{"$f":"'kros seznam'!RSO147","v":0},{"$f":"'kros seznam'!RSP147","v":0},{"$f":"'kros seznam'!RSQ147","v":0},{"$f":"'kros seznam'!RSR147","v":0},{"$f":"'kros seznam'!RSS147","v":0},{"$f":"'kros seznam'!RST147","v":0},{"$f":"'kros seznam'!RSU147","v":0},{"$f":"'kros seznam'!RSV147","v":0},{"$f":"'kros seznam'!RSW147","v":0},{"$f":"'kros seznam'!RSX147","v":0},{"$f":"'kros seznam'!RSY147","v":0},{"$f":"'kros seznam'!RSZ147","v":0},{"$f":"'kros seznam'!RTA147","v":0},{"$f":"'kros seznam'!RTB147","v":0},{"$f":"'kros seznam'!RTC147","v":0},{"$f":"'kros seznam'!RTD147","v":0},{"$f":"'kros seznam'!RTE147","v":0},{"$f":"'kros seznam'!RTF147","v":0},{"$f":"'kros seznam'!RTG147","v":0},{"$f":"'kros seznam'!RTH147","v":0},{"$f":"'kros seznam'!RTI147","v":0},{"$f":"'kros seznam'!RTJ147","v":0},{"$f":"'kros seznam'!RTK147","v":0},{"$f":"'kros seznam'!RTL147","v":0},{"$f":"'kros seznam'!RTM147","v":0},{"$f":"'kros seznam'!RTN147","v":0},{"$f":"'kros seznam'!RTO147","v":0},{"$f":"'kros seznam'!RTP147","v":0},{"$f":"'kros seznam'!RTQ147","v":0},{"$f":"'kros seznam'!RTR147","v":0},{"$f":"'kros seznam'!RTS147","v":0},{"$f":"'kros seznam'!RTT147","v":0},{"$f":"'kros seznam'!RTU147","v":0},{"$f":"'kros seznam'!RTV147","v":0},{"$f":"'kros seznam'!RTW147","v":0},{"$f":"'kros seznam'!RTX147","v":0},{"$f":"'kros seznam'!RTY147","v":0},{"$f":"'kros seznam'!RTZ147","v":0},{"$f":"'kros seznam'!RUA147","v":0},{"$f":"'kros seznam'!RUB147","v":0},{"$f":"'kros seznam'!RUC147","v":0},{"$f":"'kros seznam'!RUD147","v":0},{"$f":"'kros seznam'!RUE147","v":0},{"$f":"'kros seznam'!RUF147","v":0},{"$f":"'kros seznam'!RUG147","v":0},{"$f":"'kros seznam'!RUH147","v":0},{"$f":"'kros seznam'!RUI147","v":0},{"$f":"'kros seznam'!RUJ147","v":0},{"$f":"'kros seznam'!RUK147","v":0},{"$f":"'kros seznam'!RUL147","v":0},{"$f":"'kros seznam'!RUM147","v":0},{"$f":"'kros seznam'!RUN147","v":0},{"$f":"'kros seznam'!RUO147","v":0},{"$f":"'kros seznam'!RUP147","v":0},{"$f":"'kros seznam'!RUQ147","v":0},{"$f":"'kros seznam'!RUR147","v":0},{"$f":"'kros seznam'!RUS147","v":0},{"$f":"'kros seznam'!RUT147","v":0},{"$f":"'kros seznam'!RUU147","v":0},{"$f":"'kros seznam'!RUV147","v":0},{"$f":"'kros seznam'!RUW147","v":0},{"$f":"'kros seznam'!RUX147","v":0},{"$f":"'kros seznam'!RUY147","v":0},{"$f":"'kros seznam'!RUZ147","v":0},{"$f":"'kros seznam'!RVA147","v":0},{"$f":"'kros seznam'!RVB147","v":0},{"$f":"'kros seznam'!RVC147","v":0},{"$f":"'kros seznam'!RVD147","v":0},{"$f":"'kros seznam'!RVE147","v":0},{"$f":"'kros seznam'!RVF147","v":0},{"$f":"'kros seznam'!RVG147","v":0},{"$f":"'kros seznam'!RVH147","v":0},{"$f":"'kros seznam'!RVI147","v":0},{"$f":"'kros seznam'!RVJ147","v":0},{"$f":"'kros seznam'!RVK147","v":0},{"$f":"'kros seznam'!RVL147","v":0},{"$f":"'kros seznam'!RVM147","v":0},{"$f":"'kros seznam'!RVN147","v":0},{"$f":"'kros seznam'!RVO147","v":0},{"$f":"'kros seznam'!RVP147","v":0},{"$f":"'kros seznam'!RVQ147","v":0},{"$f":"'kros seznam'!RVR147","v":0},{"$f":"'kros seznam'!RVS147","v":0},{"$f":"'kros seznam'!RVT147","v":0},{"$f":"'kros seznam'!RVU147","v":0},{"$f":"'kros seznam'!RVV147","v":0},{"$f":"'kros seznam'!RVW147","v":0},{"$f":"'kros seznam'!RVX147","v":0},{"$f":"'kros seznam'!RVY147","v":0},{"$f":"'kros seznam'!RVZ147","v":0},{"$f":"'kros seznam'!RWA147","v":0},{"$f":"'kros seznam'!RWB147","v":0},{"$f":"'kros seznam'!RWC147","v":0},{"$f":"'kros seznam'!RWD147","v":0},{"$f":"'kros seznam'!RWE147","v":0},{"$f":"'kros seznam'!RWF147","v":0},{"$f":"'kros seznam'!RWG147","v":0},{"$f":"'kros seznam'!RWH147","v":0},{"$f":"'kros seznam'!RWI147","v":0},{"$f":"'kros seznam'!RWJ147","v":0},{"$f":"'kros seznam'!RWK147","v":0},{"$f":"'kros seznam'!RWL147","v":0},{"$f":"'kros seznam'!RWM147","v":0},{"$f":"'kros seznam'!RWN147","v":0},{"$f":"'kros seznam'!RWO147","v":0},{"$f":"'kros seznam'!RWP147","v":0},{"$f":"'kros seznam'!RWQ147","v":0},{"$f":"'kros seznam'!RWR147","v":0},{"$f":"'kros seznam'!RWS147","v":0},{"$f":"'kros seznam'!RWT147","v":0},{"$f":"'kros seznam'!RWU147","v":0},{"$f":"'kros seznam'!RWV147","v":0},{"$f":"'kros seznam'!RWW147","v":0},{"$f":"'kros seznam'!RWX147","v":0},{"$f":"'kros seznam'!RWY147","v":0},{"$f":"'kros seznam'!RWZ147","v":0},{"$f":"'kros seznam'!RXA147","v":0},{"$f":"'kros seznam'!RXB147","v":0},{"$f":"'kros seznam'!RXC147","v":0},{"$f":"'kros seznam'!RXD147","v":0},{"$f":"'kros seznam'!RXE147","v":0},{"$f":"'kros seznam'!RXF147","v":0},{"$f":"'kros seznam'!RXG147","v":0},{"$f":"'kros seznam'!RXH147","v":0},{"$f":"'kros seznam'!RXI147","v":0},{"$f":"'kros seznam'!RXJ147","v":0},{"$f":"'kros seznam'!RXK147","v":0},{"$f":"'kros seznam'!RXL147","v":0},{"$f":"'kros seznam'!RXM147","v":0},{"$f":"'kros seznam'!RXN147","v":0},{"$f":"'kros seznam'!RXO147","v":0},{"$f":"'kros seznam'!RXP147","v":0},{"$f":"'kros seznam'!RXQ147","v":0},{"$f":"'kros seznam'!RXR147","v":0},{"$f":"'kros seznam'!RXS147","v":0},{"$f":"'kros seznam'!RXT147","v":0},{"$f":"'kros seznam'!RXU147","v":0},{"$f":"'kros seznam'!RXV147","v":0},{"$f":"'kros seznam'!RXW147","v":0},{"$f":"'kros seznam'!RXX147","v":0},{"$f":"'kros seznam'!RXY147","v":0},{"$f":"'kros seznam'!RXZ147","v":0},{"$f":"'kros seznam'!RYA147","v":0},{"$f":"'kros seznam'!RYB147","v":0},{"$f":"'kros seznam'!RYC147","v":0},{"$f":"'kros seznam'!RYD147","v":0},{"$f":"'kros seznam'!RYE147","v":0},{"$f":"'kros seznam'!RYF147","v":0},{"$f":"'kros seznam'!RYG147","v":0},{"$f":"'kros seznam'!RYH147","v":0},{"$f":"'kros seznam'!RYI147","v":0},{"$f":"'kros seznam'!RYJ147","v":0},{"$f":"'kros seznam'!RYK147","v":0},{"$f":"'kros seznam'!RYL147","v":0},{"$f":"'kros seznam'!RYM147","v":0},{"$f":"'kros seznam'!RYN147","v":0},{"$f":"'kros seznam'!RYO147","v":0},{"$f":"'kros seznam'!RYP147","v":0},{"$f":"'kros seznam'!RYQ147","v":0},{"$f":"'kros seznam'!RYR147","v":0},{"$f":"'kros seznam'!RYS147","v":0},{"$f":"'kros seznam'!RYT147","v":0},{"$f":"'kros seznam'!RYU147","v":0},{"$f":"'kros seznam'!RYV147","v":0},{"$f":"'kros seznam'!RYW147","v":0},{"$f":"'kros seznam'!RYX147","v":0},{"$f":"'kros seznam'!RYY147","v":0},{"$f":"'kros seznam'!RYZ147","v":0},{"$f":"'kros seznam'!RZA147","v":0},{"$f":"'kros seznam'!RZB147","v":0},{"$f":"'kros seznam'!RZC147","v":0},{"$f":"'kros seznam'!RZD147","v":0},{"$f":"'kros seznam'!RZE147","v":0},{"$f":"'kros seznam'!RZF147","v":0},{"$f":"'kros seznam'!RZG147","v":0},{"$f":"'kros seznam'!RZH147","v":0},{"$f":"'kros seznam'!RZI147","v":0},{"$f":"'kros seznam'!RZJ147","v":0},{"$f":"'kros seznam'!RZK147","v":0},{"$f":"'kros seznam'!RZL147","v":0},{"$f":"'kros seznam'!RZM147","v":0},{"$f":"'kros seznam'!RZN147","v":0},{"$f":"'kros seznam'!RZO147","v":0},{"$f":"'kros seznam'!RZP147","v":0},{"$f":"'kros seznam'!RZQ147","v":0},{"$f":"'kros seznam'!RZR147","v":0},{"$f":"'kros seznam'!RZS147","v":0},{"$f":"'kros seznam'!RZT147","v":0},{"$f":"'kros seznam'!RZU147","v":0},{"$f":"'kros seznam'!RZV147","v":0},{"$f":"'kros seznam'!RZW147","v":0},{"$f":"'kros seznam'!RZX147","v":0},{"$f":"'kros seznam'!RZY147","v":0},{"$f":"'kros seznam'!RZZ147","v":0},{"$f":"'kros seznam'!SAA147","v":0},{"$f":"'kros seznam'!SAB147","v":0},{"$f":"'kros seznam'!SAC147","v":0},{"$f":"'kros seznam'!SAD147","v":0},{"$f":"'kros seznam'!SAE147","v":0},{"$f":"'kros seznam'!SAF147","v":0},{"$f":"'kros seznam'!SAG147","v":0},{"$f":"'kros seznam'!SAH147","v":0},{"$f":"'kros seznam'!SAI147","v":0},{"$f":"'kros seznam'!SAJ147","v":0},{"$f":"'kros seznam'!SAK147","v":0},{"$f":"'kros seznam'!SAL147","v":0},{"$f":"'kros seznam'!SAM147","v":0},{"$f":"'kros seznam'!SAN147","v":0},{"$f":"'kros seznam'!SAO147","v":0},{"$f":"'kros seznam'!SAP147","v":0},{"$f":"'kros seznam'!SAQ147","v":0},{"$f":"'kros seznam'!SAR147","v":0},{"$f":"'kros seznam'!SAS147","v":0},{"$f":"'kros seznam'!SAT147","v":0},{"$f":"'kros seznam'!SAU147","v":0},{"$f":"'kros seznam'!SAV147","v":0},{"$f":"'kros seznam'!SAW147","v":0},{"$f":"'kros seznam'!SAX147","v":0},{"$f":"'kros seznam'!SAY147","v":0},{"$f":"'kros seznam'!SAZ147","v":0},{"$f":"'kros seznam'!SBA147","v":0},{"$f":"'kros seznam'!SBB147","v":0},{"$f":"'kros seznam'!SBC147","v":0},{"$f":"'kros seznam'!SBD147","v":0},{"$f":"'kros seznam'!SBE147","v":0},{"$f":"'kros seznam'!SBF147","v":0},{"$f":"'kros seznam'!SBG147","v":0},{"$f":"'kros seznam'!SBH147","v":0},{"$f":"'kros seznam'!SBI147","v":0},{"$f":"'kros seznam'!SBJ147","v":0},{"$f":"'kros seznam'!SBK147","v":0},{"$f":"'kros seznam'!SBL147","v":0},{"$f":"'kros seznam'!SBM147","v":0},{"$f":"'kros seznam'!SBN147","v":0},{"$f":"'kros seznam'!SBO147","v":0},{"$f":"'kros seznam'!SBP147","v":0},{"$f":"'kros seznam'!SBQ147","v":0},{"$f":"'kros seznam'!SBR147","v":0},{"$f":"'kros seznam'!SBS147","v":0},{"$f":"'kros seznam'!SBT147","v":0},{"$f":"'kros seznam'!SBU147","v":0},{"$f":"'kros seznam'!SBV147","v":0},{"$f":"'kros seznam'!SBW147","v":0},{"$f":"'kros seznam'!SBX147","v":0},{"$f":"'kros seznam'!SBY147","v":0},{"$f":"'kros seznam'!SBZ147","v":0},{"$f":"'kros seznam'!SCA147","v":0},{"$f":"'kros seznam'!SCB147","v":0},{"$f":"'kros seznam'!SCC147","v":0},{"$f":"'kros seznam'!SCD147","v":0},{"$f":"'kros seznam'!SCE147","v":0},{"$f":"'kros seznam'!SCF147","v":0},{"$f":"'kros seznam'!SCG147","v":0},{"$f":"'kros seznam'!SCH147","v":0},{"$f":"'kros seznam'!SCI147","v":0},{"$f":"'kros seznam'!SCJ147","v":0},{"$f":"'kros seznam'!SCK147","v":0},{"$f":"'kros seznam'!SCL147","v":0},{"$f":"'kros seznam'!SCM147","v":0},{"$f":"'kros seznam'!SCN147","v":0},{"$f":"'kros seznam'!SCO147","v":0},{"$f":"'kros seznam'!SCP147","v":0},{"$f":"'kros seznam'!SCQ147","v":0},{"$f":"'kros seznam'!SCR147","v":0},{"$f":"'kros seznam'!SCS147","v":0},{"$f":"'kros seznam'!SCT147","v":0},{"$f":"'kros seznam'!SCU147","v":0},{"$f":"'kros seznam'!SCV147","v":0},{"$f":"'kros seznam'!SCW147","v":0},{"$f":"'kros seznam'!SCX147","v":0},{"$f":"'kros seznam'!SCY147","v":0},{"$f":"'kros seznam'!SCZ147","v":0},{"$f":"'kros seznam'!SDA147","v":0},{"$f":"'kros seznam'!SDB147","v":0},{"$f":"'kros seznam'!SDC147","v":0},{"$f":"'kros seznam'!SDD147","v":0},{"$f":"'kros seznam'!SDE147","v":0},{"$f":"'kros seznam'!SDF147","v":0},{"$f":"'kros seznam'!SDG147","v":0},{"$f":"'kros seznam'!SDH147","v":0},{"$f":"'kros seznam'!SDI147","v":0},{"$f":"'kros seznam'!SDJ147","v":0},{"$f":"'kros seznam'!SDK147","v":0},{"$f":"'kros seznam'!SDL147","v":0},{"$f":"'kros seznam'!SDM147","v":0},{"$f":"'kros seznam'!SDN147","v":0},{"$f":"'kros seznam'!SDO147","v":0},{"$f":"'kros seznam'!SDP147","v":0},{"$f":"'kros seznam'!SDQ147","v":0},{"$f":"'kros seznam'!SDR147","v":0},{"$f":"'kros seznam'!SDS147","v":0},{"$f":"'kros seznam'!SDT147","v":0},{"$f":"'kros seznam'!SDU147","v":0},{"$f":"'kros seznam'!SDV147","v":0},{"$f":"'kros seznam'!SDW147","v":0},{"$f":"'kros seznam'!SDX147","v":0},{"$f":"'kros seznam'!SDY147","v":0},{"$f":"'kros seznam'!SDZ147","v":0},{"$f":"'kros seznam'!SEA147","v":0},{"$f":"'kros seznam'!SEB147","v":0},{"$f":"'kros seznam'!SEC147","v":0},{"$f":"'kros seznam'!SED147","v":0},{"$f":"'kros seznam'!SEE147","v":0},{"$f":"'kros seznam'!SEF147","v":0},{"$f":"'kros seznam'!SEG147","v":0},{"$f":"'kros seznam'!SEH147","v":0},{"$f":"'kros seznam'!SEI147","v":0},{"$f":"'kros seznam'!SEJ147","v":0},{"$f":"'kros seznam'!SEK147","v":0},{"$f":"'kros seznam'!SEL147","v":0},{"$f":"'kros seznam'!SEM147","v":0},{"$f":"'kros seznam'!SEN147","v":0},{"$f":"'kros seznam'!SEO147","v":0},{"$f":"'kros seznam'!SEP147","v":0},{"$f":"'kros seznam'!SEQ147","v":0},{"$f":"'kros seznam'!SER147","v":0},{"$f":"'kros seznam'!SES147","v":0},{"$f":"'kros seznam'!SET147","v":0},{"$f":"'kros seznam'!SEU147","v":0},{"$f":"'kros seznam'!SEV147","v":0},{"$f":"'kros seznam'!SEW147","v":0},{"$f":"'kros seznam'!SEX147","v":0},{"$f":"'kros seznam'!SEY147","v":0},{"$f":"'kros seznam'!SEZ147","v":0},{"$f":"'kros seznam'!SFA147","v":0},{"$f":"'kros seznam'!SFB147","v":0},{"$f":"'kros seznam'!SFC147","v":0},{"$f":"'kros seznam'!SFD147","v":0},{"$f":"'kros seznam'!SFE147","v":0},{"$f":"'kros seznam'!SFF147","v":0},{"$f":"'kros seznam'!SFG147","v":0},{"$f":"'kros seznam'!SFH147","v":0},{"$f":"'kros seznam'!SFI147","v":0},{"$f":"'kros seznam'!SFJ147","v":0},{"$f":"'kros seznam'!SFK147","v":0},{"$f":"'kros seznam'!SFL147","v":0},{"$f":"'kros seznam'!SFM147","v":0},{"$f":"'kros seznam'!SFN147","v":0},{"$f":"'kros seznam'!SFO147","v":0},{"$f":"'kros seznam'!SFP147","v":0},{"$f":"'kros seznam'!SFQ147","v":0},{"$f":"'kros seznam'!SFR147","v":0},{"$f":"'kros seznam'!SFS147","v":0},{"$f":"'kros seznam'!SFT147","v":0},{"$f":"'kros seznam'!SFU147","v":0},{"$f":"'kros seznam'!SFV147","v":0},{"$f":"'kros seznam'!SFW147","v":0},{"$f":"'kros seznam'!SFX147","v":0},{"$f":"'kros seznam'!SFY147","v":0},{"$f":"'kros seznam'!SFZ147","v":0},{"$f":"'kros seznam'!SGA147","v":0},{"$f":"'kros seznam'!SGB147","v":0},{"$f":"'kros seznam'!SGC147","v":0},{"$f":"'kros seznam'!SGD147","v":0},{"$f":"'kros seznam'!SGE147","v":0},{"$f":"'kros seznam'!SGF147","v":0},{"$f":"'kros seznam'!SGG147","v":0},{"$f":"'kros seznam'!SGH147","v":0},{"$f":"'kros seznam'!SGI147","v":0},{"$f":"'kros seznam'!SGJ147","v":0},{"$f":"'kros seznam'!SGK147","v":0},{"$f":"'kros seznam'!SGL147","v":0},{"$f":"'kros seznam'!SGM147","v":0},{"$f":"'kros seznam'!SGN147","v":0},{"$f":"'kros seznam'!SGO147","v":0},{"$f":"'kros seznam'!SGP147","v":0},{"$f":"'kros seznam'!SGQ147","v":0},{"$f":"'kros seznam'!SGR147","v":0},{"$f":"'kros seznam'!SGS147","v":0},{"$f":"'kros seznam'!SGT147","v":0},{"$f":"'kros seznam'!SGU147","v":0},{"$f":"'kros seznam'!SGV147","v":0},{"$f":"'kros seznam'!SGW147","v":0},{"$f":"'kros seznam'!SGX147","v":0},{"$f":"'kros seznam'!SGY147","v":0},{"$f":"'kros seznam'!SGZ147","v":0},{"$f":"'kros seznam'!SHA147","v":0},{"$f":"'kros seznam'!SHB147","v":0},{"$f":"'kros seznam'!SHC147","v":0},{"$f":"'kros seznam'!SHD147","v":0},{"$f":"'kros seznam'!SHE147","v":0},{"$f":"'kros seznam'!SHF147","v":0},{"$f":"'kros seznam'!SHG147","v":0},{"$f":"'kros seznam'!SHH147","v":0},{"$f":"'kros seznam'!SHI147","v":0},{"$f":"'kros seznam'!SHJ147","v":0},{"$f":"'kros seznam'!SHK147","v":0},{"$f":"'kros seznam'!SHL147","v":0},{"$f":"'kros seznam'!SHM147","v":0},{"$f":"'kros seznam'!SHN147","v":0},{"$f":"'kros seznam'!SHO147","v":0},{"$f":"'kros seznam'!SHP147","v":0},{"$f":"'kros seznam'!SHQ147","v":0},{"$f":"'kros seznam'!SHR147","v":0},{"$f":"'kros seznam'!SHS147","v":0},{"$f":"'kros seznam'!SHT147","v":0},{"$f":"'kros seznam'!SHU147","v":0},{"$f":"'kros seznam'!SHV147","v":0},{"$f":"'kros seznam'!SHW147","v":0},{"$f":"'kros seznam'!SHX147","v":0},{"$f":"'kros seznam'!SHY147","v":0},{"$f":"'kros seznam'!SHZ147","v":0},{"$f":"'kros seznam'!SIA147","v":0},{"$f":"'kros seznam'!SIB147","v":0},{"$f":"'kros seznam'!SIC147","v":0},{"$f":"'kros seznam'!SID147","v":0},{"$f":"'kros seznam'!SIE147","v":0},{"$f":"'kros seznam'!SIF147","v":0},{"$f":"'kros seznam'!SIG147","v":0},{"$f":"'kros seznam'!SIH147","v":0},{"$f":"'kros seznam'!SII147","v":0},{"$f":"'kros seznam'!SIJ147","v":0},{"$f":"'kros seznam'!SIK147","v":0},{"$f":"'kros seznam'!SIL147","v":0},{"$f":"'kros seznam'!SIM147","v":0},{"$f":"'kros seznam'!SIN147","v":0},{"$f":"'kros seznam'!SIO147","v":0},{"$f":"'kros seznam'!SIP147","v":0},{"$f":"'kros seznam'!SIQ147","v":0},{"$f":"'kros seznam'!SIR147","v":0},{"$f":"'kros seznam'!SIS147","v":0},{"$f":"'kros seznam'!SIT147","v":0},{"$f":"'kros seznam'!SIU147","v":0},{"$f":"'kros seznam'!SIV147","v":0},{"$f":"'kros seznam'!SIW147","v":0},{"$f":"'kros seznam'!SIX147","v":0},{"$f":"'kros seznam'!SIY147","v":0},{"$f":"'kros seznam'!SIZ147","v":0},{"$f":"'kros seznam'!SJA147","v":0},{"$f":"'kros seznam'!SJB147","v":0},{"$f":"'kros seznam'!SJC147","v":0},{"$f":"'kros seznam'!SJD147","v":0},{"$f":"'kros seznam'!SJE147","v":0},{"$f":"'kros seznam'!SJF147","v":0},{"$f":"'kros seznam'!SJG147","v":0},{"$f":"'kros seznam'!SJH147","v":0},{"$f":"'kros seznam'!SJI147","v":0},{"$f":"'kros seznam'!SJJ147","v":0},{"$f":"'kros seznam'!SJK147","v":0},{"$f":"'kros seznam'!SJL147","v":0},{"$f":"'kros seznam'!SJM147","v":0},{"$f":"'kros seznam'!SJN147","v":0},{"$f":"'kros seznam'!SJO147","v":0},{"$f":"'kros seznam'!SJP147","v":0},{"$f":"'kros seznam'!SJQ147","v":0},{"$f":"'kros seznam'!SJR147","v":0},{"$f":"'kros seznam'!SJS147","v":0},{"$f":"'kros seznam'!SJT147","v":0},{"$f":"'kros seznam'!SJU147","v":0},{"$f":"'kros seznam'!SJV147","v":0},{"$f":"'kros seznam'!SJW147","v":0},{"$f":"'kros seznam'!SJX147","v":0},{"$f":"'kros seznam'!SJY147","v":0},{"$f":"'kros seznam'!SJZ147","v":0},{"$f":"'kros seznam'!SKA147","v":0},{"$f":"'kros seznam'!SKB147","v":0},{"$f":"'kros seznam'!SKC147","v":0},{"$f":"'kros seznam'!SKD147","v":0},{"$f":"'kros seznam'!SKE147","v":0},{"$f":"'kros seznam'!SKF147","v":0},{"$f":"'kros seznam'!SKG147","v":0},{"$f":"'kros seznam'!SKH147","v":0},{"$f":"'kros seznam'!SKI147","v":0},{"$f":"'kros seznam'!SKJ147","v":0},{"$f":"'kros seznam'!SKK147","v":0},{"$f":"'kros seznam'!SKL147","v":0},{"$f":"'kros seznam'!SKM147","v":0},{"$f":"'kros seznam'!SKN147","v":0},{"$f":"'kros seznam'!SKO147","v":0},{"$f":"'kros seznam'!SKP147","v":0},{"$f":"'kros seznam'!SKQ147","v":0},{"$f":"'kros seznam'!SKR147","v":0},{"$f":"'kros seznam'!SKS147","v":0},{"$f":"'kros seznam'!SKT147","v":0},{"$f":"'kros seznam'!SKU147","v":0},{"$f":"'kros seznam'!SKV147","v":0},{"$f":"'kros seznam'!SKW147","v":0},{"$f":"'kros seznam'!SKX147","v":0},{"$f":"'kros seznam'!SKY147","v":0},{"$f":"'kros seznam'!SKZ147","v":0},{"$f":"'kros seznam'!SLA147","v":0},{"$f":"'kros seznam'!SLB147","v":0},{"$f":"'kros seznam'!SLC147","v":0},{"$f":"'kros seznam'!SLD147","v":0},{"$f":"'kros seznam'!SLE147","v":0},{"$f":"'kros seznam'!SLF147","v":0},{"$f":"'kros seznam'!SLG147","v":0},{"$f":"'kros seznam'!SLH147","v":0},{"$f":"'kros seznam'!SLI147","v":0},{"$f":"'kros seznam'!SLJ147","v":0},{"$f":"'kros seznam'!SLK147","v":0},{"$f":"'kros seznam'!SLL147","v":0},{"$f":"'kros seznam'!SLM147","v":0},{"$f":"'kros seznam'!SLN147","v":0},{"$f":"'kros seznam'!SLO147","v":0},{"$f":"'kros seznam'!SLP147","v":0},{"$f":"'kros seznam'!SLQ147","v":0},{"$f":"'kros seznam'!SLR147","v":0},{"$f":"'kros seznam'!SLS147","v":0},{"$f":"'kros seznam'!SLT147","v":0},{"$f":"'kros seznam'!SLU147","v":0},{"$f":"'kros seznam'!SLV147","v":0},{"$f":"'kros seznam'!SLW147","v":0},{"$f":"'kros seznam'!SLX147","v":0},{"$f":"'kros seznam'!SLY147","v":0},{"$f":"'kros seznam'!SLZ147","v":0},{"$f":"'kros seznam'!SMA147","v":0},{"$f":"'kros seznam'!SMB147","v":0},{"$f":"'kros seznam'!SMC147","v":0},{"$f":"'kros seznam'!SMD147","v":0},{"$f":"'kros seznam'!SME147","v":0},{"$f":"'kros seznam'!SMF147","v":0},{"$f":"'kros seznam'!SMG147","v":0},{"$f":"'kros seznam'!SMH147","v":0},{"$f":"'kros seznam'!SMI147","v":0},{"$f":"'kros seznam'!SMJ147","v":0},{"$f":"'kros seznam'!SMK147","v":0},{"$f":"'kros seznam'!SML147","v":0},{"$f":"'kros seznam'!SMM147","v":0},{"$f":"'kros seznam'!SMN147","v":0},{"$f":"'kros seznam'!SMO147","v":0},{"$f":"'kros seznam'!SMP147","v":0},{"$f":"'kros seznam'!SMQ147","v":0},{"$f":"'kros seznam'!SMR147","v":0},{"$f":"'kros seznam'!SMS147","v":0},{"$f":"'kros seznam'!SMT147","v":0},{"$f":"'kros seznam'!SMU147","v":0},{"$f":"'kros seznam'!SMV147","v":0},{"$f":"'kros seznam'!SMW147","v":0},{"$f":"'kros seznam'!SMX147","v":0},{"$f":"'kros seznam'!SMY147","v":0},{"$f":"'kros seznam'!SMZ147","v":0},{"$f":"'kros seznam'!SNA147","v":0},{"$f":"'kros seznam'!SNB147","v":0},{"$f":"'kros seznam'!SNC147","v":0},{"$f":"'kros seznam'!SND147","v":0},{"$f":"'kros seznam'!SNE147","v":0},{"$f":"'kros seznam'!SNF147","v":0},{"$f":"'kros seznam'!SNG147","v":0},{"$f":"'kros seznam'!SNH147","v":0},{"$f":"'kros seznam'!SNI147","v":0},{"$f":"'kros seznam'!SNJ147","v":0},{"$f":"'kros seznam'!SNK147","v":0},{"$f":"'kros seznam'!SNL147","v":0},{"$f":"'kros seznam'!SNM147","v":0},{"$f":"'kros seznam'!SNN147","v":0},{"$f":"'kros seznam'!SNO147","v":0},{"$f":"'kros seznam'!SNP147","v":0},{"$f":"'kros seznam'!SNQ147","v":0},{"$f":"'kros seznam'!SNR147","v":0},{"$f":"'kros seznam'!SNS147","v":0},{"$f":"'kros seznam'!SNT147","v":0},{"$f":"'kros seznam'!SNU147","v":0},{"$f":"'kros seznam'!SNV147","v":0},{"$f":"'kros seznam'!SNW147","v":0},{"$f":"'kros seznam'!SNX147","v":0},{"$f":"'kros seznam'!SNY147","v":0},{"$f":"'kros seznam'!SNZ147","v":0},{"$f":"'kros seznam'!SOA147","v":0},{"$f":"'kros seznam'!SOB147","v":0},{"$f":"'kros seznam'!SOC147","v":0},{"$f":"'kros seznam'!SOD147","v":0},{"$f":"'kros seznam'!SOE147","v":0},{"$f":"'kros seznam'!SOF147","v":0},{"$f":"'kros seznam'!SOG147","v":0},{"$f":"'kros seznam'!SOH147","v":0},{"$f":"'kros seznam'!SOI147","v":0},{"$f":"'kros seznam'!SOJ147","v":0},{"$f":"'kros seznam'!SOK147","v":0},{"$f":"'kros seznam'!SOL147","v":0},{"$f":"'kros seznam'!SOM147","v":0},{"$f":"'kros seznam'!SON147","v":0},{"$f":"'kros seznam'!SOO147","v":0},{"$f":"'kros seznam'!SOP147","v":0},{"$f":"'kros seznam'!SOQ147","v":0},{"$f":"'kros seznam'!SOR147","v":0},{"$f":"'kros seznam'!SOS147","v":0},{"$f":"'kros seznam'!SOT147","v":0},{"$f":"'kros seznam'!SOU147","v":0},{"$f":"'kros seznam'!SOV147","v":0},{"$f":"'kros seznam'!SOW147","v":0},{"$f":"'kros seznam'!SOX147","v":0},{"$f":"'kros seznam'!SOY147","v":0},{"$f":"'kros seznam'!SOZ147","v":0},{"$f":"'kros seznam'!SPA147","v":0},{"$f":"'kros seznam'!SPB147","v":0},{"$f":"'kros seznam'!SPC147","v":0},{"$f":"'kros seznam'!SPD147","v":0},{"$f":"'kros seznam'!SPE147","v":0},{"$f":"'kros seznam'!SPF147","v":0},{"$f":"'kros seznam'!SPG147","v":0},{"$f":"'kros seznam'!SPH147","v":0},{"$f":"'kros seznam'!SPI147","v":0},{"$f":"'kros seznam'!SPJ147","v":0},{"$f":"'kros seznam'!SPK147","v":0},{"$f":"'kros seznam'!SPL147","v":0},{"$f":"'kros seznam'!SPM147","v":0},{"$f":"'kros seznam'!SPN147","v":0},{"$f":"'kros seznam'!SPO147","v":0},{"$f":"'kros seznam'!SPP147","v":0},{"$f":"'kros seznam'!SPQ147","v":0},{"$f":"'kros seznam'!SPR147","v":0},{"$f":"'kros seznam'!SPS147","v":0},{"$f":"'kros seznam'!SPT147","v":0},{"$f":"'kros seznam'!SPU147","v":0},{"$f":"'kros seznam'!SPV147","v":0},{"$f":"'kros seznam'!SPW147","v":0},{"$f":"'kros seznam'!SPX147","v":0},{"$f":"'kros seznam'!SPY147","v":0},{"$f":"'kros seznam'!SPZ147","v":0},{"$f":"'kros seznam'!SQA147","v":0},{"$f":"'kros seznam'!SQB147","v":0},{"$f":"'kros seznam'!SQC147","v":0},{"$f":"'kros seznam'!SQD147","v":0},{"$f":"'kros seznam'!SQE147","v":0},{"$f":"'kros seznam'!SQF147","v":0},{"$f":"'kros seznam'!SQG147","v":0},{"$f":"'kros seznam'!SQH147","v":0},{"$f":"'kros seznam'!SQI147","v":0},{"$f":"'kros seznam'!SQJ147","v":0},{"$f":"'kros seznam'!SQK147","v":0},{"$f":"'kros seznam'!SQL147","v":0},{"$f":"'kros seznam'!SQM147","v":0},{"$f":"'kros seznam'!SQN147","v":0},{"$f":"'kros seznam'!SQO147","v":0},{"$f":"'kros seznam'!SQP147","v":0},{"$f":"'kros seznam'!SQQ147","v":0},{"$f":"'kros seznam'!SQR147","v":0},{"$f":"'kros seznam'!SQS147","v":0},{"$f":"'kros seznam'!SQT147","v":0},{"$f":"'kros seznam'!SQU147","v":0},{"$f":"'kros seznam'!SQV147","v":0},{"$f":"'kros seznam'!SQW147","v":0},{"$f":"'kros seznam'!SQX147","v":0},{"$f":"'kros seznam'!SQY147","v":0},{"$f":"'kros seznam'!SQZ147","v":0},{"$f":"'kros seznam'!SRA147","v":0},{"$f":"'kros seznam'!SRB147","v":0},{"$f":"'kros seznam'!SRC147","v":0},{"$f":"'kros seznam'!SRD147","v":0},{"$f":"'kros seznam'!SRE147","v":0},{"$f":"'kros seznam'!SRF147","v":0},{"$f":"'kros seznam'!SRG147","v":0},{"$f":"'kros seznam'!SRH147","v":0},{"$f":"'kros seznam'!SRI147","v":0},{"$f":"'kros seznam'!SRJ147","v":0},{"$f":"'kros seznam'!SRK147","v":0},{"$f":"'kros seznam'!SRL147","v":0},{"$f":"'kros seznam'!SRM147","v":0},{"$f":"'kros seznam'!SRN147","v":0},{"$f":"'kros seznam'!SRO147","v":0},{"$f":"'kros seznam'!SRP147","v":0},{"$f":"'kros seznam'!SRQ147","v":0},{"$f":"'kros seznam'!SRR147","v":0},{"$f":"'kros seznam'!SRS147","v":0},{"$f":"'kros seznam'!SRT147","v":0},{"$f":"'kros seznam'!SRU147","v":0},{"$f":"'kros seznam'!SRV147","v":0},{"$f":"'kros seznam'!SRW147","v":0},{"$f":"'kros seznam'!SRX147","v":0},{"$f":"'kros seznam'!SRY147","v":0},{"$f":"'kros seznam'!SRZ147","v":0},{"$f":"'kros seznam'!SSA147","v":0},{"$f":"'kros seznam'!SSB147","v":0},{"$f":"'kros seznam'!SSC147","v":0},{"$f":"'kros seznam'!SSD147","v":0},{"$f":"'kros seznam'!SSE147","v":0},{"$f":"'kros seznam'!SSF147","v":0},{"$f":"'kros seznam'!SSG147","v":0},{"$f":"'kros seznam'!SSH147","v":0},{"$f":"'kros seznam'!SSI147","v":0},{"$f":"'kros seznam'!SSJ147","v":0},{"$f":"'kros seznam'!SSK147","v":0},{"$f":"'kros seznam'!SSL147","v":0},{"$f":"'kros seznam'!SSM147","v":0},{"$f":"'kros seznam'!SSN147","v":0},{"$f":"'kros seznam'!SSO147","v":0},{"$f":"'kros seznam'!SSP147","v":0},{"$f":"'kros seznam'!SSQ147","v":0},{"$f":"'kros seznam'!SSR147","v":0},{"$f":"'kros seznam'!SSS147","v":0},{"$f":"'kros seznam'!SST147","v":0},{"$f":"'kros seznam'!SSU147","v":0},{"$f":"'kros seznam'!SSV147","v":0},{"$f":"'kros seznam'!SSW147","v":0},{"$f":"'kros seznam'!SSX147","v":0},{"$f":"'kros seznam'!SSY147","v":0},{"$f":"'kros seznam'!SSZ147","v":0},{"$f":"'kros seznam'!STA147","v":0},{"$f":"'kros seznam'!STB147","v":0},{"$f":"'kros seznam'!STC147","v":0},{"$f":"'kros seznam'!STD147","v":0},{"$f":"'kros seznam'!STE147","v":0},{"$f":"'kros seznam'!STF147","v":0},{"$f":"'kros seznam'!STG147","v":0},{"$f":"'kros seznam'!STH147","v":0},{"$f":"'kros seznam'!STI147","v":0},{"$f":"'kros seznam'!STJ147","v":0},{"$f":"'kros seznam'!STK147","v":0},{"$f":"'kros seznam'!STL147","v":0},{"$f":"'kros seznam'!STM147","v":0},{"$f":"'kros seznam'!STN147","v":0},{"$f":"'kros seznam'!STO147","v":0},{"$f":"'kros seznam'!STP147","v":0},{"$f":"'kros seznam'!STQ147","v":0},{"$f":"'kros seznam'!STR147","v":0},{"$f":"'kros seznam'!STS147","v":0},{"$f":"'kros seznam'!STT147","v":0},{"$f":"'kros seznam'!STU147","v":0},{"$f":"'kros seznam'!STV147","v":0},{"$f":"'kros seznam'!STW147","v":0},{"$f":"'kros seznam'!STX147","v":0},{"$f":"'kros seznam'!STY147","v":0},{"$f":"'kros seznam'!STZ147","v":0},{"$f":"'kros seznam'!SUA147","v":0},{"$f":"'kros seznam'!SUB147","v":0},{"$f":"'kros seznam'!SUC147","v":0},{"$f":"'kros seznam'!SUD147","v":0},{"$f":"'kros seznam'!SUE147","v":0},{"$f":"'kros seznam'!SUF147","v":0},{"$f":"'kros seznam'!SUG147","v":0},{"$f":"'kros seznam'!SUH147","v":0},{"$f":"'kros seznam'!SUI147","v":0},{"$f":"'kros seznam'!SUJ147","v":0},{"$f":"'kros seznam'!SUK147","v":0},{"$f":"'kros seznam'!SUL147","v":0},{"$f":"'kros seznam'!SUM147","v":0},{"$f":"'kros seznam'!SUN147","v":0},{"$f":"'kros seznam'!SUO147","v":0},{"$f":"'kros seznam'!SUP147","v":0},{"$f":"'kros seznam'!SUQ147","v":0},{"$f":"'kros seznam'!SUR147","v":0},{"$f":"'kros seznam'!SUS147","v":0},{"$f":"'kros seznam'!SUT147","v":0},{"$f":"'kros seznam'!SUU147","v":0},{"$f":"'kros seznam'!SUV147","v":0},{"$f":"'kros seznam'!SUW147","v":0},{"$f":"'kros seznam'!SUX147","v":0},{"$f":"'kros seznam'!SUY147","v":0},{"$f":"'kros seznam'!SUZ147","v":0},{"$f":"'kros seznam'!SVA147","v":0},{"$f":"'kros seznam'!SVB147","v":0},{"$f":"'kros seznam'!SVC147","v":0},{"$f":"'kros seznam'!SVD147","v":0},{"$f":"'kros seznam'!SVE147","v":0},{"$f":"'kros seznam'!SVF147","v":0},{"$f":"'kros seznam'!SVG147","v":0},{"$f":"'kros seznam'!SVH147","v":0},{"$f":"'kros seznam'!SVI147","v":0},{"$f":"'kros seznam'!SVJ147","v":0},{"$f":"'kros seznam'!SVK147","v":0},{"$f":"'kros seznam'!SVL147","v":0},{"$f":"'kros seznam'!SVM147","v":0},{"$f":"'kros seznam'!SVN147","v":0},{"$f":"'kros seznam'!SVO147","v":0},{"$f":"'kros seznam'!SVP147","v":0},{"$f":"'kros seznam'!SVQ147","v":0},{"$f":"'kros seznam'!SVR147","v":0},{"$f":"'kros seznam'!SVS147","v":0},{"$f":"'kros seznam'!SVT147","v":0},{"$f":"'kros seznam'!SVU147","v":0},{"$f":"'kros seznam'!SVV147","v":0},{"$f":"'kros seznam'!SVW147","v":0},{"$f":"'kros seznam'!SVX147","v":0},{"$f":"'kros seznam'!SVY147","v":0},{"$f":"'kros seznam'!SVZ147","v":0},{"$f":"'kros seznam'!SWA147","v":0},{"$f":"'kros seznam'!SWB147","v":0},{"$f":"'kros seznam'!SWC147","v":0},{"$f":"'kros seznam'!SWD147","v":0},{"$f":"'kros seznam'!SWE147","v":0},{"$f":"'kros seznam'!SWF147","v":0},{"$f":"'kros seznam'!SWG147","v":0},{"$f":"'kros seznam'!SWH147","v":0},{"$f":"'kros seznam'!SWI147","v":0},{"$f":"'kros seznam'!SWJ147","v":0},{"$f":"'kros seznam'!SWK147","v":0},{"$f":"'kros seznam'!SWL147","v":0},{"$f":"'kros seznam'!SWM147","v":0},{"$f":"'kros seznam'!SWN147","v":0},{"$f":"'kros seznam'!SWO147","v":0},{"$f":"'kros seznam'!SWP147","v":0},{"$f":"'kros seznam'!SWQ147","v":0},{"$f":"'kros seznam'!SWR147","v":0},{"$f":"'kros seznam'!SWS147","v":0},{"$f":"'kros seznam'!SWT147","v":0},{"$f":"'kros seznam'!SWU147","v":0},{"$f":"'kros seznam'!SWV147","v":0},{"$f":"'kros seznam'!SWW147","v":0},{"$f":"'kros seznam'!SWX147","v":0},{"$f":"'kros seznam'!SWY147","v":0},{"$f":"'kros seznam'!SWZ147","v":0},{"$f":"'kros seznam'!SXA147","v":0},{"$f":"'kros seznam'!SXB147","v":0},{"$f":"'kros seznam'!SXC147","v":0},{"$f":"'kros seznam'!SXD147","v":0},{"$f":"'kros seznam'!SXE147","v":0},{"$f":"'kros seznam'!SXF147","v":0},{"$f":"'kros seznam'!SXG147","v":0},{"$f":"'kros seznam'!SXH147","v":0},{"$f":"'kros seznam'!SXI147","v":0},{"$f":"'kros seznam'!SXJ147","v":0},{"$f":"'kros seznam'!SXK147","v":0},{"$f":"'kros seznam'!SXL147","v":0},{"$f":"'kros seznam'!SXM147","v":0},{"$f":"'kros seznam'!SXN147","v":0},{"$f":"'kros seznam'!SXO147","v":0},{"$f":"'kros seznam'!SXP147","v":0},{"$f":"'kros seznam'!SXQ147","v":0},{"$f":"'kros seznam'!SXR147","v":0},{"$f":"'kros seznam'!SXS147","v":0},{"$f":"'kros seznam'!SXT147","v":0},{"$f":"'kros seznam'!SXU147","v":0},{"$f":"'kros seznam'!SXV147","v":0},{"$f":"'kros seznam'!SXW147","v":0},{"$f":"'kros seznam'!SXX147","v":0},{"$f":"'kros seznam'!SXY147","v":0},{"$f":"'kros seznam'!SXZ147","v":0},{"$f":"'kros seznam'!SYA147","v":0},{"$f":"'kros seznam'!SYB147","v":0},{"$f":"'kros seznam'!SYC147","v":0},{"$f":"'kros seznam'!SYD147","v":0},{"$f":"'kros seznam'!SYE147","v":0},{"$f":"'kros seznam'!SYF147","v":0},{"$f":"'kros seznam'!SYG147","v":0},{"$f":"'kros seznam'!SYH147","v":0},{"$f":"'kros seznam'!SYI147","v":0},{"$f":"'kros seznam'!SYJ147","v":0},{"$f":"'kros seznam'!SYK147","v":0},{"$f":"'kros seznam'!SYL147","v":0},{"$f":"'kros seznam'!SYM147","v":0},{"$f":"'kros seznam'!SYN147","v":0},{"$f":"'kros seznam'!SYO147","v":0},{"$f":"'kros seznam'!SYP147","v":0},{"$f":"'kros seznam'!SYQ147","v":0},{"$f":"'kros seznam'!SYR147","v":0},{"$f":"'kros seznam'!SYS147","v":0},{"$f":"'kros seznam'!SYT147","v":0},{"$f":"'kros seznam'!SYU147","v":0},{"$f":"'kros seznam'!SYV147","v":0},{"$f":"'kros seznam'!SYW147","v":0},{"$f":"'kros seznam'!SYX147","v":0},{"$f":"'kros seznam'!SYY147","v":0},{"$f":"'kros seznam'!SYZ147","v":0},{"$f":"'kros seznam'!SZA147","v":0},{"$f":"'kros seznam'!SZB147","v":0},{"$f":"'kros seznam'!SZC147","v":0},{"$f":"'kros seznam'!SZD147","v":0},{"$f":"'kros seznam'!SZE147","v":0},{"$f":"'kros seznam'!SZF147","v":0},{"$f":"'kros seznam'!SZG147","v":0},{"$f":"'kros seznam'!SZH147","v":0},{"$f":"'kros seznam'!SZI147","v":0},{"$f":"'kros seznam'!SZJ147","v":0},{"$f":"'kros seznam'!SZK147","v":0},{"$f":"'kros seznam'!SZL147","v":0},{"$f":"'kros seznam'!SZM147","v":0},{"$f":"'kros seznam'!SZN147","v":0},{"$f":"'kros seznam'!SZO147","v":0},{"$f":"'kros seznam'!SZP147","v":0},{"$f":"'kros seznam'!SZQ147","v":0},{"$f":"'kros seznam'!SZR147","v":0},{"$f":"'kros seznam'!SZS147","v":0},{"$f":"'kros seznam'!SZT147","v":0},{"$f":"'kros seznam'!SZU147","v":0},{"$f":"'kros seznam'!SZV147","v":0},{"$f":"'kros seznam'!SZW147","v":0},{"$f":"'kros seznam'!SZX147","v":0},{"$f":"'kros seznam'!SZY147","v":0},{"$f":"'kros seznam'!SZZ147","v":0},{"$f":"'kros seznam'!TAA147","v":0},{"$f":"'kros seznam'!TAB147","v":0},{"$f":"'kros seznam'!TAC147","v":0},{"$f":"'kros seznam'!TAD147","v":0},{"$f":"'kros seznam'!TAE147","v":0},{"$f":"'kros seznam'!TAF147","v":0},{"$f":"'kros seznam'!TAG147","v":0},{"$f":"'kros seznam'!TAH147","v":0},{"$f":"'kros seznam'!TAI147","v":0},{"$f":"'kros seznam'!TAJ147","v":0},{"$f":"'kros seznam'!TAK147","v":0},{"$f":"'kros seznam'!TAL147","v":0},{"$f":"'kros seznam'!TAM147","v":0},{"$f":"'kros seznam'!TAN147","v":0},{"$f":"'kros seznam'!TAO147","v":0},{"$f":"'kros seznam'!TAP147","v":0},{"$f":"'kros seznam'!TAQ147","v":0},{"$f":"'kros seznam'!TAR147","v":0},{"$f":"'kros seznam'!TAS147","v":0},{"$f":"'kros seznam'!TAT147","v":0},{"$f":"'kros seznam'!TAU147","v":0},{"$f":"'kros seznam'!TAV147","v":0},{"$f":"'kros seznam'!TAW147","v":0},{"$f":"'kros seznam'!TAX147","v":0},{"$f":"'kros seznam'!TAY147","v":0},{"$f":"'kros seznam'!TAZ147","v":0},{"$f":"'kros seznam'!TBA147","v":0},{"$f":"'kros seznam'!TBB147","v":0},{"$f":"'kros seznam'!TBC147","v":0},{"$f":"'kros seznam'!TBD147","v":0},{"$f":"'kros seznam'!TBE147","v":0},{"$f":"'kros seznam'!TBF147","v":0},{"$f":"'kros seznam'!TBG147","v":0},{"$f":"'kros seznam'!TBH147","v":0},{"$f":"'kros seznam'!TBI147","v":0},{"$f":"'kros seznam'!TBJ147","v":0},{"$f":"'kros seznam'!TBK147","v":0},{"$f":"'kros seznam'!TBL147","v":0},{"$f":"'kros seznam'!TBM147","v":0},{"$f":"'kros seznam'!TBN147","v":0},{"$f":"'kros seznam'!TBO147","v":0},{"$f":"'kros seznam'!TBP147","v":0},{"$f":"'kros seznam'!TBQ147","v":0},{"$f":"'kros seznam'!TBR147","v":0},{"$f":"'kros seznam'!TBS147","v":0},{"$f":"'kros seznam'!TBT147","v":0},{"$f":"'kros seznam'!TBU147","v":0},{"$f":"'kros seznam'!TBV147","v":0},{"$f":"'kros seznam'!TBW147","v":0},{"$f":"'kros seznam'!TBX147","v":0},{"$f":"'kros seznam'!TBY147","v":0},{"$f":"'kros seznam'!TBZ147","v":0},{"$f":"'kros seznam'!TCA147","v":0},{"$f":"'kros seznam'!TCB147","v":0},{"$f":"'kros seznam'!TCC147","v":0},{"$f":"'kros seznam'!TCD147","v":0},{"$f":"'kros seznam'!TCE147","v":0},{"$f":"'kros seznam'!TCF147","v":0},{"$f":"'kros seznam'!TCG147","v":0},{"$f":"'kros seznam'!TCH147","v":0},{"$f":"'kros seznam'!TCI147","v":0},{"$f":"'kros seznam'!TCJ147","v":0},{"$f":"'kros seznam'!TCK147","v":0},{"$f":"'kros seznam'!TCL147","v":0},{"$f":"'kros seznam'!TCM147","v":0},{"$f":"'kros seznam'!TCN147","v":0},{"$f":"'kros seznam'!TCO147","v":0},{"$f":"'kros seznam'!TCP147","v":0},{"$f":"'kros seznam'!TCQ147","v":0},{"$f":"'kros seznam'!TCR147","v":0},{"$f":"'kros seznam'!TCS147","v":0},{"$f":"'kros seznam'!TCT147","v":0},{"$f":"'kros seznam'!TCU147","v":0},{"$f":"'kros seznam'!TCV147","v":0},{"$f":"'kros seznam'!TCW147","v":0},{"$f":"'kros seznam'!TCX147","v":0},{"$f":"'kros seznam'!TCY147","v":0},{"$f":"'kros seznam'!TCZ147","v":0},{"$f":"'kros seznam'!TDA147","v":0},{"$f":"'kros seznam'!TDB147","v":0},{"$f":"'kros seznam'!TDC147","v":0},{"$f":"'kros seznam'!TDD147","v":0},{"$f":"'kros seznam'!TDE147","v":0},{"$f":"'kros seznam'!TDF147","v":0},{"$f":"'kros seznam'!TDG147","v":0},{"$f":"'kros seznam'!TDH147","v":0},{"$f":"'kros seznam'!TDI147","v":0},{"$f":"'kros seznam'!TDJ147","v":0},{"$f":"'kros seznam'!TDK147","v":0},{"$f":"'kros seznam'!TDL147","v":0},{"$f":"'kros seznam'!TDM147","v":0},{"$f":"'kros seznam'!TDN147","v":0},{"$f":"'kros seznam'!TDO147","v":0},{"$f":"'kros seznam'!TDP147","v":0},{"$f":"'kros seznam'!TDQ147","v":0},{"$f":"'kros seznam'!TDR147","v":0},{"$f":"'kros seznam'!TDS147","v":0},{"$f":"'kros seznam'!TDT147","v":0},{"$f":"'kros seznam'!TDU147","v":0},{"$f":"'kros seznam'!TDV147","v":0},{"$f":"'kros seznam'!TDW147","v":0},{"$f":"'kros seznam'!TDX147","v":0},{"$f":"'kros seznam'!TDY147","v":0},{"$f":"'kros seznam'!TDZ147","v":0},{"$f":"'kros seznam'!TEA147","v":0},{"$f":"'kros seznam'!TEB147","v":0},{"$f":"'kros seznam'!TEC147","v":0},{"$f":"'kros seznam'!TED147","v":0},{"$f":"'kros seznam'!TEE147","v":0},{"$f":"'kros seznam'!TEF147","v":0},{"$f":"'kros seznam'!TEG147","v":0},{"$f":"'kros seznam'!TEH147","v":0},{"$f":"'kros seznam'!TEI147","v":0},{"$f":"'kros seznam'!TEJ147","v":0},{"$f":"'kros seznam'!TEK147","v":0},{"$f":"'kros seznam'!TEL147","v":0},{"$f":"'kros seznam'!TEM147","v":0},{"$f":"'kros seznam'!TEN147","v":0},{"$f":"'kros seznam'!TEO147","v":0},{"$f":"'kros seznam'!TEP147","v":0},{"$f":"'kros seznam'!TEQ147","v":0},{"$f":"'kros seznam'!TER147","v":0},{"$f":"'kros seznam'!TES147","v":0},{"$f":"'kros seznam'!TET147","v":0},{"$f":"'kros seznam'!TEU147","v":0},{"$f":"'kros seznam'!TEV147","v":0},{"$f":"'kros seznam'!TEW147","v":0},{"$f":"'kros seznam'!TEX147","v":0},{"$f":"'kros seznam'!TEY147","v":0},{"$f":"'kros seznam'!TEZ147","v":0},{"$f":"'kros seznam'!TFA147","v":0},{"$f":"'kros seznam'!TFB147","v":0},{"$f":"'kros seznam'!TFC147","v":0},{"$f":"'kros seznam'!TFD147","v":0},{"$f":"'kros seznam'!TFE147","v":0},{"$f":"'kros seznam'!TFF147","v":0},{"$f":"'kros seznam'!TFG147","v":0},{"$f":"'kros seznam'!TFH147","v":0},{"$f":"'kros seznam'!TFI147","v":0},{"$f":"'kros seznam'!TFJ147","v":0},{"$f":"'kros seznam'!TFK147","v":0},{"$f":"'kros seznam'!TFL147","v":0},{"$f":"'kros seznam'!TFM147","v":0},{"$f":"'kros seznam'!TFN147","v":0},{"$f":"'kros seznam'!TFO147","v":0},{"$f":"'kros seznam'!TFP147","v":0},{"$f":"'kros seznam'!TFQ147","v":0},{"$f":"'kros seznam'!TFR147","v":0},{"$f":"'kros seznam'!TFS147","v":0},{"$f":"'kros seznam'!TFT147","v":0},{"$f":"'kros seznam'!TFU147","v":0},{"$f":"'kros seznam'!TFV147","v":0},{"$f":"'kros seznam'!TFW147","v":0},{"$f":"'kros seznam'!TFX147","v":0},{"$f":"'kros seznam'!TFY147","v":0},{"$f":"'kros seznam'!TFZ147","v":0},{"$f":"'kros seznam'!TGA147","v":0},{"$f":"'kros seznam'!TGB147","v":0},{"$f":"'kros seznam'!TGC147","v":0},{"$f":"'kros seznam'!TGD147","v":0},{"$f":"'kros seznam'!TGE147","v":0},{"$f":"'kros seznam'!TGF147","v":0},{"$f":"'kros seznam'!TGG147","v":0},{"$f":"'kros seznam'!TGH147","v":0},{"$f":"'kros seznam'!TGI147","v":0},{"$f":"'kros seznam'!TGJ147","v":0},{"$f":"'kros seznam'!TGK147","v":0},{"$f":"'kros seznam'!TGL147","v":0},{"$f":"'kros seznam'!TGM147","v":0},{"$f":"'kros seznam'!TGN147","v":0},{"$f":"'kros seznam'!TGO147","v":0},{"$f":"'kros seznam'!TGP147","v":0},{"$f":"'kros seznam'!TGQ147","v":0},{"$f":"'kros seznam'!TGR147","v":0},{"$f":"'kros seznam'!TGS147","v":0},{"$f":"'kros seznam'!TGT147","v":0},{"$f":"'kros seznam'!TGU147","v":0},{"$f":"'kros seznam'!TGV147","v":0},{"$f":"'kros seznam'!TGW147","v":0},{"$f":"'kros seznam'!TGX147","v":0},{"$f":"'kros seznam'!TGY147","v":0},{"$f":"'kros seznam'!TGZ147","v":0},{"$f":"'kros seznam'!THA147","v":0},{"$f":"'kros seznam'!THB147","v":0},{"$f":"'kros seznam'!THC147","v":0},{"$f":"'kros seznam'!THD147","v":0},{"$f":"'kros seznam'!THE147","v":0},{"$f":"'kros seznam'!THF147","v":0},{"$f":"'kros seznam'!THG147","v":0},{"$f":"'kros seznam'!THH147","v":0},{"$f":"'kros seznam'!THI147","v":0},{"$f":"'kros seznam'!THJ147","v":0},{"$f":"'kros seznam'!THK147","v":0},{"$f":"'kros seznam'!THL147","v":0},{"$f":"'kros seznam'!THM147","v":0},{"$f":"'kros seznam'!THN147","v":0},{"$f":"'kros seznam'!THO147","v":0},{"$f":"'kros seznam'!THP147","v":0},{"$f":"'kros seznam'!THQ147","v":0},{"$f":"'kros seznam'!THR147","v":0},{"$f":"'kros seznam'!THS147","v":0},{"$f":"'kros seznam'!THT147","v":0},{"$f":"'kros seznam'!THU147","v":0},{"$f":"'kros seznam'!THV147","v":0},{"$f":"'kros seznam'!THW147","v":0},{"$f":"'kros seznam'!THX147","v":0},{"$f":"'kros seznam'!THY147","v":0},{"$f":"'kros seznam'!THZ147","v":0},{"$f":"'kros seznam'!TIA147","v":0},{"$f":"'kros seznam'!TIB147","v":0},{"$f":"'kros seznam'!TIC147","v":0},{"$f":"'kros seznam'!TID147","v":0},{"$f":"'kros seznam'!TIE147","v":0},{"$f":"'kros seznam'!TIF147","v":0},{"$f":"'kros seznam'!TIG147","v":0},{"$f":"'kros seznam'!TIH147","v":0},{"$f":"'kros seznam'!TII147","v":0},{"$f":"'kros seznam'!TIJ147","v":0},{"$f":"'kros seznam'!TIK147","v":0},{"$f":"'kros seznam'!TIL147","v":0},{"$f":"'kros seznam'!TIM147","v":0},{"$f":"'kros seznam'!TIN147","v":0},{"$f":"'kros seznam'!TIO147","v":0},{"$f":"'kros seznam'!TIP147","v":0},{"$f":"'kros seznam'!TIQ147","v":0},{"$f":"'kros seznam'!TIR147","v":0},{"$f":"'kros seznam'!TIS147","v":0},{"$f":"'kros seznam'!TIT147","v":0},{"$f":"'kros seznam'!TIU147","v":0},{"$f":"'kros seznam'!TIV147","v":0},{"$f":"'kros seznam'!TIW147","v":0},{"$f":"'kros seznam'!TIX147","v":0},{"$f":"'kros seznam'!TIY147","v":0},{"$f":"'kros seznam'!TIZ147","v":0},{"$f":"'kros seznam'!TJA147","v":0},{"$f":"'kros seznam'!TJB147","v":0},{"$f":"'kros seznam'!TJC147","v":0},{"$f":"'kros seznam'!TJD147","v":0},{"$f":"'kros seznam'!TJE147","v":0},{"$f":"'kros seznam'!TJF147","v":0},{"$f":"'kros seznam'!TJG147","v":0},{"$f":"'kros seznam'!TJH147","v":0},{"$f":"'kros seznam'!TJI147","v":0},{"$f":"'kros seznam'!TJJ147","v":0},{"$f":"'kros seznam'!TJK147","v":0},{"$f":"'kros seznam'!TJL147","v":0},{"$f":"'kros seznam'!TJM147","v":0},{"$f":"'kros seznam'!TJN147","v":0},{"$f":"'kros seznam'!TJO147","v":0},{"$f":"'kros seznam'!TJP147","v":0},{"$f":"'kros seznam'!TJQ147","v":0},{"$f":"'kros seznam'!TJR147","v":0},{"$f":"'kros seznam'!TJS147","v":0},{"$f":"'kros seznam'!TJT147","v":0},{"$f":"'kros seznam'!TJU147","v":0},{"$f":"'kros seznam'!TJV147","v":0},{"$f":"'kros seznam'!TJW147","v":0},{"$f":"'kros seznam'!TJX147","v":0},{"$f":"'kros seznam'!TJY147","v":0},{"$f":"'kros seznam'!TJZ147","v":0},{"$f":"'kros seznam'!TKA147","v":0},{"$f":"'kros seznam'!TKB147","v":0},{"$f":"'kros seznam'!TKC147","v":0},{"$f":"'kros seznam'!TKD147","v":0},{"$f":"'kros seznam'!TKE147","v":0},{"$f":"'kros seznam'!TKF147","v":0},{"$f":"'kros seznam'!TKG147","v":0},{"$f":"'kros seznam'!TKH147","v":0},{"$f":"'kros seznam'!TKI147","v":0},{"$f":"'kros seznam'!TKJ147","v":0},{"$f":"'kros seznam'!TKK147","v":0},{"$f":"'kros seznam'!TKL147","v":0},{"$f":"'kros seznam'!TKM147","v":0},{"$f":"'kros seznam'!TKN147","v":0},{"$f":"'kros seznam'!TKO147","v":0},{"$f":"'kros seznam'!TKP147","v":0},{"$f":"'kros seznam'!TKQ147","v":0},{"$f":"'kros seznam'!TKR147","v":0},{"$f":"'kros seznam'!TKS147","v":0},{"$f":"'kros seznam'!TKT147","v":0},{"$f":"'kros seznam'!TKU147","v":0},{"$f":"'kros seznam'!TKV147","v":0},{"$f":"'kros seznam'!TKW147","v":0},{"$f":"'kros seznam'!TKX147","v":0},{"$f":"'kros seznam'!TKY147","v":0},{"$f":"'kros seznam'!TKZ147","v":0},{"$f":"'kros seznam'!TLA147","v":0},{"$f":"'kros seznam'!TLB147","v":0},{"$f":"'kros seznam'!TLC147","v":0},{"$f":"'kros seznam'!TLD147","v":0},{"$f":"'kros seznam'!TLE147","v":0},{"$f":"'kros seznam'!TLF147","v":0},{"$f":"'kros seznam'!TLG147","v":0},{"$f":"'kros seznam'!TLH147","v":0},{"$f":"'kros seznam'!TLI147","v":0},{"$f":"'kros seznam'!TLJ147","v":0},{"$f":"'kros seznam'!TLK147","v":0},{"$f":"'kros seznam'!TLL147","v":0},{"$f":"'kros seznam'!TLM147","v":0},{"$f":"'kros seznam'!TLN147","v":0},{"$f":"'kros seznam'!TLO147","v":0},{"$f":"'kros seznam'!TLP147","v":0},{"$f":"'kros seznam'!TLQ147","v":0},{"$f":"'kros seznam'!TLR147","v":0},{"$f":"'kros seznam'!TLS147","v":0},{"$f":"'kros seznam'!TLT147","v":0},{"$f":"'kros seznam'!TLU147","v":0},{"$f":"'kros seznam'!TLV147","v":0},{"$f":"'kros seznam'!TLW147","v":0},{"$f":"'kros seznam'!TLX147","v":0},{"$f":"'kros seznam'!TLY147","v":0},{"$f":"'kros seznam'!TLZ147","v":0},{"$f":"'kros seznam'!TMA147","v":0},{"$f":"'kros seznam'!TMB147","v":0},{"$f":"'kros seznam'!TMC147","v":0},{"$f":"'kros seznam'!TMD147","v":0},{"$f":"'kros seznam'!TME147","v":0},{"$f":"'kros seznam'!TMF147","v":0},{"$f":"'kros seznam'!TMG147","v":0},{"$f":"'kros seznam'!TMH147","v":0},{"$f":"'kros seznam'!TMI147","v":0},{"$f":"'kros seznam'!TMJ147","v":0},{"$f":"'kros seznam'!TMK147","v":0},{"$f":"'kros seznam'!TML147","v":0},{"$f":"'kros seznam'!TMM147","v":0},{"$f":"'kros seznam'!TMN147","v":0},{"$f":"'kros seznam'!TMO147","v":0},{"$f":"'kros seznam'!TMP147","v":0},{"$f":"'kros seznam'!TMQ147","v":0},{"$f":"'kros seznam'!TMR147","v":0},{"$f":"'kros seznam'!TMS147","v":0},{"$f":"'kros seznam'!TMT147","v":0},{"$f":"'kros seznam'!TMU147","v":0},{"$f":"'kros seznam'!TMV147","v":0},{"$f":"'kros seznam'!TMW147","v":0},{"$f":"'kros seznam'!TMX147","v":0},{"$f":"'kros seznam'!TMY147","v":0},{"$f":"'kros seznam'!TMZ147","v":0},{"$f":"'kros seznam'!TNA147","v":0},{"$f":"'kros seznam'!TNB147","v":0},{"$f":"'kros seznam'!TNC147","v":0},{"$f":"'kros seznam'!TND147","v":0},{"$f":"'kros seznam'!TNE147","v":0},{"$f":"'kros seznam'!TNF147","v":0},{"$f":"'kros seznam'!TNG147","v":0},{"$f":"'kros seznam'!TNH147","v":0},{"$f":"'kros seznam'!TNI147","v":0},{"$f":"'kros seznam'!TNJ147","v":0},{"$f":"'kros seznam'!TNK147","v":0},{"$f":"'kros seznam'!TNL147","v":0},{"$f":"'kros seznam'!TNM147","v":0},{"$f":"'kros seznam'!TNN147","v":0},{"$f":"'kros seznam'!TNO147","v":0},{"$f":"'kros seznam'!TNP147","v":0},{"$f":"'kros seznam'!TNQ147","v":0},{"$f":"'kros seznam'!TNR147","v":0},{"$f":"'kros seznam'!TNS147","v":0},{"$f":"'kros seznam'!TNT147","v":0},{"$f":"'kros seznam'!TNU147","v":0},{"$f":"'kros seznam'!TNV147","v":0},{"$f":"'kros seznam'!TNW147","v":0},{"$f":"'kros seznam'!TNX147","v":0},{"$f":"'kros seznam'!TNY147","v":0},{"$f":"'kros seznam'!TNZ147","v":0},{"$f":"'kros seznam'!TOA147","v":0},{"$f":"'kros seznam'!TOB147","v":0},{"$f":"'kros seznam'!TOC147","v":0},{"$f":"'kros seznam'!TOD147","v":0},{"$f":"'kros seznam'!TOE147","v":0},{"$f":"'kros seznam'!TOF147","v":0},{"$f":"'kros seznam'!TOG147","v":0},{"$f":"'kros seznam'!TOH147","v":0},{"$f":"'kros seznam'!TOI147","v":0},{"$f":"'kros seznam'!TOJ147","v":0},{"$f":"'kros seznam'!TOK147","v":0},{"$f":"'kros seznam'!TOL147","v":0},{"$f":"'kros seznam'!TOM147","v":0},{"$f":"'kros seznam'!TON147","v":0},{"$f":"'kros seznam'!TOO147","v":0},{"$f":"'kros seznam'!TOP147","v":0},{"$f":"'kros seznam'!TOQ147","v":0},{"$f":"'kros seznam'!TOR147","v":0},{"$f":"'kros seznam'!TOS147","v":0},{"$f":"'kros seznam'!TOT147","v":0},{"$f":"'kros seznam'!TOU147","v":0},{"$f":"'kros seznam'!TOV147","v":0},{"$f":"'kros seznam'!TOW147","v":0},{"$f":"'kros seznam'!TOX147","v":0},{"$f":"'kros seznam'!TOY147","v":0},{"$f":"'kros seznam'!TOZ147","v":0},{"$f":"'kros seznam'!TPA147","v":0},{"$f":"'kros seznam'!TPB147","v":0},{"$f":"'kros seznam'!TPC147","v":0},{"$f":"'kros seznam'!TPD147","v":0},{"$f":"'kros seznam'!TPE147","v":0},{"$f":"'kros seznam'!TPF147","v":0},{"$f":"'kros seznam'!TPG147","v":0},{"$f":"'kros seznam'!TPH147","v":0},{"$f":"'kros seznam'!TPI147","v":0},{"$f":"'kros seznam'!TPJ147","v":0},{"$f":"'kros seznam'!TPK147","v":0},{"$f":"'kros seznam'!TPL147","v":0},{"$f":"'kros seznam'!TPM147","v":0},{"$f":"'kros seznam'!TPN147","v":0},{"$f":"'kros seznam'!TPO147","v":0},{"$f":"'kros seznam'!TPP147","v":0},{"$f":"'kros seznam'!TPQ147","v":0},{"$f":"'kros seznam'!TPR147","v":0},{"$f":"'kros seznam'!TPS147","v":0},{"$f":"'kros seznam'!TPT147","v":0},{"$f":"'kros seznam'!TPU147","v":0},{"$f":"'kros seznam'!TPV147","v":0},{"$f":"'kros seznam'!TPW147","v":0},{"$f":"'kros seznam'!TPX147","v":0},{"$f":"'kros seznam'!TPY147","v":0},{"$f":"'kros seznam'!TPZ147","v":0},{"$f":"'kros seznam'!TQA147","v":0},{"$f":"'kros seznam'!TQB147","v":0},{"$f":"'kros seznam'!TQC147","v":0},{"$f":"'kros seznam'!TQD147","v":0},{"$f":"'kros seznam'!TQE147","v":0},{"$f":"'kros seznam'!TQF147","v":0},{"$f":"'kros seznam'!TQG147","v":0},{"$f":"'kros seznam'!TQH147","v":0},{"$f":"'kros seznam'!TQI147","v":0},{"$f":"'kros seznam'!TQJ147","v":0},{"$f":"'kros seznam'!TQK147","v":0},{"$f":"'kros seznam'!TQL147","v":0},{"$f":"'kros seznam'!TQM147","v":0},{"$f":"'kros seznam'!TQN147","v":0},{"$f":"'kros seznam'!TQO147","v":0},{"$f":"'kros seznam'!TQP147","v":0},{"$f":"'kros seznam'!TQQ147","v":0},{"$f":"'kros seznam'!TQR147","v":0},{"$f":"'kros seznam'!TQS147","v":0},{"$f":"'kros seznam'!TQT147","v":0},{"$f":"'kros seznam'!TQU147","v":0},{"$f":"'kros seznam'!TQV147","v":0},{"$f":"'kros seznam'!TQW147","v":0},{"$f":"'kros seznam'!TQX147","v":0},{"$f":"'kros seznam'!TQY147","v":0},{"$f":"'kros seznam'!TQZ147","v":0},{"$f":"'kros seznam'!TRA147","v":0},{"$f":"'kros seznam'!TRB147","v":0},{"$f":"'kros seznam'!TRC147","v":0},{"$f":"'kros seznam'!TRD147","v":0},{"$f":"'kros seznam'!TRE147","v":0},{"$f":"'kros seznam'!TRF147","v":0},{"$f":"'kros seznam'!TRG147","v":0},{"$f":"'kros seznam'!TRH147","v":0},{"$f":"'kros seznam'!TRI147","v":0},{"$f":"'kros seznam'!TRJ147","v":0},{"$f":"'kros seznam'!TRK147","v":0},{"$f":"'kros seznam'!TRL147","v":0},{"$f":"'kros seznam'!TRM147","v":0},{"$f":"'kros seznam'!TRN147","v":0},{"$f":"'kros seznam'!TRO147","v":0},{"$f":"'kros seznam'!TRP147","v":0},{"$f":"'kros seznam'!TRQ147","v":0},{"$f":"'kros seznam'!TRR147","v":0},{"$f":"'kros seznam'!TRS147","v":0},{"$f":"'kros seznam'!TRT147","v":0},{"$f":"'kros seznam'!TRU147","v":0},{"$f":"'kros seznam'!TRV147","v":0},{"$f":"'kros seznam'!TRW147","v":0},{"$f":"'kros seznam'!TRX147","v":0},{"$f":"'kros seznam'!TRY147","v":0},{"$f":"'kros seznam'!TRZ147","v":0},{"$f":"'kros seznam'!TSA147","v":0},{"$f":"'kros seznam'!TSB147","v":0},{"$f":"'kros seznam'!TSC147","v":0},{"$f":"'kros seznam'!TSD147","v":0},{"$f":"'kros seznam'!TSE147","v":0},{"$f":"'kros seznam'!TSF147","v":0},{"$f":"'kros seznam'!TSG147","v":0},{"$f":"'kros seznam'!TSH147","v":0},{"$f":"'kros seznam'!TSI147","v":0},{"$f":"'kros seznam'!TSJ147","v":0},{"$f":"'kros seznam'!TSK147","v":0},{"$f":"'kros seznam'!TSL147","v":0},{"$f":"'kros seznam'!TSM147","v":0},{"$f":"'kros seznam'!TSN147","v":0},{"$f":"'kros seznam'!TSO147","v":0},{"$f":"'kros seznam'!TSP147","v":0},{"$f":"'kros seznam'!TSQ147","v":0},{"$f":"'kros seznam'!TSR147","v":0},{"$f":"'kros seznam'!TSS147","v":0},{"$f":"'kros seznam'!TST147","v":0},{"$f":"'kros seznam'!TSU147","v":0},{"$f":"'kros seznam'!TSV147","v":0},{"$f":"'kros seznam'!TSW147","v":0},{"$f":"'kros seznam'!TSX147","v":0},{"$f":"'kros seznam'!TSY147","v":0},{"$f":"'kros seznam'!TSZ147","v":0},{"$f":"'kros seznam'!TTA147","v":0},{"$f":"'kros seznam'!TTB147","v":0},{"$f":"'kros seznam'!TTC147","v":0},{"$f":"'kros seznam'!TTD147","v":0},{"$f":"'kros seznam'!TTE147","v":0},{"$f":"'kros seznam'!TTF147","v":0},{"$f":"'kros seznam'!TTG147","v":0},{"$f":"'kros seznam'!TTH147","v":0},{"$f":"'kros seznam'!TTI147","v":0},{"$f":"'kros seznam'!TTJ147","v":0},{"$f":"'kros seznam'!TTK147","v":0},{"$f":"'kros seznam'!TTL147","v":0},{"$f":"'kros seznam'!TTM147","v":0},{"$f":"'kros seznam'!TTN147","v":0},{"$f":"'kros seznam'!TTO147","v":0},{"$f":"'kros seznam'!TTP147","v":0},{"$f":"'kros seznam'!TTQ147","v":0},{"$f":"'kros seznam'!TTR147","v":0},{"$f":"'kros seznam'!TTS147","v":0},{"$f":"'kros seznam'!TTT147","v":0},{"$f":"'kros seznam'!TTU147","v":0},{"$f":"'kros seznam'!TTV147","v":0},{"$f":"'kros seznam'!TTW147","v":0},{"$f":"'kros seznam'!TTX147","v":0},{"$f":"'kros seznam'!TTY147","v":0},{"$f":"'kros seznam'!TTZ147","v":0},{"$f":"'kros seznam'!TUA147","v":0},{"$f":"'kros seznam'!TUB147","v":0},{"$f":"'kros seznam'!TUC147","v":0},{"$f":"'kros seznam'!TUD147","v":0},{"$f":"'kros seznam'!TUE147","v":0},{"$f":"'kros seznam'!TUF147","v":0},{"$f":"'kros seznam'!TUG147","v":0},{"$f":"'kros seznam'!TUH147","v":0},{"$f":"'kros seznam'!TUI147","v":0},{"$f":"'kros seznam'!TUJ147","v":0},{"$f":"'kros seznam'!TUK147","v":0},{"$f":"'kros seznam'!TUL147","v":0},{"$f":"'kros seznam'!TUM147","v":0},{"$f":"'kros seznam'!TUN147","v":0},{"$f":"'kros seznam'!TUO147","v":0},{"$f":"'kros seznam'!TUP147","v":0},{"$f":"'kros seznam'!TUQ147","v":0},{"$f":"'kros seznam'!TUR147","v":0},{"$f":"'kros seznam'!TUS147","v":0},{"$f":"'kros seznam'!TUT147","v":0},{"$f":"'kros seznam'!TUU147","v":0},{"$f":"'kros seznam'!TUV147","v":0},{"$f":"'kros seznam'!TUW147","v":0},{"$f":"'kros seznam'!TUX147","v":0},{"$f":"'kros seznam'!TUY147","v":0},{"$f":"'kros seznam'!TUZ147","v":0},{"$f":"'kros seznam'!TVA147","v":0},{"$f":"'kros seznam'!TVB147","v":0},{"$f":"'kros seznam'!TVC147","v":0},{"$f":"'kros seznam'!TVD147","v":0},{"$f":"'kros seznam'!TVE147","v":0},{"$f":"'kros seznam'!TVF147","v":0},{"$f":"'kros seznam'!TVG147","v":0},{"$f":"'kros seznam'!TVH147","v":0},{"$f":"'kros seznam'!TVI147","v":0},{"$f":"'kros seznam'!TVJ147","v":0},{"$f":"'kros seznam'!TVK147","v":0},{"$f":"'kros seznam'!TVL147","v":0},{"$f":"'kros seznam'!TVM147","v":0},{"$f":"'kros seznam'!TVN147","v":0},{"$f":"'kros seznam'!TVO147","v":0},{"$f":"'kros seznam'!TVP147","v":0},{"$f":"'kros seznam'!TVQ147","v":0},{"$f":"'kros seznam'!TVR147","v":0},{"$f":"'kros seznam'!TVS147","v":0},{"$f":"'kros seznam'!TVT147","v":0},{"$f":"'kros seznam'!TVU147","v":0},{"$f":"'kros seznam'!TVV147","v":0},{"$f":"'kros seznam'!TVW147","v":0},{"$f":"'kros seznam'!TVX147","v":0},{"$f":"'kros seznam'!TVY147","v":0},{"$f":"'kros seznam'!TVZ147","v":0},{"$f":"'kros seznam'!TWA147","v":0},{"$f":"'kros seznam'!TWB147","v":0},{"$f":"'kros seznam'!TWC147","v":0},{"$f":"'kros seznam'!TWD147","v":0},{"$f":"'kros seznam'!TWE147","v":0},{"$f":"'kros seznam'!TWF147","v":0},{"$f":"'kros seznam'!TWG147","v":0},{"$f":"'kros seznam'!TWH147","v":0},{"$f":"'kros seznam'!TWI147","v":0},{"$f":"'kros seznam'!TWJ147","v":0},{"$f":"'kros seznam'!TWK147","v":0},{"$f":"'kros seznam'!TWL147","v":0},{"$f":"'kros seznam'!TWM147","v":0},{"$f":"'kros seznam'!TWN147","v":0},{"$f":"'kros seznam'!TWO147","v":0},{"$f":"'kros seznam'!TWP147","v":0},{"$f":"'kros seznam'!TWQ147","v":0},{"$f":"'kros seznam'!TWR147","v":0},{"$f":"'kros seznam'!TWS147","v":0},{"$f":"'kros seznam'!TWT147","v":0},{"$f":"'kros seznam'!TWU147","v":0},{"$f":"'kros seznam'!TWV147","v":0},{"$f":"'kros seznam'!TWW147","v":0},{"$f":"'kros seznam'!TWX147","v":0},{"$f":"'kros seznam'!TWY147","v":0},{"$f":"'kros seznam'!TWZ147","v":0},{"$f":"'kros seznam'!TXA147","v":0},{"$f":"'kros seznam'!TXB147","v":0},{"$f":"'kros seznam'!TXC147","v":0},{"$f":"'kros seznam'!TXD147","v":0},{"$f":"'kros seznam'!TXE147","v":0},{"$f":"'kros seznam'!TXF147","v":0},{"$f":"'kros seznam'!TXG147","v":0},{"$f":"'kros seznam'!TXH147","v":0},{"$f":"'kros seznam'!TXI147","v":0},{"$f":"'kros seznam'!TXJ147","v":0},{"$f":"'kros seznam'!TXK147","v":0},{"$f":"'kros seznam'!TXL147","v":0},{"$f":"'kros seznam'!TXM147","v":0},{"$f":"'kros seznam'!TXN147","v":0},{"$f":"'kros seznam'!TXO147","v":0},{"$f":"'kros seznam'!TXP147","v":0},{"$f":"'kros seznam'!TXQ147","v":0},{"$f":"'kros seznam'!TXR147","v":0},{"$f":"'kros seznam'!TXS147","v":0},{"$f":"'kros seznam'!TXT147","v":0},{"$f":"'kros seznam'!TXU147","v":0},{"$f":"'kros seznam'!TXV147","v":0},{"$f":"'kros seznam'!TXW147","v":0},{"$f":"'kros seznam'!TXX147","v":0},{"$f":"'kros seznam'!TXY147","v":0},{"$f":"'kros seznam'!TXZ147","v":0},{"$f":"'kros seznam'!TYA147","v":0},{"$f":"'kros seznam'!TYB147","v":0},{"$f":"'kros seznam'!TYC147","v":0},{"$f":"'kros seznam'!TYD147","v":0},{"$f":"'kros seznam'!TYE147","v":0},{"$f":"'kros seznam'!TYF147","v":0},{"$f":"'kros seznam'!TYG147","v":0},{"$f":"'kros seznam'!TYH147","v":0},{"$f":"'kros seznam'!TYI147","v":0},{"$f":"'kros seznam'!TYJ147","v":0},{"$f":"'kros seznam'!TYK147","v":0},{"$f":"'kros seznam'!TYL147","v":0},{"$f":"'kros seznam'!TYM147","v":0},{"$f":"'kros seznam'!TYN147","v":0},{"$f":"'kros seznam'!TYO147","v":0},{"$f":"'kros seznam'!TYP147","v":0},{"$f":"'kros seznam'!TYQ147","v":0},{"$f":"'kros seznam'!TYR147","v":0},{"$f":"'kros seznam'!TYS147","v":0},{"$f":"'kros seznam'!TYT147","v":0},{"$f":"'kros seznam'!TYU147","v":0},{"$f":"'kros seznam'!TYV147","v":0},{"$f":"'kros seznam'!TYW147","v":0},{"$f":"'kros seznam'!TYX147","v":0},{"$f":"'kros seznam'!TYY147","v":0},{"$f":"'kros seznam'!TYZ147","v":0},{"$f":"'kros seznam'!TZA147","v":0},{"$f":"'kros seznam'!TZB147","v":0},{"$f":"'kros seznam'!TZC147","v":0},{"$f":"'kros seznam'!TZD147","v":0},{"$f":"'kros seznam'!TZE147","v":0},{"$f":"'kros seznam'!TZF147","v":0},{"$f":"'kros seznam'!TZG147","v":0},{"$f":"'kros seznam'!TZH147","v":0},{"$f":"'kros seznam'!TZI147","v":0},{"$f":"'kros seznam'!TZJ147","v":0},{"$f":"'kros seznam'!TZK147","v":0},{"$f":"'kros seznam'!TZL147","v":0},{"$f":"'kros seznam'!TZM147","v":0},{"$f":"'kros seznam'!TZN147","v":0},{"$f":"'kros seznam'!TZO147","v":0},{"$f":"'kros seznam'!TZP147","v":0},{"$f":"'kros seznam'!TZQ147","v":0},{"$f":"'kros seznam'!TZR147","v":0},{"$f":"'kros seznam'!TZS147","v":0},{"$f":"'kros seznam'!TZT147","v":0},{"$f":"'kros seznam'!TZU147","v":0},{"$f":"'kros seznam'!TZV147","v":0},{"$f":"'kros seznam'!TZW147","v":0},{"$f":"'kros seznam'!TZX147","v":0},{"$f":"'kros seznam'!TZY147","v":0},{"$f":"'kros seznam'!TZZ147","v":0},{"$f":"'kros seznam'!UAA147","v":0},{"$f":"'kros seznam'!UAB147","v":0},{"$f":"'kros seznam'!UAC147","v":0},{"$f":"'kros seznam'!UAD147","v":0},{"$f":"'kros seznam'!UAE147","v":0},{"$f":"'kros seznam'!UAF147","v":0},{"$f":"'kros seznam'!UAG147","v":0},{"$f":"'kros seznam'!UAH147","v":0},{"$f":"'kros seznam'!UAI147","v":0},{"$f":"'kros seznam'!UAJ147","v":0},{"$f":"'kros seznam'!UAK147","v":0},{"$f":"'kros seznam'!UAL147","v":0},{"$f":"'kros seznam'!UAM147","v":0},{"$f":"'kros seznam'!UAN147","v":0},{"$f":"'kros seznam'!UAO147","v":0},{"$f":"'kros seznam'!UAP147","v":0},{"$f":"'kros seznam'!UAQ147","v":0},{"$f":"'kros seznam'!UAR147","v":0},{"$f":"'kros seznam'!UAS147","v":0},{"$f":"'kros seznam'!UAT147","v":0},{"$f":"'kros seznam'!UAU147","v":0},{"$f":"'kros seznam'!UAV147","v":0},{"$f":"'kros seznam'!UAW147","v":0},{"$f":"'kros seznam'!UAX147","v":0},{"$f":"'kros seznam'!UAY147","v":0},{"$f":"'kros seznam'!UAZ147","v":0},{"$f":"'kros seznam'!UBA147","v":0},{"$f":"'kros seznam'!UBB147","v":0},{"$f":"'kros seznam'!UBC147","v":0},{"$f":"'kros seznam'!UBD147","v":0},{"$f":"'kros seznam'!UBE147","v":0},{"$f":"'kros seznam'!UBF147","v":0},{"$f":"'kros seznam'!UBG147","v":0},{"$f":"'kros seznam'!UBH147","v":0},{"$f":"'kros seznam'!UBI147","v":0},{"$f":"'kros seznam'!UBJ147","v":0},{"$f":"'kros seznam'!UBK147","v":0},{"$f":"'kros seznam'!UBL147","v":0},{"$f":"'kros seznam'!UBM147","v":0},{"$f":"'kros seznam'!UBN147","v":0},{"$f":"'kros seznam'!UBO147","v":0},{"$f":"'kros seznam'!UBP147","v":0},{"$f":"'kros seznam'!UBQ147","v":0},{"$f":"'kros seznam'!UBR147","v":0},{"$f":"'kros seznam'!UBS147","v":0},{"$f":"'kros seznam'!UBT147","v":0},{"$f":"'kros seznam'!UBU147","v":0},{"$f":"'kros seznam'!UBV147","v":0},{"$f":"'kros seznam'!UBW147","v":0},{"$f":"'kros seznam'!UBX147","v":0},{"$f":"'kros seznam'!UBY147","v":0},{"$f":"'kros seznam'!UBZ147","v":0},{"$f":"'kros seznam'!UCA147","v":0},{"$f":"'kros seznam'!UCB147","v":0},{"$f":"'kros seznam'!UCC147","v":0},{"$f":"'kros seznam'!UCD147","v":0},{"$f":"'kros seznam'!UCE147","v":0},{"$f":"'kros seznam'!UCF147","v":0},{"$f":"'kros seznam'!UCG147","v":0},{"$f":"'kros seznam'!UCH147","v":0},{"$f":"'kros seznam'!UCI147","v":0},{"$f":"'kros seznam'!UCJ147","v":0},{"$f":"'kros seznam'!UCK147","v":0},{"$f":"'kros seznam'!UCL147","v":0},{"$f":"'kros seznam'!UCM147","v":0},{"$f":"'kros seznam'!UCN147","v":0},{"$f":"'kros seznam'!UCO147","v":0},{"$f":"'kros seznam'!UCP147","v":0},{"$f":"'kros seznam'!UCQ147","v":0},{"$f":"'kros seznam'!UCR147","v":0},{"$f":"'kros seznam'!UCS147","v":0},{"$f":"'kros seznam'!UCT147","v":0},{"$f":"'kros seznam'!UCU147","v":0},{"$f":"'kros seznam'!UCV147","v":0},{"$f":"'kros seznam'!UCW147","v":0},{"$f":"'kros seznam'!UCX147","v":0},{"$f":"'kros seznam'!UCY147","v":0},{"$f":"'kros seznam'!UCZ147","v":0},{"$f":"'kros seznam'!UDA147","v":0},{"$f":"'kros seznam'!UDB147","v":0},{"$f":"'kros seznam'!UDC147","v":0},{"$f":"'kros seznam'!UDD147","v":0},{"$f":"'kros seznam'!UDE147","v":0},{"$f":"'kros seznam'!UDF147","v":0},{"$f":"'kros seznam'!UDG147","v":0},{"$f":"'kros seznam'!UDH147","v":0},{"$f":"'kros seznam'!UDI147","v":0},{"$f":"'kros seznam'!UDJ147","v":0},{"$f":"'kros seznam'!UDK147","v":0},{"$f":"'kros seznam'!UDL147","v":0},{"$f":"'kros seznam'!UDM147","v":0},{"$f":"'kros seznam'!UDN147","v":0},{"$f":"'kros seznam'!UDO147","v":0},{"$f":"'kros seznam'!UDP147","v":0},{"$f":"'kros seznam'!UDQ147","v":0},{"$f":"'kros seznam'!UDR147","v":0},{"$f":"'kros seznam'!UDS147","v":0},{"$f":"'kros seznam'!UDT147","v":0},{"$f":"'kros seznam'!UDU147","v":0},{"$f":"'kros seznam'!UDV147","v":0},{"$f":"'kros seznam'!UDW147","v":0},{"$f":"'kros seznam'!UDX147","v":0},{"$f":"'kros seznam'!UDY147","v":0},{"$f":"'kros seznam'!UDZ147","v":0},{"$f":"'kros seznam'!UEA147","v":0},{"$f":"'kros seznam'!UEB147","v":0},{"$f":"'kros seznam'!UEC147","v":0},{"$f":"'kros seznam'!UED147","v":0},{"$f":"'kros seznam'!UEE147","v":0},{"$f":"'kros seznam'!UEF147","v":0},{"$f":"'kros seznam'!UEG147","v":0},{"$f":"'kros seznam'!UEH147","v":0},{"$f":"'kros seznam'!UEI147","v":0},{"$f":"'kros seznam'!UEJ147","v":0},{"$f":"'kros seznam'!UEK147","v":0},{"$f":"'kros seznam'!UEL147","v":0},{"$f":"'kros seznam'!UEM147","v":0},{"$f":"'kros seznam'!UEN147","v":0},{"$f":"'kros seznam'!UEO147","v":0},{"$f":"'kros seznam'!UEP147","v":0},{"$f":"'kros seznam'!UEQ147","v":0},{"$f":"'kros seznam'!UER147","v":0},{"$f":"'kros seznam'!UES147","v":0},{"$f":"'kros seznam'!UET147","v":0},{"$f":"'kros seznam'!UEU147","v":0},{"$f":"'kros seznam'!UEV147","v":0},{"$f":"'kros seznam'!UEW147","v":0},{"$f":"'kros seznam'!UEX147","v":0},{"$f":"'kros seznam'!UEY147","v":0},{"$f":"'kros seznam'!UEZ147","v":0},{"$f":"'kros seznam'!UFA147","v":0},{"$f":"'kros seznam'!UFB147","v":0},{"$f":"'kros seznam'!UFC147","v":0},{"$f":"'kros seznam'!UFD147","v":0},{"$f":"'kros seznam'!UFE147","v":0},{"$f":"'kros seznam'!UFF147","v":0},{"$f":"'kros seznam'!UFG147","v":0},{"$f":"'kros seznam'!UFH147","v":0},{"$f":"'kros seznam'!UFI147","v":0},{"$f":"'kros seznam'!UFJ147","v":0},{"$f":"'kros seznam'!UFK147","v":0},{"$f":"'kros seznam'!UFL147","v":0},{"$f":"'kros seznam'!UFM147","v":0},{"$f":"'kros seznam'!UFN147","v":0},{"$f":"'kros seznam'!UFO147","v":0},{"$f":"'kros seznam'!UFP147","v":0},{"$f":"'kros seznam'!UFQ147","v":0},{"$f":"'kros seznam'!UFR147","v":0},{"$f":"'kros seznam'!UFS147","v":0},{"$f":"'kros seznam'!UFT147","v":0},{"$f":"'kros seznam'!UFU147","v":0},{"$f":"'kros seznam'!UFV147","v":0},{"$f":"'kros seznam'!UFW147","v":0},{"$f":"'kros seznam'!UFX147","v":0},{"$f":"'kros seznam'!UFY147","v":0},{"$f":"'kros seznam'!UFZ147","v":0},{"$f":"'kros seznam'!UGA147","v":0},{"$f":"'kros seznam'!UGB147","v":0},{"$f":"'kros seznam'!UGC147","v":0},{"$f":"'kros seznam'!UGD147","v":0},{"$f":"'kros seznam'!UGE147","v":0},{"$f":"'kros seznam'!UGF147","v":0},{"$f":"'kros seznam'!UGG147","v":0},{"$f":"'kros seznam'!UGH147","v":0},{"$f":"'kros seznam'!UGI147","v":0},{"$f":"'kros seznam'!UGJ147","v":0},{"$f":"'kros seznam'!UGK147","v":0},{"$f":"'kros seznam'!UGL147","v":0},{"$f":"'kros seznam'!UGM147","v":0},{"$f":"'kros seznam'!UGN147","v":0},{"$f":"'kros seznam'!UGO147","v":0},{"$f":"'kros seznam'!UGP147","v":0},{"$f":"'kros seznam'!UGQ147","v":0},{"$f":"'kros seznam'!UGR147","v":0},{"$f":"'kros seznam'!UGS147","v":0},{"$f":"'kros seznam'!UGT147","v":0},{"$f":"'kros seznam'!UGU147","v":0},{"$f":"'kros seznam'!UGV147","v":0},{"$f":"'kros seznam'!UGW147","v":0},{"$f":"'kros seznam'!UGX147","v":0},{"$f":"'kros seznam'!UGY147","v":0},{"$f":"'kros seznam'!UGZ147","v":0},{"$f":"'kros seznam'!UHA147","v":0},{"$f":"'kros seznam'!UHB147","v":0},{"$f":"'kros seznam'!UHC147","v":0},{"$f":"'kros seznam'!UHD147","v":0},{"$f":"'kros seznam'!UHE147","v":0},{"$f":"'kros seznam'!UHF147","v":0},{"$f":"'kros seznam'!UHG147","v":0},{"$f":"'kros seznam'!UHH147","v":0},{"$f":"'kros seznam'!UHI147","v":0},{"$f":"'kros seznam'!UHJ147","v":0},{"$f":"'kros seznam'!UHK147","v":0},{"$f":"'kros seznam'!UHL147","v":0},{"$f":"'kros seznam'!UHM147","v":0},{"$f":"'kros seznam'!UHN147","v":0},{"$f":"'kros seznam'!UHO147","v":0},{"$f":"'kros seznam'!UHP147","v":0},{"$f":"'kros seznam'!UHQ147","v":0},{"$f":"'kros seznam'!UHR147","v":0},{"$f":"'kros seznam'!UHS147","v":0},{"$f":"'kros seznam'!UHT147","v":0},{"$f":"'kros seznam'!UHU147","v":0},{"$f":"'kros seznam'!UHV147","v":0},{"$f":"'kros seznam'!UHW147","v":0},{"$f":"'kros seznam'!UHX147","v":0},{"$f":"'kros seznam'!UHY147","v":0},{"$f":"'kros seznam'!UHZ147","v":0},{"$f":"'kros seznam'!UIA147","v":0},{"$f":"'kros seznam'!UIB147","v":0},{"$f":"'kros seznam'!UIC147","v":0},{"$f":"'kros seznam'!UID147","v":0},{"$f":"'kros seznam'!UIE147","v":0},{"$f":"'kros seznam'!UIF147","v":0},{"$f":"'kros seznam'!UIG147","v":0},{"$f":"'kros seznam'!UIH147","v":0},{"$f":"'kros seznam'!UII147","v":0},{"$f":"'kros seznam'!UIJ147","v":0},{"$f":"'kros seznam'!UIK147","v":0},{"$f":"'kros seznam'!UIL147","v":0},{"$f":"'kros seznam'!UIM147","v":0},{"$f":"'kros seznam'!UIN147","v":0},{"$f":"'kros seznam'!UIO147","v":0},{"$f":"'kros seznam'!UIP147","v":0},{"$f":"'kros seznam'!UIQ147","v":0},{"$f":"'kros seznam'!UIR147","v":0},{"$f":"'kros seznam'!UIS147","v":0},{"$f":"'kros seznam'!UIT147","v":0},{"$f":"'kros seznam'!UIU147","v":0},{"$f":"'kros seznam'!UIV147","v":0},{"$f":"'kros seznam'!UIW147","v":0},{"$f":"'kros seznam'!UIX147","v":0},{"$f":"'kros seznam'!UIY147","v":0},{"$f":"'kros seznam'!UIZ147","v":0},{"$f":"'kros seznam'!UJA147","v":0},{"$f":"'kros seznam'!UJB147","v":0},{"$f":"'kros seznam'!UJC147","v":0},{"$f":"'kros seznam'!UJD147","v":0},{"$f":"'kros seznam'!UJE147","v":0},{"$f":"'kros seznam'!UJF147","v":0},{"$f":"'kros seznam'!UJG147","v":0},{"$f":"'kros seznam'!UJH147","v":0},{"$f":"'kros seznam'!UJI147","v":0},{"$f":"'kros seznam'!UJJ147","v":0},{"$f":"'kros seznam'!UJK147","v":0},{"$f":"'kros seznam'!UJL147","v":0},{"$f":"'kros seznam'!UJM147","v":0},{"$f":"'kros seznam'!UJN147","v":0},{"$f":"'kros seznam'!UJO147","v":0},{"$f":"'kros seznam'!UJP147","v":0},{"$f":"'kros seznam'!UJQ147","v":0},{"$f":"'kros seznam'!UJR147","v":0},{"$f":"'kros seznam'!UJS147","v":0},{"$f":"'kros seznam'!UJT147","v":0},{"$f":"'kros seznam'!UJU147","v":0},{"$f":"'kros seznam'!UJV147","v":0},{"$f":"'kros seznam'!UJW147","v":0},{"$f":"'kros seznam'!UJX147","v":0},{"$f":"'kros seznam'!UJY147","v":0},{"$f":"'kros seznam'!UJZ147","v":0},{"$f":"'kros seznam'!UKA147","v":0},{"$f":"'kros seznam'!UKB147","v":0},{"$f":"'kros seznam'!UKC147","v":0},{"$f":"'kros seznam'!UKD147","v":0},{"$f":"'kros seznam'!UKE147","v":0},{"$f":"'kros seznam'!UKF147","v":0},{"$f":"'kros seznam'!UKG147","v":0},{"$f":"'kros seznam'!UKH147","v":0},{"$f":"'kros seznam'!UKI147","v":0},{"$f":"'kros seznam'!UKJ147","v":0},{"$f":"'kros seznam'!UKK147","v":0},{"$f":"'kros seznam'!UKL147","v":0},{"$f":"'kros seznam'!UKM147","v":0},{"$f":"'kros seznam'!UKN147","v":0},{"$f":"'kros seznam'!UKO147","v":0},{"$f":"'kros seznam'!UKP147","v":0},{"$f":"'kros seznam'!UKQ147","v":0},{"$f":"'kros seznam'!UKR147","v":0},{"$f":"'kros seznam'!UKS147","v":0},{"$f":"'kros seznam'!UKT147","v":0},{"$f":"'kros seznam'!UKU147","v":0},{"$f":"'kros seznam'!UKV147","v":0},{"$f":"'kros seznam'!UKW147","v":0},{"$f":"'kros seznam'!UKX147","v":0},{"$f":"'kros seznam'!UKY147","v":0},{"$f":"'kros seznam'!UKZ147","v":0},{"$f":"'kros seznam'!ULA147","v":0},{"$f":"'kros seznam'!ULB147","v":0},{"$f":"'kros seznam'!ULC147","v":0},{"$f":"'kros seznam'!ULD147","v":0},{"$f":"'kros seznam'!ULE147","v":0},{"$f":"'kros seznam'!ULF147","v":0},{"$f":"'kros seznam'!ULG147","v":0},{"$f":"'kros seznam'!ULH147","v":0},{"$f":"'kros seznam'!ULI147","v":0},{"$f":"'kros seznam'!ULJ147","v":0},{"$f":"'kros seznam'!ULK147","v":0},{"$f":"'kros seznam'!ULL147","v":0},{"$f":"'kros seznam'!ULM147","v":0},{"$f":"'kros seznam'!ULN147","v":0},{"$f":"'kros seznam'!ULO147","v":0},{"$f":"'kros seznam'!ULP147","v":0},{"$f":"'kros seznam'!ULQ147","v":0},{"$f":"'kros seznam'!ULR147","v":0},{"$f":"'kros seznam'!ULS147","v":0},{"$f":"'kros seznam'!ULT147","v":0},{"$f":"'kros seznam'!ULU147","v":0},{"$f":"'kros seznam'!ULV147","v":0},{"$f":"'kros seznam'!ULW147","v":0},{"$f":"'kros seznam'!ULX147","v":0},{"$f":"'kros seznam'!ULY147","v":0},{"$f":"'kros seznam'!ULZ147","v":0},{"$f":"'kros seznam'!UMA147","v":0},{"$f":"'kros seznam'!UMB147","v":0},{"$f":"'kros seznam'!UMC147","v":0},{"$f":"'kros seznam'!UMD147","v":0},{"$f":"'kros seznam'!UME147","v":0},{"$f":"'kros seznam'!UMF147","v":0},{"$f":"'kros seznam'!UMG147","v":0},{"$f":"'kros seznam'!UMH147","v":0},{"$f":"'kros seznam'!UMI147","v":0},{"$f":"'kros seznam'!UMJ147","v":0},{"$f":"'kros seznam'!UMK147","v":0},{"$f":"'kros seznam'!UML147","v":0},{"$f":"'kros seznam'!UMM147","v":0},{"$f":"'kros seznam'!UMN147","v":0},{"$f":"'kros seznam'!UMO147","v":0},{"$f":"'kros seznam'!UMP147","v":0},{"$f":"'kros seznam'!UMQ147","v":0},{"$f":"'kros seznam'!UMR147","v":0},{"$f":"'kros seznam'!UMS147","v":0},{"$f":"'kros seznam'!UMT147","v":0},{"$f":"'kros seznam'!UMU147","v":0},{"$f":"'kros seznam'!UMV147","v":0},{"$f":"'kros seznam'!UMW147","v":0},{"$f":"'kros seznam'!UMX147","v":0},{"$f":"'kros seznam'!UMY147","v":0},{"$f":"'kros seznam'!UMZ147","v":0},{"$f":"'kros seznam'!UNA147","v":0},{"$f":"'kros seznam'!UNB147","v":0},{"$f":"'kros seznam'!UNC147","v":0},{"$f":"'kros seznam'!UND147","v":0},{"$f":"'kros seznam'!UNE147","v":0},{"$f":"'kros seznam'!UNF147","v":0},{"$f":"'kros seznam'!UNG147","v":0},{"$f":"'kros seznam'!UNH147","v":0},{"$f":"'kros seznam'!UNI147","v":0},{"$f":"'kros seznam'!UNJ147","v":0},{"$f":"'kros seznam'!UNK147","v":0},{"$f":"'kros seznam'!UNL147","v":0},{"$f":"'kros seznam'!UNM147","v":0},{"$f":"'kros seznam'!UNN147","v":0},{"$f":"'kros seznam'!UNO147","v":0},{"$f":"'kros seznam'!UNP147","v":0},{"$f":"'kros seznam'!UNQ147","v":0},{"$f":"'kros seznam'!UNR147","v":0},{"$f":"'kros seznam'!UNS147","v":0},{"$f":"'kros seznam'!UNT147","v":0},{"$f":"'kros seznam'!UNU147","v":0},{"$f":"'kros seznam'!UNV147","v":0},{"$f":"'kros seznam'!UNW147","v":0},{"$f":"'kros seznam'!UNX147","v":0},{"$f":"'kros seznam'!UNY147","v":0},{"$f":"'kros seznam'!UNZ147","v":0},{"$f":"'kros seznam'!UOA147","v":0},{"$f":"'kros seznam'!UOB147","v":0},{"$f":"'kros seznam'!UOC147","v":0},{"$f":"'kros seznam'!UOD147","v":0},{"$f":"'kros seznam'!UOE147","v":0},{"$f":"'kros seznam'!UOF147","v":0},{"$f":"'kros seznam'!UOG147","v":0},{"$f":"'kros seznam'!UOH147","v":0},{"$f":"'kros seznam'!UOI147","v":0},{"$f":"'kros seznam'!UOJ147","v":0},{"$f":"'kros seznam'!UOK147","v":0},{"$f":"'kros seznam'!UOL147","v":0},{"$f":"'kros seznam'!UOM147","v":0},{"$f":"'kros seznam'!UON147","v":0},{"$f":"'kros seznam'!UOO147","v":0},{"$f":"'kros seznam'!UOP147","v":0},{"$f":"'kros seznam'!UOQ147","v":0},{"$f":"'kros seznam'!UOR147","v":0},{"$f":"'kros seznam'!UOS147","v":0},{"$f":"'kros seznam'!UOT147","v":0},{"$f":"'kros seznam'!UOU147","v":0},{"$f":"'kros seznam'!UOV147","v":0},{"$f":"'kros seznam'!UOW147","v":0},{"$f":"'kros seznam'!UOX147","v":0},{"$f":"'kros seznam'!UOY147","v":0},{"$f":"'kros seznam'!UOZ147","v":0},{"$f":"'kros seznam'!UPA147","v":0},{"$f":"'kros seznam'!UPB147","v":0},{"$f":"'kros seznam'!UPC147","v":0},{"$f":"'kros seznam'!UPD147","v":0},{"$f":"'kros seznam'!UPE147","v":0},{"$f":"'kros seznam'!UPF147","v":0},{"$f":"'kros seznam'!UPG147","v":0},{"$f":"'kros seznam'!UPH147","v":0},{"$f":"'kros seznam'!UPI147","v":0},{"$f":"'kros seznam'!UPJ147","v":0},{"$f":"'kros seznam'!UPK147","v":0},{"$f":"'kros seznam'!UPL147","v":0},{"$f":"'kros seznam'!UPM147","v":0},{"$f":"'kros seznam'!UPN147","v":0},{"$f":"'kros seznam'!UPO147","v":0},{"$f":"'kros seznam'!UPP147","v":0},{"$f":"'kros seznam'!UPQ147","v":0},{"$f":"'kros seznam'!UPR147","v":0},{"$f":"'kros seznam'!UPS147","v":0},{"$f":"'kros seznam'!UPT147","v":0},{"$f":"'kros seznam'!UPU147","v":0},{"$f":"'kros seznam'!UPV147","v":0},{"$f":"'kros seznam'!UPW147","v":0},{"$f":"'kros seznam'!UPX147","v":0},{"$f":"'kros seznam'!UPY147","v":0},{"$f":"'kros seznam'!UPZ147","v":0},{"$f":"'kros seznam'!UQA147","v":0},{"$f":"'kros seznam'!UQB147","v":0},{"$f":"'kros seznam'!UQC147","v":0},{"$f":"'kros seznam'!UQD147","v":0},{"$f":"'kros seznam'!UQE147","v":0},{"$f":"'kros seznam'!UQF147","v":0},{"$f":"'kros seznam'!UQG147","v":0},{"$f":"'kros seznam'!UQH147","v":0},{"$f":"'kros seznam'!UQI147","v":0},{"$f":"'kros seznam'!UQJ147","v":0},{"$f":"'kros seznam'!UQK147","v":0},{"$f":"'kros seznam'!UQL147","v":0},{"$f":"'kros seznam'!UQM147","v":0},{"$f":"'kros seznam'!UQN147","v":0},{"$f":"'kros seznam'!UQO147","v":0},{"$f":"'kros seznam'!UQP147","v":0},{"$f":"'kros seznam'!UQQ147","v":0},{"$f":"'kros seznam'!UQR147","v":0},{"$f":"'kros seznam'!UQS147","v":0},{"$f":"'kros seznam'!UQT147","v":0},{"$f":"'kros seznam'!UQU147","v":0},{"$f":"'kros seznam'!UQV147","v":0},{"$f":"'kros seznam'!UQW147","v":0},{"$f":"'kros seznam'!UQX147","v":0},{"$f":"'kros seznam'!UQY147","v":0},{"$f":"'kros seznam'!UQZ147","v":0},{"$f":"'kros seznam'!URA147","v":0},{"$f":"'kros seznam'!URB147","v":0},{"$f":"'kros seznam'!URC147","v":0},{"$f":"'kros seznam'!URD147","v":0},{"$f":"'kros seznam'!URE147","v":0},{"$f":"'kros seznam'!URF147","v":0},{"$f":"'kros seznam'!URG147","v":0},{"$f":"'kros seznam'!URH147","v":0},{"$f":"'kros seznam'!URI147","v":0},{"$f":"'kros seznam'!URJ147","v":0},{"$f":"'kros seznam'!URK147","v":0},{"$f":"'kros seznam'!URL147","v":0},{"$f":"'kros seznam'!URM147","v":0},{"$f":"'kros seznam'!URN147","v":0},{"$f":"'kros seznam'!URO147","v":0},{"$f":"'kros seznam'!URP147","v":0},{"$f":"'kros seznam'!URQ147","v":0},{"$f":"'kros seznam'!URR147","v":0},{"$f":"'kros seznam'!URS147","v":0},{"$f":"'kros seznam'!URT147","v":0},{"$f":"'kros seznam'!URU147","v":0},{"$f":"'kros seznam'!URV147","v":0},{"$f":"'kros seznam'!URW147","v":0},{"$f":"'kros seznam'!URX147","v":0},{"$f":"'kros seznam'!URY147","v":0},{"$f":"'kros seznam'!URZ147","v":0},{"$f":"'kros seznam'!USA147","v":0},{"$f":"'kros seznam'!USB147","v":0},{"$f":"'kros seznam'!USC147","v":0},{"$f":"'kros seznam'!USD147","v":0},{"$f":"'kros seznam'!USE147","v":0},{"$f":"'kros seznam'!USF147","v":0},{"$f":"'kros seznam'!USG147","v":0},{"$f":"'kros seznam'!USH147","v":0},{"$f":"'kros seznam'!USI147","v":0},{"$f":"'kros seznam'!USJ147","v":0},{"$f":"'kros seznam'!USK147","v":0},{"$f":"'kros seznam'!USL147","v":0},{"$f":"'kros seznam'!USM147","v":0},{"$f":"'kros seznam'!USN147","v":0},{"$f":"'kros seznam'!USO147","v":0},{"$f":"'kros seznam'!USP147","v":0},{"$f":"'kros seznam'!USQ147","v":0},{"$f":"'kros seznam'!USR147","v":0},{"$f":"'kros seznam'!USS147","v":0},{"$f":"'kros seznam'!UST147","v":0},{"$f":"'kros seznam'!USU147","v":0},{"$f":"'kros seznam'!USV147","v":0},{"$f":"'kros seznam'!USW147","v":0},{"$f":"'kros seznam'!USX147","v":0},{"$f":"'kros seznam'!USY147","v":0},{"$f":"'kros seznam'!USZ147","v":0},{"$f":"'kros seznam'!UTA147","v":0},{"$f":"'kros seznam'!UTB147","v":0},{"$f":"'kros seznam'!UTC147","v":0},{"$f":"'kros seznam'!UTD147","v":0},{"$f":"'kros seznam'!UTE147","v":0},{"$f":"'kros seznam'!UTF147","v":0},{"$f":"'kros seznam'!UTG147","v":0},{"$f":"'kros seznam'!UTH147","v":0},{"$f":"'kros seznam'!UTI147","v":0},{"$f":"'kros seznam'!UTJ147","v":0},{"$f":"'kros seznam'!UTK147","v":0},{"$f":"'kros seznam'!UTL147","v":0},{"$f":"'kros seznam'!UTM147","v":0},{"$f":"'kros seznam'!UTN147","v":0},{"$f":"'kros seznam'!UTO147","v":0},{"$f":"'kros seznam'!UTP147","v":0},{"$f":"'kros seznam'!UTQ147","v":0},{"$f":"'kros seznam'!UTR147","v":0},{"$f":"'kros seznam'!UTS147","v":0},{"$f":"'kros seznam'!UTT147","v":0},{"$f":"'kros seznam'!UTU147","v":0},{"$f":"'kros seznam'!UTV147","v":0},{"$f":"'kros seznam'!UTW147","v":0},{"$f":"'kros seznam'!UTX147","v":0},{"$f":"'kros seznam'!UTY147","v":0},{"$f":"'kros seznam'!UTZ147","v":0},{"$f":"'kros seznam'!UUA147","v":0},{"$f":"'kros seznam'!UUB147","v":0},{"$f":"'kros seznam'!UUC147","v":0},{"$f":"'kros seznam'!UUD147","v":0},{"$f":"'kros seznam'!UUE147","v":0},{"$f":"'kros seznam'!UUF147","v":0},{"$f":"'kros seznam'!UUG147","v":0},{"$f":"'kros seznam'!UUH147","v":0},{"$f":"'kros seznam'!UUI147","v":0},{"$f":"'kros seznam'!UUJ147","v":0},{"$f":"'kros seznam'!UUK147","v":0},{"$f":"'kros seznam'!UUL147","v":0},{"$f":"'kros seznam'!UUM147","v":0},{"$f":"'kros seznam'!UUN147","v":0},{"$f":"'kros seznam'!UUO147","v":0},{"$f":"'kros seznam'!UUP147","v":0},{"$f":"'kros seznam'!UUQ147","v":0},{"$f":"'kros seznam'!UUR147","v":0},{"$f":"'kros seznam'!UUS147","v":0},{"$f":"'kros seznam'!UUT147","v":0},{"$f":"'kros seznam'!UUU147","v":0},{"$f":"'kros seznam'!UUV147","v":0},{"$f":"'kros seznam'!UUW147","v":0},{"$f":"'kros seznam'!UUX147","v":0},{"$f":"'kros seznam'!UUY147","v":0},{"$f":"'kros seznam'!UUZ147","v":0},{"$f":"'kros seznam'!UVA147","v":0},{"$f":"'kros seznam'!UVB147","v":0},{"$f":"'kros seznam'!UVC147","v":0},{"$f":"'kros seznam'!UVD147","v":0},{"$f":"'kros seznam'!UVE147","v":0},{"$f":"'kros seznam'!UVF147","v":0},{"$f":"'kros seznam'!UVG147","v":0},{"$f":"'kros seznam'!UVH147","v":0},{"$f":"'kros seznam'!UVI147","v":0},{"$f":"'kros seznam'!UVJ147","v":0},{"$f":"'kros seznam'!UVK147","v":0},{"$f":"'kros seznam'!UVL147","v":0},{"$f":"'kros seznam'!UVM147","v":0},{"$f":"'kros seznam'!UVN147","v":0},{"$f":"'kros seznam'!UVO147","v":0},{"$f":"'kros seznam'!UVP147","v":0},{"$f":"'kros seznam'!UVQ147","v":0},{"$f":"'kros seznam'!UVR147","v":0},{"$f":"'kros seznam'!UVS147","v":0},{"$f":"'kros seznam'!UVT147","v":0},{"$f":"'kros seznam'!UVU147","v":0},{"$f":"'kros seznam'!UVV147","v":0},{"$f":"'kros seznam'!UVW147","v":0},{"$f":"'kros seznam'!UVX147","v":0},{"$f":"'kros seznam'!UVY147","v":0},{"$f":"'kros seznam'!UVZ147","v":0},{"$f":"'kros seznam'!UWA147","v":0},{"$f":"'kros seznam'!UWB147","v":0},{"$f":"'kros seznam'!UWC147","v":0},{"$f":"'kros seznam'!UWD147","v":0},{"$f":"'kros seznam'!UWE147","v":0},{"$f":"'kros seznam'!UWF147","v":0},{"$f":"'kros seznam'!UWG147","v":0},{"$f":"'kros seznam'!UWH147","v":0},{"$f":"'kros seznam'!UWI147","v":0},{"$f":"'kros seznam'!UWJ147","v":0},{"$f":"'kros seznam'!UWK147","v":0},{"$f":"'kros seznam'!UWL147","v":0},{"$f":"'kros seznam'!UWM147","v":0},{"$f":"'kros seznam'!UWN147","v":0},{"$f":"'kros seznam'!UWO147","v":0},{"$f":"'kros seznam'!UWP147","v":0},{"$f":"'kros seznam'!UWQ147","v":0},{"$f":"'kros seznam'!UWR147","v":0},{"$f":"'kros seznam'!UWS147","v":0},{"$f":"'kros seznam'!UWT147","v":0},{"$f":"'kros seznam'!UWU147","v":0},{"$f":"'kros seznam'!UWV147","v":0},{"$f":"'kros seznam'!UWW147","v":0},{"$f":"'kros seznam'!UWX147","v":0},{"$f":"'kros seznam'!UWY147","v":0},{"$f":"'kros seznam'!UWZ147","v":0},{"$f":"'kros seznam'!UXA147","v":0},{"$f":"'kros seznam'!UXB147","v":0},{"$f":"'kros seznam'!UXC147","v":0},{"$f":"'kros seznam'!UXD147","v":0},{"$f":"'kros seznam'!UXE147","v":0},{"$f":"'kros seznam'!UXF147","v":0},{"$f":"'kros seznam'!UXG147","v":0},{"$f":"'kros seznam'!UXH147","v":0},{"$f":"'kros seznam'!UXI147","v":0},{"$f":"'kros seznam'!UXJ147","v":0},{"$f":"'kros seznam'!UXK147","v":0},{"$f":"'kros seznam'!UXL147","v":0},{"$f":"'kros seznam'!UXM147","v":0},{"$f":"'kros seznam'!UXN147","v":0},{"$f":"'kros seznam'!UXO147","v":0},{"$f":"'kros seznam'!UXP147","v":0},{"$f":"'kros seznam'!UXQ147","v":0},{"$f":"'kros seznam'!UXR147","v":0},{"$f":"'kros seznam'!UXS147","v":0},{"$f":"'kros seznam'!UXT147","v":0},{"$f":"'kros seznam'!UXU147","v":0},{"$f":"'kros seznam'!UXV147","v":0},{"$f":"'kros seznam'!UXW147","v":0},{"$f":"'kros seznam'!UXX147","v":0},{"$f":"'kros seznam'!UXY147","v":0},{"$f":"'kros seznam'!UXZ147","v":0},{"$f":"'kros seznam'!UYA147","v":0},{"$f":"'kros seznam'!UYB147","v":0},{"$f":"'kros seznam'!UYC147","v":0},{"$f":"'kros seznam'!UYD147","v":0},{"$f":"'kros seznam'!UYE147","v":0},{"$f":"'kros seznam'!UYF147","v":0},{"$f":"'kros seznam'!UYG147","v":0},{"$f":"'kros seznam'!UYH147","v":0},{"$f":"'kros seznam'!UYI147","v":0},{"$f":"'kros seznam'!UYJ147","v":0},{"$f":"'kros seznam'!UYK147","v":0},{"$f":"'kros seznam'!UYL147","v":0},{"$f":"'kros seznam'!UYM147","v":0},{"$f":"'kros seznam'!UYN147","v":0},{"$f":"'kros seznam'!UYO147","v":0},{"$f":"'kros seznam'!UYP147","v":0},{"$f":"'kros seznam'!UYQ147","v":0},{"$f":"'kros seznam'!UYR147","v":0},{"$f":"'kros seznam'!UYS147","v":0},{"$f":"'kros seznam'!UYT147","v":0},{"$f":"'kros seznam'!UYU147","v":0},{"$f":"'kros seznam'!UYV147","v":0},{"$f":"'kros seznam'!UYW147","v":0},{"$f":"'kros seznam'!UYX147","v":0},{"$f":"'kros seznam'!UYY147","v":0},{"$f":"'kros seznam'!UYZ147","v":0},{"$f":"'kros seznam'!UZA147","v":0},{"$f":"'kros seznam'!UZB147","v":0},{"$f":"'kros seznam'!UZC147","v":0},{"$f":"'kros seznam'!UZD147","v":0},{"$f":"'kros seznam'!UZE147","v":0},{"$f":"'kros seznam'!UZF147","v":0},{"$f":"'kros seznam'!UZG147","v":0},{"$f":"'kros seznam'!UZH147","v":0},{"$f":"'kros seznam'!UZI147","v":0},{"$f":"'kros seznam'!UZJ147","v":0},{"$f":"'kros seznam'!UZK147","v":0},{"$f":"'kros seznam'!UZL147","v":0},{"$f":"'kros seznam'!UZM147","v":0},{"$f":"'kros seznam'!UZN147","v":0},{"$f":"'kros seznam'!UZO147","v":0},{"$f":"'kros seznam'!UZP147","v":0},{"$f":"'kros seznam'!UZQ147","v":0},{"$f":"'kros seznam'!UZR147","v":0},{"$f":"'kros seznam'!UZS147","v":0},{"$f":"'kros seznam'!UZT147","v":0},{"$f":"'kros seznam'!UZU147","v":0},{"$f":"'kros seznam'!UZV147","v":0},{"$f":"'kros seznam'!UZW147","v":0},{"$f":"'kros seznam'!UZX147","v":0},{"$f":"'kros seznam'!UZY147","v":0},{"$f":"'kros seznam'!UZZ147","v":0},{"$f":"'kros seznam'!VAA147","v":0},{"$f":"'kros seznam'!VAB147","v":0},{"$f":"'kros seznam'!VAC147","v":0},{"$f":"'kros seznam'!VAD147","v":0},{"$f":"'kros seznam'!VAE147","v":0},{"$f":"'kros seznam'!VAF147","v":0},{"$f":"'kros seznam'!VAG147","v":0},{"$f":"'kros seznam'!VAH147","v":0},{"$f":"'kros seznam'!VAI147","v":0},{"$f":"'kros seznam'!VAJ147","v":0},{"$f":"'kros seznam'!VAK147","v":0},{"$f":"'kros seznam'!VAL147","v":0},{"$f":"'kros seznam'!VAM147","v":0},{"$f":"'kros seznam'!VAN147","v":0},{"$f":"'kros seznam'!VAO147","v":0},{"$f":"'kros seznam'!VAP147","v":0},{"$f":"'kros seznam'!VAQ147","v":0},{"$f":"'kros seznam'!VAR147","v":0},{"$f":"'kros seznam'!VAS147","v":0},{"$f":"'kros seznam'!VAT147","v":0},{"$f":"'kros seznam'!VAU147","v":0},{"$f":"'kros seznam'!VAV147","v":0},{"$f":"'kros seznam'!VAW147","v":0},{"$f":"'kros seznam'!VAX147","v":0},{"$f":"'kros seznam'!VAY147","v":0},{"$f":"'kros seznam'!VAZ147","v":0},{"$f":"'kros seznam'!VBA147","v":0},{"$f":"'kros seznam'!VBB147","v":0},{"$f":"'kros seznam'!VBC147","v":0},{"$f":"'kros seznam'!VBD147","v":0},{"$f":"'kros seznam'!VBE147","v":0},{"$f":"'kros seznam'!VBF147","v":0},{"$f":"'kros seznam'!VBG147","v":0},{"$f":"'kros seznam'!VBH147","v":0},{"$f":"'kros seznam'!VBI147","v":0},{"$f":"'kros seznam'!VBJ147","v":0},{"$f":"'kros seznam'!VBK147","v":0},{"$f":"'kros seznam'!VBL147","v":0},{"$f":"'kros seznam'!VBM147","v":0},{"$f":"'kros seznam'!VBN147","v":0},{"$f":"'kros seznam'!VBO147","v":0},{"$f":"'kros seznam'!VBP147","v":0},{"$f":"'kros seznam'!VBQ147","v":0},{"$f":"'kros seznam'!VBR147","v":0},{"$f":"'kros seznam'!VBS147","v":0},{"$f":"'kros seznam'!VBT147","v":0},{"$f":"'kros seznam'!VBU147","v":0},{"$f":"'kros seznam'!VBV147","v":0},{"$f":"'kros seznam'!VBW147","v":0},{"$f":"'kros seznam'!VBX147","v":0},{"$f":"'kros seznam'!VBY147","v":0},{"$f":"'kros seznam'!VBZ147","v":0},{"$f":"'kros seznam'!VCA147","v":0},{"$f":"'kros seznam'!VCB147","v":0},{"$f":"'kros seznam'!VCC147","v":0},{"$f":"'kros seznam'!VCD147","v":0},{"$f":"'kros seznam'!VCE147","v":0},{"$f":"'kros seznam'!VCF147","v":0},{"$f":"'kros seznam'!VCG147","v":0},{"$f":"'kros seznam'!VCH147","v":0},{"$f":"'kros seznam'!VCI147","v":0},{"$f":"'kros seznam'!VCJ147","v":0},{"$f":"'kros seznam'!VCK147","v":0},{"$f":"'kros seznam'!VCL147","v":0},{"$f":"'kros seznam'!VCM147","v":0},{"$f":"'kros seznam'!VCN147","v":0},{"$f":"'kros seznam'!VCO147","v":0},{"$f":"'kros seznam'!VCP147","v":0},{"$f":"'kros seznam'!VCQ147","v":0},{"$f":"'kros seznam'!VCR147","v":0},{"$f":"'kros seznam'!VCS147","v":0},{"$f":"'kros seznam'!VCT147","v":0},{"$f":"'kros seznam'!VCU147","v":0},{"$f":"'kros seznam'!VCV147","v":0},{"$f":"'kros seznam'!VCW147","v":0},{"$f":"'kros seznam'!VCX147","v":0},{"$f":"'kros seznam'!VCY147","v":0},{"$f":"'kros seznam'!VCZ147","v":0},{"$f":"'kros seznam'!VDA147","v":0},{"$f":"'kros seznam'!VDB147","v":0},{"$f":"'kros seznam'!VDC147","v":0},{"$f":"'kros seznam'!VDD147","v":0},{"$f":"'kros seznam'!VDE147","v":0},{"$f":"'kros seznam'!VDF147","v":0},{"$f":"'kros seznam'!VDG147","v":0},{"$f":"'kros seznam'!VDH147","v":0},{"$f":"'kros seznam'!VDI147","v":0},{"$f":"'kros seznam'!VDJ147","v":0},{"$f":"'kros seznam'!VDK147","v":0},{"$f":"'kros seznam'!VDL147","v":0},{"$f":"'kros seznam'!VDM147","v":0},{"$f":"'kros seznam'!VDN147","v":0},{"$f":"'kros seznam'!VDO147","v":0},{"$f":"'kros seznam'!VDP147","v":0},{"$f":"'kros seznam'!VDQ147","v":0},{"$f":"'kros seznam'!VDR147","v":0},{"$f":"'kros seznam'!VDS147","v":0},{"$f":"'kros seznam'!VDT147","v":0},{"$f":"'kros seznam'!VDU147","v":0},{"$f":"'kros seznam'!VDV147","v":0},{"$f":"'kros seznam'!VDW147","v":0},{"$f":"'kros seznam'!VDX147","v":0},{"$f":"'kros seznam'!VDY147","v":0},{"$f":"'kros seznam'!VDZ147","v":0},{"$f":"'kros seznam'!VEA147","v":0},{"$f":"'kros seznam'!VEB147","v":0},{"$f":"'kros seznam'!VEC147","v":0},{"$f":"'kros seznam'!VED147","v":0},{"$f":"'kros seznam'!VEE147","v":0},{"$f":"'kros seznam'!VEF147","v":0},{"$f":"'kros seznam'!VEG147","v":0},{"$f":"'kros seznam'!VEH147","v":0},{"$f":"'kros seznam'!VEI147","v":0},{"$f":"'kros seznam'!VEJ147","v":0},{"$f":"'kros seznam'!VEK147","v":0},{"$f":"'kros seznam'!VEL147","v":0},{"$f":"'kros seznam'!VEM147","v":0},{"$f":"'kros seznam'!VEN147","v":0},{"$f":"'kros seznam'!VEO147","v":0},{"$f":"'kros seznam'!VEP147","v":0},{"$f":"'kros seznam'!VEQ147","v":0},{"$f":"'kros seznam'!VER147","v":0},{"$f":"'kros seznam'!VES147","v":0},{"$f":"'kros seznam'!VET147","v":0},{"$f":"'kros seznam'!VEU147","v":0},{"$f":"'kros seznam'!VEV147","v":0},{"$f":"'kros seznam'!VEW147","v":0},{"$f":"'kros seznam'!VEX147","v":0},{"$f":"'kros seznam'!VEY147","v":0},{"$f":"'kros seznam'!VEZ147","v":0},{"$f":"'kros seznam'!VFA147","v":0},{"$f":"'kros seznam'!VFB147","v":0},{"$f":"'kros seznam'!VFC147","v":0},{"$f":"'kros seznam'!VFD147","v":0},{"$f":"'kros seznam'!VFE147","v":0},{"$f":"'kros seznam'!VFF147","v":0},{"$f":"'kros seznam'!VFG147","v":0},{"$f":"'kros seznam'!VFH147","v":0},{"$f":"'kros seznam'!VFI147","v":0},{"$f":"'kros seznam'!VFJ147","v":0},{"$f":"'kros seznam'!VFK147","v":0},{"$f":"'kros seznam'!VFL147","v":0},{"$f":"'kros seznam'!VFM147","v":0},{"$f":"'kros seznam'!VFN147","v":0},{"$f":"'kros seznam'!VFO147","v":0},{"$f":"'kros seznam'!VFP147","v":0},{"$f":"'kros seznam'!VFQ147","v":0},{"$f":"'kros seznam'!VFR147","v":0},{"$f":"'kros seznam'!VFS147","v":0},{"$f":"'kros seznam'!VFT147","v":0},{"$f":"'kros seznam'!VFU147","v":0},{"$f":"'kros seznam'!VFV147","v":0},{"$f":"'kros seznam'!VFW147","v":0},{"$f":"'kros seznam'!VFX147","v":0},{"$f":"'kros seznam'!VFY147","v":0},{"$f":"'kros seznam'!VFZ147","v":0},{"$f":"'kros seznam'!VGA147","v":0},{"$f":"'kros seznam'!VGB147","v":0},{"$f":"'kros seznam'!VGC147","v":0},{"$f":"'kros seznam'!VGD147","v":0},{"$f":"'kros seznam'!VGE147","v":0},{"$f":"'kros seznam'!VGF147","v":0},{"$f":"'kros seznam'!VGG147","v":0},{"$f":"'kros seznam'!VGH147","v":0},{"$f":"'kros seznam'!VGI147","v":0},{"$f":"'kros seznam'!VGJ147","v":0},{"$f":"'kros seznam'!VGK147","v":0},{"$f":"'kros seznam'!VGL147","v":0},{"$f":"'kros seznam'!VGM147","v":0},{"$f":"'kros seznam'!VGN147","v":0},{"$f":"'kros seznam'!VGO147","v":0},{"$f":"'kros seznam'!VGP147","v":0},{"$f":"'kros seznam'!VGQ147","v":0},{"$f":"'kros seznam'!VGR147","v":0},{"$f":"'kros seznam'!VGS147","v":0},{"$f":"'kros seznam'!VGT147","v":0},{"$f":"'kros seznam'!VGU147","v":0},{"$f":"'kros seznam'!VGV147","v":0},{"$f":"'kros seznam'!VGW147","v":0},{"$f":"'kros seznam'!VGX147","v":0},{"$f":"'kros seznam'!VGY147","v":0},{"$f":"'kros seznam'!VGZ147","v":0},{"$f":"'kros seznam'!VHA147","v":0},{"$f":"'kros seznam'!VHB147","v":0},{"$f":"'kros seznam'!VHC147","v":0},{"$f":"'kros seznam'!VHD147","v":0},{"$f":"'kros seznam'!VHE147","v":0},{"$f":"'kros seznam'!VHF147","v":0},{"$f":"'kros seznam'!VHG147","v":0},{"$f":"'kros seznam'!VHH147","v":0},{"$f":"'kros seznam'!VHI147","v":0},{"$f":"'kros seznam'!VHJ147","v":0},{"$f":"'kros seznam'!VHK147","v":0},{"$f":"'kros seznam'!VHL147","v":0},{"$f":"'kros seznam'!VHM147","v":0},{"$f":"'kros seznam'!VHN147","v":0},{"$f":"'kros seznam'!VHO147","v":0},{"$f":"'kros seznam'!VHP147","v":0},{"$f":"'kros seznam'!VHQ147","v":0},{"$f":"'kros seznam'!VHR147","v":0},{"$f":"'kros seznam'!VHS147","v":0},{"$f":"'kros seznam'!VHT147","v":0},{"$f":"'kros seznam'!VHU147","v":0},{"$f":"'kros seznam'!VHV147","v":0},{"$f":"'kros seznam'!VHW147","v":0},{"$f":"'kros seznam'!VHX147","v":0},{"$f":"'kros seznam'!VHY147","v":0},{"$f":"'kros seznam'!VHZ147","v":0},{"$f":"'kros seznam'!VIA147","v":0},{"$f":"'kros seznam'!VIB147","v":0},{"$f":"'kros seznam'!VIC147","v":0},{"$f":"'kros seznam'!VID147","v":0},{"$f":"'kros seznam'!VIE147","v":0},{"$f":"'kros seznam'!VIF147","v":0},{"$f":"'kros seznam'!VIG147","v":0},{"$f":"'kros seznam'!VIH147","v":0},{"$f":"'kros seznam'!VII147","v":0},{"$f":"'kros seznam'!VIJ147","v":0},{"$f":"'kros seznam'!VIK147","v":0},{"$f":"'kros seznam'!VIL147","v":0},{"$f":"'kros seznam'!VIM147","v":0},{"$f":"'kros seznam'!VIN147","v":0},{"$f":"'kros seznam'!VIO147","v":0},{"$f":"'kros seznam'!VIP147","v":0},{"$f":"'kros seznam'!VIQ147","v":0},{"$f":"'kros seznam'!VIR147","v":0},{"$f":"'kros seznam'!VIS147","v":0},{"$f":"'kros seznam'!VIT147","v":0},{"$f":"'kros seznam'!VIU147","v":0},{"$f":"'kros seznam'!VIV147","v":0},{"$f":"'kros seznam'!VIW147","v":0},{"$f":"'kros seznam'!VIX147","v":0},{"$f":"'kros seznam'!VIY147","v":0},{"$f":"'kros seznam'!VIZ147","v":0},{"$f":"'kros seznam'!VJA147","v":0},{"$f":"'kros seznam'!VJB147","v":0},{"$f":"'kros seznam'!VJC147","v":0},{"$f":"'kros seznam'!VJD147","v":0},{"$f":"'kros seznam'!VJE147","v":0},{"$f":"'kros seznam'!VJF147","v":0},{"$f":"'kros seznam'!VJG147","v":0},{"$f":"'kros seznam'!VJH147","v":0},{"$f":"'kros seznam'!VJI147","v":0},{"$f":"'kros seznam'!VJJ147","v":0},{"$f":"'kros seznam'!VJK147","v":0},{"$f":"'kros seznam'!VJL147","v":0},{"$f":"'kros seznam'!VJM147","v":0},{"$f":"'kros seznam'!VJN147","v":0},{"$f":"'kros seznam'!VJO147","v":0},{"$f":"'kros seznam'!VJP147","v":0},{"$f":"'kros seznam'!VJQ147","v":0},{"$f":"'kros seznam'!VJR147","v":0},{"$f":"'kros seznam'!VJS147","v":0},{"$f":"'kros seznam'!VJT147","v":0},{"$f":"'kros seznam'!VJU147","v":0},{"$f":"'kros seznam'!VJV147","v":0},{"$f":"'kros seznam'!VJW147","v":0},{"$f":"'kros seznam'!VJX147","v":0},{"$f":"'kros seznam'!VJY147","v":0},{"$f":"'kros seznam'!VJZ147","v":0},{"$f":"'kros seznam'!VKA147","v":0},{"$f":"'kros seznam'!VKB147","v":0},{"$f":"'kros seznam'!VKC147","v":0},{"$f":"'kros seznam'!VKD147","v":0},{"$f":"'kros seznam'!VKE147","v":0},{"$f":"'kros seznam'!VKF147","v":0},{"$f":"'kros seznam'!VKG147","v":0},{"$f":"'kros seznam'!VKH147","v":0},{"$f":"'kros seznam'!VKI147","v":0},{"$f":"'kros seznam'!VKJ147","v":0},{"$f":"'kros seznam'!VKK147","v":0},{"$f":"'kros seznam'!VKL147","v":0},{"$f":"'kros seznam'!VKM147","v":0},{"$f":"'kros seznam'!VKN147","v":0},{"$f":"'kros seznam'!VKO147","v":0},{"$f":"'kros seznam'!VKP147","v":0},{"$f":"'kros seznam'!VKQ147","v":0},{"$f":"'kros seznam'!VKR147","v":0},{"$f":"'kros seznam'!VKS147","v":0},{"$f":"'kros seznam'!VKT147","v":0},{"$f":"'kros seznam'!VKU147","v":0},{"$f":"'kros seznam'!VKV147","v":0},{"$f":"'kros seznam'!VKW147","v":0},{"$f":"'kros seznam'!VKX147","v":0},{"$f":"'kros seznam'!VKY147","v":0},{"$f":"'kros seznam'!VKZ147","v":0},{"$f":"'kros seznam'!VLA147","v":0},{"$f":"'kros seznam'!VLB147","v":0},{"$f":"'kros seznam'!VLC147","v":0},{"$f":"'kros seznam'!VLD147","v":0},{"$f":"'kros seznam'!VLE147","v":0},{"$f":"'kros seznam'!VLF147","v":0},{"$f":"'kros seznam'!VLG147","v":0},{"$f":"'kros seznam'!VLH147","v":0},{"$f":"'kros seznam'!VLI147","v":0},{"$f":"'kros seznam'!VLJ147","v":0},{"$f":"'kros seznam'!VLK147","v":0},{"$f":"'kros seznam'!VLL147","v":0},{"$f":"'kros seznam'!VLM147","v":0},{"$f":"'kros seznam'!VLN147","v":0},{"$f":"'kros seznam'!VLO147","v":0},{"$f":"'kros seznam'!VLP147","v":0},{"$f":"'kros seznam'!VLQ147","v":0},{"$f":"'kros seznam'!VLR147","v":0},{"$f":"'kros seznam'!VLS147","v":0},{"$f":"'kros seznam'!VLT147","v":0},{"$f":"'kros seznam'!VLU147","v":0},{"$f":"'kros seznam'!VLV147","v":0},{"$f":"'kros seznam'!VLW147","v":0},{"$f":"'kros seznam'!VLX147","v":0},{"$f":"'kros seznam'!VLY147","v":0},{"$f":"'kros seznam'!VLZ147","v":0},{"$f":"'kros seznam'!VMA147","v":0},{"$f":"'kros seznam'!VMB147","v":0},{"$f":"'kros seznam'!VMC147","v":0},{"$f":"'kros seznam'!VMD147","v":0},{"$f":"'kros seznam'!VME147","v":0},{"$f":"'kros seznam'!VMF147","v":0},{"$f":"'kros seznam'!VMG147","v":0},{"$f":"'kros seznam'!VMH147","v":0},{"$f":"'kros seznam'!VMI147","v":0},{"$f":"'kros seznam'!VMJ147","v":0},{"$f":"'kros seznam'!VMK147","v":0},{"$f":"'kros seznam'!VML147","v":0},{"$f":"'kros seznam'!VMM147","v":0},{"$f":"'kros seznam'!VMN147","v":0},{"$f":"'kros seznam'!VMO147","v":0},{"$f":"'kros seznam'!VMP147","v":0},{"$f":"'kros seznam'!VMQ147","v":0},{"$f":"'kros seznam'!VMR147","v":0},{"$f":"'kros seznam'!VMS147","v":0},{"$f":"'kros seznam'!VMT147","v":0},{"$f":"'kros seznam'!VMU147","v":0},{"$f":"'kros seznam'!VMV147","v":0},{"$f":"'kros seznam'!VMW147","v":0},{"$f":"'kros seznam'!VMX147","v":0},{"$f":"'kros seznam'!VMY147","v":0},{"$f":"'kros seznam'!VMZ147","v":0},{"$f":"'kros seznam'!VNA147","v":0},{"$f":"'kros seznam'!VNB147","v":0},{"$f":"'kros seznam'!VNC147","v":0},{"$f":"'kros seznam'!VND147","v":0},{"$f":"'kros seznam'!VNE147","v":0},{"$f":"'kros seznam'!VNF147","v":0},{"$f":"'kros seznam'!VNG147","v":0},{"$f":"'kros seznam'!VNH147","v":0},{"$f":"'kros seznam'!VNI147","v":0},{"$f":"'kros seznam'!VNJ147","v":0},{"$f":"'kros seznam'!VNK147","v":0},{"$f":"'kros seznam'!VNL147","v":0},{"$f":"'kros seznam'!VNM147","v":0},{"$f":"'kros seznam'!VNN147","v":0},{"$f":"'kros seznam'!VNO147","v":0},{"$f":"'kros seznam'!VNP147","v":0},{"$f":"'kros seznam'!VNQ147","v":0},{"$f":"'kros seznam'!VNR147","v":0},{"$f":"'kros seznam'!VNS147","v":0},{"$f":"'kros seznam'!VNT147","v":0},{"$f":"'kros seznam'!VNU147","v":0},{"$f":"'kros seznam'!VNV147","v":0},{"$f":"'kros seznam'!VNW147","v":0},{"$f":"'kros seznam'!VNX147","v":0},{"$f":"'kros seznam'!VNY147","v":0},{"$f":"'kros seznam'!VNZ147","v":0},{"$f":"'kros seznam'!VOA147","v":0},{"$f":"'kros seznam'!VOB147","v":0},{"$f":"'kros seznam'!VOC147","v":0},{"$f":"'kros seznam'!VOD147","v":0},{"$f":"'kros seznam'!VOE147","v":0},{"$f":"'kros seznam'!VOF147","v":0},{"$f":"'kros seznam'!VOG147","v":0},{"$f":"'kros seznam'!VOH147","v":0},{"$f":"'kros seznam'!VOI147","v":0},{"$f":"'kros seznam'!VOJ147","v":0},{"$f":"'kros seznam'!VOK147","v":0},{"$f":"'kros seznam'!VOL147","v":0},{"$f":"'kros seznam'!VOM147","v":0},{"$f":"'kros seznam'!VON147","v":0},{"$f":"'kros seznam'!VOO147","v":0},{"$f":"'kros seznam'!VOP147","v":0},{"$f":"'kros seznam'!VOQ147","v":0},{"$f":"'kros seznam'!VOR147","v":0},{"$f":"'kros seznam'!VOS147","v":0},{"$f":"'kros seznam'!VOT147","v":0},{"$f":"'kros seznam'!VOU147","v":0},{"$f":"'kros seznam'!VOV147","v":0},{"$f":"'kros seznam'!VOW147","v":0},{"$f":"'kros seznam'!VOX147","v":0},{"$f":"'kros seznam'!VOY147","v":0},{"$f":"'kros seznam'!VOZ147","v":0},{"$f":"'kros seznam'!VPA147","v":0},{"$f":"'kros seznam'!VPB147","v":0},{"$f":"'kros seznam'!VPC147","v":0},{"$f":"'kros seznam'!VPD147","v":0},{"$f":"'kros seznam'!VPE147","v":0},{"$f":"'kros seznam'!VPF147","v":0},{"$f":"'kros seznam'!VPG147","v":0},{"$f":"'kros seznam'!VPH147","v":0},{"$f":"'kros seznam'!VPI147","v":0},{"$f":"'kros seznam'!VPJ147","v":0},{"$f":"'kros seznam'!VPK147","v":0},{"$f":"'kros seznam'!VPL147","v":0},{"$f":"'kros seznam'!VPM147","v":0},{"$f":"'kros seznam'!VPN147","v":0},{"$f":"'kros seznam'!VPO147","v":0},{"$f":"'kros seznam'!VPP147","v":0},{"$f":"'kros seznam'!VPQ147","v":0},{"$f":"'kros seznam'!VPR147","v":0},{"$f":"'kros seznam'!VPS147","v":0},{"$f":"'kros seznam'!VPT147","v":0},{"$f":"'kros seznam'!VPU147","v":0},{"$f":"'kros seznam'!VPV147","v":0},{"$f":"'kros seznam'!VPW147","v":0},{"$f":"'kros seznam'!VPX147","v":0},{"$f":"'kros seznam'!VPY147","v":0},{"$f":"'kros seznam'!VPZ147","v":0},{"$f":"'kros seznam'!VQA147","v":0},{"$f":"'kros seznam'!VQB147","v":0},{"$f":"'kros seznam'!VQC147","v":0},{"$f":"'kros seznam'!VQD147","v":0},{"$f":"'kros seznam'!VQE147","v":0},{"$f":"'kros seznam'!VQF147","v":0},{"$f":"'kros seznam'!VQG147","v":0},{"$f":"'kros seznam'!VQH147","v":0},{"$f":"'kros seznam'!VQI147","v":0},{"$f":"'kros seznam'!VQJ147","v":0},{"$f":"'kros seznam'!VQK147","v":0},{"$f":"'kros seznam'!VQL147","v":0},{"$f":"'kros seznam'!VQM147","v":0},{"$f":"'kros seznam'!VQN147","v":0},{"$f":"'kros seznam'!VQO147","v":0},{"$f":"'kros seznam'!VQP147","v":0},{"$f":"'kros seznam'!VQQ147","v":0},{"$f":"'kros seznam'!VQR147","v":0},{"$f":"'kros seznam'!VQS147","v":0},{"$f":"'kros seznam'!VQT147","v":0},{"$f":"'kros seznam'!VQU147","v":0},{"$f":"'kros seznam'!VQV147","v":0},{"$f":"'kros seznam'!VQW147","v":0},{"$f":"'kros seznam'!VQX147","v":0},{"$f":"'kros seznam'!VQY147","v":0},{"$f":"'kros seznam'!VQZ147","v":0},{"$f":"'kros seznam'!VRA147","v":0},{"$f":"'kros seznam'!VRB147","v":0},{"$f":"'kros seznam'!VRC147","v":0},{"$f":"'kros seznam'!VRD147","v":0},{"$f":"'kros seznam'!VRE147","v":0},{"$f":"'kros seznam'!VRF147","v":0},{"$f":"'kros seznam'!VRG147","v":0},{"$f":"'kros seznam'!VRH147","v":0},{"$f":"'kros seznam'!VRI147","v":0},{"$f":"'kros seznam'!VRJ147","v":0},{"$f":"'kros seznam'!VRK147","v":0},{"$f":"'kros seznam'!VRL147","v":0},{"$f":"'kros seznam'!VRM147","v":0},{"$f":"'kros seznam'!VRN147","v":0},{"$f":"'kros seznam'!VRO147","v":0},{"$f":"'kros seznam'!VRP147","v":0},{"$f":"'kros seznam'!VRQ147","v":0},{"$f":"'kros seznam'!VRR147","v":0},{"$f":"'kros seznam'!VRS147","v":0},{"$f":"'kros seznam'!VRT147","v":0},{"$f":"'kros seznam'!VRU147","v":0},{"$f":"'kros seznam'!VRV147","v":0},{"$f":"'kros seznam'!VRW147","v":0},{"$f":"'kros seznam'!VRX147","v":0},{"$f":"'kros seznam'!VRY147","v":0},{"$f":"'kros seznam'!VRZ147","v":0},{"$f":"'kros seznam'!VSA147","v":0},{"$f":"'kros seznam'!VSB147","v":0},{"$f":"'kros seznam'!VSC147","v":0},{"$f":"'kros seznam'!VSD147","v":0},{"$f":"'kros seznam'!VSE147","v":0},{"$f":"'kros seznam'!VSF147","v":0},{"$f":"'kros seznam'!VSG147","v":0},{"$f":"'kros seznam'!VSH147","v":0},{"$f":"'kros seznam'!VSI147","v":0},{"$f":"'kros seznam'!VSJ147","v":0},{"$f":"'kros seznam'!VSK147","v":0},{"$f":"'kros seznam'!VSL147","v":0},{"$f":"'kros seznam'!VSM147","v":0},{"$f":"'kros seznam'!VSN147","v":0},{"$f":"'kros seznam'!VSO147","v":0},{"$f":"'kros seznam'!VSP147","v":0},{"$f":"'kros seznam'!VSQ147","v":0},{"$f":"'kros seznam'!VSR147","v":0},{"$f":"'kros seznam'!VSS147","v":0},{"$f":"'kros seznam'!VST147","v":0},{"$f":"'kros seznam'!VSU147","v":0},{"$f":"'kros seznam'!VSV147","v":0},{"$f":"'kros seznam'!VSW147","v":0},{"$f":"'kros seznam'!VSX147","v":0},{"$f":"'kros seznam'!VSY147","v":0},{"$f":"'kros seznam'!VSZ147","v":0},{"$f":"'kros seznam'!VTA147","v":0},{"$f":"'kros seznam'!VTB147","v":0},{"$f":"'kros seznam'!VTC147","v":0},{"$f":"'kros seznam'!VTD147","v":0},{"$f":"'kros seznam'!VTE147","v":0},{"$f":"'kros seznam'!VTF147","v":0},{"$f":"'kros seznam'!VTG147","v":0},{"$f":"'kros seznam'!VTH147","v":0},{"$f":"'kros seznam'!VTI147","v":0},{"$f":"'kros seznam'!VTJ147","v":0},{"$f":"'kros seznam'!VTK147","v":0},{"$f":"'kros seznam'!VTL147","v":0},{"$f":"'kros seznam'!VTM147","v":0},{"$f":"'kros seznam'!VTN147","v":0},{"$f":"'kros seznam'!VTO147","v":0},{"$f":"'kros seznam'!VTP147","v":0},{"$f":"'kros seznam'!VTQ147","v":0},{"$f":"'kros seznam'!VTR147","v":0},{"$f":"'kros seznam'!VTS147","v":0},{"$f":"'kros seznam'!VTT147","v":0},{"$f":"'kros seznam'!VTU147","v":0},{"$f":"'kros seznam'!VTV147","v":0},{"$f":"'kros seznam'!VTW147","v":0},{"$f":"'kros seznam'!VTX147","v":0},{"$f":"'kros seznam'!VTY147","v":0},{"$f":"'kros seznam'!VTZ147","v":0},{"$f":"'kros seznam'!VUA147","v":0},{"$f":"'kros seznam'!VUB147","v":0},{"$f":"'kros seznam'!VUC147","v":0},{"$f":"'kros seznam'!VUD147","v":0},{"$f":"'kros seznam'!VUE147","v":0},{"$f":"'kros seznam'!VUF147","v":0},{"$f":"'kros seznam'!VUG147","v":0},{"$f":"'kros seznam'!VUH147","v":0},{"$f":"'kros seznam'!VUI147","v":0},{"$f":"'kros seznam'!VUJ147","v":0},{"$f":"'kros seznam'!VUK147","v":0},{"$f":"'kros seznam'!VUL147","v":0},{"$f":"'kros seznam'!VUM147","v":0},{"$f":"'kros seznam'!VUN147","v":0},{"$f":"'kros seznam'!VUO147","v":0},{"$f":"'kros seznam'!VUP147","v":0},{"$f":"'kros seznam'!VUQ147","v":0},{"$f":"'kros seznam'!VUR147","v":0},{"$f":"'kros seznam'!VUS147","v":0},{"$f":"'kros seznam'!VUT147","v":0},{"$f":"'kros seznam'!VUU147","v":0},{"$f":"'kros seznam'!VUV147","v":0},{"$f":"'kros seznam'!VUW147","v":0},{"$f":"'kros seznam'!VUX147","v":0},{"$f":"'kros seznam'!VUY147","v":0},{"$f":"'kros seznam'!VUZ147","v":0},{"$f":"'kros seznam'!VVA147","v":0},{"$f":"'kros seznam'!VVB147","v":0},{"$f":"'kros seznam'!VVC147","v":0},{"$f":"'kros seznam'!VVD147","v":0},{"$f":"'kros seznam'!VVE147","v":0},{"$f":"'kros seznam'!VVF147","v":0},{"$f":"'kros seznam'!VVG147","v":0},{"$f":"'kros seznam'!VVH147","v":0},{"$f":"'kros seznam'!VVI147","v":0},{"$f":"'kros seznam'!VVJ147","v":0},{"$f":"'kros seznam'!VVK147","v":0},{"$f":"'kros seznam'!VVL147","v":0},{"$f":"'kros seznam'!VVM147","v":0},{"$f":"'kros seznam'!VVN147","v":0},{"$f":"'kros seznam'!VVO147","v":0},{"$f":"'kros seznam'!VVP147","v":0},{"$f":"'kros seznam'!VVQ147","v":0},{"$f":"'kros seznam'!VVR147","v":0},{"$f":"'kros seznam'!VVS147","v":0},{"$f":"'kros seznam'!VVT147","v":0},{"$f":"'kros seznam'!VVU147","v":0},{"$f":"'kros seznam'!VVV147","v":0},{"$f":"'kros seznam'!VVW147","v":0},{"$f":"'kros seznam'!VVX147","v":0},{"$f":"'kros seznam'!VVY147","v":0},{"$f":"'kros seznam'!VVZ147","v":0},{"$f":"'kros seznam'!VWA147","v":0},{"$f":"'kros seznam'!VWB147","v":0},{"$f":"'kros seznam'!VWC147","v":0},{"$f":"'kros seznam'!VWD147","v":0},{"$f":"'kros seznam'!VWE147","v":0},{"$f":"'kros seznam'!VWF147","v":0},{"$f":"'kros seznam'!VWG147","v":0},{"$f":"'kros seznam'!VWH147","v":0},{"$f":"'kros seznam'!VWI147","v":0},{"$f":"'kros seznam'!VWJ147","v":0},{"$f":"'kros seznam'!VWK147","v":0},{"$f":"'kros seznam'!VWL147","v":0},{"$f":"'kros seznam'!VWM147","v":0},{"$f":"'kros seznam'!VWN147","v":0},{"$f":"'kros seznam'!VWO147","v":0},{"$f":"'kros seznam'!VWP147","v":0},{"$f":"'kros seznam'!VWQ147","v":0},{"$f":"'kros seznam'!VWR147","v":0},{"$f":"'kros seznam'!VWS147","v":0},{"$f":"'kros seznam'!VWT147","v":0},{"$f":"'kros seznam'!VWU147","v":0},{"$f":"'kros seznam'!VWV147","v":0},{"$f":"'kros seznam'!VWW147","v":0},{"$f":"'kros seznam'!VWX147","v":0},{"$f":"'kros seznam'!VWY147","v":0},{"$f":"'kros seznam'!VWZ147","v":0},{"$f":"'kros seznam'!VXA147","v":0},{"$f":"'kros seznam'!VXB147","v":0},{"$f":"'kros seznam'!VXC147","v":0},{"$f":"'kros seznam'!VXD147","v":0},{"$f":"'kros seznam'!VXE147","v":0},{"$f":"'kros seznam'!VXF147","v":0},{"$f":"'kros seznam'!VXG147","v":0},{"$f":"'kros seznam'!VXH147","v":0},{"$f":"'kros seznam'!VXI147","v":0},{"$f":"'kros seznam'!VXJ147","v":0},{"$f":"'kros seznam'!VXK147","v":0},{"$f":"'kros seznam'!VXL147","v":0},{"$f":"'kros seznam'!VXM147","v":0},{"$f":"'kros seznam'!VXN147","v":0},{"$f":"'kros seznam'!VXO147","v":0},{"$f":"'kros seznam'!VXP147","v":0},{"$f":"'kros seznam'!VXQ147","v":0},{"$f":"'kros seznam'!VXR147","v":0},{"$f":"'kros seznam'!VXS147","v":0},{"$f":"'kros seznam'!VXT147","v":0},{"$f":"'kros seznam'!VXU147","v":0},{"$f":"'kros seznam'!VXV147","v":0},{"$f":"'kros seznam'!VXW147","v":0},{"$f":"'kros seznam'!VXX147","v":0},{"$f":"'kros seznam'!VXY147","v":0},{"$f":"'kros seznam'!VXZ147","v":0},{"$f":"'kros seznam'!VYA147","v":0},{"$f":"'kros seznam'!VYB147","v":0},{"$f":"'kros seznam'!VYC147","v":0},{"$f":"'kros seznam'!VYD147","v":0},{"$f":"'kros seznam'!VYE147","v":0},{"$f":"'kros seznam'!VYF147","v":0},{"$f":"'kros seznam'!VYG147","v":0},{"$f":"'kros seznam'!VYH147","v":0},{"$f":"'kros seznam'!VYI147","v":0},{"$f":"'kros seznam'!VYJ147","v":0},{"$f":"'kros seznam'!VYK147","v":0},{"$f":"'kros seznam'!VYL147","v":0},{"$f":"'kros seznam'!VYM147","v":0},{"$f":"'kros seznam'!VYN147","v":0},{"$f":"'kros seznam'!VYO147","v":0},{"$f":"'kros seznam'!VYP147","v":0},{"$f":"'kros seznam'!VYQ147","v":0},{"$f":"'kros seznam'!VYR147","v":0},{"$f":"'kros seznam'!VYS147","v":0},{"$f":"'kros seznam'!VYT147","v":0},{"$f":"'kros seznam'!VYU147","v":0},{"$f":"'kros seznam'!VYV147","v":0},{"$f":"'kros seznam'!VYW147","v":0},{"$f":"'kros seznam'!VYX147","v":0},{"$f":"'kros seznam'!VYY147","v":0},{"$f":"'kros seznam'!VYZ147","v":0},{"$f":"'kros seznam'!VZA147","v":0},{"$f":"'kros seznam'!VZB147","v":0},{"$f":"'kros seznam'!VZC147","v":0},{"$f":"'kros seznam'!VZD147","v":0},{"$f":"'kros seznam'!VZE147","v":0},{"$f":"'kros seznam'!VZF147","v":0},{"$f":"'kros seznam'!VZG147","v":0},{"$f":"'kros seznam'!VZH147","v":0},{"$f":"'kros seznam'!VZI147","v":0},{"$f":"'kros seznam'!VZJ147","v":0},{"$f":"'kros seznam'!VZK147","v":0},{"$f":"'kros seznam'!VZL147","v":0},{"$f":"'kros seznam'!VZM147","v":0},{"$f":"'kros seznam'!VZN147","v":0},{"$f":"'kros seznam'!VZO147","v":0},{"$f":"'kros seznam'!VZP147","v":0},{"$f":"'kros seznam'!VZQ147","v":0},{"$f":"'kros seznam'!VZR147","v":0},{"$f":"'kros seznam'!VZS147","v":0},{"$f":"'kros seznam'!VZT147","v":0},{"$f":"'kros seznam'!VZU147","v":0},{"$f":"'kros seznam'!VZV147","v":0},{"$f":"'kros seznam'!VZW147","v":0},{"$f":"'kros seznam'!VZX147","v":0},{"$f":"'kros seznam'!VZY147","v":0},{"$f":"'kros seznam'!VZZ147","v":0},{"$f":"'kros seznam'!WAA147","v":0},{"$f":"'kros seznam'!WAB147","v":0},{"$f":"'kros seznam'!WAC147","v":0},{"$f":"'kros seznam'!WAD147","v":0},{"$f":"'kros seznam'!WAE147","v":0},{"$f":"'kros seznam'!WAF147","v":0},{"$f":"'kros seznam'!WAG147","v":0},{"$f":"'kros seznam'!WAH147","v":0},{"$f":"'kros seznam'!WAI147","v":0},{"$f":"'kros seznam'!WAJ147","v":0},{"$f":"'kros seznam'!WAK147","v":0},{"$f":"'kros seznam'!WAL147","v":0},{"$f":"'kros seznam'!WAM147","v":0},{"$f":"'kros seznam'!WAN147","v":0},{"$f":"'kros seznam'!WAO147","v":0},{"$f":"'kros seznam'!WAP147","v":0},{"$f":"'kros seznam'!WAQ147","v":0},{"$f":"'kros seznam'!WAR147","v":0},{"$f":"'kros seznam'!WAS147","v":0},{"$f":"'kros seznam'!WAT147","v":0},{"$f":"'kros seznam'!WAU147","v":0},{"$f":"'kros seznam'!WAV147","v":0},{"$f":"'kros seznam'!WAW147","v":0},{"$f":"'kros seznam'!WAX147","v":0},{"$f":"'kros seznam'!WAY147","v":0},{"$f":"'kros seznam'!WAZ147","v":0},{"$f":"'kros seznam'!WBA147","v":0},{"$f":"'kros seznam'!WBB147","v":0},{"$f":"'kros seznam'!WBC147","v":0},{"$f":"'kros seznam'!WBD147","v":0},{"$f":"'kros seznam'!WBE147","v":0},{"$f":"'kros seznam'!WBF147","v":0},{"$f":"'kros seznam'!WBG147","v":0},{"$f":"'kros seznam'!WBH147","v":0},{"$f":"'kros seznam'!WBI147","v":0},{"$f":"'kros seznam'!WBJ147","v":0},{"$f":"'kros seznam'!WBK147","v":0},{"$f":"'kros seznam'!WBL147","v":0},{"$f":"'kros seznam'!WBM147","v":0},{"$f":"'kros seznam'!WBN147","v":0},{"$f":"'kros seznam'!WBO147","v":0},{"$f":"'kros seznam'!WBP147","v":0},{"$f":"'kros seznam'!WBQ147","v":0},{"$f":"'kros seznam'!WBR147","v":0},{"$f":"'kros seznam'!WBS147","v":0},{"$f":"'kros seznam'!WBT147","v":0},{"$f":"'kros seznam'!WBU147","v":0},{"$f":"'kros seznam'!WBV147","v":0},{"$f":"'kros seznam'!WBW147","v":0},{"$f":"'kros seznam'!WBX147","v":0},{"$f":"'kros seznam'!WBY147","v":0},{"$f":"'kros seznam'!WBZ147","v":0},{"$f":"'kros seznam'!WCA147","v":0},{"$f":"'kros seznam'!WCB147","v":0},{"$f":"'kros seznam'!WCC147","v":0},{"$f":"'kros seznam'!WCD147","v":0},{"$f":"'kros seznam'!WCE147","v":0},{"$f":"'kros seznam'!WCF147","v":0},{"$f":"'kros seznam'!WCG147","v":0},{"$f":"'kros seznam'!WCH147","v":0},{"$f":"'kros seznam'!WCI147","v":0},{"$f":"'kros seznam'!WCJ147","v":0},{"$f":"'kros seznam'!WCK147","v":0},{"$f":"'kros seznam'!WCL147","v":0},{"$f":"'kros seznam'!WCM147","v":0},{"$f":"'kros seznam'!WCN147","v":0},{"$f":"'kros seznam'!WCO147","v":0},{"$f":"'kros seznam'!WCP147","v":0},{"$f":"'kros seznam'!WCQ147","v":0},{"$f":"'kros seznam'!WCR147","v":0},{"$f":"'kros seznam'!WCS147","v":0},{"$f":"'kros seznam'!WCT147","v":0},{"$f":"'kros seznam'!WCU147","v":0},{"$f":"'kros seznam'!WCV147","v":0},{"$f":"'kros seznam'!WCW147","v":0},{"$f":"'kros seznam'!WCX147","v":0},{"$f":"'kros seznam'!WCY147","v":0},{"$f":"'kros seznam'!WCZ147","v":0},{"$f":"'kros seznam'!WDA147","v":0},{"$f":"'kros seznam'!WDB147","v":0},{"$f":"'kros seznam'!WDC147","v":0},{"$f":"'kros seznam'!WDD147","v":0},{"$f":"'kros seznam'!WDE147","v":0},{"$f":"'kros seznam'!WDF147","v":0},{"$f":"'kros seznam'!WDG147","v":0},{"$f":"'kros seznam'!WDH147","v":0},{"$f":"'kros seznam'!WDI147","v":0},{"$f":"'kros seznam'!WDJ147","v":0},{"$f":"'kros seznam'!WDK147","v":0},{"$f":"'kros seznam'!WDL147","v":0},{"$f":"'kros seznam'!WDM147","v":0},{"$f":"'kros seznam'!WDN147","v":0},{"$f":"'kros seznam'!WDO147","v":0},{"$f":"'kros seznam'!WDP147","v":0},{"$f":"'kros seznam'!WDQ147","v":0},{"$f":"'kros seznam'!WDR147","v":0},{"$f":"'kros seznam'!WDS147","v":0},{"$f":"'kros seznam'!WDT147","v":0},{"$f":"'kros seznam'!WDU147","v":0},{"$f":"'kros seznam'!WDV147","v":0},{"$f":"'kros seznam'!WDW147","v":0},{"$f":"'kros seznam'!WDX147","v":0},{"$f":"'kros seznam'!WDY147","v":0},{"$f":"'kros seznam'!WDZ147","v":0},{"$f":"'kros seznam'!WEA147","v":0},{"$f":"'kros seznam'!WEB147","v":0},{"$f":"'kros seznam'!WEC147","v":0},{"$f":"'kros seznam'!WED147","v":0},{"$f":"'kros seznam'!WEE147","v":0},{"$f":"'kros seznam'!WEF147","v":0},{"$f":"'kros seznam'!WEG147","v":0},{"$f":"'kros seznam'!WEH147","v":0},{"$f":"'kros seznam'!WEI147","v":0},{"$f":"'kros seznam'!WEJ147","v":0},{"$f":"'kros seznam'!WEK147","v":0},{"$f":"'kros seznam'!WEL147","v":0},{"$f":"'kros seznam'!WEM147","v":0},{"$f":"'kros seznam'!WEN147","v":0},{"$f":"'kros seznam'!WEO147","v":0},{"$f":"'kros seznam'!WEP147","v":0},{"$f":"'kros seznam'!WEQ147","v":0},{"$f":"'kros seznam'!WER147","v":0},{"$f":"'kros seznam'!WES147","v":0},{"$f":"'kros seznam'!WET147","v":0},{"$f":"'kros seznam'!WEU147","v":0},{"$f":"'kros seznam'!WEV147","v":0},{"$f":"'kros seznam'!WEW147","v":0},{"$f":"'kros seznam'!WEX147","v":0},{"$f":"'kros seznam'!WEY147","v":0},{"$f":"'kros seznam'!WEZ147","v":0},{"$f":"'kros seznam'!WFA147","v":0},{"$f":"'kros seznam'!WFB147","v":0},{"$f":"'kros seznam'!WFC147","v":0},{"$f":"'kros seznam'!WFD147","v":0},{"$f":"'kros seznam'!WFE147","v":0},{"$f":"'kros seznam'!WFF147","v":0},{"$f":"'kros seznam'!WFG147","v":0},{"$f":"'kros seznam'!WFH147","v":0},{"$f":"'kros seznam'!WFI147","v":0},{"$f":"'kros seznam'!WFJ147","v":0},{"$f":"'kros seznam'!WFK147","v":0},{"$f":"'kros seznam'!WFL147","v":0},{"$f":"'kros seznam'!WFM147","v":0},{"$f":"'kros seznam'!WFN147","v":0},{"$f":"'kros seznam'!WFO147","v":0},{"$f":"'kros seznam'!WFP147","v":0},{"$f":"'kros seznam'!WFQ147","v":0},{"$f":"'kros seznam'!WFR147","v":0},{"$f":"'kros seznam'!WFS147","v":0},{"$f":"'kros seznam'!WFT147","v":0},{"$f":"'kros seznam'!WFU147","v":0},{"$f":"'kros seznam'!WFV147","v":0},{"$f":"'kros seznam'!WFW147","v":0},{"$f":"'kros seznam'!WFX147","v":0},{"$f":"'kros seznam'!WFY147","v":0},{"$f":"'kros seznam'!WFZ147","v":0},{"$f":"'kros seznam'!WGA147","v":0},{"$f":"'kros seznam'!WGB147","v":0},{"$f":"'kros seznam'!WGC147","v":0},{"$f":"'kros seznam'!WGD147","v":0},{"$f":"'kros seznam'!WGE147","v":0},{"$f":"'kros seznam'!WGF147","v":0},{"$f":"'kros seznam'!WGG147","v":0},{"$f":"'kros seznam'!WGH147","v":0},{"$f":"'kros seznam'!WGI147","v":0},{"$f":"'kros seznam'!WGJ147","v":0},{"$f":"'kros seznam'!WGK147","v":0},{"$f":"'kros seznam'!WGL147","v":0},{"$f":"'kros seznam'!WGM147","v":0},{"$f":"'kros seznam'!WGN147","v":0},{"$f":"'kros seznam'!WGO147","v":0},{"$f":"'kros seznam'!WGP147","v":0},{"$f":"'kros seznam'!WGQ147","v":0},{"$f":"'kros seznam'!WGR147","v":0},{"$f":"'kros seznam'!WGS147","v":0},{"$f":"'kros seznam'!WGT147","v":0},{"$f":"'kros seznam'!WGU147","v":0},{"$f":"'kros seznam'!WGV147","v":0},{"$f":"'kros seznam'!WGW147","v":0},{"$f":"'kros seznam'!WGX147","v":0},{"$f":"'kros seznam'!WGY147","v":0},{"$f":"'kros seznam'!WGZ147","v":0},{"$f":"'kros seznam'!WHA147","v":0},{"$f":"'kros seznam'!WHB147","v":0},{"$f":"'kros seznam'!WHC147","v":0},{"$f":"'kros seznam'!WHD147","v":0},{"$f":"'kros seznam'!WHE147","v":0},{"$f":"'kros seznam'!WHF147","v":0},{"$f":"'kros seznam'!WHG147","v":0},{"$f":"'kros seznam'!WHH147","v":0},{"$f":"'kros seznam'!WHI147","v":0},{"$f":"'kros seznam'!WHJ147","v":0},{"$f":"'kros seznam'!WHK147","v":0},{"$f":"'kros seznam'!WHL147","v":0},{"$f":"'kros seznam'!WHM147","v":0},{"$f":"'kros seznam'!WHN147","v":0},{"$f":"'kros seznam'!WHO147","v":0},{"$f":"'kros seznam'!WHP147","v":0},{"$f":"'kros seznam'!WHQ147","v":0},{"$f":"'kros seznam'!WHR147","v":0},{"$f":"'kros seznam'!WHS147","v":0},{"$f":"'kros seznam'!WHT147","v":0},{"$f":"'kros seznam'!WHU147","v":0},{"$f":"'kros seznam'!WHV147","v":0},{"$f":"'kros seznam'!WHW147","v":0},{"$f":"'kros seznam'!WHX147","v":0},{"$f":"'kros seznam'!WHY147","v":0},{"$f":"'kros seznam'!WHZ147","v":0},{"$f":"'kros seznam'!WIA147","v":0},{"$f":"'kros seznam'!WIB147","v":0},{"$f":"'kros seznam'!WIC147","v":0},{"$f":"'kros seznam'!WID147","v":0},{"$f":"'kros seznam'!WIE147","v":0},{"$f":"'kros seznam'!WIF147","v":0},{"$f":"'kros seznam'!WIG147","v":0},{"$f":"'kros seznam'!WIH147","v":0},{"$f":"'kros seznam'!WII147","v":0},{"$f":"'kros seznam'!WIJ147","v":0},{"$f":"'kros seznam'!WIK147","v":0},{"$f":"'kros seznam'!WIL147","v":0},{"$f":"'kros seznam'!WIM147","v":0},{"$f":"'kros seznam'!WIN147","v":0},{"$f":"'kros seznam'!WIO147","v":0},{"$f":"'kros seznam'!WIP147","v":0},{"$f":"'kros seznam'!WIQ147","v":0},{"$f":"'kros seznam'!WIR147","v":0},{"$f":"'kros seznam'!WIS147","v":0},{"$f":"'kros seznam'!WIT147","v":0},{"$f":"'kros seznam'!WIU147","v":0},{"$f":"'kros seznam'!WIV147","v":0},{"$f":"'kros seznam'!WIW147","v":0},{"$f":"'kros seznam'!WIX147","v":0},{"$f":"'kros seznam'!WIY147","v":0},{"$f":"'kros seznam'!WIZ147","v":0},{"$f":"'kros seznam'!WJA147","v":0},{"$f":"'kros seznam'!WJB147","v":0},{"$f":"'kros seznam'!WJC147","v":0},{"$f":"'kros seznam'!WJD147","v":0},{"$f":"'kros seznam'!WJE147","v":0},{"$f":"'kros seznam'!WJF147","v":0},{"$f":"'kros seznam'!WJG147","v":0},{"$f":"'kros seznam'!WJH147","v":0},{"$f":"'kros seznam'!WJI147","v":0},{"$f":"'kros seznam'!WJJ147","v":0},{"$f":"'kros seznam'!WJK147","v":0},{"$f":"'kros seznam'!WJL147","v":0},{"$f":"'kros seznam'!WJM147","v":0},{"$f":"'kros seznam'!WJN147","v":0},{"$f":"'kros seznam'!WJO147","v":0},{"$f":"'kros seznam'!WJP147","v":0},{"$f":"'kros seznam'!WJQ147","v":0},{"$f":"'kros seznam'!WJR147","v":0},{"$f":"'kros seznam'!WJS147","v":0},{"$f":"'kros seznam'!WJT147","v":0},{"$f":"'kros seznam'!WJU147","v":0},{"$f":"'kros seznam'!WJV147","v":0},{"$f":"'kros seznam'!WJW147","v":0},{"$f":"'kros seznam'!WJX147","v":0},{"$f":"'kros seznam'!WJY147","v":0},{"$f":"'kros seznam'!WJZ147","v":0},{"$f":"'kros seznam'!WKA147","v":0},{"$f":"'kros seznam'!WKB147","v":0},{"$f":"'kros seznam'!WKC147","v":0},{"$f":"'kros seznam'!WKD147","v":0},{"$f":"'kros seznam'!WKE147","v":0},{"$f":"'kros seznam'!WKF147","v":0},{"$f":"'kros seznam'!WKG147","v":0},{"$f":"'kros seznam'!WKH147","v":0},{"$f":"'kros seznam'!WKI147","v":0},{"$f":"'kros seznam'!WKJ147","v":0},{"$f":"'kros seznam'!WKK147","v":0},{"$f":"'kros seznam'!WKL147","v":0},{"$f":"'kros seznam'!WKM147","v":0},{"$f":"'kros seznam'!WKN147","v":0},{"$f":"'kros seznam'!WKO147","v":0},{"$f":"'kros seznam'!WKP147","v":0},{"$f":"'kros seznam'!WKQ147","v":0},{"$f":"'kros seznam'!WKR147","v":0},{"$f":"'kros seznam'!WKS147","v":0},{"$f":"'kros seznam'!WKT147","v":0},{"$f":"'kros seznam'!WKU147","v":0},{"$f":"'kros seznam'!WKV147","v":0},{"$f":"'kros seznam'!WKW147","v":0},{"$f":"'kros seznam'!WKX147","v":0},{"$f":"'kros seznam'!WKY147","v":0},{"$f":"'kros seznam'!WKZ147","v":0},{"$f":"'kros seznam'!WLA147","v":0},{"$f":"'kros seznam'!WLB147","v":0},{"$f":"'kros seznam'!WLC147","v":0},{"$f":"'kros seznam'!WLD147","v":0},{"$f":"'kros seznam'!WLE147","v":0},{"$f":"'kros seznam'!WLF147","v":0},{"$f":"'kros seznam'!WLG147","v":0},{"$f":"'kros seznam'!WLH147","v":0},{"$f":"'kros seznam'!WLI147","v":0},{"$f":"'kros seznam'!WLJ147","v":0},{"$f":"'kros seznam'!WLK147","v":0},{"$f":"'kros seznam'!WLL147","v":0},{"$f":"'kros seznam'!WLM147","v":0},{"$f":"'kros seznam'!WLN147","v":0},{"$f":"'kros seznam'!WLO147","v":0},{"$f":"'kros seznam'!WLP147","v":0},{"$f":"'kros seznam'!WLQ147","v":0},{"$f":"'kros seznam'!WLR147","v":0},{"$f":"'kros seznam'!WLS147","v":0},{"$f":"'kros seznam'!WLT147","v":0},{"$f":"'kros seznam'!WLU147","v":0},{"$f":"'kros seznam'!WLV147","v":0},{"$f":"'kros seznam'!WLW147","v":0},{"$f":"'kros seznam'!WLX147","v":0},{"$f":"'kros seznam'!WLY147","v":0},{"$f":"'kros seznam'!WLZ147","v":0},{"$f":"'kros seznam'!WMA147","v":0},{"$f":"'kros seznam'!WMB147","v":0},{"$f":"'kros seznam'!WMC147","v":0},{"$f":"'kros seznam'!WMD147","v":0},{"$f":"'kros seznam'!WME147","v":0},{"$f":"'kros seznam'!WMF147","v":0},{"$f":"'kros seznam'!WMG147","v":0},{"$f":"'kros seznam'!WMH147","v":0},{"$f":"'kros seznam'!WMI147","v":0},{"$f":"'kros seznam'!WMJ147","v":0},{"$f":"'kros seznam'!WMK147","v":0},{"$f":"'kros seznam'!WML147","v":0},{"$f":"'kros seznam'!WMM147","v":0},{"$f":"'kros seznam'!WMN147","v":0},{"$f":"'kros seznam'!WMO147","v":0},{"$f":"'kros seznam'!WMP147","v":0},{"$f":"'kros seznam'!WMQ147","v":0},{"$f":"'kros seznam'!WMR147","v":0},{"$f":"'kros seznam'!WMS147","v":0},{"$f":"'kros seznam'!WMT147","v":0},{"$f":"'kros seznam'!WMU147","v":0},{"$f":"'kros seznam'!WMV147","v":0},{"$f":"'kros seznam'!WMW147","v":0},{"$f":"'kros seznam'!WMX147","v":0},{"$f":"'kros seznam'!WMY147","v":0},{"$f":"'kros seznam'!WMZ147","v":0},{"$f":"'kros seznam'!WNA147","v":0},{"$f":"'kros seznam'!WNB147","v":0},{"$f":"'kros seznam'!WNC147","v":0},{"$f":"'kros seznam'!WND147","v":0},{"$f":"'kros seznam'!WNE147","v":0},{"$f":"'kros seznam'!WNF147","v":0},{"$f":"'kros seznam'!WNG147","v":0},{"$f":"'kros seznam'!WNH147","v":0},{"$f":"'kros seznam'!WNI147","v":0},{"$f":"'kros seznam'!WNJ147","v":0},{"$f":"'kros seznam'!WNK147","v":0},{"$f":"'kros seznam'!WNL147","v":0},{"$f":"'kros seznam'!WNM147","v":0},{"$f":"'kros seznam'!WNN147","v":0},{"$f":"'kros seznam'!WNO147","v":0},{"$f":"'kros seznam'!WNP147","v":0},{"$f":"'kros seznam'!WNQ147","v":0},{"$f":"'kros seznam'!WNR147","v":0},{"$f":"'kros seznam'!WNS147","v":0},{"$f":"'kros seznam'!WNT147","v":0},{"$f":"'kros seznam'!WNU147","v":0},{"$f":"'kros seznam'!WNV147","v":0},{"$f":"'kros seznam'!WNW147","v":0},{"$f":"'kros seznam'!WNX147","v":0},{"$f":"'kros seznam'!WNY147","v":0},{"$f":"'kros seznam'!WNZ147","v":0},{"$f":"'kros seznam'!WOA147","v":0},{"$f":"'kros seznam'!WOB147","v":0},{"$f":"'kros seznam'!WOC147","v":0},{"$f":"'kros seznam'!WOD147","v":0},{"$f":"'kros seznam'!WOE147","v":0},{"$f":"'kros seznam'!WOF147","v":0},{"$f":"'kros seznam'!WOG147","v":0},{"$f":"'kros seznam'!WOH147","v":0},{"$f":"'kros seznam'!WOI147","v":0},{"$f":"'kros seznam'!WOJ147","v":0},{"$f":"'kros seznam'!WOK147","v":0},{"$f":"'kros seznam'!WOL147","v":0},{"$f":"'kros seznam'!WOM147","v":0},{"$f":"'kros seznam'!WON147","v":0},{"$f":"'kros seznam'!WOO147","v":0},{"$f":"'kros seznam'!WOP147","v":0},{"$f":"'kros seznam'!WOQ147","v":0},{"$f":"'kros seznam'!WOR147","v":0},{"$f":"'kros seznam'!WOS147","v":0},{"$f":"'kros seznam'!WOT147","v":0},{"$f":"'kros seznam'!WOU147","v":0},{"$f":"'kros seznam'!WOV147","v":0},{"$f":"'kros seznam'!WOW147","v":0},{"$f":"'kros seznam'!WOX147","v":0},{"$f":"'kros seznam'!WOY147","v":0},{"$f":"'kros seznam'!WOZ147","v":0},{"$f":"'kros seznam'!WPA147","v":0},{"$f":"'kros seznam'!WPB147","v":0},{"$f":"'kros seznam'!WPC147","v":0},{"$f":"'kros seznam'!WPD147","v":0},{"$f":"'kros seznam'!WPE147","v":0},{"$f":"'kros seznam'!WPF147","v":0},{"$f":"'kros seznam'!WPG147","v":0},{"$f":"'kros seznam'!WPH147","v":0},{"$f":"'kros seznam'!WPI147","v":0},{"$f":"'kros seznam'!WPJ147","v":0},{"$f":"'kros seznam'!WPK147","v":0},{"$f":"'kros seznam'!WPL147","v":0},{"$f":"'kros seznam'!WPM147","v":0},{"$f":"'kros seznam'!WPN147","v":0},{"$f":"'kros seznam'!WPO147","v":0},{"$f":"'kros seznam'!WPP147","v":0},{"$f":"'kros seznam'!WPQ147","v":0},{"$f":"'kros seznam'!WPR147","v":0},{"$f":"'kros seznam'!WPS147","v":0},{"$f":"'kros seznam'!WPT147","v":0},{"$f":"'kros seznam'!WPU147","v":0},{"$f":"'kros seznam'!WPV147","v":0},{"$f":"'kros seznam'!WPW147","v":0},{"$f":"'kros seznam'!WPX147","v":0},{"$f":"'kros seznam'!WPY147","v":0},{"$f":"'kros seznam'!WPZ147","v":0},{"$f":"'kros seznam'!WQA147","v":0},{"$f":"'kros seznam'!WQB147","v":0},{"$f":"'kros seznam'!WQC147","v":0},{"$f":"'kros seznam'!WQD147","v":0},{"$f":"'kros seznam'!WQE147","v":0},{"$f":"'kros seznam'!WQF147","v":0},{"$f":"'kros seznam'!WQG147","v":0},{"$f":"'kros seznam'!WQH147","v":0},{"$f":"'kros seznam'!WQI147","v":0},{"$f":"'kros seznam'!WQJ147","v":0},{"$f":"'kros seznam'!WQK147","v":0},{"$f":"'kros seznam'!WQL147","v":0},{"$f":"'kros seznam'!WQM147","v":0},{"$f":"'kros seznam'!WQN147","v":0},{"$f":"'kros seznam'!WQO147","v":0},{"$f":"'kros seznam'!WQP147","v":0},{"$f":"'kros seznam'!WQQ147","v":0},{"$f":"'kros seznam'!WQR147","v":0},{"$f":"'kros seznam'!WQS147","v":0},{"$f":"'kros seznam'!WQT147","v":0},{"$f":"'kros seznam'!WQU147","v":0},{"$f":"'kros seznam'!WQV147","v":0},{"$f":"'kros seznam'!WQW147","v":0},{"$f":"'kros seznam'!WQX147","v":0},{"$f":"'kros seznam'!WQY147","v":0},{"$f":"'kros seznam'!WQZ147","v":0},{"$f":"'kros seznam'!WRA147","v":0},{"$f":"'kros seznam'!WRB147","v":0},{"$f":"'kros seznam'!WRC147","v":0},{"$f":"'kros seznam'!WRD147","v":0},{"$f":"'kros seznam'!WRE147","v":0},{"$f":"'kros seznam'!WRF147","v":0},{"$f":"'kros seznam'!WRG147","v":0},{"$f":"'kros seznam'!WRH147","v":0},{"$f":"'kros seznam'!WRI147","v":0},{"$f":"'kros seznam'!WRJ147","v":0},{"$f":"'kros seznam'!WRK147","v":0},{"$f":"'kros seznam'!WRL147","v":0},{"$f":"'kros seznam'!WRM147","v":0},{"$f":"'kros seznam'!WRN147","v":0},{"$f":"'kros seznam'!WRO147","v":0},{"$f":"'kros seznam'!WRP147","v":0},{"$f":"'kros seznam'!WRQ147","v":0},{"$f":"'kros seznam'!WRR147","v":0},{"$f":"'kros seznam'!WRS147","v":0},{"$f":"'kros seznam'!WRT147","v":0},{"$f":"'kros seznam'!WRU147","v":0},{"$f":"'kros seznam'!WRV147","v":0},{"$f":"'kros seznam'!WRW147","v":0},{"$f":"'kros seznam'!WRX147","v":0},{"$f":"'kros seznam'!WRY147","v":0},{"$f":"'kros seznam'!WRZ147","v":0},{"$f":"'kros seznam'!WSA147","v":0},{"$f":"'kros seznam'!WSB147","v":0},{"$f":"'kros seznam'!WSC147","v":0},{"$f":"'kros seznam'!WSD147","v":0},{"$f":"'kros seznam'!WSE147","v":0},{"$f":"'kros seznam'!WSF147","v":0},{"$f":"'kros seznam'!WSG147","v":0},{"$f":"'kros seznam'!WSH147","v":0},{"$f":"'kros seznam'!WSI147","v":0},{"$f":"'kros seznam'!WSJ147","v":0},{"$f":"'kros seznam'!WSK147","v":0},{"$f":"'kros seznam'!WSL147","v":0},{"$f":"'kros seznam'!WSM147","v":0},{"$f":"'kros seznam'!WSN147","v":0},{"$f":"'kros seznam'!WSO147","v":0},{"$f":"'kros seznam'!WSP147","v":0},{"$f":"'kros seznam'!WSQ147","v":0},{"$f":"'kros seznam'!WSR147","v":0},{"$f":"'kros seznam'!WSS147","v":0},{"$f":"'kros seznam'!WST147","v":0},{"$f":"'kros seznam'!WSU147","v":0},{"$f":"'kros seznam'!WSV147","v":0},{"$f":"'kros seznam'!WSW147","v":0},{"$f":"'kros seznam'!WSX147","v":0},{"$f":"'kros seznam'!WSY147","v":0},{"$f":"'kros seznam'!WSZ147","v":0},{"$f":"'kros seznam'!WTA147","v":0},{"$f":"'kros seznam'!WTB147","v":0},{"$f":"'kros seznam'!WTC147","v":0},{"$f":"'kros seznam'!WTD147","v":0},{"$f":"'kros seznam'!WTE147","v":0},{"$f":"'kros seznam'!WTF147","v":0},{"$f":"'kros seznam'!WTG147","v":0},{"$f":"'kros seznam'!WTH147","v":0},{"$f":"'kros seznam'!WTI147","v":0},{"$f":"'kros seznam'!WTJ147","v":0},{"$f":"'kros seznam'!WTK147","v":0},{"$f":"'kros seznam'!WTL147","v":0},{"$f":"'kros seznam'!WTM147","v":0},{"$f":"'kros seznam'!WTN147","v":0},{"$f":"'kros seznam'!WTO147","v":0},{"$f":"'kros seznam'!WTP147","v":0},{"$f":"'kros seznam'!WTQ147","v":0},{"$f":"'kros seznam'!WTR147","v":0},{"$f":"'kros seznam'!WTS147","v":0},{"$f":"'kros seznam'!WTT147","v":0},{"$f":"'kros seznam'!WTU147","v":0},{"$f":"'kros seznam'!WTV147","v":0},{"$f":"'kros seznam'!WTW147","v":0},{"$f":"'kros seznam'!WTX147","v":0},{"$f":"'kros seznam'!WTY147","v":0},{"$f":"'kros seznam'!WTZ147","v":0},{"$f":"'kros seznam'!WUA147","v":0},{"$f":"'kros seznam'!WUB147","v":0},{"$f":"'kros seznam'!WUC147","v":0},{"$f":"'kros seznam'!WUD147","v":0},{"$f":"'kros seznam'!WUE147","v":0},{"$f":"'kros seznam'!WUF147","v":0},{"$f":"'kros seznam'!WUG147","v":0},{"$f":"'kros seznam'!WUH147","v":0},{"$f":"'kros seznam'!WUI147","v":0},{"$f":"'kros seznam'!WUJ147","v":0},{"$f":"'kros seznam'!WUK147","v":0},{"$f":"'kros seznam'!WUL147","v":0},{"$f":"'kros seznam'!WUM147","v":0},{"$f":"'kros seznam'!WUN147","v":0},{"$f":"'kros seznam'!WUO147","v":0},{"$f":"'kros seznam'!WUP147","v":0},{"$f":"'kros seznam'!WUQ147","v":0},{"$f":"'kros seznam'!WUR147","v":0},{"$f":"'kros seznam'!WUS147","v":0},{"$f":"'kros seznam'!WUT147","v":0},{"$f":"'kros seznam'!WUU147","v":0},{"$f":"'kros seznam'!WUV147","v":0},{"$f":"'kros seznam'!WUW147","v":0},{"$f":"'kros seznam'!WUX147","v":0},{"$f":"'kros seznam'!WUY147","v":0},{"$f":"'kros seznam'!WUZ147","v":0},{"$f":"'kros seznam'!WVA147","v":0},{"$f":"'kros seznam'!WVB147","v":0},{"$f":"'kros seznam'!WVC147","v":0},{"$f":"'kros seznam'!WVD147","v":0},{"$f":"'kros seznam'!WVE147","v":0},{"$f":"'kros seznam'!WVF147","v":0},{"$f":"'kros seznam'!WVG147","v":0},{"$f":"'kros seznam'!WVH147","v":0},{"$f":"'kros seznam'!WVI147","v":0},{"$f":"'kros seznam'!WVJ147","v":0},{"$f":"'kros seznam'!WVK147","v":0},{"$f":"'kros seznam'!WVL147","v":0},{"$f":"'kros seznam'!WVM147","v":0},{"$f":"'kros seznam'!WVN147","v":0},{"$f":"'kros seznam'!WVO147","v":0},{"$f":"'kros seznam'!WVP147","v":0},{"$f":"'kros seznam'!WVQ147","v":0},{"$f":"'kros seznam'!WVR147","v":0},{"$f":"'kros seznam'!WVS147","v":0},{"$f":"'kros seznam'!WVT147","v":0},{"$f":"'kros seznam'!WVU147","v":0},{"$f":"'kros seznam'!WVV147","v":0},{"$f":"'kros seznam'!WVW147","v":0},{"$f":"'kros seznam'!WVX147","v":0},{"$f":"'kros seznam'!WVY147","v":0},{"$f":"'kros seznam'!WVZ147","v":0},{"$f":"'kros seznam'!WWA147","v":0},{"$f":"'kros seznam'!WWB147","v":0},{"$f":"'kros seznam'!WWC147","v":0},{"$f":"'kros seznam'!WWD147","v":0},{"$f":"'kros seznam'!WWE147","v":0},{"$f":"'kros seznam'!WWF147","v":0},{"$f":"'kros seznam'!WWG147","v":0},{"$f":"'kros seznam'!WWH147","v":0},{"$f":"'kros seznam'!WWI147","v":0},{"$f":"'kros seznam'!WWJ147","v":0},{"$f":"'kros seznam'!WWK147","v":0},{"$f":"'kros seznam'!WWL147","v":0},{"$f":"'kros seznam'!WWM147","v":0},{"$f":"'kros seznam'!WWN147","v":0},{"$f":"'kros seznam'!WWO147","v":0},{"$f":"'kros seznam'!WWP147","v":0},{"$f":"'kros seznam'!WWQ147","v":0},{"$f":"'kros seznam'!WWR147","v":0},{"$f":"'kros seznam'!WWS147","v":0},{"$f":"'kros seznam'!WWT147","v":0},{"$f":"'kros seznam'!WWU147","v":0},{"$f":"'kros seznam'!WWV147","v":0},{"$f":"'kros seznam'!WWW147","v":0},{"$f":"'kros seznam'!WWX147","v":0},{"$f":"'kros seznam'!WWY147","v":0},{"$f":"'kros seznam'!WWZ147","v":0},{"$f":"'kros seznam'!WXA147","v":0},{"$f":"'kros seznam'!WXB147","v":0},{"$f":"'kros seznam'!WXC147","v":0},{"$f":"'kros seznam'!WXD147","v":0},{"$f":"'kros seznam'!WXE147","v":0},{"$f":"'kros seznam'!WXF147","v":0},{"$f":"'kros seznam'!WXG147","v":0},{"$f":"'kros seznam'!WXH147","v":0},{"$f":"'kros seznam'!WXI147","v":0},{"$f":"'kros seznam'!WXJ147","v":0},{"$f":"'kros seznam'!WXK147","v":0},{"$f":"'kros seznam'!WXL147","v":0},{"$f":"'kros seznam'!WXM147","v":0},{"$f":"'kros seznam'!WXN147","v":0},{"$f":"'kros seznam'!WXO147","v":0},{"$f":"'kros seznam'!WXP147","v":0},{"$f":"'kros seznam'!WXQ147","v":0},{"$f":"'kros seznam'!WXR147","v":0},{"$f":"'kros seznam'!WXS147","v":0},{"$f":"'kros seznam'!WXT147","v":0},{"$f":"'kros seznam'!WXU147","v":0},{"$f":"'kros seznam'!WXV147","v":0},{"$f":"'kros seznam'!WXW147","v":0},{"$f":"'kros seznam'!WXX147","v":0},{"$f":"'kros seznam'!WXY147","v":0},{"$f":"'kros seznam'!WXZ147","v":0},{"$f":"'kros seznam'!WYA147","v":0},{"$f":"'kros seznam'!WYB147","v":0},{"$f":"'kros seznam'!WYC147","v":0},{"$f":"'kros seznam'!WYD147","v":0},{"$f":"'kros seznam'!WYE147","v":0},{"$f":"'kros seznam'!WYF147","v":0},{"$f":"'kros seznam'!WYG147","v":0},{"$f":"'kros seznam'!WYH147","v":0},{"$f":"'kros seznam'!WYI147","v":0},{"$f":"'kros seznam'!WYJ147","v":0},{"$f":"'kros seznam'!WYK147","v":0},{"$f":"'kros seznam'!WYL147","v":0},{"$f":"'kros seznam'!WYM147","v":0},{"$f":"'kros seznam'!WYN147","v":0},{"$f":"'kros seznam'!WYO147","v":0},{"$f":"'kros seznam'!WYP147","v":0},{"$f":"'kros seznam'!WYQ147","v":0},{"$f":"'kros seznam'!WYR147","v":0},{"$f":"'kros seznam'!WYS147","v":0},{"$f":"'kros seznam'!WYT147","v":0},{"$f":"'kros seznam'!WYU147","v":0},{"$f":"'kros seznam'!WYV147","v":0},{"$f":"'kros seznam'!WYW147","v":0},{"$f":"'kros seznam'!WYX147","v":0},{"$f":"'kros seznam'!WYY147","v":0},{"$f":"'kros seznam'!WYZ147","v":0},{"$f":"'kros seznam'!WZA147","v":0},{"$f":"'kros seznam'!WZB147","v":0},{"$f":"'kros seznam'!WZC147","v":0},{"$f":"'kros seznam'!WZD147","v":0},{"$f":"'kros seznam'!WZE147","v":0},{"$f":"'kros seznam'!WZF147","v":0},{"$f":"'kros seznam'!WZG147","v":0},{"$f":"'kros seznam'!WZH147","v":0},{"$f":"'kros seznam'!WZI147","v":0},{"$f":"'kros seznam'!WZJ147","v":0},{"$f":"'kros seznam'!WZK147","v":0},{"$f":"'kros seznam'!WZL147","v":0},{"$f":"'kros seznam'!WZM147","v":0},{"$f":"'kros seznam'!WZN147","v":0},{"$f":"'kros seznam'!WZO147","v":0},{"$f":"'kros seznam'!WZP147","v":0},{"$f":"'kros seznam'!WZQ147","v":0},{"$f":"'kros seznam'!WZR147","v":0},{"$f":"'kros seznam'!WZS147","v":0},{"$f":"'kros seznam'!WZT147","v":0},{"$f":"'kros seznam'!WZU147","v":0},{"$f":"'kros seznam'!WZV147","v":0},{"$f":"'kros seznam'!WZW147","v":0},{"$f":"'kros seznam'!WZX147","v":0},{"$f":"'kros seznam'!WZY147","v":0},{"$f":"'kros seznam'!WZZ147","v":0},{"$f":"'kros seznam'!XAA147","v":0},{"$f":"'kros seznam'!XAB147","v":0},{"$f":"'kros seznam'!XAC147","v":0},{"$f":"'kros seznam'!XAD147","v":0},{"$f":"'kros seznam'!XAE147","v":0},{"$f":"'kros seznam'!XAF147","v":0},{"$f":"'kros seznam'!XAG147","v":0},{"$f":"'kros seznam'!XAH147","v":0},{"$f":"'kros seznam'!XAI147","v":0},{"$f":"'kros seznam'!XAJ147","v":0},{"$f":"'kros seznam'!XAK147","v":0},{"$f":"'kros seznam'!XAL147","v":0},{"$f":"'kros seznam'!XAM147","v":0},{"$f":"'kros seznam'!XAN147","v":0},{"$f":"'kros seznam'!XAO147","v":0},{"$f":"'kros seznam'!XAP147","v":0},{"$f":"'kros seznam'!XAQ147","v":0},{"$f":"'kros seznam'!XAR147","v":0},{"$f":"'kros seznam'!XAS147","v":0},{"$f":"'kros seznam'!XAT147","v":0},{"$f":"'kros seznam'!XAU147","v":0},{"$f":"'kros seznam'!XAV147","v":0},{"$f":"'kros seznam'!XAW147","v":0},{"$f":"'kros seznam'!XAX147","v":0},{"$f":"'kros seznam'!XAY147","v":0},{"$f":"'kros seznam'!XAZ147","v":0},{"$f":"'kros seznam'!XBA147","v":0},{"$f":"'kros seznam'!XBB147","v":0},{"$f":"'kros seznam'!XBC147","v":0},{"$f":"'kros seznam'!XBD147","v":0},{"$f":"'kros seznam'!XBE147","v":0},{"$f":"'kros seznam'!XBF147","v":0},{"$f":"'kros seznam'!XBG147","v":0},{"$f":"'kros seznam'!XBH147","v":0},{"$f":"'kros seznam'!XBI147","v":0},{"$f":"'kros seznam'!XBJ147","v":0},{"$f":"'kros seznam'!XBK147","v":0},{"$f":"'kros seznam'!XBL147","v":0},{"$f":"'kros seznam'!XBM147","v":0},{"$f":"'kros seznam'!XBN147","v":0},{"$f":"'kros seznam'!XBO147","v":0},{"$f":"'kros seznam'!XBP147","v":0},{"$f":"'kros seznam'!XBQ147","v":0},{"$f":"'kros seznam'!XBR147","v":0},{"$f":"'kros seznam'!XBS147","v":0},{"$f":"'kros seznam'!XBT147","v":0},{"$f":"'kros seznam'!XBU147","v":0},{"$f":"'kros seznam'!XBV147","v":0},{"$f":"'kros seznam'!XBW147","v":0},{"$f":"'kros seznam'!XBX147","v":0},{"$f":"'kros seznam'!XBY147","v":0},{"$f":"'kros seznam'!XBZ147","v":0},{"$f":"'kros seznam'!XCA147","v":0},{"$f":"'kros seznam'!XCB147","v":0},{"$f":"'kros seznam'!XCC147","v":0},{"$f":"'kros seznam'!XCD147","v":0},{"$f":"'kros seznam'!XCE147","v":0},{"$f":"'kros seznam'!XCF147","v":0},{"$f":"'kros seznam'!XCG147","v":0},{"$f":"'kros seznam'!XCH147","v":0},{"$f":"'kros seznam'!XCI147","v":0},{"$f":"'kros seznam'!XCJ147","v":0},{"$f":"'kros seznam'!XCK147","v":0},{"$f":"'kros seznam'!XCL147","v":0},{"$f":"'kros seznam'!XCM147","v":0},{"$f":"'kros seznam'!XCN147","v":0},{"$f":"'kros seznam'!XCO147","v":0},{"$f":"'kros seznam'!XCP147","v":0},{"$f":"'kros seznam'!XCQ147","v":0},{"$f":"'kros seznam'!XCR147","v":0},{"$f":"'kros seznam'!XCS147","v":0},{"$f":"'kros seznam'!XCT147","v":0},{"$f":"'kros seznam'!XCU147","v":0},{"$f":"'kros seznam'!XCV147","v":0},{"$f":"'kros seznam'!XCW147","v":0},{"$f":"'kros seznam'!XCX147","v":0},{"$f":"'kros seznam'!XCY147","v":0},{"$f":"'kros seznam'!XCZ147","v":0},{"$f":"'kros seznam'!XDA147","v":0},{"$f":"'kros seznam'!XDB147","v":0},{"$f":"'kros seznam'!XDC147","v":0},{"$f":"'kros seznam'!XDD147","v":0},{"$f":"'kros seznam'!XDE147","v":0},{"$f":"'kros seznam'!XDF147","v":0},{"$f":"'kros seznam'!XDG147","v":0},{"$f":"'kros seznam'!XDH147","v":0},{"$f":"'kros seznam'!XDI147","v":0},{"$f":"'kros seznam'!XDJ147","v":0},{"$f":"'kros seznam'!XDK147","v":0},{"$f":"'kros seznam'!XDL147","v":0},{"$f":"'kros seznam'!XDM147","v":0},{"$f":"'kros seznam'!XDN147","v":0},{"$f":"'kros seznam'!XDO147","v":0},{"$f":"'kros seznam'!XDP147","v":0},{"$f":"'kros seznam'!XDQ147","v":0},{"$f":"'kros seznam'!XDR147","v":0},{"$f":"'kros seznam'!XDS147","v":0},{"$f":"'kros seznam'!XDT147","v":0},{"$f":"'kros seznam'!XDU147","v":0},{"$f":"'kros seznam'!XDV147","v":0},{"$f":"'kros seznam'!XDW147","v":0},{"$f":"'kros seznam'!XDX147","v":0},{"$f":"'kros seznam'!XDY147","v":0},{"$f":"'kros seznam'!XDZ147","v":0},{"$f":"'kros seznam'!XEA147","v":0},{"$f":"'kros seznam'!XEB147","v":0},{"$f":"'kros seznam'!XEC147","v":0},{"$f":"'kros seznam'!XED147","v":0},{"$f":"'kros seznam'!XEE147","v":0},{"$f":"'kros seznam'!XEF147","v":0},{"$f":"'kros seznam'!XEG147","v":0},{"$f":"'kros seznam'!XEH147","v":0},{"$f":"'kros seznam'!XEI147","v":0},{"$f":"'kros seznam'!XEJ147","v":0},{"$f":"'kros seznam'!XEK147","v":0},{"$f":"'kros seznam'!XEL147","v":0},{"$f":"'kros seznam'!XEM147","v":0},{"$f":"'kros seznam'!XEN147","v":0},{"$f":"'kros seznam'!XEO147","v":0},{"$f":"'kros seznam'!XEP147","v":0},{"$f":"'kros seznam'!XEQ147","v":0},{"$f":"'kros seznam'!XER147","v":0},{"$f":"'kros seznam'!XES147","v":0},{"$f":"'kros seznam'!XET147","v":0},{"$f":"'kros seznam'!XEU147","v":0},{"$f":"'kros seznam'!XEV147","v":0},{"$f":"'kros seznam'!XEW147","v":0},{"$f":"'kros seznam'!XEX147","v":0},{"$f":"'kros seznam'!XEY147","v":0},{"$f":"'kros seznam'!XEZ147","v":0},{"$f":"'kros seznam'!XFA147","v":0},{"$f":"'kros seznam'!XFB147","v":0},{"$f":"'kros seznam'!#REF!","v":{"$error":"#REF!"}}]
[{"$f":"'kros seznam'!B160","v":"K"},{"$f":"'kros seznam'!C160","v":"766X"},{"$f":"'kros seznam'!D160","v":"Dveřního kování D+M"},{"$f":"'kros seznam'!E160","v":"kus"},{"$f":"E266","v":1},{"$f":"'kros seznam'!G160","v":350},350,0,0,0,null,0,0]
[{"$f":"'kros seznam'!B168","v":"K"},{"$f":"'kros seznam'!C168","v":"766660171"},{"$f":"'kros seznam'!D168","v":"Montáž dveřních křídel otvíravých 1křídlových š do 0,8 m do obložkové zárubně"},{"$f":"'kros seznam'!E168","v":"kus"},{"$f":"E269","v":1},{"$f":"'kros seznam'!G168","v":538},538,{"$f":"'kros seznam'!J168","v":0},0,{"$f":"'kros seznam'!K168","v":0},null,{"$f":"'kros seznam'!L168","v":1.8049999999999999},1.8049999999999999]
[{"$f":"'kros seznam'!B170","v":"M"},{"$f":"'kros seznam'!C170","v":"611617170"},{"$f":"'kros seznam'!D170","v":"dveře vnitřní 1křídlové 70x197 cm"},{"$f":"'kros seznam'!E170","v":"kus"},{"$f":"E270","v":1},{"$f":"'Navrhovaný stav'!L48","v":1500},1500,{"$f":"'kros seznam'!J170","v":1.4E-2},1.4E-2,{"$f":"'kros seznam'!K170","v":0},null,{"$f":"'kros seznam'!L170","v":0},0]
[{"$f":"'kros seznam'!B174","v":"K"},{"$f":"'kros seznam'!C174","v":"766682111"},{"$f":"'kros seznam'!D174","v":"Montáž zárubní obložkových pro dveře jednokřídlové tl stěny do 170 mm"},{"$f":"'kros seznam'!E174","v":"kus"},{"$f":"E271","v":1},{"$f":"'kros seznam'!G174","v":945},945,{"$f":"'kros seznam'!J174","v":4.4999999999999999E-4},4.4999999999999999E-4,{"$f":"'kros seznam'!K174","v":0},null,{"$f":"'kros seznam'!L174","v":2.9249999999999998},2.9249999999999998]
[{"$f":"'kros seznam'!B175","v":"M"},{"$f":"'kros seznam'!C175","v":"611822580"},{"$f":"'kros seznam'!D175","v":" zárubeň obložková pro dveře 1křídlové 60,70,80,90x197 cm, tl. 8 - 17 cm"},{"$f":"'kros seznam'!E175","v":"kus"},{"$f":"E272","v":1},{"$f":"'kros seznam'!G175","v":2870},2870,{"$f":"'kros seznam'!J175","v":1.6E-2},1.6E-2,{"$f":"'kros seznam'!K175","v":0},null,{"$f":"'kros seznam'!L175","v":0},0]
[]
["DVEŘE POUZDROVÉ 80 cm SDK"]
[{"$f":"'kros seznam'!B132","v":"D"},{"$f":"'kros seznam'!C132","v":"763"},{"$f":"'kros seznam'!D132","v":"Konstrukce montované z desek, dílců a panelů"},null,null,null,{"$f":"SUM(G277:G278)","v":0},{"$f":"SUM(H277:H278)","v":4.2500000000000003E-2},{"$f":"SUM(I277:I278)","v":0},{"$f":"SUM(J277:J278)","v":0},null,{"$f":"SUM(L277:L278)","v":2.7519999999999998},{"$f":"SUM(M277:M278)","v":0}]
[{"$f":"'kros seznam'!B141","v":"K"},{"$f":"'kros seznam'!C141","v":"763183111"},{"$f":"'kros seznam'!D141","v":"Montáž pouzdra posuvných dveří s jednou kapsou pro jedno křídlo šířky do 800 mm do SDK příčky"},{"$f":"'kros seznam'!E141","v":"kus"},{"$f":"IF(A275='Navrhovaný stav - pomocný'!$C$51,'Navrhovaný stav - pomocný'!$E$51,0)+IF(A275='Navrhovaný stav - pomocný'!$C$52,'Navrhovaný stav - pomocný'!$E$52,0)","v":0},{"$f":"'kros seznam'!G141","v":888},0,{"$f":"'kros seznam'!J141","v":0},0,{"$f":"'kros seznam'!K141","v":0},null,{"$f":"'kros seznam'!L141","v":2.7519999999999998},0]
[{"$f":"'kros seznam'!B144","v":"M"},{"$f":"'kros seznam'!C144","v":"553316120"},{"$f":"'kros seznam'!D144","v":"pouzdro stavební STANDARD S700-080 800 mm"},{"$f":"'kros seznam'!E144","v":"kus"},{"$f":"E277","v":0},{"$f":"'kros seznam'!G144","v":6370},0,{"$f":"'kros seznam'!J144","v":4.2500000000000003E-2},0,{"$f":"'kros seznam'!K144","v":0},null,{"$f":"'kros seznam'!L144","v":0},0]
[{"$f":"'kros seznam'!B159","v":"D"},{"$f":"'kros seznam'!C159","v":"766"},{"$f":"'kros seznam'!D159","v":"Konstrukce truhlářské"},null,null,null,{"$f":"SUM(G280:G284)","v":0},3.245E-2,0,0,null,4.7299999999999995,0]
[{"$f":"'kros seznam'!B160","v":"K"},{"$f":"'kros seznam'!C160","v":"766X"},{"$f":"'kros seznam'!D160","v":"Dveřního kování D+M"},{"$f":"'kros seznam'!E160","v":"kus"},{"$f":"E277","v":0},{"$f":"'kros seznam'!G160","v":350},0,0,0,0,null,0,0]
[{"$f":"'kros seznam'!B168","v":"K"},{"$f":"'kros seznam'!C168","v":"766660171"},{"$f":"'kros seznam'!D168","v":"Montáž dveřních křídel otvíravých 1křídlových š do 0,8 m do obložkové zárubně"},{"$f":"'kros seznam'!E168","v":"kus"},{"$f":"E280","v":0},{"$f":"'kros seznam'!G168","v":538},0,{"$f":"'kros seznam'!J168","v":0},0,{"$f":"'kros seznam'!K168","v":0},null,{"$f":"'kros seznam'!L168","v":1.8049999999999999},0]
[{"$f":"'kros seznam'!B171","v":"M"},{"$f":"'kros seznam'!C171","v":"611617210"},{"$f":"'kros seznam'!D171","v":"dveře vnitřní 1křídlové 80x197 cm"},{"$f":"'kros seznam'!E171","v":"kus"},{"$f":"E281","v":0},{"$f":"'Navrhovaný stav'!L48","v":1500},0,{"$f":"'kros seznam'!J171","v":1.6E-2},0,{"$f":"'kros seznam'!K171","v":0},null,{"$f":"'kros seznam'!L171","v":0},0]
[{"$f":"'kros seznam'!B174","v":"K"},{"$f":"'kros seznam'!C174","v":"766682111"},{"$f":"'kros seznam'!D174","v":"Montáž zárubní obložkových pro dveře jednokřídlové tl stěny do 170 mm"},{"$f":"'kros seznam'!E174","v":"kus"},{"$f":"E282","v":0},{"$f":"'kros seznam'!G174","v":945},0,{"$f":"'kros seznam'!J174","v":4.4999999999999999E-4},0,{"$f":"'kros seznam'!K174","v":0},null,{"$f":"'kros seznam'!L174","v":2.9249999999999998},0]
[{"$f":"'kros seznam'!B175","v":"M"},{"$f":"'kros seznam'!C175","v":"611822580"},{"$f":"'kros seznam'!D175","v":" zárubeň obložková pro dveře 1křídlové 60,70,80,90x197 cm, tl. 8 - 17 cm"},{"$f":"'kros seznam'!E175","v":"kus"},{"$f":"E283","v":0},{"$f":"'kros seznam'!G175","v":2870},0,{"$f":"'kros seznam'!J175","v":1.6E-2},0,{"$f":"'kros seznam'!K175","v":0},null,{"$f":"'kros seznam'!L175","v":0},0]
[]
["DVEŘE POUZDROVÉ 90 cm SDK"]
[{"$f":"'kros seznam'!B132","v":"D"},{"$f":"'kros seznam'!C132","v":"763"},{"$f":"'kros seznam'!D132","v":"Konstrukce montované z desek, dílců a panelů"},null,null,null,{"$f":"SUM(G288:G289)","v":0},{"$f":"SUM(H288:H289)","v":4.4999999999999998E-2},{"$f":"SUM(I288:I289)","v":0},{"$f":"SUM(J288:J289)","v":0},null,{"$f":"SUM(L288:L289)","v":3.47},{"$f":"SUM(M288:M289)","v":0}]
[{"$f":"'kros seznam'!B145","v":"K"},{"$f":"'kros seznam'!C145","v":"763183112"},{"$f":"'kros seznam'!D145","v":"Montáž pouzdra posuvných dveří s jednou kapsou pro jedno křídlo šířky do 1200 mm do SDK příčky"},{"$f":"'kros seznam'!E145","v":"kus"},{"$f":"IF(A286='Navrhovaný stav - pomocný'!$C$51,'Navrhovaný stav - pomocný'!$E$51,0)+IF(A286='Navrhovaný stav - pomocný'!$C$52,'Navrhovaný stav - pomocný'!$E$52,0)","v":0},{"$f":"'kros seznam'!G145","v":1120},{"$f":"F288*E288","v":0},{"$f":"'kros seznam'!J145","v":0},{"$f":"E288*H288","v":0},{"$f":"'kros seznam'!K145","v":0},null,{"$f":"'kros seznam'!L145","v":3.47},{"$f":"L288*E288","v":0}]
[{"$f":"'kros seznam'!B146","v":"M"},{"$f":"'kros seznam'!C146","v":"553316130"},{"$f":"'kros seznam'!D146","v":"pouzdro stavební STANDARD S700-090 900 mm"},{"$f":"'kros seznam'!E146","v":"kus"},{"$f":"E288","v":0},{"$f":"'kros seznam'!G146","v":6740},0,{"$f":"'kros seznam'!J146","v":4.4999999999999998E-2},0,{"$f":"'kros seznam'!K146","v":0},null,{"$f":"'kros seznam'!L146","v":0},0]
[{"$f":"'kros seznam'!B159","v":"D"},{"$f":"'kros seznam'!C159","v":"766"},{"$f":"'kros seznam'!D159","v":"Konstrukce truhlářské"},null,null,null,{"$f":"SUM(G291:G295)","v":0},3.5449999999999995E-2,0,0,null,4.8810000000000002,0]
[{"$f":"'kros seznam'!B160","v":"K"},{"$f":"'kros seznam'!C160","v":"766X"},{"$f":"'kros seznam'!D160","v":"Dveřního kování D+M"},{"$f":"'kros seznam'!E160","v":"kus"},{"$f":"E288","v":0},{"$f":"'kros seznam'!G160","v":350},0,0,0,0,null,0,0]
[{"$f":"'kros seznam'!B172","v":"K"},{"$f":"'kros seznam'!C172","v":"766660172"},{"$f":"'kros seznam'!D172","v":"Montáž dveřních křídel otvíravých 1křídlových š přes 0,8 m do obložkové zárubně"},{"$f":"'kros seznam'!E172","v":"kus"},{"$f":"E291","v":0},{"$f":"'kros seznam'!G172","v":574},0,{"$f":"'kros seznam'!J172","v":0},0,{"$f":"'kros seznam'!K172","v":0},null,{"$f":"'kros seznam'!L172","v":1.956},0]
[{"$f":"'kros seznam'!B173","v":"M"},{"$f":"'kros seznam'!C173","v":"611617250"},{"$f":"'kros seznam'!D173","v":"dveře vnitřní 1křídlové 90x197 cm"},{"$f":"'kros seznam'!E173","v":"kus"},{"$f":"E292","v":0},{"$f":"'Navrhovaný stav'!L48","v":1500},0,{"$f":"'kros seznam'!J173","v":1.9E-2},0,{"$f":"'kros seznam'!K173","v":0},null,{"$f":"'kros seznam'!L173","v":0},0]
[{"$f":"'kros seznam'!B174","v":"K"},{"$f":"'kros seznam'!C174","v":"766682111"},{"$f":"'kros seznam'!D174","v":"Montáž zárubní obložkových pro dveře jednokřídlové tl stěny do 170 mm"},{"$f":"'kros seznam'!E174","v":"kus"},{"$f":"E293","v":0},{"$f":"'kros seznam'!G174","v":945},0,{"$f":"'kros seznam'!J174","v":4.4999999999999999E-4},0,{"$f":"'kros seznam'!K174","v":0},null,{"$f":"'kros seznam'!L174","v":2.9249999999999998},0]
[{"$f":"'kros seznam'!B175","v":"M"},{"$f":"'kros seznam'!C175","v":"611822580"},{"$f":"'kros seznam'!D175","v":" zárubeň obložková pro dveře 1křídlové 60,70,80,90x197 cm, tl. 8 - 17 cm"},{"$f":"'kros seznam'!E175","v":"kus"},{"$f":"E294","v":0},{"$f":"'kros seznam'!G175","v":2870},0,{"$f":"'kros seznam'!J175","v":1.6E-2},0,{"$f":"'kros seznam'!K175","v":0},null,{"$f":"'kros seznam'!L175","v":0},0]
[]
["OBKLAD DO 12ks/m2"]
[{"$f":"'kros seznam'!B221","v":"D"},{"$f":"'kros seznam'!C221","v":"781"},{"$f":"'kros seznam'!D221","v":"Dokončovací práce - obklady keramické"},null,null,null,{"$f":"SUM(G299:G302)","v":14005.431000000002},1.5172E-2,0.33077186400000008,0,null,0.90200000000000002,16.79974]
[{"$f":"'kros seznam'!B223","v":"K"},{"$f":"'kros seznam'!C223","v":"781474112"},{"$f":"'kros seznam'!D223","v":"Montáž obkladů vnitřních keramických hladkých do 12 ks/m2 lepených flexibilním lepidlem"},{"$f":"'kros seznam'!E223","v":"m2"},{"$f":"'Navrhovaný stav'!K64","v":20.170000000000002},{"$f":"'kros seznam'!G223","v":271},5466.0700000000006,{"$f":"'kros seznam'!J223","v":2.8999999999999998E-3},5.8493000000000003E-2,{"$f":"'kros seznam'!K223","v":0},null,{"$f":"'kros seznam'!L223","v":0.61199999999999999},12.344040000000001]
[{"$f":"'kros seznam'!B224","v":"M"},{"$f":"'kros seznam'!C224","v":"597610000"},{"$f":"'kros seznam'!D224","v":"obkládačky keramické do 12 ks/m2"},{"$f":"'kros seznam'!E224","v":"m2"},{"$f":"'zařizovací předměty'!K7","v":22.187000000000005},{"$f":"'Navrhovaný stav'!L60","v":300},6656.1000000000013,{"$f":"'kros seznam'!J224","v":1.2272E-2},0.27227886400000006,{"$f":"'kros seznam'!K224","v":0},null,{"$f":"'kros seznam'!L224","v":0},0]
[{"$f":"'kros seznam'!B239","v":"K"},{"$f":"'kros seznam'!C239","v":"781479191"},{"$f":"'kros seznam'!D239","v":"Příplatek k montáži obkladů vnitřních keramických hladkých za plochu do 10 m2"},{"$f":"'kros seznam'!E239","v":"m2"},{"$f":"+E299","v":20.170000000000002},{"$f":"'kros seznam'!G239","v":40.700000000000003},820.9190000000001,{"$f":"'kros seznam'!J239","v":0},0,{"$f":"'kros seznam'!K239","v":0},null,{"$f":"'kros seznam'!L239","v":0.13},2.6221000000000001]
[{"$f":"'kros seznam'!B222","v":"K"},{"$f":"'kros seznam'!C222","v":"781494511"},{"$f":"'kros seznam'!D222","v":"Plastové profily ukončovací lepené flexibilním lepidlem"},{"$f":"'kros seznam'!E222","v":"m"},{"$f":"'Navrhovaný stav - pomocný'!C10","v":11.46},{"$f":"'kros seznam'!G222","v":92.7},1062.3420000000001,0,0,0,null,0.16,1.8336000000000001]
[]
["OBKLAD DO 19ks/m2"]
["D",{"$f":"'kros seznam'!C221","v":"781"},{"$f":"'kros seznam'!D221","v":"Dokončovací práce - obklady keramické"},null,null,null,{"$f":"SUM(G306:G309)","v":14247.471000000003},2.172E-2,0.4758506400000001,0,null,0.93100000000000005,17.38467]
[{"$f":"'kros seznam'!B225","v":"K"},{"$f":"'kros seznam'!C225","v":"781474113"},{"$f":"'kros seznam'!D225","v":"Montáž obkladů vnitřních keramických hladkých do 19 ks/m2 lepených flexibilním lepidlem"},{"$f":"'kros seznam'!E225","v":"m2"},{"$f":"'Navrhovaný stav'!K64","v":20.170000000000002},{"$f":"'kros seznam'!G225","v":283},5708.1100000000006,{"$f":"'kros seznam'!J225","v":3.0000000000000001E-3},6.0510000000000008E-2,{"$f":"'kros seznam'!K225","v":0},null,{"$f":"'kros seznam'!L225","v":0.64100000000000001},12.928970000000001]
[{"$f":"'kros seznam'!B226","v":"M"},{"$f":"'kros seznam'!C226","v":"597611200"},{"$f":"'kros seznam'!D226","v":"obkládačky keramické do 19 ks/m2"},{"$f":"'kros seznam'!E226","v":"m2"},{"$f":"'zařizovací předměty'!K7","v":22.187000000000005},{"$f":"'Navrhovaný stav'!L60","v":300},6656.1000000000013,{"$f":"'kros seznam'!J226","v":1.8720000000000001E-2},0.41534064000000009,{"$f":"'kros seznam'!K226","v":0},null,{"$f":"'kros seznam'!L226","v":0},0]
[{"$f":"'kros seznam'!B239","v":"K"},{"$f":"'kros seznam'!C239","v":"781479191"},{"$f":"'kros seznam'!D239","v":"Příplatek k montáži obkladů vnitřních keramických hladkých za plochu do 10 m2"},{"$f":"'kros seznam'!E239","v":"m2"},{"$f":"'Navrhovaný stav'!K64","v":20.170000000000002},{"$f":"'kros seznam'!G239","v":40.700000000000003},820.9190000000001,{"$f":"'kros seznam'!J239","v":0},0,{"$f":"'kros seznam'!K239","v":0},null,{"$f":"'kros seznam'!L239","v":0.13},2.6221000000000001]
[{"$f":"'kros seznam'!B222","v":"K"},{"$f":"'kros seznam'!C222","v":"781494511"},{"$f":"'kros seznam'!D222","v":"Plastové profily ukončovací lepené flexibilním lepidlem"},{"$f":"'kros seznam'!E222","v":"m"},{"$f":"'Navrhovaný stav - pomocný'!C10","v":11.46},{"$f":"'kros seznam'!G222","v":92.7},1062.3420000000001,0,0,0,null,0.16,1.8336000000000001]
[]
["OBKLAD DO 22ks/m2"]
[{"$f":"'kros seznam'!B221","v":"D"},{"$f":"'kros seznam'!C221","v":"781"},{"$f":"'kros seznam'!D221","v":"Dokončovací práce - obklady keramické"},null,null,null,{"$f":"SUM(G313:G316)","v":14550.021000000002},{"$f":"SUM(H313:H316)","v":1.6104E-2},{"$f":"SUM(I313:I316)","v":0.35124844800000005},{"$f":"SUM(J313:J316)","v":0},null,{"$f":"SUM(L313:L316)","v":0.97600000000000009},{"$f":"SUM(M313:M316)","v":18.292320000000004}]
[{"$f":"'kros seznam'!B227","v":"K"},{"$f":"'kros seznam'!C227","v":"781474114"},{"$f":"'kros seznam'!D227","v":"Montáž obkladů vnitřních keramických hladkých do 22 ks/m2 lepených flexibilním lepidlem"},{"$f":"'kros seznam'!E227","v":"m2"},{"$f":"'Navrhovaný stav'!K64","v":20.170000000000002},{"$f":"'kros seznam'!G227","v":298},6010.6600000000008,{"$f":"'kros seznam'!J227","v":3.0000000000000001E-3},6.0510000000000008E-2,{"$f":"'kros seznam'!K227","v":0},null,{"$f":"'kros seznam'!L227","v":0.68600000000000005},13.836620000000002]
[{"$f":"'kros seznam'!B228","v":"M"},{"$f":"'kros seznam'!C228","v":"597610350"},{"$f":"'kros seznam'!D228","v":"obkládačky keramické do 22 ks/m2"},{"$f":"'kros seznam'!E228","v":"m2"},{"$f":"'zařizovací předměty'!K7","v":22.187000000000005},{"$f":"'Navrhovaný stav'!L60","v":300},6656.1000000000013,{"$f":"'kros seznam'!J228","v":1.3103999999999999E-2},0.29073844800000004,{"$f":"'kros seznam'!K228","v":0},null,{"$f":"'kros seznam'!L228","v":0},0]
[{"$f":"'kros seznam'!B239","v":"K"},{"$f":"'kros seznam'!C239","v":"781479191"},{"$f":"'kros seznam'!D239","v":"Příplatek k montáži obkladů vnitřních keramických hladkých za plochu do 10 m2"},{"$f":"'kros seznam'!E239","v":"m2"},{"$f":"'Navrhovaný stav'!K64","v":20.170000000000002},{"$f":"'kros seznam'!G239","v":40.700000000000003},820.9190000000001,{"$f":"'kros seznam'!J239","v":0},0,{"$f":"'kros seznam'!K239","v":0},null,{"$f":"'kros seznam'!L239","v":0.13},2.6221000000000001]
[{"$f":"'kros seznam'!B222","v":"K"},{"$f":"'kros seznam'!C222","v":"781494511"},{"$f":"'kros seznam'!D222","v":"Plastové profily ukončovací lepené flexibilním lepidlem"},{"$f":"'kros seznam'!E222","v":"m"},{"$f":"'Navrhovaný stav - pomocný'!C10","v":11.46},{"$f":"'kros seznam'!G222","v":92.7},1062.3420000000001,0,0,{"$f":"'kros seznam'!K222","v":0},null,0.16,1.8336000000000001]
[]
["OBKLAD DO 25ks/m2"]
[{"$f":"'kros seznam'!B221","v":"D"},{"$f":"'kros seznam'!C221","v":"781"},{"$f":"'kros seznam'!D221","v":"Dokončovací práce - obklady keramické"},null,null,null,{"$f":"SUM(G320:G323)","v":14933.251000000002},1.5688000000000001E-2,0.34201865600000009,0,0,1.036,19.502520000000004]
[{"$f":"'kros seznam'!B229","v":"K"},{"$f":"'kros seznam'!C229","v":"781474115"},{"$f":"'kros seznam'!D229","v":"Montáž obkladů vnitřních keramických hladkých do 25 ks/m2 lepených flexibilním lepidlem"},{"$f":"'kros seznam'!E229","v":"m2"},{"$f":"'Navrhovaný stav'!K64","v":20.170000000000002},{"$f":"'kros seznam'!G229","v":317},6393.89,{"$f":"'kros seznam'!J229","v":3.0000000000000001E-3},6.0510000000000008E-2,{"$f":"'kros seznam'!K229","v":0},null,{"$f":"'kros seznam'!L229","v":0.746},15.046820000000002]
[{"$f":"'kros seznam'!B230","v":"M"},{"$f":"'kros seznam'!C230","v":"597610690"},{"$f":"'kros seznam'!D230","v":"obkládačky keramické do 25 ks/m2"},{"$f":"'kros seznam'!E230","v":"m2"},{"$f":"'zařizovací předměty'!K7","v":22.187000000000005},{"$f":"'Navrhovaný stav'!L60","v":300},6656.1000000000013,{"$f":"'kros seznam'!J230","v":1.2688E-2},0.28150865600000008,{"$f":"'kros seznam'!K230","v":0},null,{"$f":"'kros seznam'!L230","v":0},0]
[{"$f":"'kros seznam'!B239","v":"K"},{"$f":"'kros seznam'!C239","v":"781479191"},{"$f":"'kros seznam'!D239","v":"Příplatek k montáži obkladů vnitřních keramických hladkých za plochu do 10 m2"},{"$f":"'kros seznam'!E239","v":"m2"},{"$f":"'Navrhovaný stav'!K64","v":20.170000000000002},{"$f":"'kros seznam'!G239","v":40.700000000000003},820.9190000000001,{"$f":"'kros seznam'!J239","v":0},0,{"$f":"'kros seznam'!K239","v":0},null,{"$f":"'kros seznam'!L239","v":0.13},2.6221000000000001]
[{"$f":"'kros seznam'!B222","v":"K"},{"$f":"'kros seznam'!C222","v":"781494511"},{"$f":"'kros seznam'!D222","v":"Plastové profily ukončovací lepené flexibilním lepidlem"},{"$f":"'kros seznam'!E222","v":"m"},{"$f":"'Navrhovaný stav - pomocný'!C10","v":11.46},{"$f":"'kros seznam'!G222","v":92.7},1062.3420000000001,0,0,{"$f":"'kros seznam'!K222","v":0},null,0.16,1.8336000000000001]
[]
["OBKLAD DO 35ks/m2"]
[{"$f":"'kros seznam'!B221","v":"D"},{"$f":"'kros seznam'!C221","v":"781"},{"$f":"'kros seznam'!D221","v":"Dokončovací práce - obklady keramické"},null,null,null,{"$f":"SUM(G327:G330)","v":15215.631000000003},1.5788E-2,0.34403565600000008,0,0,1.0720000000000001,20.228640000000002]
[{"$f":"'kros seznam'!B231","v":"K"},{"$f":"'kros seznam'!C231","v":"781474116"},{"$f":"'kros seznam'!D231","v":"Montáž obkladů vnitřních keramických hladkých do 35 ks/m2 lepených flexibilním lepidlem"},{"$f":"'kros seznam'!E231","v":"m2"},{"$f":"'Navrhovaný stav'!K64","v":20.170000000000002},{"$f":"'kros seznam'!G231","v":331},6676.27,{"$f":"'kros seznam'!J231","v":3.0999999999999999E-3},6.2526999999999999E-2,{"$f":"'kros seznam'!K231","v":0},null,{"$f":"'kros seznam'!L231","v":0.78200000000000003},15.772940000000002]
[{"$f":"'kros seznam'!B232","v":"M"},{"$f":"'kros seznam'!C232","v":"597610700"},{"$f":"'kros seznam'!D232","v":"obkládačky keramické do 35 ks/m2"},{"$f":"'kros seznam'!E232","v":"m2"},{"$f":"'zařizovací předměty'!K7","v":22.187000000000005},{"$f":"'Navrhovaný stav'!L60","v":300},6656.1000000000013,{"$f":"'kros seznam'!J232","v":1.2688E-2},0.28150865600000008,{"$f":"'kros seznam'!K232","v":0},null,{"$f":"'kros seznam'!L232","v":0},0]
[{"$f":"'kros seznam'!B239","v":"K"},{"$f":"'kros seznam'!C239","v":"781479191"},{"$f":"'kros seznam'!D239","v":"Příplatek k montáži obkladů vnitřních keramických hladkých za plochu do 10 m2"},{"$f":"'kros seznam'!E239","v":"m2"},{"$f":"'Navrhovaný stav'!K64","v":20.170000000000002},{"$f":"'kros seznam'!G239","v":40.700000000000003},820.9190000000001,{"$f":"'kros seznam'!J239","v":0},0,{"$f":"'kros seznam'!K239","v":0},null,{"$f":"'kros seznam'!L239","v":0.13},2.6221000000000001]
[{"$f":"'kros seznam'!B222","v":"K"},{"$f":"'kros seznam'!C222","v":"781494511"},{"$f":"'kros seznam'!D222","v":"Plastové profily ukončovací lepené flexibilním lepidlem"},{"$f":"'kros seznam'!E222","v":"m"},{"$f":"'Navrhovaný stav - pomocný'!C10","v":11.46},{"$f":"'kros seznam'!G222","v":92.7},1062.3420000000001,0,0,{"$f":"'kros seznam'!K222","v":0},null,0.16,1.8336000000000001]
[]
["OBKLAD DO 45ks/m2"]
[{"$f":"'kros seznam'!B221","v":"D"},{"$f":"'kros seznam'!C221","v":"781"},{"$f":"'kros seznam'!D221","v":"Dokončovací práce - obklady keramické"},null,null,null,{"$f":"SUM(G334:G337)","v":15477.841000000002},{"$f":"SUM(H334:H337)","v":1.932E-2},{"$f":"SUM(I334:I337)","v":0.42219844000000006},{"$f":"SUM(J334:J337)","v":0},null,{"$f":"SUM(L334:L337)","v":1.1039999999999999},{"$f":"SUM(M334:M337)","v":20.874079999999999}]
[{"$f":"'kros seznam'!B233","v":"K"},{"$f":"'kros seznam'!C233","v":"781474117"},{"$f":"'kros seznam'!D233","v":"Montáž obkladů vnitřních keramických hladkých do 45 ks/m2 lepených flexibilním lepidlem"},{"$f":"'kros seznam'!E233","v":"m2"},{"$f":"'Navrhovaný stav'!K64","v":20.170000000000002},{"$f":"'kros seznam'!G233","v":344},6938.4800000000005,{"$f":"'kros seznam'!J233","v":3.2000000000000002E-3},6.4544000000000004E-2,{"$f":"'kros seznam'!K233","v":0},null,{"$f":"'kros seznam'!L233","v":0.81399999999999995},16.418379999999999]
[{"$f":"'kros seznam'!B234","v":"M"},{"$f":"'kros seznam'!C234","v":"597611450"},{"$f":"'kros seznam'!D234","v":"obkládačky keramické do 45 ks/m2"},{"$f":"'kros seznam'!E234","v":"m2"},{"$f":"'zařizovací předměty'!K7","v":22.187000000000005},{"$f":"'Navrhovaný stav'!L60","v":300},6656.1000000000013,{"$f":"'kros seznam'!J234","v":1.6119999999999999E-2},0.35765444000000007,{"$f":"'kros seznam'!K234","v":0},null,{"$f":"'kros seznam'!L234","v":0},0]
[{"$f":"'kros seznam'!B239","v":"K"},{"$f":"'kros seznam'!C239","v":"781479191"},{"$f":"'kros seznam'!D239","v":"Příplatek k montáži obkladů vnitřních keramických hladkých za plochu do 10 m2"},{"$f":"'kros seznam'!E239","v":"m2"},{"$f":"'Navrhovaný stav'!K64","v":20.170000000000002},{"$f":"'kros seznam'!G239","v":40.700000000000003},820.9190000000001,{"$f":"'kros seznam'!J239","v":0},0,{"$f":"'kros seznam'!K239","v":0},null,{"$f":"'kros seznam'!L239","v":0.13},2.6221000000000001]
[{"$f":"'kros seznam'!B222","v":"K"},{"$f":"'kros seznam'!C222","v":"781494511"},{"$f":"'kros seznam'!D222","v":"Plastové profily ukončovací lepené flexibilním lepidlem"},{"$f":"'kros seznam'!E222","v":"m"},{"$f":"'Navrhovaný stav - pomocný'!C10","v":11.46},{"$f":"'kros seznam'!G222","v":92.7},1062.3420000000001,0,0,{"$f":"'kros seznam'!K222","v":0},null,0.16,1.8336000000000001]
[]
["OBKLAD DO 50ks/m2"]
[{"$f":"'kros seznam'!B221","v":"D"},{"$f":"'kros seznam'!C221","v":"781"},{"$f":"'kros seznam'!D221","v":"Dokončovací práce - obklady keramické"},null,null,null,{"$f":"SUM(G341:G344)","v":15800.561000000003},{"$f":"SUM(H341:H344)","v":1.9369999999999998E-2},{"$f":"SUM(I341:I344)","v":0.42320694000000009},{"$f":"SUM(J341:J344)","v":0},null,{"$f":"SUM(L341:L344)","v":1.1479999999999999},{"$f":"SUM(M341:M344)","v":21.761560000000003}]
[{"$f":"'kros seznam'!B235","v":"K"},{"$f":"'kros seznam'!C235","v":"781474118"},{"$f":"'kros seznam'!D235","v":"Montáž obkladů vnitřních keramických hladkých do 50 ks/m2 lepených flexibilním lepidlem"},{"$f":"'kros seznam'!E235","v":"m2"},{"$f":"'Navrhovaný stav'!K64","v":20.170000000000002},{"$f":"'kros seznam'!G235","v":360},7261.2000000000007,{"$f":"'kros seznam'!J235","v":3.2499999999999999E-3},6.55525E-2,{"$f":"'kros seznam'!K235","v":0},null,{"$f":"'kros seznam'!L235","v":0.85799999999999998},17.305860000000003]
[{"$f":"'kros seznam'!B236","v":"M"},{"$f":"'kros seznam'!C236","v":"597611550"},{"$f":"'kros seznam'!D236","v":"obkládačky keramické do 50 ks/m2"},{"$f":"'kros seznam'!E236","v":"m2"},{"$f":"'zařizovací předměty'!K7","v":22.187000000000005},{"$f":"'Navrhovaný stav'!L60","v":300},6656.1000000000013,{"$f":"'kros seznam'!J236","v":1.6119999999999999E-2},0.35765444000000007,{"$f":"'kros seznam'!K236","v":0},null,{"$f":"'kros seznam'!L236","v":0},0]
[{"$f":"'kros seznam'!B239","v":"K"},{"$f":"'kros seznam'!C239","v":"781479191"},{"$f":"'kros seznam'!D239","v":"Příplatek k montáži obkladů vnitřních keramických hladkých za plochu do 10 m2"},{"$f":"'kros seznam'!E239","v":"m2"},{"$f":"'Navrhovaný stav'!K64","v":20.170000000000002},{"$f":"'kros seznam'!G239","v":40.700000000000003},820.9190000000001,{"$f":"'kros seznam'!J239","v":0},0,{"$f":"'kros seznam'!K239","v":0},null,{"$f":"'kros seznam'!L239","v":0.13},2.6221000000000001]
[{"$f":"'kros seznam'!B222","v":"K"},{"$f":"'kros seznam'!C222","v":"781494511"},{"$f":"'kros seznam'!D222","v":"Plastové profily ukončovací lepené flexibilním lepidlem"},{"$f":"'kros seznam'!E222","v":"m"},{"$f":"'Navrhovaný stav - pomocný'!C10","v":11.46},{"$f":"'kros seznam'!G222","v":92.7},1062.3420000000001,0,0,{"$f":"'kros seznam'!K222","v":0},null,0.16,1.8336000000000001]
[]
["OBKLAD DO 85ks/m2"]
[{"$f":"'kros seznam'!B221","v":"D"},{"$f":"'kros seznam'!C221","v":"781"},{"$f":"'kros seznam'!D221","v":"Dokončovací práce - obklady keramické"},null,null,null,{"$f":"SUM(G348:G351)","v":17454.501000000004},{"$f":"SUM(H348:H351)","v":1.907E-2},{"$f":"SUM(I348:I351)","v":0.41715594000000006},{"$f":"SUM(J348:J351)","v":0},null,{"$f":"SUM(L348:L351)","v":1.43},{"$f":"SUM(M348:M351)","v":27.4495}]
[{"$f":"'kros seznam'!B237","v":"K"},{"$f":"'kros seznam'!C237","v":"781474119"},{"$f":"'kros seznam'!D237","v":"Montáž obkladů vnitřních keramických hladkých do 85 ks/m2 lepených flexibilním lepidlem"},{"$f":"'kros seznam'!E237","v":"m2"},{"$f":"'Navrhovaný stav'!K64","v":20.170000000000002},{"$f":"'kros seznam'!G237","v":442},8915.1400000000012,{"$f":"'kros seznam'!J237","v":2.9499999999999999E-3},5.9501500000000006E-2,{"$f":"'kros seznam'!K237","v":0},null,{"$f":"'kros seznam'!L237","v":1.1399999999999999},22.9938]
[{"$f":"'kros seznam'!B238","v":"M"},{"$f":"'kros seznam'!C238","v":"597611560"},{"$f":"'kros seznam'!D238","v":"obkládačky  keramické do 85 ks/m2"},{"$f":"'kros seznam'!E238","v":"m2"},{"$f":"'zařizovací předměty'!K7","v":22.187000000000005},{"$f":"'Navrhovaný stav'!L60","v":300},6656.1000000000013,{"$f":"'kros seznam'!J238","v":1.6119999999999999E-2},0.35765444000000007,{"$f":"'kros seznam'!K238","v":0},null,{"$f":"'kros seznam'!L238","v":0},0]
[{"$f":"'kros seznam'!B239","v":"K"},{"$f":"'kros seznam'!C239","v":"781479191"},{"$f":"'kros seznam'!D239","v":"Příplatek k montáži obkladů vnitřních keramických hladkých za plochu do 10 m2"},{"$f":"'kros seznam'!E239","v":"m2"},{"$f":"'Navrhovaný stav'!K64","v":20.170000000000002},{"$f":"'kros seznam'!G239","v":40.700000000000003},820.9190000000001,{"$f":"'kros seznam'!J239","v":0},0,{"$f":"'kros seznam'!K239","v":0},null,{"$f":"'kros seznam'!L239","v":0.13},2.6221000000000001]
[{"$f":"'kros seznam'!B222","v":"K"},{"$f":"'kros seznam'!C222","v":"781494511"},{"$f":"'kros seznam'!D222","v":"Plastové profily ukončovací lepené flexibilním lepidlem"},{"$f":"'kros seznam'!E222","v":"m"},{"$f":"'Navrhovaný stav - pomocný'!C10","v":11.46},{"$f":"'kros seznam'!G222","v":92.7},1062.3420000000001,0,0,{"$f":"'kros seznam'!K222","v":0},null,0.16,1.8336000000000001]
[]
["OBKLAD MOZAIKA 50x50mm"]
[{"$f":"'kros seznam'!B221","v":"D"},{"$f":"'kros seznam'!C221","v":"781"},{"$f":"'kros seznam'!D221","v":"Dokončovací práce - obklady keramické"},null,null,null,{"$f":"SUM(G355:G358)","v":19840.612000000001},{"$f":"SUM(H355:H358)","v":6.9064E-3},{"$f":"SUM(I355:I358)","v":0.14173539680000002},{"$f":"SUM(J355:J358)","v":0},null,{"$f":"SUM(L355:L358)","v":1.569},{"$f":"SUM(M355:M358)","v":30.253130000000002}]
[{"$f":"'kros seznam'!B241","v":"C"},{"$f":"'kros seznam'!C241","v":"781484111"},{"$f":"'kros seznam'!D241","v":"Montáž obkladů vnitřních z mozaiky 50x50 mm lepených flexibilním lepidlem"},{"$f":"'kros seznam'!E241","v":"m2"},{"$f":"'Navrhovaný stav'!K64","v":20.170000000000002},{"$f":"'kros seznam'!G241","v":463},9338.7100000000009,{"$f":"'kros seznam'!J241","v":5.7000000000000002E-3},0.11496900000000002,{"$f":"'kros seznam'!K241","v":0},null,{"$f":"'kros seznam'!L241","v":0.96899999999999997},19.544730000000001]
[{"$f":"'kros seznam'!B242","v":"M"},{"$f":"'kros seznam'!C242","v":"597611700"},{"$f":"'kros seznam'!D242","v":"mozaika keramická 50 x 50 mm"},{"$f":"'kros seznam'!E242","v":"kus"},{"$f":"'zařizovací předměty'!K7","v":22.187000000000005},{"$f":"'Navrhovaný stav'!L60","v":300},6656.1000000000013,{"$f":"'kros seznam'!J242","v":1.2064000000000001E-3},2.6766396800000009E-2,{"$f":"'kros seznam'!K242","v":0},null,{"$f":"'kros seznam'!L242","v":0},0]
[{"$f":"'kros seznam'!B251","v":"K"},{"$f":"'kros seznam'!C251","v":"781489191"},{"$f":"'kros seznam'!D251","v":"Příplatek k montáži obkladů vnitřních z mozaiky za plochu do 10 m2"},{"$f":"'kros seznam'!E251","v":"m2"},{"$f":"'Navrhovaný stav'!K64","v":20.170000000000002},{"$f":"'kros seznam'!G251","v":138},2783.46,{"$f":"'kros seznam'!J251","v":0},0,{"$f":"'kros seznam'!K251","v":0},null,{"$f":"'kros seznam'!L251","v":0.44},8.8748000000000005]
[{"$f":"'kros seznam'!B222","v":"K"},{"$f":"'kros seznam'!C222","v":"781494511"},{"$f":"'kros seznam'!D222","v":"Plastové profily ukončovací lepené flexibilním lepidlem"},{"$f":"'kros seznam'!E222","v":"m"},{"$f":"'Navrhovaný stav - pomocný'!C10","v":11.46},{"$f":"'kros seznam'!G222","v":92.7},1062.3420000000001,0,0,{"$f":"'kros seznam'!K222","v":0},null,0.16,1.8336000000000001]
[]
["OBKLAD MOZAIKA 46,5x46,5mm"]
[{"$f":"'kros seznam'!B221","v":"D"},{"$f":"'kros seznam'!C221","v":"781"},{"$f":"'kros seznam'!D221","v":"Dokončovací práce - obklady keramické"},null,null,null,{"$f":"SUM(G362:G365)","v":19901.122000000003},{"$f":"SUM(H362:H365)","v":6.8960000000000002E-3},{"$f":"SUM(I362:I365)","v":0.14150465200000001},{"$f":"SUM(J362:J365)","v":0},null,{"$f":"SUM(L362:L365)","v":1.579},{"$f":"SUM(M362:M365)","v":30.454830000000001}]
[{"$f":"'kros seznam'!B243","v":"K"},{"$f":"'kros seznam'!C243","v":"781484112"},{"$f":"'kros seznam'!D243","v":"Montáž obkladů vnitřních z mozaiky 46,5x46,5 mm lepených flexibilním lepidlem"},{"$f":"'kros seznam'!E243","v":"m2"},{"$f":"'Navrhovaný stav'!K64","v":20.170000000000002},{"$f":"'kros seznam'!G243","v":466},{"$f":"F362*E362","v":9399.2200000000012},{"$f":"'kros seznam'!J243","v":5.7000000000000002E-3},{"$f":"E362*H362","v":0.11496900000000002},{"$f":"'kros seznam'!K243","v":0},null,{"$f":"'kros seznam'!L243","v":0.97899999999999998},{"$f":"L362*E362","v":19.74643}]
[{"$f":"'kros seznam'!B244","v":"M"},{"$f":"'kros seznam'!C244","v":"597612650"},{"$f":"'kros seznam'!D244","v":"mozaika keramická 46,5 x 46,5 mm"},{"$f":"'kros seznam'!E244","v":"kus"},{"$f":"'zařizovací předměty'!K7","v":22.187000000000005},{"$f":"'Navrhovaný stav'!L60","v":300},6656.1000000000013,{"$f":"'kros seznam'!J244","v":1.196E-3},2.6535652000000007E-2,{"$f":"'kros seznam'!K244","v":0},null,{"$f":"'kros seznam'!L244","v":0},0]
[{"$f":"'kros seznam'!B251","v":"K"},{"$f":"'kros seznam'!C251","v":"781489191"},{"$f":"'kros seznam'!D251","v":"Příplatek k montáži obkladů vnitřních z mozaiky za plochu do 10 m2"},{"$f":"'kros seznam'!E251","v":"m2"},{"$f":"'Navrhovaný stav'!K64","v":20.170000000000002},{"$f":"'kros seznam'!G251","v":138},2783.46,{"$f":"'kros seznam'!J251","v":0},0,{"$f":"'kros seznam'!K251","v":0},null,{"$f":"'kros seznam'!L251","v":0.44},8.8748000000000005]
[{"$f":"'kros seznam'!B222","v":"K"},{"$f":"'kros seznam'!C222","v":"781494511"},{"$f":"'kros seznam'!D222","v":"Plastové profily ukončovací lepené flexibilním lepidlem"},{"$f":"'kros seznam'!E222","v":"m"},{"$f":"'Navrhovaný stav - pomocný'!C10","v":11.46},{"$f":"'kros seznam'!G222","v":92.7},1062.3420000000001,0,0,{"$f":"'kros seznam'!K229","v":0},null,0.16,1.8336000000000001]
[]
["OBKLAD MOZAIKA 40x40mm"]
[{"$f":"'kros seznam'!B221","v":"D"},{"$f":"'kros seznam'!C221","v":"781"},{"$f":"'kros seznam'!D221","v":"Dokončovací práce - obklady keramické"},null,null,null,{"$f":"SUM(G369:G372)","v":20183.502},{"$f":"SUM(H369:H372)","v":6.9064E-3},{"$f":"SUM(I369:I372)","v":0.14173539680000002},{"$f":"SUM(J369:J372)","v":0},null,{"$f":"SUM(L369:L372)","v":1.6199999999999999},{"$f":"SUM(M369:M372)","v":31.281800000000004}]
[{"$f":"'kros seznam'!B245","v":"K"},{"$f":"'kros seznam'!C245","v":"781484113"},{"$f":"'kros seznam'!D245","v":"Montáž obkladů vnitřních z mozaiky 40x40 mm lepených flexibilním lepidlem"},{"$f":"'kros seznam'!E245","v":"m2"},{"$f":"'Navrhovaný stav'!K64","v":20.170000000000002},{"$f":"'kros seznam'!G245","v":480},9681.6,{"$f":"'kros seznam'!J245","v":5.7000000000000002E-3},0.11496900000000002,{"$f":"'kros seznam'!K245","v":0},null,{"$f":"'kros seznam'!L245","v":1.02},20.573400000000003]
[{"$f":"'kros seznam'!B246","v":"M"},{"$f":"'kros seznam'!C246","v":"597611709"},{"$f":"'kros seznam'!D246","v":"mozaika keramická 40 x 40 mm"},{"$f":"'kros seznam'!E246","v":"kus"},{"$f":"'zařizovací předměty'!K7","v":22.187000000000005},{"$f":"'Navrhovaný stav'!L60","v":300},6656.1000000000013,{"$f":"'kros seznam'!J246","v":1.2064000000000001E-3},2.6766396800000009E-2,{"$f":"'kros seznam'!K246","v":0},null,{"$f":"'kros seznam'!L246","v":0},0]
[{"$f":"'kros seznam'!B251","v":"K"},{"$f":"'kros seznam'!C251","v":"781489191"},{"$f":"'kros seznam'!D251","v":"Příplatek k montáži obkladů vnitřních z mozaiky za plochu do 10 m2"},{"$f":"'kros seznam'!E251","v":"m2"},{"$f":"'Navrhovaný stav'!K64","v":20.170000000000002},{"$f":"'kros seznam'!G251","v":138},2783.46,{"$f":"'kros seznam'!J251","v":0},0,{"$f":"'kros seznam'!K251","v":0},null,{"$f":"'kros seznam'!L251","v":0.44},8.8748000000000005]
[{"$f":"'kros seznam'!B222","v":"K"},{"$f":"'kros seznam'!C222","v":"781494511"},{"$f":"'kros seznam'!D222","v":"Plastové profily ukončovací lepené flexibilním lepidlem"},{"$f":"'kros seznam'!E222","v":"m"},{"$f":"'Navrhovaný stav - pomocný'!C10","v":11.46},{"$f":"'kros seznam'!G222","v":92.7},{"$f":"F372*E372","v":1062.3420000000001},0,{"$f":"E372*H372","v":0},{"$f":"'kros seznam'!K236","v":0},null,0.16,{"$f":"L372*E372","v":1.8336000000000001}]
[]
["OBKLAD MOZAIKA 25x25mm"]
[{"$f":"'kros seznam'!B221","v":"D"},{"$f":"'kros seznam'!C221","v":"781"},{"$f":"'kros seznam'!D221","v":"Dokončovací práce - obklady keramické"},null,null,null,{"$f":"SUM(G376:G379)","v":20586.902000000002},{"$f":"SUM(H376:H379)","v":1.9416000000000003E-2},{"$f":"SUM(I376:I379)","v":0.41868079200000008},{"$f":"SUM(J376:J379)","v":0},null,{"$f":"SUM(L376:L379)","v":1.6569999999999998},{"$f":"SUM(M376:M379)","v":32.028089999999999}]
[{"$f":"'kros seznam'!B247","v":"K"},{"$f":"'kros seznam'!C247","v":"781484114"},{"$f":"'kros seznam'!D247","v":"Montáž obkladů vnitřních z mozaiky 25x25 mm lepených flexibilním lepidlem"},{"$f":"'kros seznam'!E247","v":"m2"},{"$f":"'Navrhovaný stav'!K64","v":20.170000000000002},{"$f":"'kros seznam'!G247","v":500},10085,{"$f":"'kros seznam'!J247","v":6.0000000000000001E-3},0.12102000000000002,{"$f":"'kros seznam'!K247","v":0},null,{"$f":"'kros seznam'!L247","v":1.0569999999999999},21.319690000000001]
[{"$f":"'kros seznam'!B248","v":"M"},{"$f":"'kros seznam'!C248","v":"597611790"},{"$f":"'kros seznam'!D248","v":"mozaika keramická 25 x 25 mm"},{"$f":"'kros seznam'!E248","v":"m2"},{"$f":"'zařizovací předměty'!K7","v":22.187000000000005},{"$f":"'Navrhovaný stav'!L60","v":300},6656.1000000000013,{"$f":"'kros seznam'!J248","v":1.3416000000000001E-2},0.29766079200000006,{"$f":"'kros seznam'!K248","v":0},null,{"$f":"'kros seznam'!L248","v":0},0]
[{"$f":"'kros seznam'!B251","v":"K"},{"$f":"'kros seznam'!C251","v":"781489191"},{"$f":"'kros seznam'!D251","v":"Příplatek k montáži obkladů vnitřních z mozaiky za plochu do 10 m2"},{"$f":"'kros seznam'!E251","v":"m2"},{"$f":"'Navrhovaný stav'!K64","v":20.170000000000002},{"$f":"'kros seznam'!G251","v":138},2783.46,{"$f":"'kros seznam'!J251","v":0},0,{"$f":"'kros seznam'!K251","v":0},null,{"$f":"'kros seznam'!L251","v":0.44},8.8748000000000005]
[{"$f":"'kros seznam'!B222","v":"K"},{"$f":"'kros seznam'!C222","v":"781494511"},{"$f":"'kros seznam'!D222","v":"Plastové profily ukončovací lepené flexibilním lepidlem"},{"$f":"'kros seznam'!E222","v":"m"},{"$f":"'Navrhovaný stav - pomocný'!C10","v":11.46},{"$f":"'kros seznam'!G222","v":92.7},1062.3420000000001,0,0,{"$f":"'kros seznam'!K243","v":0},null,0.16,1.8336000000000001]
[]
["OBKLAD MOZAIKA 20x20mm"]
[{"$f":"'kros seznam'!B221","v":"D"},{"$f":"'kros seznam'!C221","v":"781"},{"$f":"'kros seznam'!D221","v":"Dokončovací práce - obklady keramické"},null,null,null,{"$f":"SUM(G383:G386)","v":20748.262000000002},{"$f":"SUM(H383:H386)","v":7.2064E-3},{"$f":"SUM(I383:I386)","v":0.14778639680000002},{"$f":"SUM(J383:J386)","v":0},null,{"$f":"SUM(L383:L386)","v":1.6809999999999998},{"$f":"SUM(M383:M386)","v":32.512169999999998}]
[{"$f":"'kros seznam'!B249","v":"K"},{"$f":"'kros seznam'!C249","v":"781484115"},{"$f":"'kros seznam'!D249","v":"Montáž obkladů vnitřních z mozaiky20x20 mm lepených flexibilním lepidlem"},{"$f":"'kros seznam'!E249","v":"m2"},{"$f":"'Navrhovaný stav'!K64","v":20.170000000000002},{"$f":"'kros seznam'!G249","v":508},10246.36,{"$f":"'kros seznam'!J249","v":6.0000000000000001E-3},0.12102000000000002,{"$f":"'kros seznam'!K249","v":0},null,{"$f":"'kros seznam'!L249","v":1.081},21.80377]
[{"$f":"'kros seznam'!B250","v":"M"},{"$f":"'kros seznam'!C250","v":"597612360"},{"$f":"'kros seznam'!D250","v":"mozaika keramická 20 x 20 mm"},{"$f":"'kros seznam'!E250","v":"kus"},{"$f":"'zařizovací předměty'!K7","v":22.187000000000005},{"$f":"'Navrhovaný stav'!L60","v":300},6656.1000000000013,{"$f":"'kros seznam'!J250","v":1.2064000000000001E-3},2.6766396800000009E-2,{"$f":"'kros seznam'!K250","v":0},null,{"$f":"'kros seznam'!L250","v":0},0]
[{"$f":"'kros seznam'!B251","v":"K"},{"$f":"'kros seznam'!C251","v":"781489191"},{"$f":"'kros seznam'!D251","v":"Příplatek k montáži obkladů vnitřních z mozaiky za plochu do 10 m2"},{"$f":"'kros seznam'!E251","v":"m2"},{"$f":"'Navrhovaný stav'!K64","v":20.170000000000002},{"$f":"'kros seznam'!G251","v":138},2783.46,{"$f":"'kros seznam'!J251","v":0},0,{"$f":"'kros seznam'!K251","v":0},null,{"$f":"'kros seznam'!L251","v":0.44},8.8748000000000005]
[{"$f":"'kros seznam'!B222","v":"K"},{"$f":"'kros seznam'!C222","v":"781494511"},{"$f":"'kros seznam'!D222","v":"Plastové profily ukončovací lepené flexibilním lepidlem"},{"$f":"'kros seznam'!E222","v":"m"},{"$f":"'Navrhovaný stav - pomocný'!C10","v":11.46},{"$f":"'kros seznam'!G222","v":92.7},1062.3420000000001,0,0,{"$f":"'kros seznam'!K250","v":0},null,0.16,1.8336000000000001]
[]
["DLAŽBA DO 9ks/m2"]
[{"$f":"'kros seznam'!B182","v":"D"},{"$f":"'kros seznam'!C182","v":"771"},{"$f":"'kros seznam'!D182","v":"Podlahy z dlaždic"},null,null,null,{"$f":"SUM(G390:G392)","v":1727.5630020000003},{"$f":"SUM(H390:H392)","v":2.8410000000000001E-2},{"$f":"SUM(I390:I392)","v":8.437164300000001E-2},{"$f":"SUM(J390:J392)","v":0},null,{"$f":"SUM(L390:L392)","v":0.68200000000000005},{"$f":"SUM(M390:M392)","v":1.8630876000000001}]
[{"$f":"'kros seznam'!B183","v":"K"},{"$f":"'kros seznam'!C183","v":"771574112"},{"$f":"'kros seznam'!D183","v":"Montáž podlah keramických režných hladkých lepených flexibilním lepidlem do 9 ks/m2"},{"$f":"'kros seznam'!E183","v":"m2"},{"$f":"'Navrhovaný stav'!K71","v":2.7318000000000002},{"$f":"'kros seznam'!G183","v":260},710.26800000000003,{"$f":"'kros seznam'!J183","v":3.6600000000000001E-3},9.9983880000000004E-3,{"$f":"'kros seznam'!K183","v":0},null,{"$f":"'kros seznam'!L183","v":0.52200000000000002},1.4259996000000001]
[{"$f":"'kros seznam'!B184","v":"M"},{"$f":"'kros seznam'!C184","v":"597611420"},{"$f":"'kros seznam'!D184","v":"dlaždice keramické do 9 ks/m2"},{"$f":"'kros seznam'!E184","v":"m2"},{"$f":"'zařizovací předměty'!K11","v":3.0049800000000007},{"$f":"'Navrhovaný stav'!L67","v":"330"},991.64340000000027,{"$f":"'kros seznam'!J184","v":2.4750000000000001E-2},7.4373255000000013E-2,{"$f":"'kros seznam'!K184","v":0},null,{"$f":"'kros seznam'!L184","v":0},0]
[{"$f":"'kros seznam'!B203","v":"K"},{"$f":"'kros seznam'!C203","v":"771579191"},{"$f":"'kros seznam'!D203","v":"Příplatek k montáž podlah keramických za plochu do 5 m2"},{"$f":"'kros seznam'!E203","v":"m2"},{"$f":"'Navrhovaný stav'!K71","v":2.7318000000000002},{"$f":"'kros seznam'!G203","v":9.39},25.651602000000004,0,0,{"$f":"'kros seznam'!K256","v":0},null,0.16,0.43708800000000003]
[]
["DLAŽBA DO 12ks/m2"]
[{"$f":"'kros seznam'!B182","v":"D"},{"$f":"'kros seznam'!C182","v":"771"},{"$f":"'kros seznam'!D182","v":"Podlahy z dlaždic"},null,null,null,{"$f":"SUM(G396:G398)","v":1752.1492020000003},{"$f":"SUM(H396:H398)","v":2.479E-2},{"$f":"SUM(I396:I398)","v":7.3490883600000015E-2},{"$f":"SUM(J396:J398)","v":0},null,{"$f":"SUM(L396:L398)","v":0.58000000000000007},{"$f":"SUM(M396:M398)","v":1.5844440000000004}]
[{"$f":"'kros seznam'!B185","v":"K"},{"$f":"'kros seznam'!C185","v":"771574113"},{"$f":"'kros seznam'!D185","v":"Montáž podlah keramických režných hladkých lepených flexibilním lepidlem do 12 ks/m2"},{"$f":"'kros seznam'!E185","v":"m2"},{"$f":"'Navrhovaný stav'!K71","v":2.7318000000000002},{"$f":"'kros seznam'!G185","v":269},734.85420000000011,{"$f":"'kros seznam'!J185","v":3.6700000000000001E-3},1.0025706000000001E-2,{"$f":"'kros seznam'!K185","v":0},null,{"$f":"'kros seznam'!L185","v":0.55000000000000004},1.5024900000000003]
[{"$f":"'kros seznam'!B186","v":"M"},{"$f":"'kros seznam'!C186","v":"597611600"},{"$f":"'kros seznam'!D186","v":"dlaždice keramické do 12 ks/m2"},{"$f":"'kros seznam'!E186","v":"m2"},{"$f":"'zařizovací předměty'!K11","v":3.0049800000000007},{"$f":"'Navrhovaný stav'!L67","v":"330"},991.64340000000027,{"$f":"'kros seznam'!J186","v":2.112E-2},6.346517760000002E-2,{"$f":"'kros seznam'!K186","v":0},null,{"$f":"'kros seznam'!L186","v":0},0]
[{"$f":"'kros seznam'!B203","v":"K"},{"$f":"'kros seznam'!C203","v":"771579191"},{"$f":"'kros seznam'!D203","v":"Příplatek k montáž podlah keramických za plochu do 5 m2"},{"$f":"'kros seznam'!E203","v":"m2"},{"$f":"'Navrhovaný stav'!K71","v":2.7318000000000002},{"$f":"'kros seznam'!G203","v":9.39},25.651602000000004,{"$f":"'kros seznam'!J203","v":0},0,{"$f":"'kros seznam'!K203","v":0},null,{"$f":"'kros seznam'!L203","v":0.03},8.1953999999999999E-2]
[]
["DLAŽBA DO 19ks/m2"]
[{"$f":"'kros seznam'!B182","v":"D"},{"$f":"'kros seznam'!C182","v":"771"},{"$f":"'kros seznam'!D182","v":"Podlahy z dlaždic"},null,null,null,{"$f":"SUM(G402:G404)","v":1763.0764020000001},{"$f":"SUM(H402:H404)","v":2.3520000000000003E-2},{"$f":"SUM(I402:I404)","v":6.9660900000000026E-2},{"$f":"SUM(J402:J404)","v":0},null,{"$f":"SUM(L402:L404)","v":0.59100000000000008},{"$f":"SUM(M402:M404)","v":1.6144938000000004}]
[{"$f":"'kros seznam'!B187","v":"K"},{"$f":"'kros seznam'!C187","v":"771574114"},{"$f":"'kros seznam'!D187","v":"Montáž podlah keramických režných hladkých lepených flexibilním lepidlem do 19 ks/m2"},{"$f":"'kros seznam'!E187","v":"m2"},{"$f":"'Navrhovaný stav'!K71","v":2.7318000000000002},{"$f":"'kros seznam'!G187","v":273},745.78140000000008,{"$f":"'kros seznam'!J187","v":3.7200000000000002E-3},1.0162296000000001E-2,{"$f":"'kros seznam'!K187","v":0},null,{"$f":"'kros seznam'!L187","v":0.56100000000000005},1.5325398000000003]
[{"$f":"'kros seznam'!B188","v":"M"},{"$f":"'kros seznam'!C188","v":"597611200"},{"$f":"'kros seznam'!D188","v":"dlaždice keramické do 19 ks/m2"},{"$f":"'kros seznam'!E188","v":"m2"},{"$f":"'zařizovací předměty'!K11","v":3.0049800000000007},{"$f":"'Navrhovaný stav'!L67","v":"330"},991.64340000000027,{"$f":"'kros seznam'!J188","v":1.9800000000000002E-2},5.9498604000000017E-2,{"$f":"'kros seznam'!K188","v":0},null,{"$f":"'kros seznam'!L188","v":0},0]
[{"$f":"'kros seznam'!B203","v":"K"},{"$f":"'kros seznam'!C203","v":"771579191"},{"$f":"'kros seznam'!D203","v":"Příplatek k montáž podlah keramických za plochu do 5 m2"},{"$f":"'kros seznam'!E203","v":"m2"},{"$f":"'Navrhovaný stav'!K71","v":2.7318000000000002},{"$f":"'kros seznam'!G203","v":9.39},25.651602000000004,{"$f":"'kros seznam'!J203","v":0},0,{"$f":"'kros seznam'!K203","v":0},null,{"$f":"'kros seznam'!L203","v":0.03},8.1953999999999999E-2]
[]
["DLAŽBA DO 22ks/m2"]
[{"$f":"'kros seznam'!B182","v":"D"},{"$f":"'kros seznam'!C182","v":"771"},{"$f":"'kros seznam'!D182","v":"Podlahy z dlaždic"},null,null,null,{"$f":"SUM(G408:G410)","v":1776.7354020000002},{"$f":"SUM(H408:H410)","v":1.7309999999999999E-2},{"$f":"SUM(I408:I410)","v":5.1073732800000014E-2},{"$f":"SUM(J408:J410)","v":0},null,{"$f":"SUM(L408:L410)","v":0.628},{"$f":"SUM(M408:M410)","v":1.7155704000000001}]
[{"$f":"'kros seznam'!B189","v":"K"},{"$f":"'kros seznam'!C189","v":"771574115"},{"$f":"'kros seznam'!D189","v":"Montáž podlah keramických režných hladkých lepených flexibilním lepidlem do 22 ks/m2"},{"$f":"'kros seznam'!E189","v":"m2"},{"$f":"'Navrhovaný stav'!K71","v":2.7318000000000002},{"$f":"'kros seznam'!G189","v":278},759.44040000000007,{"$f":"'kros seznam'!J189","v":3.4499999999999999E-3},9.4247100000000011E-3,{"$f":"'kros seznam'!K189","v":0},null,{"$f":"'kros seznam'!L189","v":0.59799999999999998},1.6336164]
[{"$f":"'kros seznam'!B190","v":"M"},{"$f":"'kros seznam'!C190","v":"597610350"},{"$f":"'kros seznam'!D190","v":"dlaždice keramické do 22 ks/m2"},{"$f":"'kros seznam'!E190","v":"m2"},{"$f":"'zařizovací předměty'!K11","v":3.0049800000000007},{"$f":"'Navrhovaný stav'!L67","v":"330"},991.64340000000027,{"$f":"'kros seznam'!J190","v":1.3860000000000001E-2},4.1649022800000012E-2,{"$f":"'kros seznam'!K190","v":0},null,{"$f":"'kros seznam'!L190","v":0},0]
[{"$f":"'kros seznam'!B203","v":"K"},{"$f":"'kros seznam'!C203","v":"771579191"},{"$f":"'kros seznam'!D203","v":"Příplatek k montáž podlah keramických za plochu do 5 m2"},{"$f":"'kros seznam'!E203","v":"m2"},{"$f":"'Navrhovaný stav'!K71","v":2.7318000000000002},{"$f":"'kros seznam'!G203","v":9.39},25.651602000000004,{"$f":"'kros seznam'!J203","v":0},0,{"$f":"'kros seznam'!K203","v":0},null,{"$f":"'kros seznam'!L203","v":0.03},8.1953999999999999E-2]
[]
["DLAŽBA DO 25ks/m2"]
[{"$f":"'kros seznam'!B182","v":"D"},{"$f":"'kros seznam'!C182","v":"771"},{"$f":"'kros seznam'!D182","v":"Podlahy z dlaždic"},null,null,null,{"$f":"SUM(G414:G416)","v":1793.1262020000004},{"$f":"SUM(H414:H416)","v":1.6920000000000001E-2},{"$f":"SUM(I414:I416)","v":4.988813160000001E-2},{"$f":"SUM(J414:J416)","v":0},null,{"$f":"SUM(L414:L416)","v":0.64300000000000002},{"$f":"SUM(M414:M416)","v":1.7565474000000001}]
[{"$f":"'kros seznam'!B191","v":"K"},{"$f":"'kros seznam'!C191","v":"771574116"},{"$f":"'kros seznam'!D191","v":"Montáž podlah keramických režných hladkých lepených flexibilním lepidlem do 25 ks/m2"},{"$f":"'kros seznam'!E191","v":"m2"},{"$f":"'Navrhovaný stav'!K71","v":2.7318000000000002},{"$f":"'kros seznam'!G191","v":284},775.83120000000008,{"$f":"'kros seznam'!J191","v":3.5000000000000001E-3},9.5613000000000017E-3,{"$f":"'kros seznam'!K191","v":0},null,{"$f":"'kros seznam'!L191","v":0.61299999999999999},1.6745934]
[{"$f":"'kros seznam'!B192","v":"M"},{"$f":"'kros seznam'!C192","v":"597610690"},{"$f":"'kros seznam'!D192","v":"dlaždice keramické do 25 ks/m2"},{"$f":"'kros seznam'!E192","v":"m2"},{"$f":"'zařizovací předměty'!K11","v":3.0049800000000007},{"$f":"'Navrhovaný stav'!L67","v":"330"},991.64340000000027,{"$f":"'kros seznam'!J192","v":1.342E-2},4.0326831600000008E-2,{"$f":"'kros seznam'!K192","v":0},null,{"$f":"'kros seznam'!L192","v":0},0]
[{"$f":"'kros seznam'!B203","v":"K"},{"$f":"'kros seznam'!C203","v":"771579191"},{"$f":"'kros seznam'!D203","v":"Příplatek k montáž podlah keramických za plochu do 5 m2"},{"$f":"'kros seznam'!E203","v":"m2"},{"$f":"'Navrhovaný stav'!K71","v":2.7318000000000002},{"$f":"'kros seznam'!G203","v":9.39},25.651602000000004,{"$f":"'kros seznam'!J203","v":0},0,{"$f":"'kros seznam'!K203","v":0},null,{"$f":"'kros seznam'!L203","v":0.03},8.1953999999999999E-2]
[]
["DLAŽBA DO 35ks/m2"]
[{"$f":"'kros seznam'!B182","v":"D"},{"$f":"'kros seznam'!C182","v":"771"},{"$f":"'kros seznam'!D182","v":"Podlahy z dlaždic"},null,null,null,{"$f":"SUM(G420:G422)","v":1809.5170020000003},{"$f":"SUM(H420:H422)","v":2.3420000000000003E-2},{"$f":"SUM(I420:I422)","v":6.9387720000000014E-2},{"$f":"SUM(J420:J422)","v":0},null,{"$f":"SUM(L420:L422)","v":0.65},{"$f":"SUM(M420:M422)","v":1.7756700000000003}]
[{"$f":"'kros seznam'!B193","v":"K"},{"$f":"'kros seznam'!C193","v":"771574117"},{"$f":"'kros seznam'!D193","v":"Montáž podlah keramických režných hladkých lepených flexibilním lepidlem do 35 ks/m2"},{"$f":"'kros seznam'!E193","v":"m2"},{"$f":"'Navrhovaný stav'!K71","v":2.7318000000000002},{"$f":"'kros seznam'!G193","v":290},792.22200000000009,{"$f":"'kros seznam'!J193","v":3.62E-3},9.8891159999999999E-3,{"$f":"'kros seznam'!K193","v":0},null,{"$f":"'kros seznam'!L193","v":0.62},1.6937160000000002]
[{"$f":"'kros seznam'!B194","v":"M"},{"$f":"'kros seznam'!C194","v":"597611230"},{"$f":"'kros seznam'!D194","v":"dlaždice keramické do 35 ks/m2"},{"$f":"'kros seznam'!E194","v":"m2"},{"$f":"'zařizovací předměty'!K11","v":3.0049800000000007},{"$f":"'Navrhovaný stav'!L67","v":"330"},991.64340000000027,{"$f":"'kros seznam'!J194","v":1.9800000000000002E-2},5.9498604000000017E-2,{"$f":"'kros seznam'!K194","v":0},null,{"$f":"'kros seznam'!L194","v":0},0]
[{"$f":"'kros seznam'!B203","v":"K"},{"$f":"'kros seznam'!C203","v":"771579191"},{"$f":"'kros seznam'!D203","v":"Příplatek k montáž podlah keramických za plochu do 5 m2"},{"$f":"'kros seznam'!E203","v":"m2"},{"$f":"'Navrhovaný stav'!K71","v":2.7318000000000002},{"$f":"'kros seznam'!G203","v":9.39},25.651602000000004,{"$f":"'kros seznam'!J203","v":0},0,{"$f":"'kros seznam'!K203","v":0},null,{"$f":"'kros seznam'!L203","v":0.03},8.1953999999999999E-2]
[]
["DLAŽBA DO 45ks/m2"]
[{"$f":"'kros seznam'!B182","v":"D"},{"$f":"'kros seznam'!C182","v":"771"},{"$f":"'kros seznam'!D182","v":"Podlahy z dlaždic"},null,null,null,{"$f":"SUM(G426:G428)","v":1828.6396020000002},{"$f":"SUM(H426:H428)","v":2.0809999999999999E-2},{"$f":"SUM(I426:I428)","v":6.1506477000000011E-2},{"$f":"SUM(J426:J428)","v":0},null,{"$f":"SUM(L426:L428)","v":0.66},{"$f":"SUM(M426:M428)","v":1.8029880000000003}]
[{"$f":"'kros seznam'!B195","v":"K"},{"$f":"'kros seznam'!C195","v":"771574118"},{"$f":"'kros seznam'!D195","v":"Montáž podlah keramických režných hladkých lepených flexibilním lepidlem do 45 ks/m2"},{"$f":"'kros seznam'!E195","v":"m2"},{"$f":"'Navrhovaný stav'!K71","v":2.7318000000000002},{"$f":"'kros seznam'!G195","v":297},811.34460000000001,{"$f":"'kros seznam'!J195","v":3.7599999999999999E-3},1.0271568E-2,{"$f":"'kros seznam'!K195","v":0},null,{"$f":"'kros seznam'!L195","v":0.63},1.7210340000000002]
[{"$f":"'kros seznam'!B196","v":"M"},{"$f":"'kros seznam'!C196","v":"597611510"},{"$f":"'kros seznam'!D196","v":"dlaždice keramické RAKO do 45 ks/m2"},{"$f":"'kros seznam'!E196","v":"m2"},{"$f":"'zařizovací předměty'!K11","v":3.0049800000000007},{"$f":"'Navrhovaný stav'!L67","v":"330"},991.64340000000027,{"$f":"'kros seznam'!J196","v":1.7049999999999999E-2},{"$f":"E427*H427","v":5.1234909000000009E-2},{"$f":"'kros seznam'!K196","v":0},null,{"$f":"'kros seznam'!L196","v":0},0]
[{"$f":"'kros seznam'!B203","v":"K"},{"$f":"'kros seznam'!C203","v":"771579191"},{"$f":"'kros seznam'!D203","v":"Příplatek k montáž podlah keramických za plochu do 5 m2"},{"$f":"'kros seznam'!E203","v":"m2"},{"$f":"'Navrhovaný stav'!K71","v":2.7318000000000002},{"$f":"'kros seznam'!G203","v":9.39},25.651602000000004,{"$f":"'kros seznam'!J203","v":0},{"$f":"E428*H428","v":0},{"$f":"'kros seznam'!K203","v":0},null,{"$f":"'kros seznam'!L203","v":0.03},8.1953999999999999E-2]
[]
["DLAŽBA DO 50ks/m2"]
[{"$f":"'kros seznam'!B182","v":"D"},{"$f":"'kros seznam'!C182","v":"771"},{"$f":"'kros seznam'!D182","v":"Podlahy z dlaždic"},null,null,null,{"$f":"SUM(G432:G434)","v":1853.2258020000004},{"$f":"SUM(H432:H434)","v":2.0969999999999999E-2},{"$f":"SUM(I432:I434)","v":6.1943565000000006E-2},{"$f":"SUM(J432:J434)","v":0},null,{"$f":"SUM(L432:L434)","v":0.67300000000000004},{"$f":"SUM(M432:M434)","v":1.8385014000000002}]
[{"$f":"'kros seznam'!B197","v":"K"},{"$f":"'kros seznam'!C197","v":"771574119"},{"$f":"'kros seznam'!D197","v":"Montáž podlah keramických režných hladkých lepených flexibilním lepidlem do 50 ks/m2"},{"$f":"'kros seznam'!E197","v":"m2"},{"$f":"'Navrhovaný stav'!K71","v":2.7318000000000002},{"$f":"'kros seznam'!G197","v":306},{"$f":"F432*E432","v":835.93080000000009},{"$f":"'kros seznam'!J197","v":3.9199999999999999E-3},{"$f":"E432*H432","v":1.0708656E-2},{"$f":"'kros seznam'!K197","v":0},null,{"$f":"'kros seznam'!L197","v":0.64300000000000002},{"$f":"L432*E432","v":1.7565474000000001}]
[{"$f":"'kros seznam'!B198","v":"M"},{"$f":"'kros seznam'!C198","v":"597611550"},{"$f":"'kros seznam'!D198","v":"dlaždice keramické do 50 ks/m2"},{"$f":"'kros seznam'!E198","v":"m2"},{"$f":"'zařizovací předměty'!K11","v":3.0049800000000007},{"$f":"'Navrhovaný stav'!L67","v":"330"},{"$f":"F433*E433","v":991.64340000000027},{"$f":"'kros seznam'!J198","v":1.7049999999999999E-2},{"$f":"E433*H433","v":5.1234909000000009E-2},{"$f":"'kros seznam'!K198","v":0},null,{"$f":"'kros seznam'!L198","v":0},{"$f":"L433*E433","v":0}]
[{"$f":"'kros seznam'!B203","v":"K"},{"$f":"'kros seznam'!C203","v":"771579191"},{"$f":"'kros seznam'!D203","v":"Příplatek k montáž podlah keramických za plochu do 5 m2"},{"$f":"'kros seznam'!E203","v":"m2"},{"$f":"'Navrhovaný stav'!K71","v":2.7318000000000002},{"$f":"'kros seznam'!G203","v":9.39},{"$f":"F434*E434","v":25.651602000000004},{"$f":"'kros seznam'!J203","v":0},{"$f":"E434*H434","v":0},{"$f":"'kros seznam'!K203","v":0},null,{"$f":"'kros seznam'!L203","v":0.03},{"$f":"L434*E434","v":8.1953999999999999E-2}]
[]
["DLAŽBA DO 85ks/m2"]
[{"$f":"'kros seznam'!B182","v":"D"},{"$f":"'kros seznam'!C182","v":"771"},{"$f":"'kros seznam'!D182","v":"Podlahy z dlaždic"},null,null,null,{"$f":"SUM(G438:G440)","v":1886.0074020000002},{"$f":"SUM(H438:H440)","v":2.121E-2},{"$f":"SUM(I438:I440)","v":6.2599197000000009E-2},{"$f":"SUM(J438:J440)","v":0},null,{"$f":"SUM(L438:L440)","v":0.69200000000000006},{"$f":"SUM(M438:M440)","v":1.8904056000000002}]
[{"$f":"'kros seznam'!B199","v":"K"},{"$f":"'kros seznam'!C199","v":"771574120"},{"$f":"'kros seznam'!D199","v":"Montáž podlah keramických režných hladkých lepených flexibilním lepidlem do 85 ks/m2"},{"$f":"'kros seznam'!E199","v":"m2"},{"$f":"'Navrhovaný stav'!K71","v":2.7318000000000002},{"$f":"'kros seznam'!G199","v":318},{"$f":"F438*E438","v":868.71240000000012},{"$f":"'kros seznam'!J199","v":4.1599999999999996E-3},{"$f":"E438*H438","v":1.1364288E-2},{"$f":"'kros seznam'!K199","v":0},null,{"$f":"'kros seznam'!L199","v":0.66200000000000003},{"$f":"L438*E438","v":1.8084516000000002}]
[{"$f":"'kros seznam'!B200","v":"M"},{"$f":"'kros seznam'!C200","v":"597611560"},{"$f":"'kros seznam'!D200","v":"dlaždice keramické do 85 ks/m2"},{"$f":"'kros seznam'!E200","v":"m2"},{"$f":"'zařizovací předměty'!K11","v":3.0049800000000007},{"$f":"'Navrhovaný stav'!L67","v":"330"},{"$f":"F439*E439","v":991.64340000000027},{"$f":"'kros seznam'!J200","v":1.7049999999999999E-2},{"$f":"E439*H439","v":5.1234909000000009E-2},{"$f":"'kros seznam'!K200","v":0},null,{"$f":"'kros seznam'!L200","v":0},{"$f":"L439*E439","v":0}]
[{"$f":"'kros seznam'!B203","v":"K"},{"$f":"'kros seznam'!C203","v":"771579191"},{"$f":"'kros seznam'!D203","v":"Příplatek k montáž podlah keramických za plochu do 5 m2"},{"$f":"'kros seznam'!E203","v":"m2"},{"$f":"'Navrhovaný stav'!K71","v":2.7318000000000002},{"$f":"'kros seznam'!G203","v":9.39},{"$f":"F440*E440","v":25.651602000000004},{"$f":"'kros seznam'!J203","v":0},{"$f":"E440*H440","v":0},{"$f":"'kros seznam'!K203","v":0},null,{"$f":"'kros seznam'!L203","v":0.03},{"$f":"L440*E440","v":8.1953999999999999E-2}]
[]
["DLAŽBA DO 100ks/m2"]
[{"$f":"'kros seznam'!B182","v":"D"},{"$f":"'kros seznam'!C182","v":"771"},{"$f":"'kros seznam'!D182","v":"Podlahy z dlaždic"},null,null,null,{"$f":"SUM(G444:G446)","v":1924.2526020000003},{"$f":"SUM(H444:H446)","v":1.7350000000000001E-2},{"$f":"SUM(I444:I446)","v":5.0942606400000014E-2},{"$f":"SUM(J444:J446)","v":0},null,{"$f":"SUM(L444:L446)","v":0.71500000000000008},{"$f":"SUM(M444:M446)","v":1.9532370000000003}]
[{"$f":"'kros seznam'!B201","v":"K"},{"$f":"'kros seznam'!C201","v":"771574121"},{"$f":"'kros seznam'!D201","v":"Montáž podlah keramických režných hladkých lepených flexibilním lepidlem do 100 ks/m2"},{"$f":"'kros seznam'!E201","v":"m2"},{"$f":"'Navrhovaný stav'!K71","v":2.7318000000000002},{"$f":"'kros seznam'!G201","v":332},{"$f":"F444*E444","v":906.95760000000007},{"$f":"'kros seznam'!J201","v":4.3699999999999998E-3},{"$f":"E444*H444","v":1.1937966E-2},{"$f":"'kros seznam'!K201","v":0},null,{"$f":"'kros seznam'!L201","v":0.68500000000000005},{"$f":"L444*E444","v":1.8712830000000003}]
[{"$f":"'kros seznam'!B202","v":"M"},{"$f":"'kros seznam'!C202","v":"597610210"},{"$f":"'kros seznam'!D202","v":"dlaždice keramické do 100 ks/m2"},{"$f":"'kros seznam'!E202","v":"m2"},{"$f":"'zařizovací předměty'!K11","v":3.0049800000000007},{"$f":"'Navrhovaný stav'!L67","v":"330"},{"$f":"F445*E445","v":991.64340000000027},{"$f":"'kros seznam'!J202","v":1.298E-2},{"$f":"E445*H445","v":3.9004640400000012E-2},{"$f":"'kros seznam'!K202","v":0},null,{"$f":"'kros seznam'!L202","v":0},{"$f":"L445*E445","v":0}]
[{"$f":"'kros seznam'!B203","v":"K"},{"$f":"'kros seznam'!C203","v":"771579191"},{"$f":"'kros seznam'!D203","v":"Příplatek k montáž podlah keramických za plochu do 5 m2"},{"$f":"'kros seznam'!E203","v":"m2"},{"$f":"'Navrhovaný stav'!K71","v":2.7318000000000002},{"$f":"'kros seznam'!G203","v":9.39},{"$f":"F446*E446","v":25.651602000000004},{"$f":"'kros seznam'!J203","v":0},{"$f":"E446*H446","v":0},{"$f":"'kros seznam'!K203","v":0},null,{"$f":"'kros seznam'!L203","v":0.03},{"$f":"L446*E446","v":8.1953999999999999E-2}]
[]
["SPRCHA ZDĚNÁ S VANIČKOU"]
[{"$f":"'kros seznam'!B3","v":"D"},{"$f":"'kros seznam'!C3","v":"3"},{"$f":"'kros seznam'!D3","v":"Svislé a kompletní konstrukce"},null,null,null,{"$f":"SUM(G450)","v":794.27790000000005},4.0969999999999999E-2,9.2711013000000009E-2,0,null,0.45900000000000002,1.0386711000000002]
[{"$f":"'kros seznam'!B11","v":"K"},{"$f":"'kros seznam'!C11","v":"342272148"},{"$f":"'kros seznam'!D11","v":"Příčky tl 50 mm z pórobetonových přesných příčkovek objemové hmotnosti 500 kg/m3"},{"$f":"'kros seznam'!E11","v":"m2"},{"$f":"'Navrhovaný stav - pomocný'!E24","v":2.2629000000000001},{"$f":"'kros seznam'!G11","v":351},{"$f":"F450*E450","v":794.27790000000005},{"$f":"'kros seznam'!J11","v":4.0969999999999999E-2},{"$f":"E450*H450","v":9.2711013000000009E-2},{"$f":"'kros seznam'!K11","v":0},null,{"$f":"'kros seznam'!L11","v":0.45900000000000002},{"$f":"L450*E450","v":1.0386711000000002}]
[{"$f":"'kros seznam'!B82","v":"D"},{"$f":"'kros seznam'!C82","v":"725"},{"$f":"'kros seznam'!D82","v":"Zdravotechnika - zařizovací předměty"},null,null,null,{"$f":"SUM(G452:G453)","v":6090},2.4149999999999998E-2,2.4149999999999998E-2,0,null,4.04,4.04]
[{"$f":"'kros seznam'!B96","v":"K"},{"$f":"'kros seznam'!C96","v":"725241112"},{"$f":"'kros seznam'!D96","v":"Vanička sprchová akrylátová čtvercová D+M"},{"$f":"'kros seznam'!E96","v":"soubor"},{"$f":"'zařizovací předměty'!K27","v":1},{"$f":"'Navrhovaný stav'!L92+750","v":1090},{"$f":"F452*E452","v":1090},{"$f":"'kros seznam'!J96","v":1.3809999999999999E-2},{"$f":"E452*H452","v":1.3809999999999999E-2},{"$f":"'kros seznam'!K96","v":0},null,{"$f":"'kros seznam'!L96","v":2.54},{"$f":"L452*E452","v":2.54}]
[{"$f":"'kros seznam'!B98","v":"K"},{"$f":"'kros seznam'!C98","v":"725245103"},{"$f":"'kros seznam'!D98","v":"Zástěna sprchová jednokřídlá D+M"},{"$f":"'kros seznam'!E98","v":"soubor"},{"$f":"'zařizovací předměty'!K27","v":1},{"$f":"'Navrhovaný stav'!L95","v":5000},{"$f":"F453*E453","v":5000},{"$f":"'kros seznam'!J98","v":1.034E-2},{"$f":"E453*H453","v":1.034E-2},{"$f":"'kros seznam'!K98","v":0},null,{"$f":"'kros seznam'!L98","v":1.5},{"$f":"L453*E453","v":1.5}]
[]
["SPRCHA SE ČTVERCOVOU VANIČKOU"]
[{"$f":"'kros seznam'!B82","v":"D"},{"$f":"'kros seznam'!C82","v":"725"},{"$f":"'kros seznam'!D82","v":"Zdravotechnika - zařizovací předměty"},null,null,null,{"$f":"SUM(G457:G458)","v":6590},{"$f":"SUM(H457:H458)","v":2.4149999999999998E-2},{"$f":"SUM(I457:I458)","v":2.4149999999999998E-2},{"$f":"SUM(J457:J458)","v":0},null,{"$f":"SUM(L457:L458)","v":4.04},{"$f":"SUM(M457:M458)","v":4.04}]
[{"$f":"'kros seznam'!B96","v":"K"},{"$f":"'kros seznam'!C96","v":"725241112"},{"$f":"'kros seznam'!D96","v":"Vanička sprchová akrylátová čtvercová D+M"},{"$f":"'kros seznam'!E96","v":"soubor"},{"$f":"'zařizovací předměty'!K27","v":1},{"$f":"'Navrhovaný stav'!L92+750","v":1090},{"$f":"F457*E457","v":1090},{"$f":"'kros seznam'!J96","v":1.3809999999999999E-2},{"$f":"E457*H457","v":1.3809999999999999E-2},{"$f":"'kros seznam'!K96","v":0},null,{"$f":"'kros seznam'!L96","v":2.54},{"$f":"L457*E457","v":2.54}]
[{"$f":"'kros seznam'!B98","v":"K"},{"$f":"'kros seznam'!C98","v":"725245103"},{"$f":"'kros seznam'!D98","v":"Zástěna sprchová jednokřídlá D+M"},{"$f":"'kros seznam'!E98","v":"soubor"},{"$f":"'zařizovací předměty'!K27","v":1},{"$f":"'Navrhovaný stav'!L95+500","v":5500},{"$f":"F458*E458","v":5500},{"$f":"'kros seznam'!J98","v":1.034E-2},{"$f":"E458*H458","v":1.034E-2},{"$f":"'kros seznam'!K98","v":0},null,{"$f":"'kros seznam'!L98","v":1.5},{"$f":"L458*E458","v":1.5}]
[]
["SPRCHA SPRCHOVÝ BOX"]
[{"$f":"'kros seznam'!B82","v":"D"},{"$f":"'kros seznam'!C82","v":"725"},{"$f":"'kros seznam'!D82","v":"Zdravotechnika - zařizovací předměty"},null,null,null,{"$f":"SUM(G462)","v":1340},{"$f":"SUM(H462)","v":4.1169999999999998E-2},{"$f":"SUM(I462)","v":4.1169999999999998E-2},{"$f":"SUM(J462)","v":0},null,{"$f":"SUM(L462)","v":11.04},{"$f":"SUM(M462)","v":11.04}]
[{"$f":"'kros seznam'!B97","v":"K"},{"$f":"'kros seznam'!C97","v":"725243111"},{"$f":"'kros seznam'!D97","v":"Box sprchový masážní a parní D+M"},{"$f":"'kros seznam'!E97","v":"soubor"},{"$f":"'zařizovací předměty'!K27","v":1},{"$f":"'Navrhovaný stav'!L92+1000","v":1340},{"$f":"F462*E462","v":1340},{"$f":"'kros seznam'!J97","v":4.1169999999999998E-2},{"$f":"E462*H462","v":4.1169999999999998E-2},{"$f":"'kros seznam'!K97","v":0},null,{"$f":"'kros seznam'!L97","v":11.04},{"$f":"L462*E462","v":11.04}]
[]
["SPRCHA ČTVRTKRUHOVÁ"]
[{"$f":"'kros seznam'!B82","v":"D"},{"$f":"'kros seznam'!C82","v":"725"},{"$f":"'kros seznam'!D82","v":"Zdravotechnika - zařizovací předměty"},null,null,null,{"$f":"SUM(G466:G467)","v":6590},{"$f":"SUM(H466:H467)","v":2.9149999999999999E-2},{"$f":"SUM(I466:I467)","v":2.9149999999999999E-2},{"$f":"SUM(J466:J467)","v":0},null,{"$f":"SUM(L466:L467)","v":5.04},{"$f":"SUM(M466:M467)","v":5.04}]
[{"$f":"'kros seznam'!B99","v":"K"},{"$f":"'kros seznam'!C99","v":"725241142"},{"$f":"'kros seznam'!D99","v":"Vanička sprchová akrylátová čtvrtkruhová D+M"},{"$f":"'kros seznam'!E99","v":"soubor"},{"$f":"'zařizovací předměty'!K27","v":1},{"$f":"'Navrhovaný stav'!L92+750","v":1090},{"$f":"F466*E466","v":1090},{"$f":"'kros seznam'!J99","v":1.3809999999999999E-2},{"$f":"E466*H466","v":1.3809999999999999E-2},{"$f":"'kros seznam'!K99","v":0},null,{"$f":"'kros seznam'!L99","v":2.54},{"$f":"L466*E466","v":2.54}]
[{"$f":"'kros seznam'!B100","v":"K"},{"$f":"'kros seznam'!C100","v":"725245192"},{"$f":"'kros seznam'!D100","v":" Zástěna sprchová zásuvná čtvrtkruh D+M"},{"$f":"'kros seznam'!E100","v":"soubor"},{"$f":"'zařizovací předměty'!K27","v":1},{"$f":"'Navrhovaný stav'!L95+500","v":5500},{"$f":"F467*E467","v":5500},{"$f":"'kros seznam'!J100","v":1.5339999999999999E-2},{"$f":"E467*H467","v":1.5339999999999999E-2},{"$f":"'kros seznam'!K100","v":0},null,{"$f":"'kros seznam'!L100","v":2.5},{"$f":"L467*E467","v":2.5}]
[]
["VANA ROVNÁ PODEZDĚNÁ"]
[{"$f":"'kros seznam'!B3","v":"D"},{"$f":"'kros seznam'!C3","v":"3"},{"$f":"'kros seznam'!D3","v":"Svislé a kompletní konstrukce"},null,null,null,{"$f":"SUM(G471)","v":449.75700000000006},{"$f":"SUM(H471)","v":4.9630000000000001E-2},{"$f":"SUM(I471)","v":4.8314805000000009E-2},{"$f":"SUM(J471)","v":0},null,{"$f":"SUM(L471)","v":0.80500000000000005},{"$f":"SUM(M471)","v":0.78366750000000018}]
[{"$f":"'kros seznam'!B13","v":"K"},{"$f":"'kros seznam'!C13","v":"346244352"},{"$f":"'kros seznam'!D13","v":"Obezdívka koupelnových van ploch rovných tl 50 mm z pórobetonových přesných příčkovek hladkých Ytong"},{"$f":"'kros seznam'!E13","v":"m2"},{"$f":"'Navrhovaný stav - pomocný'!E17","v":0.97350000000000014},{"$f":"'kros seznam'!G13","v":462},{"$f":"F471*E471","v":449.75700000000006},{"$f":"'kros seznam'!J13","v":4.9630000000000001E-2},{"$f":"E471*H471","v":4.8314805000000009E-2},{"$f":"'kros seznam'!K13","v":0},null,{"$f":"'kros seznam'!L13","v":0.80500000000000005},{"$f":"L471*E471","v":0.78366750000000018}]
[{"$f":"'kros seznam'!B82","v":"D"},{"$f":"'kros seznam'!C82","v":"725"},{"$f":"'kros seznam'!D82","v":"Zdravotechnika - zařizovací předměty"},null,null,null,{"$f":"SUM(G473)","v":4750},{"$f":"SUM(H473)","v":1.9099999999999999E-2},{"$f":"SUM(I473)","v":1.9099999999999999E-2},{"$f":"SUM(J473)","v":0},null,{"$f":"SUM(L473)","v":2.4620000000000002},{"$f":"SUM(M473)","v":2.4620000000000002}]
[{"$f":"'kros seznam'!B105","v":"K"},{"$f":"'kros seznam'!C105","v":"725222116"},{"$f":"'kros seznam'!D105","v":"Vana bez armatur výtokových akrylátová se zápachovou uzávěrkou D+M"},{"$f":"'kros seznam'!E105","v":"soubor"},{"$f":"'zařizovací předměty'!K23","v":1},{"$f":"'Navrhovaný stav'!L85+750","v":4750},{"$f":"F473*E473","v":4750},{"$f":"'kros seznam'!J105","v":1.9099999999999999E-2},{"$f":"E473*H473","v":1.9099999999999999E-2},{"$f":"'kros seznam'!K105","v":0},null,{"$f":"'kros seznam'!L105","v":2.4620000000000002},{"$f":"L473*E473","v":2.4620000000000002}]
[]
["VANA ROVNÁ S KRYCÍM PANELEM"]
[{"$f":"'kros seznam'!B82","v":"D"},{"$f":"'kros seznam'!C82","v":"725"},{"$f":"'kros seznam'!D82","v":"Zdravotechnika - zařizovací předměty"},null,null,null,{"$f":"SUM(G477)","v":4750},{"$f":"SUM(H477)","v":1.9099999999999999E-2},{"$f":"SUM(I477)","v":1.9099999999999999E-2},{"$f":"SUM(J477)","v":0},null,{"$f":"SUM(L477)","v":2.4620000000000002},{"$f":"SUM(M477)","v":2.4620000000000002}]
[{"$f":"'kros seznam'!B105","v":"K"},{"$f":"'kros seznam'!C105","v":"725222116"},{"$f":"'kros seznam'!D105","v":"Vana bez armatur výtokových akrylátová se zápachovou uzávěrkou D+M"},{"$f":"'kros seznam'!E105","v":"soubor"},{"$f":"'zařizovací předměty'!K23","v":1},{"$f":"'Navrhovaný stav'!L85+750","v":4750},{"$f":"F477*E477","v":4750},{"$f":"'kros seznam'!J105","v":1.9099999999999999E-2},{"$f":"E477*H477","v":1.9099999999999999E-2},{"$f":"'kros seznam'!K105","v":0},null,{"$f":"'kros seznam'!L105","v":2.4620000000000002},{"$f":"L477*E477","v":2.4620000000000002}]
[]
["VANA ROHOVÁ PODEZDĚNÁ"]
[{"$f":"'kros seznam'!B3","v":"D"},{"$f":"'kros seznam'!C3","v":"3"},{"$f":"'kros seznam'!D3","v":"Svislé a kompletní konstrukce"},null,null,null,{"$f":"SUM(G481)","v":371.08912500000002},{"$f":"SUM(H481)","v":5.3659999999999999E-2},{"$f":"SUM(I481)","v":3.4751557500000002E-2},{"$f":"SUM(J481)","v":0},null,{"$f":"SUM(L481)","v":1.153},{"$f":"SUM(M481)","v":0.74671162499999999}]
[{"$f":"'kros seznam'!B14","v":"K"},{"$f":"'kros seznam'!C14","v":"346244356"},{"$f":"'kros seznam'!D14","v":"Obezdívka koupelnových van ploch zaoblených tl 50 mm z pórobetonových příčkovek hladkých Ytong"},{"$f":"'kros seznam'!E14","v":"m2"},{"$f":"'Navrhovaný stav - pomocný'!D19","v":0.64762500000000001},{"$f":"'kros seznam'!G14","v":573},{"$f":"F481*E481","v":371.08912500000002},{"$f":"'kros seznam'!J14","v":5.3659999999999999E-2},{"$f":"E481*H481","v":3.4751557500000002E-2},{"$f":"'kros seznam'!K14","v":0},null,{"$f":"'kros seznam'!L14","v":1.153},{"$f":"L481*E481","v":0.74671162499999999}]
[{"$f":"'kros seznam'!B82","v":"D"},{"$f":"'kros seznam'!C82","v":"725"},{"$f":"'kros seznam'!D82","v":"Zdravotechnika - zařizovací předměty"},null,null,null,{"$f":"SUM(G483)","v":4750},{"$f":"SUM(H483)","v":2.9100000000000001E-2},{"$f":"SUM(I483)","v":2.9100000000000001E-2},{"$f":"SUM(J483)","v":0},null,{"$f":"SUM(L483)","v":2.4620000000000002},{"$f":"SUM(M483)","v":2.4620000000000002}]
[{"$f":"'kros seznam'!B106","v":"K"},{"$f":"'kros seznam'!C106","v":"725222153"},{"$f":"'kros seznam'!D106","v":" Vana bez armatur výtokových akrylátová se zápachovou uzávěrkou rohová D+M"},{"$f":"'kros seznam'!E106","v":"soubor"},{"$f":"'zařizovací předměty'!K23","v":1},{"$f":"'Navrhovaný stav'!L85+750","v":4750},{"$f":"F483*E483","v":4750},{"$f":"'kros seznam'!J106","v":2.9100000000000001E-2},{"$f":"E483*H483","v":2.9100000000000001E-2},{"$f":"'kros seznam'!K106","v":0},null,{"$f":"'kros seznam'!L106","v":2.4620000000000002},{"$f":"L483*E483","v":2.4620000000000002}]
[]
["VANA ROHOVÁ S KRYCÍM PANELEM"]
[{"$f":"'kros seznam'!B82","v":"D"},{"$f":"'kros seznam'!C82","v":"725"},{"$f":"'kros seznam'!D82","v":"Zdravotechnika - zařizovací předměty"},null,null,null,{"$f":"SUM(G487)","v":4750},{"$f":"SUM(H487)","v":2.9100000000000001E-2},{"$f":"SUM(I487)","v":2.9100000000000001E-2},{"$f":"SUM(J487)","v":0},null,{"$f":"SUM(L487)","v":2.4620000000000002},{"$f":"SUM(M487)","v":2.4620000000000002}]
[{"$f":"'kros seznam'!B106","v":"K"},{"$f":"'kros seznam'!C106","v":"725222153"},{"$f":"'kros seznam'!D106","v":" Vana bez armatur výtokových akrylátová se zápachovou uzávěrkou rohová D+M"},{"$f":"'kros seznam'!E106","v":"soubor"},{"$f":"'zařizovací předměty'!K23","v":1},{"$f":"'Navrhovaný stav'!L85+750","v":4750},{"$f":"F487*E487","v":4750},{"$f":"'kros seznam'!J106","v":2.9100000000000001E-2},{"$f":"E487*H487","v":2.9100000000000001E-2},{"$f":"'kros seznam'!K106","v":0},null,{"$f":"'kros seznam'!L106","v":2.4620000000000002},{"$f":"L487*E487","v":2.4620000000000002}]
[]
["WC STANDARD"]
[{"$f":"'kros seznam'!B82","v":"D"},{"$f":"'kros seznam'!C82","v":"725"},{"$f":"'kros seznam'!D82","v":"Zdravotechnika - zařizovací předměty"},null,null,null,{"$f":"SUM(G491)","v":2500},{"$f":"SUM(H491)","v":1.1849999999999999E-2},{"$f":"SUM(I491)","v":1.1849999999999999E-2},{"$f":"SUM(J491)","v":0},null,{"$f":"SUM(L491)","v":0.95},{"$f":"SUM(M491)","v":0.95}]
[{"$f":"'kros seznam'!B101","v":"K"},{"$f":"'kros seznam'!C101","v":"725112002"},{"$f":"'kros seznam'!D101","v":"Klozet keramický standardní s hlubokým splachováním odpad svislý D+M"},{"$f":"'kros seznam'!E101","v":"soubor"},{"$f":"'zařizovací předměty'!K15","v":1},{"$f":"'Navrhovaný stav'!L74","v":2500},{"$f":"F491*E491","v":2500},{"$f":"'kros seznam'!J101","v":1.1849999999999999E-2},{"$f":"E491*H491","v":1.1849999999999999E-2},{"$f":"'kros seznam'!K101","v":0},null,{"$f":"'kros seznam'!L101","v":0.95},{"$f":"L491*E491","v":0.95}]
[]
["WC GEBERIT"]
[{"$f":"'kros seznam'!B82","v":"D"},{"$f":"'kros seznam'!C82","v":"725"},{"$f":"'kros seznam'!D82","v":"Zdravotechnika - zařizovací předměty"},null,null,null,{"$f":"SUM(G495)","v":2500},2.52E-2,2.52E-2,0,null,{"$f":"SUM(L495)","v":2.5},{"$f":"SUM(M495)","v":2.5}]
[{"$f":"'kros seznam'!B102","v":"K"},{"$f":"'kros seznam'!C102","v":"725112X"},{"$f":"'kros seznam'!D102","v":"Geberit D+M"},{"$f":"'kros seznam'!E102","v":"soubor"},{"$f":"'zařizovací předměty'!K15","v":1},{"$f":"'Navrhovaný stav'!L74","v":2500},{"$f":"F495*E495","v":2500},{"$f":"'kros seznam'!J102","v":2.52E-2},{"$f":"E495*H495","v":2.52E-2},{"$f":"'kros seznam'!K102","v":0},null,{"$f":"'kros seznam'!L102","v":2.5},{"$f":"L495*E495","v":2.5}]
[{"$f":"'kros seznam'!B3","v":"D"},{"$f":"'kros seznam'!C3","v":"3"},{"$f":"'kros seznam'!D3","v":"Svislé a kompletní konstrukce"},null,null,null,444.16800000000006,4.1500000000000002E-2,4.6314000000000008E-2,0]
[{"$f":"'kros seznam'!B15","v":"K"},{"$f":"'kros seznam'!C15","v":346272111},{"$f":"'kros seznam'!D15","v":"Přizdívky tl 50 mm z pórobetonových přesných příčkovek Ytong objemové hmotnosti 500 kg/m3"},{"$f":"'kros seznam'!E15","v":"m2"},{"$f":"'Navrhovaný stav - pomocný'!E21","v":1.1160000000000001},{"$f":"'kros seznam'!G15","v":398},{"$f":"F497*E497","v":444.16800000000006},{"$f":"'kros seznam'!J15","v":4.1500000000000002E-2},{"$f":"H497*E497","v":4.6314000000000008E-2},0]
[]
["BIDET KLASICKÝ"]
[{"$f":"'kros seznam'!B82","v":"D"},{"$f":"'kros seznam'!C82","v":"725"},{"$f":"'kros seznam'!D82","v":"Zdravotechnika - zařizovací předměty"},null,null,null,{"$f":"SUM(G501)","v":2500},{"$f":"SUM(H501)","v":1.389E-2},{"$f":"SUM(I501)","v":1.389E-2},{"$f":"SUM(J501)","v":0},null,{"$f":"SUM(L501)","v":1.3},{"$f":"SUM(M501)","v":1.3}]
[{"$f":"'kros seznam'!B103","v":"K"},{"$f":"'kros seznam'!C103","v":"725231201"},{"$f":"'kros seznam'!D103","v":"Bidet keramický klasický bez bidetové soupravy D+M"},{"$f":"'kros seznam'!E103","v":"soubor"},{"$f":"'zařizovací předměty'!K19","v":1},{"$f":"'Navrhovaný stav'!L78","v":2500},{"$f":"F501*E501","v":2500},{"$f":"'kros seznam'!J103","v":1.389E-2},{"$f":"E501*H501","v":1.389E-2},{"$f":"'kros seznam'!K103","v":0},null,{"$f":"'kros seznam'!L103","v":1.3},{"$f":"L501*E501","v":1.3}]
[]
["BIDET ZÁVĚSNÝ"]
[{"$f":"'kros seznam'!B82","v":"D"},{"$f":"'kros seznam'!C82","v":"725"},{"$f":"'kros seznam'!D82","v":"Zdravotechnika - zařizovací předměty"},null,null,null,{"$f":"SUM(G505)","v":2500},{"$f":"SUM(H505)","v":1.6840000000000001E-2},{"$f":"SUM(I505)","v":1.6840000000000001E-2},{"$f":"SUM(J505)","v":0},null,{"$f":"SUM(L505)","v":1.4},{"$f":"SUM(M505)","v":1.4}]
[{"$f":"'kros seznam'!B104","v":"K"},{"$f":"'kros seznam'!C104","v":"725231203"},{"$f":"'kros seznam'!D104","v":"Bidet keramický závěsný bez bidetové soupravy D+M"},{"$f":"'kros seznam'!E104","v":"soubor"},{"$f":"'zařizovací předměty'!K19","v":1},{"$f":"'Navrhovaný stav'!L78","v":2500},{"$f":"F505*E505","v":2500},{"$f":"'kros seznam'!J104","v":1.6840000000000001E-2},{"$f":"E505*H505","v":1.6840000000000001E-2},{"$f":"'kros seznam'!K104","v":0},null,{"$f":"'kros seznam'!L104","v":1.4},{"$f":"L505*E505","v":1.4}]
[]
["UMYVADLO"]
[{"$f":"'kros seznam'!B82","v":"D"},{"$f":"'kros seznam'!C82","v":"725"},{"$f":"'kros seznam'!D82","v":"Zdravotechnika - zařizovací předměty"},null,null,null,{"$f":"SUM(G509)","v":2300},{"$f":"SUM(H509)","v":1.5520000000000001E-2},{"$f":"SUM(I509)","v":1.5520000000000001E-2},{"$f":"SUM(J509)","v":0},null,{"$f":"SUM(L509)","v":1.1000000000000001},{"$f":"SUM(M509)","v":1.1000000000000001}]
[{"$f":"'kros seznam'!B95","v":"K"},{"$f":"'kros seznam'!C95","v":"725211602"},{"$f":"'kros seznam'!D95","v":"Umyvadlo keramické D+M"},{"$f":"'kros seznam'!E95","v":"soubor"},{"$f":"'kros seznam'!F95","v":1},{"$f":"'Navrhovaný stav'!L102+300","v":2300},{"$f":"F509*E509","v":2300},{"$f":"'kros seznam'!J95","v":1.5520000000000001E-2},{"$f":"E509*H509","v":1.5520000000000001E-2},{"$f":"'kros seznam'!K95","v":0},null,1.1000000000000001,{"$f":"L509*E509","v":1.1000000000000001}]
[]
["PODLAHOVÉ TOPENÍ"]
[{"$f":"'kros seznam'!B123","v":"D"},{"$f":"'kros seznam'!C123","v":"735"},{"$f":"'kros seznam'!D123","v":"Ústřední vytápění - otopná tělesa"},null,null,null,{"$f":"SUM(G513)","v":1400},{"$f":"SUM(H513)","v":0},{"$f":"SUM(I513)","v":0},{"$f":"SUM(J513)","v":0},null,{"$f":"SUM(L513)","v":0},{"$f":"SUM(M513)","v":0}]
[{"$f":"'kros seznam'!B125","v":"K"},{"$f":"'kros seznam'!C125","v":"735X"},{"$f":"'kros seznam'!D125","v":"Podlahové vytápění - topné rohože D+M"},{"$f":"'kros seznam'!E125","v":"m2"},{"$f":"'kros seznam'!F125","v":1},{"$f":"'kros seznam'!G125","v":1400},{"$f":"F513*E513","v":1400},0,{"$f":"E513*H513","v":0},0,null,0,{"$f":"L513*E513","v":0}]
[]
["OTOPNÝ ŽEBŘÍK"]
[{"$f":"'kros seznam'!B123","v":"D"},{"$f":"'kros seznam'!C123","v":"735"},{"$f":"'kros seznam'!D123","v":"Ústřední vytápění - otopná tělesa"},null,null,null,{"$f":"SUM(G517)","v":2600},{"$f":"SUM(H517)","v":1.2999999999999999E-2},{"$f":"SUM(I517)","v":1.2999999999999999E-2},{"$f":"SUM(J517)","v":0},null,{"$f":"SUM(L517)","v":0},{"$f":"SUM(M517)","v":{"$error":"#REF!"}}]
[{"$f":"'kros seznam'!B124","v":"K"},{"$f":"'kros seznam'!C124","v":"735152112"},{"$f":"'kros seznam'!D124","v":"Otopné těleso panelové D+M"},{"$f":"'kros seznam'!E124","v":"kus"},{"$f":"'kros seznam'!F124","v":1},{"$f":"'Navrhovaný stav'!L109+600","v":2600},{"$f":"F517*E517","v":2600},1.2999999999999999E-2,{"$f":"E517*H517","v":1.2999999999999999E-2},0,null,0,{"$f":"'kros seznam'!#REF!","v":{"$error":"#REF!"}}]
[]
["ELEKTRO"]
[{"$f":"'kros seznam'!B272","v":"D"},{"$f":"'kros seznam'!C272","v":"21-M"},{"$f":"'kros seznam'!D272","v":"Elektromontáže"},null,null,null,{"$f":"SUM(G521)","v":7000},{"$f":"SUM(H521)","v":0},{"$f":"SUM(I521)","v":0},{"$f":"SUM(J521)","v":0},null,{"$f":"SUM(L521)","v":0},{"$f":"SUM(M521)","v":0}]
[{"$f":"'kros seznam'!B273","v":"K"},{"$f":"'kros seznam'!C273","v":"2100X"},{"$f":"'kros seznam'!D273","v":"Elektro D+M"},{"$f":"'kros seznam'!E273","v":"soubor"},{"$f":"'kros seznam'!F273","v":1},{"$f":"'Navrhovaný stav - pomocný'!F77","v":7000},{"$f":"F521*E521","v":7000},0,0,0,null,0]
[]
["KANALIZACE"]
[{"$f":"'kros seznam'!B78","v":"D"},{"$f":"'kros seznam'!C78","v":"721"},{"$f":"'kros seznam'!D78","v":"Zdravotechnika - vnitřní kanalizace"},null,null,null,{"$f":"SUM(G525)","v":6000},{"$f":"SUM(H525)","v":0},{"$f":"SUM(I525)","v":0},{"$f":"SUM(J525)","v":0},null,0,{"$f":"SUM(M525)","v":{"$error":"#REF!"}}]
[{"$f":"'kros seznam'!B79","v":"K"},{"$f":"'kros seznam'!C79","v":"721X"},{"$f":"'kros seznam'!D79","v":"Potrubí kanalizační plastové D+M"},{"$f":"'kros seznam'!E79","v":"soubor"},{"$f":"'kros seznam'!F79","v":1},{"$f":"'kros seznam'!G79","v":6000},{"$f":"E525*F525","v":6000},0,{"$f":"'kros seznam'!J79","v":0},{"$f":"'kros seznam'!K79","v":0},{"$f":"'kros seznam'!L79","v":0},0,{"$f":"'kros seznam'!#REF!","v":{"$error":"#REF!"}}]
[]
["VODOVOD"]
[{"$f":"'kros seznam'!B80","v":"D"},{"$f":"'kros seznam'!C80","v":"722"},{"$f":"'kros seznam'!D80","v":"Zdravotechnika - vnitřní vodovod"},null,null,null,{"$f":"SUM(G529)","v":6000},{"$f":"SUM(H529)","v":0},{"$f":"SUM(I529)","v":0},{"$f":"SUM(J529)","v":0},null,0,{"$f":"SUM(M529)","v":{"$error":"#REF!"}}]
[{"$f":"'kros seznam'!B81","v":"K"},{"$f":"'kros seznam'!C81","v":"722X"},{"$f":"'kros seznam'!D81","v":"Potrubí vodovodní plastové D+M"},{"$f":"'kros seznam'!E81","v":"soubor"},{"$f":"'kros seznam'!F81","v":1},{"$f":"'kros seznam'!G81","v":6000},{"$f":"E529*F529","v":6000},0,{"$f":"'kros seznam'!J81","v":0},{"$f":"'kros seznam'!K81","v":0},{"$f":"'kros seznam'!L81","v":0},0,{"$f":"'kros seznam'!#REF!","v":{"$error":"#REF!"}}]
[]
["BATERIE UMYVADLOVÁ STOJÁNKOVÁ PÁKOVÁ"]
[{"$f":"'kros seznam'!B82","v":"D"},{"$f":"'kros seznam'!C82","v":"725"},{"$f":"'kros seznam'!D82","v":"Zdravotechnika - zařizovací předměty"},null,null,null,{"$f":"SUM(G533)","v":2115},{"$f":"SUM(H533)","v":2E-3},{"$f":"SUM(I533)","v":2E-3}]
[{"$f":"'kros seznam'!B83","v":"K"},{"$f":"'kros seznam'!C83","v":"725822612"},{"$f":"'kros seznam'!D83","v":"Baterie umyvadlová stojánková páková D+M"},{"$f":"'kros seznam'!E83","v":"soubor"},{"$f":"'kros seznam'!F83","v":1},{"$f":"'kros seznam'!G83+115","v":2115},{"$f":"(E533*F533)","v":2115},{"$f":"'kros seznam'!J83","v":2E-3},{"$f":"H533*E533","v":2E-3},{"$f":"'kros seznam'!K83","v":0},{"$f":"'kros seznam'!L83","v":0},{"$f":"'kros seznam'!M83","v":0}]
[]
["BATERIE UMYVADLOVÁ STOJÁNKOVÁ KLASICKÁ"]
[{"$f":"'kros seznam'!B82","v":"D"},{"$f":"'kros seznam'!C82","v":"725"},{"$f":"'kros seznam'!D82","v":"Zdravotechnika - zařizovací předměty"},null,null,null,{"$f":"SUM(G537)","v":2115},{"$f":"SUM(H537)","v":2E-3},{"$f":"SUM(I537)","v":2E-3}]
[{"$f":"'kros seznam'!B84","v":"K"},{"$f":"'kros seznam'!C84","v":"725822633"},{"$f":"'kros seznam'!D84","v":"Baterie umyvadlová stojánková klasická D+M"},{"$f":"'kros seznam'!E84","v":"soubor"},{"$f":"'kros seznam'!F84","v":1},{"$f":"'kros seznam'!G84+115","v":2115},{"$f":"(E537*F537)","v":2115},{"$f":"'kros seznam'!J87","v":2E-3},{"$f":"H537*E537","v":2E-3},{"$f":"'kros seznam'!K87","v":0},{"$f":"'kros seznam'!L87","v":0},{"$f":"'kros seznam'!M87","v":0}]
[]
["BATERIE UMYVADLOVÁ TERMOSTATICKÁ"]
[{"$f":"'kros seznam'!B82","v":"D"},{"$f":"'kros seznam'!C82","v":"725"},{"$f":"'kros seznam'!D82","v":"Zdravotechnika - zařizovací předměty"},null,null,null,{"$f":"SUM(G541)","v":2115},{"$f":"SUM(H541)","v":2E-3},{"$f":"SUM(I541)","v":2E-3}]
[{"$f":"'kros seznam'!B85","v":"K"},{"$f":"'kros seznam'!C85","v":"725822654"},{"$f":"'kros seznam'!D85","v":"Baterie umyvadlová termostatická D+M"},{"$f":"'kros seznam'!E85","v":"soubor"},{"$f":"'kros seznam'!F85","v":1},{"$f":"'kros seznam'!G85+115","v":2115},{"$f":"(F541*E541)","v":2115},2E-3,{"$f":"H541*E541","v":2E-3},0,0]
[]
["BATERIE BIDETOVÁ PÁKOVÁ"]
[{"$f":"'kros seznam'!B82","v":"D"},{"$f":"'kros seznam'!C82","v":"725"},{"$f":"'kros seznam'!D82","v":"Zdravotechnika - zařizovací předměty"},null,null,null,{"$f":"SUM(G545)","v":4075},{"$f":"SUM(H545)","v":2E-3},{"$f":"SUM(I545)","v":2E-3}]
[{"$f":"'kros seznam'!B86","v":"K"},{"$f":"'kros seznam'!C86","v":"725823112"},{"$f":"'kros seznam'!D86","v":"Baterie bidetová páková D+M"},{"$f":"'kros seznam'!E86","v":"soubor"},{"$f":"'kros seznam'!F86","v":1},{"$f":"'kros seznam'!G86+75","v":4075},{"$f":"(F545*E545)","v":4075},2E-3,{"$f":"H545*E545","v":2E-3},0,0]
[]
["BATERIE BIDETOVÁ KLASICKÁ"]
[{"$f":"'kros seznam'!B82","v":"D"},{"$f":"'kros seznam'!C82","v":"725"},{"$f":"'kros seznam'!D82","v":"Zdravotechnika - zařizovací předměty"},null,null,null,{"$f":"SUM(G549)","v":4075},{"$f":"SUM(H549)","v":2E-3},{"$f":"SUM(I549)","v":2E-3}]
[{"$f":"'kros seznam'!B87","v":"K"},{"$f":"'kros seznam'!C87","v":"725823122"},{"$f":"'kros seznam'!D87","v":"Baterie bidetová klasická D+M"},{"$f":"'kros seznam'!E87","v":"soubor"},{"$f":"'kros seznam'!F87","v":1},{"$f":"'kros seznam'!G87+75","v":4075},{"$f":"(E549*F549)","v":4075},2E-3,{"$f":"H549*E549","v":2E-3}]
[]
["BATERIE VANOVÁ PÁKOVÁ"]
[{"$f":"'kros seznam'!B82","v":"D"},{"$f":"'kros seznam'!C82","v":"725"},{"$f":"'kros seznam'!D82","v":"Zdravotechnika - zařizovací předměty"},null,null,null,{"$f":"SUM(G553)","v":2250},{"$f":"SUM(H553)","v":2E-3},{"$f":"SUM(I553)","v":2E-3}]
[{"$f":"'kros seznam'!B88","v":"K"},{"$f":"'kros seznam'!C88","v":"725831315"},{"$f":"'kros seznam'!D88","v":"Baterie vanová páková D+M"},{"$f":"'kros seznam'!E88","v":"soubor"},{"$f":"'kros seznam'!F88","v":1},{"$f":"'kros seznam'!G88+250","v":2250},{"$f":"(F553*E553)","v":2250},2E-3,{"$f":"H553*E553","v":2E-3}]
[]
["BATERIE VANOVÁ KLASICKÁ"]
[{"$f":"'kros seznam'!B82","v":"D"},{"$f":"'kros seznam'!C82","v":"725"},{"$f":"'kros seznam'!D82","v":"Zdravotechnika - zařizovací předměty"},null,null,null,{"$f":"SUM(G557)","v":2250},{"$f":"SUM(H557)","v":2E-3},{"$f":"SUM(I557)","v":2E-3}]
[{"$f":"'kros seznam'!B89","v":"K"},{"$f":"'kros seznam'!C89","v":"725831321"},{"$f":"'kros seznam'!D89","v":"Baterie vanová klasická D+M"},{"$f":"'kros seznam'!E89","v":"soubor"},{"$f":"'kros seznam'!F89","v":1},{"$f":"'kros seznam'!G89+250","v":2250},{"$f":"(F557*E557)","v":2250},2E-3,{"$f":"H557*E557","v":2E-3}]
[]
["BATERIE VANOVÁ TERMOSTATICKÁ"]
[{"$f":"'kros seznam'!B82","v":"D"},{"$f":"'kros seznam'!C82","v":"725"},{"$f":"'kros seznam'!D82","v":"Zdravotechnika - zařizovací předměty"},null,null,null,{"$f":"SUM(G561)","v":2250},{"$f":"SUM(H561)","v":2E-3},{"$f":"SUM(I561)","v":2E-3}]
[{"$f":"'kros seznam'!B90","v":"K"},{"$f":"'kros seznam'!C90","v":"725831322"},{"$f":"'kros seznam'!D90","v":"Baterie vanová termostatická D+M"},{"$f":"'kros seznam'!E90","v":"soubor"},{"$f":"'kros seznam'!F90","v":1},{"$f":"'kros seznam'!G90+250","v":2250},{"$f":"(F561*E561)","v":2250},2E-3,{"$f":"H561*E561","v":2E-3}]
[]
["BATERIE SPRCHOVÁ PÁKOVÁ"]
[{"$f":"'kros seznam'!B82","v":"D"},{"$f":"'kros seznam'!C82","v":"725"},{"$f":"'kros seznam'!D82","v":"Zdravotechnika - zařizovací předměty"},null,null,null,{"$f":"SUM(G565)","v":2250},{"$f":"SUM(H565)","v":2E-3},{"$f":"SUM(I565)","v":2E-3}]
[{"$f":"'kros seznam'!B91","v":"K"},{"$f":"'kros seznam'!C91","v":"725841311"},{"$f":"'kros seznam'!D91","v":"Baterie sprchová pákové D+M"},{"$f":"'kros seznam'!E91","v":"soubor"},{"$f":"'kros seznam'!F91","v":1},{"$f":"'kros seznam'!G91+250","v":2250},{"$f":"(E565*F565)","v":2250},2E-3,{"$f":"H565*E565","v":2E-3}]
[]
["BATERIE SPRCHOVÁ KLASICKÁ"]
[{"$f":"'kros seznam'!B82","v":"D"},{"$f":"'kros seznam'!C82","v":"725"},{"$f":"'kros seznam'!D82","v":"Zdravotechnika - zařizovací předměty"},null,null,null,{"$f":"SUM(G569)","v":2250},{"$f":"SUM(H569)","v":2E-3},{"$f":"SUM(I569)","v":2E-3}]
[{"$f":"'kros seznam'!B92","v":"K"},{"$f":"'kros seznam'!C92","v":"725841312"},{"$f":"'kros seznam'!D92","v":"Baterie sprchová klasická D+M"},{"$f":"'kros seznam'!E92","v":"soubor"},{"$f":"'kros seznam'!F92","v":1},{"$f":"'kros seznam'!G92+250","v":2250},{"$f":"(F569*E569)","v":2250},2E-3,{"$f":"H569*E569","v":2E-3}]
[]
["BATERIE SPRCHOVÁ ZÁPUSTNÁ S PEVNOU SPRCHOU"]
[{"$f":"'kros seznam'!B82","v":"D"},{"$f":"'kros seznam'!C82","v":"725"},{"$f":"'kros seznam'!D82","v":"Zdravotechnika - zařizovací předměty"},null,null,null,{"$f":"SUM(G573)","v":2250},{"$f":"SUM(H573)","v":2E-3},{"$f":"SUM(I573)","v":4.5}]
[{"$f":"'kros seznam'!B93","v":"K"},{"$f":"'kros seznam'!C93","v":"725841333"},{"$f":"'kros seznam'!D93","v":"Baterie sprchová zápustná s přepínačem a pevnou sprchou D+M"},{"$f":"'kros seznam'!E93","v":"soubor"},{"$f":"'kros seznam'!F93","v":1},{"$f":"'kros seznam'!G93+250","v":2250},{"$f":"(F573*E573)","v":2250},2E-3,{"$f":"H573*F573","v":4.5}]
[]
["BATERIE SPRCHOVÁ TERMOSTATICKÁ"]
[{"$f":"'kros seznam'!B82","v":"D"},{"$f":"'kros seznam'!C82","v":"725"},{"$f":"'kros seznam'!D82","v":"Zdravotechnika - zařizovací předměty"},null,null,null,{"$f":"SUM(G577)","v":2250},{"$f":"SUM(H577)","v":2E-3},{"$f":"SUM(I577)","v":2E-3}]
[{"$f":"'kros seznam'!B94","v":"K"},{"$f":"'kros seznam'!C94","v":"725841354"},{"$f":"'kros seznam'!D94","v":"Baterie sprchové automatické s termostatickým ventilem a sprchovou růžicí D+M"},{"$f":"'kros seznam'!E94","v":"soubor"},{"$f":"'kros seznam'!F94","v":1},{"$f":"'kros seznam'!G94+250","v":2250},{"$f":"(F577*E577)","v":2250},2E-3,{"$f":"H577*E577","v":2E-3}]
[]
["PŘESUN HMOT DEMONTÁŽ"]
[{"$f":"'kros seznam'!B43","v":"D"},{"$f":"'kros seznam'!C43","v":"9"},{"$f":"'kros seznam'!D43","v":"Ostatní konstrukce a práce-bourání"},null,null,null,{"$f":"SUM(G581:G587)","v":3819.0008195159999},0,0,0,0,0.15984799999999999,{"$error":"#REF!"}]
[{"$f":"'kros seznam'!B44","v":"K"},{"$f":"'kros seznam'!C44","v":"979011111"},{"$f":"'kros seznam'!D44","v":"Svislá doprava suti a vybouraných hmot za prvé podlaží"},{"$f":"'kros seznam'!E44","v":"t"},{"$f":"K172+K183+K188+K193+K197","v":1.75139457},{"$f":"'kros seznam'!G44","v":260},{"$f":"E581*F581","v":455.3625882},{"$f":"'kros seznam'!I44","v":0},{"$f":"'kros seznam'!J44","v":0},{"$f":"'kros seznam'!K44","v":0},null,0,{"$f":"'kros seznam'!#REF!","v":{"$error":"#REF!"}}]
[{"$f":"'kros seznam'!B45","v":"K"},{"$f":"'kros seznam'!C45","v":"979011121"},{"$f":"'kros seznam'!D45","v":"Svislá doprava suti a vybouraných hmot ZKD podlaží"},{"$f":"'kros seznam'!E45","v":"t"},{"$f":"K172+K183+K188+K193+K197","v":1.75139457},{"$f":"'kros seznam'!G45","v":112},{"$f":"E582*F582","v":196.15619183999999},{"$f":"'kros seznam'!I45","v":0},{"$f":"'kros seznam'!J45","v":0},{"$f":"'kros seznam'!K45","v":0},null,0,{"$f":"'kros seznam'!#REF!","v":{"$error":"#REF!"}}]
[{"$f":"'kros seznam'!B46","v":"K"},{"$f":"'kros seznam'!C46","v":"979081111"},{"$f":"'kros seznam'!D46","v":"Odvoz suti a vybouraných hmot na skládku do 1 km"},{"$f":"'kros seznam'!E46","v":"t"},{"$f":"K172+K183+K188+K193+K197","v":1.75139457},{"$f":"'kros seznam'!G46","v":365},{"$f":"F583*E583","v":639.25901805000001},{"$f":"'kros seznam'!J46","v":0},{"$f":"E583*H583","v":0},{"$f":"'kros seznam'!K46","v":0},null,{"$f":"'kros seznam'!L46","v":5.0959999999999998E-2},{"$f":"L583*E583","v":8.9251067287199989E-2}]
[{"$f":"'kros seznam'!B47","v":"K"},{"$f":"'kros seznam'!C47","v":"979081121"},{"$f":"'kros seznam'!D47","v":"Odvoz suti a vybouraných hmot na skládku ZKD 1 km přes 1 km"},{"$f":"'kros seznam'!E47","v":"t"},{"$f":"K172+K183+K188+K193+K197","v":1.75139457},{"$f":"'kros seznam'!G47","v":13.8},{"$f":"F584*E584","v":24.169245066000002},{"$f":"'kros seznam'!J47","v":0},{"$f":"E584*H584","v":0},{"$f":"'kros seznam'!K47","v":0},null,{"$f":"'kros seznam'!L47","v":0},{"$f":"L584*E584","v":0}]
[{"$f":"'kros seznam'!B48","v":"K"},{"$f":"'kros seznam'!C48","v":"979082111"},{"$f":"'kros seznam'!D48","v":"Vnitrostaveništní vodorovná doprava suti a vybouraných hmot do 10 m"},{"$f":"'kros seznam'!E48","v":"t"},{"$f":"K172","v":1.74085505},{"$f":"'kros seznam'!G48","v":217},{"$f":"F585*E585","v":377.76554584999997},{"$f":"'kros seznam'!J48","v":0},{"$f":"E585*H585","v":0},{"$f":"'kros seznam'!K48","v":0},null,{"$f":"'kros seznam'!L48","v":9.7968E-2},{"$f":"L585*E585","v":0.17054808753840001}]
[{"$f":"'kros seznam'!B49","v":"K"},{"$f":"'kros seznam'!C49","v":"979082121"},{"$f":"'kros seznam'!D49","v":"Vnitrostaveništní vodorovná doprava suti a vybouraných hmot ZKD 5 m přes 10 m"},{"$f":"'kros seznam'!E49","v":"t"},{"$f":"K172","v":1.74085505},{"$f":"'kros seznam'!G49","v":24.2},{"$f":"F586*E586","v":42.128692209999997},{"$f":"'kros seznam'!J49","v":0},{"$f":"E586*H586","v":0},{"$f":"'kros seznam'!K49","v":0},null,{"$f":"'kros seznam'!L49","v":1.0919999999999999E-2},{"$f":"L586*E586","v":1.9010137145999997E-2}]
[{"$f":"'kros seznam'!B50","v":"K"},{"$f":"'kros seznam'!C50","v":"979098231"},{"$f":"'kros seznam'!D50","v":"Poplatek za uložení stavebního směsného odpadu na skládce (skládkovné)"},{"$f":"'kros seznam'!E50","v":"t"},{"$f":"K172+K183+K188+K193+K197","v":1.75139457},{"$f":"'kros seznam'!G50","v":1190},{"$f":"F587*E587","v":2084.1595382999999},{"$f":"'kros seznam'!J50","v":0},{"$f":"E587*H587","v":0},{"$f":"'kros seznam'!K50","v":0},null,{"$f":"'kros seznam'!L50","v":0},{"$f":"L587*E587","v":0}]
[]
["PŘESUN HMOT DEMONTÁŽ ZDRAVOTECHNIKA"]
[{"$f":"'kros seznam'!B82","v":"D"},{"$f":"'kros seznam'!C82","v":"725"},{"$f":"'kros seznam'!D82","v":"Zdravotechnika - zařizovací předměty"}]
[{"$f":"'kros seznam'!B117","v":"K"},{"$f":"'kros seznam'!C117","v":"725590811"},{"$f":"'kros seznam'!D117","v":"Přemístění vnitrostaveništní demontovaných pro zařizovací předměty v objektech výšky do 6 m"},{"$f":"'kros seznam'!E117","v":"t"},{"$f":"K184+K189+K194+K198","v":1.053952E-2},{"$f":"'kros seznam'!G117","v":1080},{"$f":"F591*E591","v":11.3826816},{"$f":"'kros seznam'!J117","v":0},{"$f":"E591*H591","v":0},{"$f":"'kros seznam'!K117","v":0},null,{"$f":"'kros seznam'!L117","v":0.29154799999999997},{"$f":"L591*E591","v":3.0727759769599997E-3}]
[{"$f":"'kros seznam'!B118","v":"K"},{"$f":"'kros seznam'!C118","v":"725590812"},{"$f":"'kros seznam'!D118","v":"Přemístění vnitrostaveništní demontovaných pro zařizovací předměty v objektech výšky do 12 m"},{"$f":"'kros seznam'!E118","v":"t"},{"$f":"K184+K189+K194+K198","v":1.053952E-2},{"$f":"'kros seznam'!G118","v":1320},13.9121664,{"$f":"'kros seznam'!J118","v":0},0,{"$f":"'kros seznam'!K118","v":0},null,{"$f":"'kros seznam'!L118","v":0.36524000000000001},3.8494542848E-3]
[{"$f":"'kros seznam'!B119","v":"K"},{"$f":"'kros seznam'!C119","v":"725590813"},{"$f":"'kros seznam'!D119","v":"Přemístění vnitrostaveništní demontovaných pro zařizovací předměty v objektech výšky do 24 m"},{"$f":"'kros seznam'!E119","v":"t"},{"$f":"K184+K189+K194+K198","v":1.053952E-2},{"$f":"'kros seznam'!G119","v":1550},16.336255999999999,{"$f":"'kros seznam'!J119","v":0},0,{"$f":"'kros seznam'!K119","v":0},null,{"$f":"'kros seznam'!L119","v":0.43902400000000003},4.6271022284800007E-3]
[{"$f":"'kros seznam'!B120","v":"K"},{"$f":"'kros seznam'!C120","v":"725590814"},{"$f":"'kros seznam'!D120","v":"Přemístění vnitrostaveništní demontovaných pro zařizovací předměty v objektech výšky do 36 m"},{"$f":"'kros seznam'!E120","v":"t"},{"$f":"K184+K189+K194+K198","v":1.053952E-2},{"$f":"'kros seznam'!G120","v":1800},18.971136000000001,{"$f":"'kros seznam'!J120","v":0},0,{"$f":"'kros seznam'!K120","v":0},null,{"$f":"'kros seznam'!L120","v":0.51510800000000001},5.4289910681600004E-3]
[{"$f":"'kros seznam'!B121","v":"K"},{"$f":"'kros seznam'!C121","v":"725590815"},{"$f":"'kros seznam'!D121","v":"Přemístění vnitrostaveništní demontovaných pro zařizovací předměty v objektech výšky do 48 m"},{"$f":"'kros seznam'!E121","v":"t"},{"$f":"K184+K189+K194+K198","v":1.053952E-2},{"$f":"'kros seznam'!G121","v":2100},22.132992000000002,{"$f":"'kros seznam'!J121","v":0},0,{"$f":"'kros seznam'!K121","v":0},null,{"$f":"'kros seznam'!L121","v":0.58926000000000001},6.2105175552000002E-3]
[{"$f":"'kros seznam'!B122","v":"K"},{"$f":"'kros seznam'!C122","v":"725590816"},{"$f":"'kros seznam'!D122","v":"Přemístění vnitrostaveništní demontovaných pro zařizovací předměty v objektech výšky nad 48 m"},{"$f":"'kros seznam'!E122","v":"t"},{"$f":"K184+K189+K194+K198","v":1.053952E-2},{"$f":"'kros seznam'!G122","v":2350},24.767872000000001,{"$f":"'kros seznam'!J122","v":0},0,{"$f":"'kros seznam'!K122","v":0},null,{"$f":"'kros seznam'!L122","v":0.66497600000000001},7.00852785152E-3]
[]
["PŘESUN HMOT HSV"]
[{"$f":"'kros seznam'!B51","v":"D"},{"$f":"'kros seznam'!C51","v":"99"},{"$f":"'kros seznam'!D51","v":"Přesun hmot"}]
[{"$f":"'kros seznam'!B52","v":"K"},{"$f":"'kros seznam'!C52","v":"998011031"},{"$f":"'kros seznam'!D52","v":" Přesun hmot pro budovy z bloků výšky do 6 m"},{"$f":"'kros seznam'!E52","v":"t"},{"$f":"I4+I6+I14+I16+I53+I70+I82+I94+I106+I150+I154+I165+I204+I217+I230+I243+I470","v":8.2015290754799999},{"$f":"'kros seznam'!G52","v":180},{"$f":"F600*E600","v":1476.2752335864},{"$f":"'kros seznam'!J52","v":0},{"$f":"E600*H600","v":0},{"$f":"'kros seznam'!K52","v":0},null,{"$f":"'kros seznam'!L52","v":0},{"$f":"L600*E600","v":0}]
[{"$f":"'kros seznam'!B53","v":"K"},{"$f":"'kros seznam'!C53","v":"998011032"},{"$f":"'kros seznam'!D53","v":"Přesun hmot pro budovy z bloků výšky do 12 m"},{"$f":"'kros seznam'!E53","v":"t"},{"$f":"I4+I6+I14+I16+I53+I70+I82+I94+I106+I150+I154+I165+I204+I217+I230+I243+I470","v":8.2015290754799999},{"$f":"'kros seznam'!G53","v":213},{"$f":"F601*E601","v":1746.9256930772399},{"$f":"'kros seznam'!J53","v":0},{"$f":"E601*H601","v":0},{"$f":"'kros seznam'!K53","v":0},null,{"$f":"'kros seznam'!L53","v":0},{"$f":"L601*E601","v":0}]
[{"$f":"'kros seznam'!B54","v":"K"},{"$f":"'kros seznam'!C54","v":"998011033"},{"$f":"'kros seznam'!D54","v":"Přesun hmot pro budovy z bloků výšky do 24 m"},{"$f":"'kros seznam'!E54","v":"t"},{"$f":"I4+I6+I14+I16+I53+I70+I82+I94+I106+I150+I154+I165+I204+I217+I230+I243+I470","v":8.2015290754799999},{"$f":"'kros seznam'!G54","v":228},{"$f":"F602*E602","v":1869.94862920944},{"$f":"'kros seznam'!J54","v":0},{"$f":"E602*H602","v":0},{"$f":"'kros seznam'!K54","v":0},null,{"$f":"'kros seznam'!L54","v":0},{"$f":"L602*E602","v":0}]
[{"$f":"'kros seznam'!B55","v":"K"},{"$f":"'kros seznam'!C55","v":"998011034"},{"$f":"'kros seznam'!D55","v":"Přesun hmot pro budovy z bloků výšky do 36 m"},{"$f":"'kros seznam'!E55","v":"t"},{"$f":"I4+I6+I14+I16+I53+I70+I82+I94+I106+I150+I154+I165+I204+I217+I230+I243+I470","v":8.2015290754799999},{"$f":"'kros seznam'!G55","v":471},{"$f":"F603*E603","v":3862.9201945510799},{"$f":"'kros seznam'!J55","v":0},{"$f":"E603*H603","v":0},{"$f":"'kros seznam'!K55","v":0},null,{"$f":"'kros seznam'!L55","v":0},{"$f":"L603*E603","v":0}]
[{"$f":"'kros seznam'!B56","v":"K"},{"$f":"'kros seznam'!C56","v":"998011035"},{"$f":"'kros seznam'!D56","v":"Přesun hmot pro budovy z bloků výšky do 45 m"},{"$f":"'kros seznam'!E56","v":"t"},{"$f":"I4+I6+I14+I16+I53+I70+I82+I94+I106+I150+I154+I165+I204+I217+I230+I243+I470","v":8.2015290754799999},{"$f":"'kros seznam'!G56","v":512},{"$f":"F604*E604","v":4199.1828866457599},{"$f":"'kros seznam'!J56","v":0},{"$f":"E604*H604","v":0},{"$f":"'kros seznam'!K56","v":0},null,{"$f":"'kros seznam'!L56","v":0},{"$f":"L604*E604","v":0}]
[]
["PŘESUN HMOT PSV 711 IZOLACE PROTI VODĚ"]
[{"$f":"'kros seznam'!B60","v":"D"},{"$f":"'kros seznam'!C60","v":"711"},{"$f":"'kros seznam'!D60","v":"Izolace proti vodě, vlhkosti a plynům"}]
[{"$f":"'kros seznam'!B63","v":"K"},{"$f":"'kros seznam'!C63","v":"998711101"},{"$f":"'kros seznam'!D63","v":"Přesun hmot pro izolace proti vodě, vlhkosti a plynům v objektech výšky do 6 m"},{"$f":"'kros seznam'!E63","v":"t"},{"$f":"I65","v":6.7744499999999999E-2},{"$f":"'kros seznam'!G63","v":875},{"$f":"F608*E608","v":59.2764375},{"$f":"'kros seznam'!J63","v":0},{"$f":"E608*H608","v":0},{"$f":"'kros seznam'!K63","v":0},null,{"$f":"'kros seznam'!L63","v":1.4102999999999999E-2},{"$f":"L608*E608","v":9.5540068349999989E-4}]
[{"$f":"'kros seznam'!B64","v":"K"},{"$f":"'kros seznam'!C64","v":"998711102"},{"$f":"'kros seznam'!D64","v":"Přesun hmot pro izolace proti vodě, vlhkosti a plynům v objektech výšky do 12 m"},{"$f":"'kros seznam'!E64","v":"t"},{"$f":"I65","v":6.7744499999999999E-2},{"$f":"'kros seznam'!G64","v":919},{"$f":"F609*E609","v":62.257195500000002},{"$f":"'kros seznam'!J64","v":0},{"$f":"E609*H609","v":0},{"$f":"'kros seznam'!K64","v":0},null,{"$f":"'kros seznam'!L64","v":1.4382000000000001E-2},{"$f":"L609*E609","v":9.7430139900000004E-4}]
[{"$f":"'kros seznam'!B65","v":"K"},{"$f":"'kros seznam'!C65","v":"998711103"},{"$f":"'kros seznam'!D65","v":"Přesun hmot pro izolace proti vodě, vlhkosti a plynům v objektech výšky do 60 m"},{"$f":"'kros seznam'!E65","v":"t"},{"$f":"I65","v":6.7744499999999999E-2},{"$f":"'kros seznam'!G65","v":974},{"$f":"F610*E610","v":65.983142999999998},{"$f":"'kros seznam'!J65","v":0},{"$f":"E610*H610","v":0},{"$f":"'kros seznam'!K65","v":0},null,{"$f":"'kros seznam'!L65","v":1.4733E-2},{"$f":"L610*E610","v":9.9807971849999997E-4}]
[]
["PŘESUN HMOT PSV 713 IZOLACE TEPELNÉ"]
[{"$f":"'kros seznam'!B66","v":"D"},{"$f":"'kros seznam'!C66","v":"713"},{"$f":"'kros seznam'!D66","v":"Izolace tepelné"}]
[{"$f":"'kros seznam'!B72","v":"K"},{"$f":"'kros seznam'!C72","v":"998713101"},{"$f":"'kros seznam'!D72","v":"Přesun hmot pro izolace tepelné v objektech v do 6 m"},{"$f":"'kros seznam'!E72","v":"t"},{"$f":"I57","v":1.5635688235294122E-3},{"$f":"'kros seznam'!G72","v":795},{"$f":"'kros seznam'!H72","v":1},{"$f":"'kros seznam'!I72","v":0.8},{"$f":"'kros seznam'!J72","v":0},{"$f":"'kros seznam'!K72","v":0},{"$f":"'kros seznam'!L72","v":1.74E-3},0]
[{"$f":"'kros seznam'!B73","v":"K"},{"$f":"'kros seznam'!C73","v":"998713102"},{"$f":"'kros seznam'!D73","v":"Přesun hmot pro izolace tepelné v objektech v do 12 m"},{"$f":"'kros seznam'!E73","v":"t"},{"$f":"I57","v":1.5635688235294122E-3},{"$f":"'kros seznam'!G73","v":870},{"$f":"'kros seznam'!H73","v":1},{"$f":"'kros seznam'!I73","v":0.87},{"$f":"'kros seznam'!J73","v":0},{"$f":"'kros seznam'!K73","v":0},{"$f":"'kros seznam'!L73","v":1.8309999999999999E-3},0]
[{"$f":"'kros seznam'!B74","v":"K"},{"$f":"'kros seznam'!C74","v":"998713103"},{"$f":"'kros seznam'!D74","v":"Přesun hmot pro izolace tepelné v objektech v do 24 m"},{"$f":"'kros seznam'!E74","v":"t"},{"$f":"I57","v":1.5635688235294122E-3},{"$f":"'kros seznam'!G74","v":972},{"$f":"'kros seznam'!H74","v":1},{"$f":"'kros seznam'!I74","v":0.97},{"$f":"'kros seznam'!J74","v":0},{"$f":"'kros seznam'!K74","v":0},{"$f":"'kros seznam'!L74","v":1.9659999999999999E-3},0]
[{"$f":"'kros seznam'!B75","v":"K"},{"$f":"'kros seznam'!C75","v":"998713104"},{"$f":"'kros seznam'!D75","v":"Přesun hmot pro izolace tepelné v objektech v do 36 m"},{"$f":"'kros seznam'!E75","v":"t"},{"$f":"I57","v":1.5635688235294122E-3},{"$f":"'kros seznam'!G75","v":1070},{"$f":"'kros seznam'!H75","v":1},{"$f":"'kros seznam'!I75","v":1.07},{"$f":"'kros seznam'!J75","v":0},{"$f":"'kros seznam'!K75","v":0},{"$f":"'kros seznam'!L75","v":2.0990000000000002E-3},0]
[{"$f":"'kros seznam'!B76","v":"K"},{"$f":"'kros seznam'!C76","v":"998713105"},{"$f":"'kros seznam'!D76","v":"Přesun hmot pro izolace tepelné v objektech v do 48 m"},{"$f":"'kros seznam'!E76","v":"t"},{"$f":"I57","v":1.5635688235294122E-3},{"$f":"'kros seznam'!G76","v":1200},{"$f":"'kros seznam'!H76","v":1},{"$f":"'kros seznam'!I76","v":1.2},{"$f":"'kros seznam'!J76","v":0},{"$f":"'kros seznam'!K76","v":0},{"$f":"'kros seznam'!L76","v":2.2780000000000001E-3},0]
[{"$f":"'kros seznam'!B77","v":"K"},{"$f":"'kros seznam'!C77","v":"998713106"},{"$f":"'kros seznam'!D77","v":"Přesun hmot pro izolace tepelné v objektech v do 60 m"},{"$f":"'kros seznam'!E77","v":"t"},{"$f":"I57","v":1.5635688235294122E-3},{"$f":"'kros seznam'!G77","v":1310},{"$f":"'kros seznam'!H77","v":1},{"$f":"'kros seznam'!I77","v":1.31},{"$f":"'kros seznam'!J77","v":0},{"$f":"'kros seznam'!K77","v":0},{"$f":"'kros seznam'!L77","v":2.4109999999999999E-3},0]
[]
["PŘESUN HMOT PSV 725 ZDRAVOTECHNIKA"]
[{"$f":"'kros seznam'!B82","v":"D"},{"$f":"'kros seznam'!C82","v":"725"},{"$f":"'kros seznam'!D82","v":"Zdravotechnika - zařizovací předměty"}]
[{"$f":"'kros seznam'!B107","v":"K"},{"$f":"'kros seznam'!C107","v":"998725101"},{"$f":"'kros seznam'!D107","v":"Přesun hmot pro zařizovací předměty v objektech v do 6 m"},{"$f":"'kros seznam'!E107","v":"t"},{"$f":"I451+I456+I461+I465+I472+I476+I482+I486+I490+I494+I500+I504+I508","v":0.29832000000000003},{"$f":"'kros seznam'!G107","v":547},{"$f":"F623*E623","v":163.18104000000002}]
[{"$f":"'kros seznam'!B108","v":"K"},{"$f":"'kros seznam'!C108","v":"998725102"},{"$f":"'kros seznam'!D108","v":"Přesun hmot pro zařizovací předměty v objektech v do 12 m"},{"$f":"'kros seznam'!E108","v":"t"},{"$f":"I451+I456+I461+I465+I472+I476+I482+I486+I490+I494+I500+I504+I508","v":0.29832000000000003},{"$f":"'kros seznam'!G108","v":574},171.23568000000003]
[{"$f":"'kros seznam'!B109","v":"K"},{"$f":"'kros seznam'!C109","v":"998725103"},{"$f":"'kros seznam'!D109","v":"Přesun hmot pro zařizovací předměty v objektech v do 24 m"},{"$f":"'kros seznam'!E109","v":"t"},{"$f":"I451+I456+I461+I465+I472+I476+I482+I486+I490+I494+I500+I504+I508","v":0.29832000000000003},{"$f":"'kros seznam'!G109","v":600},178.99200000000002]
[{"$f":"'kros seznam'!B110","v":"K"},{"$f":"'kros seznam'!C110","v":"998725104"},{"$f":"'kros seznam'!D110","v":"Přesun hmot pro zařizovací předměty v objektech v do 36 m"},{"$f":"'kros seznam'!E110","v":"t"},{"$f":"I451+I456+I461+I465+I472+I476+I482+I486+I490+I494+I500+I504+I508","v":0.29832000000000003},{"$f":"'kros seznam'!G110","v":690},205.84080000000003]
[{"$f":"'kros seznam'!B111","v":"K"},{"$f":"'kros seznam'!C111","v":"998725105"},{"$f":"'kros seznam'!D111","v":"Přesun hmot pro zařizovací předměty v objektech v do 48 m"},{"$f":"'kros seznam'!E111","v":"t"},{"$f":"I451+I456+I461+I465+I472+I476+I482+I486+I490+I494+I500+I504+I508","v":0.29832000000000003},{"$f":"'kros seznam'!G111","v":747},222.84504000000001]
[{"$f":"'kros seznam'!B112","v":"K"},{"$f":"'kros seznam'!C112","v":"998725106"},{"$f":"'kros seznam'!D112","v":"Přesun hmot pro zařizovací předměty v objektech v do 60 m"},{"$f":"'kros seznam'!E112","v":"t"},{"$f":"I451+I456+I461+I465+I472+I476+I482+I486+I490+I494+I500+I504+I508","v":0.29832000000000003},{"$f":"'kros seznam'!G112","v":804},239.84928000000002]
[]
[]
[]
[]
[]
[]
[]
[]
[]
[]
["PŘESUN HMOT PSV 763 KONSTRUKCE MONTOVANÉ Z DESEK"]
[{"$f":"'kros seznam'!B132","v":"D"},{"$f":"'kros seznam'!C132","v":"763"},{"$f":"'kros seznam'!D132","v":"Konstrukce montované z desek, dílců a panelů"}]
[{"$f":"'kros seznam'!B151","v":"K"},{"$f":"'kros seznam'!C151","v":"998763301"},{"$f":"'kros seznam'!D151","v":"Přesun hmot pro sádrokartonové konstrukce v objektech v do 6 m"},{"$f":"'kros seznam'!E151","v":"t"},{"$f":"I25+I35+I158+I254+I265+I276+I287","v":4.9643482719999996},{"$f":"'kros seznam'!G151","v":782},{"$f":"F641*E641","v":3882.1203487039998}]
[{"$f":"'kros seznam'!B152","v":"K"},{"$f":"'kros seznam'!C152","v":"998763302"},{"$f":"'kros seznam'!D152","v":"Přesun hmot pro sádrokartonové konstrukce v objektech v do 12 m"},{"$f":"'kros seznam'!E152","v":"t"},{"$f":"I25+I35+I158+I254+I265+I276+I287","v":4.9643482719999996},{"$f":"'kros seznam'!G152","v":857},{"$f":"F642*E642","v":4254.4464691039993}]
[{"$f":"'kros seznam'!B153","v":"K"},{"$f":"'kros seznam'!C153","v":"998763303"},{"$f":"'kros seznam'!D153","v":"Přesun hmot pro sádrokartonové konstrukce v objektech v do 24 m"},{"$f":"'kros seznam'!E153","v":"t"},{"$f":"I25+I35+I158+I254+I265+I276+I287","v":4.9643482719999996},{"$f":"'kros seznam'!G153","v":884},{"$f":"F643*E643","v":4388.4838724479996}]
[{"$f":"'kros seznam'!B154","v":"K"},{"$f":"'kros seznam'!C154","v":"998763304"},{"$f":"'kros seznam'!D154","v":"Přesun hmot pro sádrokartonové konstrukce v objektech v do 36 m"},{"$f":"'kros seznam'!E154","v":"t"},{"$f":"I25+I35+I158+I254+I265+I276+I287","v":4.9643482719999996},{"$f":"'kros seznam'!G154","v":943},{"$f":"F644*E644","v":4681.3804204959997}]
[{"$f":"'kros seznam'!B155","v":"K"},{"$f":"'kros seznam'!C155","v":"998763305"},{"$f":"'kros seznam'!D155","v":"Přesun hmot pro sádrokartonové konstrukce v objektech v do 48 m"},{"$f":"'kros seznam'!E155","v":"t"},{"$f":"I25+I35+I158+I254+I265+I276+I287","v":4.9643482719999996},{"$f":"'kros seznam'!G155","v":999},{"$f":"F645*E645","v":4959.3839237279999}]
[{"$f":"'kros seznam'!B156","v":"K"},{"$f":"'kros seznam'!C156","v":"998763306"},{"$f":"'kros seznam'!D156","v":"Přesun hmot pro sádrokartonové konstrukce v objektech v do 60 m"},{"$f":"'kros seznam'!E156","v":"t"},{"$f":"I25+I35+I158+I254+I265+I276+I287","v":4.9643482719999996},{"$f":"'kros seznam'!G156","v":1030},{"$f":"F646*E646","v":5113.2787201599995}]
[]
["PŘESUN HMOT PSV 766 KONSTRUKCE TRUHLÁŘSKÉ"]
[{"$f":"'kros seznam'!B159","v":"D"},{"$f":"'kros seznam'!C159","v":"766"},{"$f":"'kros seznam'!D159","v":"Konstrukce truhlářské"}]
[{"$f":"'kros seznam'!B176","v":"K"},{"$f":"'kros seznam'!C176","v":"998766101"},{"$f":"'kros seznam'!D176","v":"Přesun hmot pro konstrukce truhlářské v objektech v do 6 m"},{"$f":"'kros seznam'!E176","v":"t"},{"$f":"I74+I86+I98+I110+I118+I126+I134+I142+I177+I207+I220+I233+I246+I257+I268+I279+I290","v":19.559899999999999},{"$f":"'kros seznam'!G176","v":629},12303.177099999999]
[{"$f":"'kros seznam'!B177","v":"K"},{"$f":"'kros seznam'!C177","v":"998766102"},{"$f":"'kros seznam'!D177","v":"Přesun hmot pro konstrukce truhlářské v objektech v do 12 m"},{"$f":"'kros seznam'!E177","v":"t"},{"$f":"I74+I86+I98+I110+I118+I126+I134+I142+I177+I207+I220+I233+I246+I257+I268+I279+I290","v":19.559899999999999},{"$f":"'kros seznam'!G177","v":853},16684.594699999998]
[{"$f":"'kros seznam'!B178","v":"K"},{"$f":"'kros seznam'!C178","v":"998766103"},{"$f":"'kros seznam'!D178","v":"Přesun hmot pro konstrukce truhlářské v objektech v do 24 m"},{"$f":"'kros seznam'!E178","v":"t"},{"$f":"I74+I86+I98+I110+I118+I126+I134+I142+I177+I207+I220+I233+I246+I257+I268+I279+I290","v":19.559899999999999},{"$f":"'kros seznam'!G178","v":865},16919.3135]
[{"$f":"'kros seznam'!B179","v":"K"},{"$f":"'kros seznam'!C179","v":"998766104"},{"$f":"'kros seznam'!D179","v":"Přesun hmot pro konstrukce truhlářské v objektech v do 36 m"},{"$f":"'kros seznam'!E179","v":"t"},{"$f":"I74+I86+I98+I110+I118+I126+I134+I142+I177+I207+I220+I233+I246+I257+I268+I279+I290","v":19.559899999999999},{"$f":"'kros seznam'!G179","v":928},18151.587199999998]
[{"$f":"'kros seznam'!B180","v":"K"},{"$f":"'kros seznam'!C180","v":"998766105"},{"$f":"'kros seznam'!D180","v":"Přesun hmot pro konstrukce truhlářské v objektech v do 48 m"},{"$f":"'kros seznam'!E180","v":"t"},{"$f":"I74+I86+I98+I110+I118+I126+I134+I142+I177+I207+I220+I233+I246+I257+I268+I279+I290","v":19.559899999999999},{"$f":"'kros seznam'!G180","v":940},18386.306]
[{"$f":"'kros seznam'!B181","v":"K"},{"$f":"'kros seznam'!C181","v":"998766106"},{"$f":"'kros seznam'!D181","v":"Přesun hmot pro konstrukce truhlářské v objektech v do 60 m"},{"$f":"'kros seznam'!E181","v":"t"},{"$f":"I74+I86+I98+I110+I118+I126+I134+I142+I177+I207+I220+I233+I246+I257+I268+I279+I290","v":19.559899999999999},{"$f":"'kros seznam'!G181","v":971},18992.662899999999]
[]
["PŘESUN HMOT PSV 771 PODLAHY Z DLAŽDIC"]
[{"$f":"'kros seznam'!B182","v":"D"},{"$f":"'kros seznam'!C182","v":"771"},{"$f":"'kros seznam'!D182","v":"Podlahy z dlaždic"}]
[{"$f":"'kros seznam'!B209","v":"K"},{"$f":"'kros seznam'!C209","v":"998771101"},{"$f":"'kros seznam'!D209","v":"Přesun hmot pro podlahy z dlaždic v objektech v do 6 m"},{"$f":"'kros seznam'!E209","v":"t"},{"$f":"I389+I395+I401+I407+I413+I419+I425+I431+I437+I443","v":0.63486485640000012},{"$f":"'kros seznam'!G209","v":446},283.14972595440008]
[{"$f":"'kros seznam'!B210","v":"K"},{"$f":"'kros seznam'!C210","v":"998771102"},{"$f":"'kros seznam'!D210","v":"Přesun hmot pro podlahy z dlaždic v objektech v do 12 m"},{"$f":"'kros seznam'!E210","v":"t"},{"$f":"I389+I395+I401+I407+I413+I419+I425+I431+I437+I443","v":0.63486485640000012},{"$f":"'kros seznam'!G210","v":479},304.10026621560007]
[{"$f":"'kros seznam'!B211","v":"K"},{"$f":"'kros seznam'!C211","v":"998771103"},{"$f":"'kros seznam'!D211","v":"Přesun hmot pro podlahy z dlaždic v objektech v do 24 m"},{"$f":"'kros seznam'!E211","v":"t"},{"$f":"I389+I395+I401+I407+I413+I419+I425+I431+I437+I443","v":0.63486485640000012},{"$f":"'kros seznam'!G211","v":501},318.06729305640005]
[{"$f":"'kros seznam'!B212","v":"K"},{"$f":"'kros seznam'!C212","v":"998771104"},{"$f":"'kros seznam'!D212","v":"Přesun hmot pro podlahy z dlaždic v objektech v do 36 m"},{"$f":"'kros seznam'!E212","v":"t"},{"$f":"I389+I395+I401+I407+I413+I419+I425+I431+I437+I443","v":0.63486485640000012},{"$f":"'kros seznam'!G212","v":545},346.00134673800005]
[{"$f":"'kros seznam'!B213","v":"K"},{"$f":"'kros seznam'!C213","v":"998771105"},{"$f":"'kros seznam'!D213","v":"Přesun hmot pro podlahy z dlaždic v objektech v do 48 m"},{"$f":"'kros seznam'!E213","v":"t"},{"$f":"I389+I395+I401+I407+I413+I419+I425+I431+I437+I443","v":0.63486485640000012},{"$f":"'kros seznam'!G213","v":589},373.93540041960006]
[{"$f":"'kros seznam'!B214","v":"K"},{"$f":"'kros seznam'!C214","v":"998771106"},{"$f":"'kros seznam'!D214","v":"Přesun hmot pro podlahy z dlaždic v objektech v do 60 m"},{"$f":"'kros seznam'!E214","v":"t"},{"$f":"I389+I395+I401+I407+I413+I419+I425+I431+I437+I443","v":0.63486485640000012},{"$f":"'kros seznam'!G214","v":633},401.86945410120006]
[]
["PŘESUN HMOT PSV 772 PODLAHY Z KAMENE"]
[{"$f":"'kros seznam'!B215","v":"D"},{"$f":"'kros seznam'!C215","v":"772"},{"$f":"'kros seznam'!D215","v":"Podlahy z kamene"}]
[{"$f":"'kros seznam'!B218","v":"K"},{"$f":"'kros seznam'!C218","v":"998772101"},{"$f":"'kros seznam'!D218","v":"Přesun hmot pro podlahy z kamene v objektech v do 6 m"},{"$f":"'kros seznam'!E218","v":"t"},{"$f":"I48","v":0.11856012000000003},{"$f":"'kros seznam'!G218","v":466},{"$f":"F668*E668","v":55.249015920000012}]
[{"$f":"'kros seznam'!B219","v":"K"},{"$f":"'kros seznam'!C219","v":"998772102"},{"$f":"'kros seznam'!D219","v":"Přesun hmot pro podlahy z kamene v objektech v do 12 m"},{"$f":"'kros seznam'!E219","v":"t"},{"$f":"I48","v":0.11856012000000003},{"$f":"'kros seznam'!G219","v":563},66.749347560000018]
[{"$f":"'kros seznam'!B220","v":"K"},{"$f":"'kros seznam'!C220","v":"998772103"},{"$f":"'kros seznam'!D220","v":"Přesun hmot pro podlahy z kamene v objektech v do 60 m"},{"$f":"'kros seznam'!E220","v":"t"},{"$f":"I48","v":0.11856012000000003},{"$f":"'kros seznam'!G220","v":789},93.543934680000021]
[]
["PŘESUN HMOT PSV 781 OBKLADY KERAMICKÉ"]
[{"$f":"'kros seznam'!B221","v":"D"},{"$f":"'kros seznam'!C221","v":"781"},{"$f":"'kros seznam'!D221","v":"Dokončovací práce - obklady keramické"}]
[{"$f":"'kros seznam'!B255","v":"K"},{"$f":"'kros seznam'!C255","v":"998781101"},{"$f":"'kros seznam'!D255","v":"Přesun hmot pro obklady keramické v objektech v do 6 m"},{"$f":"'kros seznam'!E255","v":"t"},{"$f":"I298+I305+I312+I319+I326+I333+I340+I347+I354+I361+I368+I375+I382","v":4.0979292184000009},{"$f":"'kros seznam'!G255","v":446},1827.6764314064003]
[{"$f":"'kros seznam'!B256","v":"K"},{"$f":"'kros seznam'!C256","v":"998781102"},{"$f":"'kros seznam'!D256","v":"Přesun hmot pro obklady keramické v objektech v do 12 m"},{"$f":"'kros seznam'!E256","v":"t"},{"$f":"I298+I305+I312+I319+I326+I333+I340+I347+I354+I361+I368+I375+I382","v":4.0979292184000009},{"$f":"'kros seznam'!G256","v":479},1962.9080956136004]
[{"$f":"'kros seznam'!B257","v":"K"},{"$f":"'kros seznam'!C257","v":"998781103"},{"$f":"'kros seznam'!D257","v":"Přesun hmot pro obklady keramické v objektech v do 24 m"},{"$f":"'kros seznam'!E257","v":"t"},{"$f":"I298+I305+I312+I319+I326+I333+I340+I347+I354+I361+I368+I375+I382","v":4.0979292184000009},{"$f":"'kros seznam'!G257","v":501},2053.0625384184004]
[{"$f":"'kros seznam'!B258","v":"K"},{"$f":"'kros seznam'!C258","v":"998781104"},{"$f":"'kros seznam'!D258","v":"Přesun hmot pro obklady keramické v objektech v do 36 m"},{"$f":"'kros seznam'!E258","v":"t"},{"$f":"I298+I305+I312+I319+I326+I333+I340+I347+I354+I361+I368+I375+I382","v":4.0979292184000009},{"$f":"'kros seznam'!G258","v":545},2233.3714240280005]
[{"$f":"'kros seznam'!B259","v":"K"},{"$f":"'kros seznam'!C259","v":"998781105"},{"$f":"'kros seznam'!D259","v":"Přesun hmot pro obklady keramické v objektech v do 48 m"},{"$f":"'kros seznam'!E259","v":"t"},{"$f":"I298+I305+I312+I319+I326+I333+I340+I347+I354+I361+I368+I375+I382","v":4.0979292184000009},{"$f":"'kros seznam'!G259","v":589},2413.6803096376007]
[{"$f":"'kros seznam'!B260","v":"K"},{"$f":"'kros seznam'!C260","v":"998781106"},{"$f":"'kros seznam'!D260","v":"Přesun hmot pro obklady keramické v objektech v do 60 m"},{"$f":"'kros seznam'!E260","v":"t"},{"$f":"I298+I305+I312+I319+I326+I333+I340+I347+I354+I361+I368+I375+I382","v":4.0979292184000009},{"$f":"'kros seznam'!G260","v":633},2593.9891952472008]
[]
["PŘESUN HMOT PSV 782 OBKLADY Z KAMENE"]
[{"$f":"'kros seznam'!B261","v":"D"},{"$f":"'kros seznam'!C261","v":"782"},{"$f":"'kros seznam'!D261","v":"Dokončovací práce - obklady z kamene"}]
[{"$f":"'kros seznam'!B264","v":"K"},{"$f":"'kros seznam'!C264","v":"998782101"},{"$f":"'kros seznam'!D264","v":"Přesun hmot pro obklady kamenné v objektech v do 6 m"},{"$f":"'kros seznam'!E264","v":"t"},{"$f":"I43","v":8.6681500000000009E-2},{"$f":"'kros seznam'!G264","v":466},40.393579000000003]
[{"$f":"'kros seznam'!B265","v":"K"},{"$f":"'kros seznam'!C265","v":"998782102"},{"$f":"'kros seznam'!D265","v":"Přesun hmot pro obklady kamenné v objektech v do 12 m"},{"$f":"'kros seznam'!E265","v":"t"},{"$f":"I43","v":8.6681500000000009E-2},{"$f":"'kros seznam'!G265","v":563},48.801684500000007]
[{"$f":"'kros seznam'!B266","v":"K"},{"$f":"'kros seznam'!C266","v":"998782103"},{"$f":"'kros seznam'!D266","v":"Přesun hmot pro obklady kamenné v objektech v do 60 m"},{"$f":"'kros seznam'!E266","v":"t"},{"$f":"I43","v":8.6681500000000009E-2},{"$f":"'kros seznam'!G266","v":789},68.391703500000006]
[]
["OSTATNÍ"]
[{"$f":"'kros seznam'!B51","v":"D"},{"$f":"'kros seznam'!C51","v":"99"},{"$f":"'kros seznam'!D51","v":"Přesun hmot"}]
[{"$f":"'kros seznam'!B57","v":"K"},{"$f":"'kros seznam'!C57","v":"949121111"},{"$f":"'kros seznam'!D57","v":"Lešení lehké pomocné kozové dílcové o výšce lešeňové podlahy do 1,2 m"},{"$f":"'kros seznam'!E57","v":"m2"},{"$f":"'Navrhovaný stav - pomocný'!E16","v":4.1904000000000003},{"$f":"'kros seznam'!G57","v":89.7},{"$f":"E689*F689","v":375.87888000000004},0,{"$f":"'kros seznam'!J57","v":0},{"$f":"'kros seznam'!K57","v":0},null,0.13400000000000001,{"$f":"L689*E689","v":0.56151360000000006}]
[{"$f":"'kros seznam'!B58","v":"K"},{"$f":"'kros seznam'!C58","v":"952901111"},{"$f":"'kros seznam'!D58","v":"Vyčištění budov bytové a občanské výstavby při výšce podlaží do 4 m"},{"$f":"'kros seznam'!E58","v":"m2"},{"$f":"'Navrhovaný stav - pomocný'!E16","v":4.1904000000000003},{"$f":"'kros seznam'!G58","v":71.900000000000006},{"$f":"E690*F690","v":301.28976000000006},0,{"$f":"'kros seznam'!J58","v":4.0000000000000003E-5},{"$f":"'kros seznam'!K58","v":0},null,0.308,{"$f":"L690*E690","v":1.2906432000000001}]

{"sheet":"Navrhovaný stav - pomocný","index":8,"n_rows":134,"n_cols":29,"rows_kept":134,"cut":false,"hidden":true,"merged":[[4,5,4,10],[4,11,4,16],[4,17,4,20],[4,21,4,24],[4,25,4,28],[5,25,5,26],[5,27,5,28],[5,15,5,16],[5,17,5,18],[5,19,5,20],[5,21,5,22],[5,23,5,24],[5,2,5,3],[105,5,105,10],[105,11,105,16],[105,17,105,20],[105,21,105,24],[5,5,5,6],[5,7,5,8],[5,9,5,10],[5,11,5,12],[5,13,5,14],[50,2,50,3],[51,2,51,3],[105,25,105,28],[106,2,106,3],[106,5,106,6],[106,7,106,8],[106,9,106,10],[106,11,106,12],[106,13,106,14],[106,15,106,16],[106,17,106,18],[106,19,106,20],[106,21,106,22],[106,23,106,24],[106,25,106,26],[106,27,106,28]]}
[null,"Stávajicí stav (půdorys - varianta)",4]
[null,"Navrhovaný stav (půdorys - varianta)",1]
[null,null,{"$f":"1* (C1 & C2)","v":41},null,null,11,null,12,null,13,null,21,null,22,null,23,null,31,null,32,null,41,null,42,null,51,null,52]
[null,null,{"$f":"IF(C3=F3,F4,IF(C3=H3,H4,IF(C3=J3,J4,IF(C3=L3,L4,IF(C3=N3,N4,IF(C3=P3,P4,IF(C3=R3,R4,IF(C3=T3,T4,IF(C3=V3,V4,IF(C3=X3,X4,IF(C3=Z3,Z4,AB4)))))))))))","v":22},null,null,{"$f":"COLUMN(F3)","v":6},null,{"$f":"COLUMN(H3)","v":8},null,{"$f":"COLUMN(J3)","v":10},null,{"$f":"COLUMN(L3)","v":12},null,{"$f":"COLUMN(N3)","v":14},null,{"$f":"COLUMN(P3)","v":16},null,{"$f":"COLUMN(R3)","v":18},null,{"$f":"COLUMN(T3)","v":20},null,{"$f":"COLUMN(V3)","v":22},null,{"$f":"COLUMN(X3)","v":24},null,{"$f":"COLUMN(Z3)","v":26},null,{"$f":"COLUMN(AB3)","v":28}]
[null,null,null,null,null,"Půdorys 1",null,null,null,null,null,"Půdorys 2",null,null,null,null,null,"Půdorys 3",null,null,null,"Půdorys 4",null,null,null,"Půdorys 5"]
[null,null,"Zvolená varianta",null,null,"Varianta 1",null,"Varianta 2",null,"Varianta 3",null,"Varianata 1",null,"Varianta 2",null,"Varianta 3",null,"Varinata 1",null,"Varianta 2",null,"Varianta 1",null,"Varianta 2",null,"Varianata 1",null,"Varianta 2"]
[null,null,"Délka","Vypočtená výměra","Skutečná výměra","Délka","Vypočtená výměra","Délka","Plocha","Délka","Plocha","Délka","Plocha","Délka","Plocha","Délka","Plocha","Délka","Plocha","Délka","Plocha","Délka","Plocha","Délka","Plocha","Délka","Plocha","Délka","Plocha"]
[null,"Stěna panel",{"$f":"INDIRECT(ADDRESS(ROW(B8),$C$4))","v":2.59},{"$f":"INDIRECT(ADDRESS(ROW(B8),$C$4+1))","v":10.282299999999999},{"$f":"D8","v":10.282299999999999},{"$f":"'Navrhovaný stav'!D17+'Navrhovaný stav'!D17+'Navrhovaný stav'!D15+'Navrhovaný stav'!D16","v":6.07},{"$f":"F8*'Stávající stav'!C4","v":24.097900000000003},{"$f":"'Navrhovaný stav'!D17+'Navrhovaný stav'!D17+'Navrhovaný stav'!D15+'Navrhovaný stav'!D16","v":6.07},{"$f":"H8*'Stávající stav'!C4","v":24.097900000000003},{"$f":"'Navrhovaný stav'!D17+'Navrhovaný stav'!D17+'Navrhovaný stav'!D15+'Navrhovaný stav'!D16","v":6.07},{"$f":"J8*'Stávající stav'!C4","v":24.097900000000003},{"$f":"'Navrhovaný stav'!D15+'Navrhovaný stav'!D16+'Navrhovaný stav'!D17","v":4.33},{"$f":"L8*'Stávající stav'!C4","v":17.190100000000001},{"$f":"'Navrhovaný stav'!D15+'Navrhovaný stav'!D16+'Navrhovaný stav'!D17","v":4.33},{"$f":"N8*'Stávající stav'!C4","v":17.190100000000001},{"$f":"'Navrhovaný stav'!D15+'Navrhovaný stav'!D16+'Navrhovaný stav'!D17","v":4.33},{"$f":"P8*'Stávající stav'!C4","v":17.190100000000001},{"$f":"'Navrhovaný stav'!D17","v":1.74},{"$f":"R8*'Stávající stav'!C4","v":6.9077999999999999},{"$f":"'Navrhovaný stav'!D17","v":1.74},{"$f":"T8*'Stávající stav'!C4","v":6.9077999999999999},{"$f":"'Navrhovaný stav'!D15+'Navrhovaný stav'!D16","v":2.59},{"$f":"V8*'Stávající stav'!C4","v":10.282299999999999},{"$f":"'Navrhovaný stav'!D15+'Navrhovaný stav'!D16","v":2.59},{"$f":"X8*'Stávající stav'!C4","v":10.282299999999999},{"$f":"'Navrhovaný stav'!D17+2*('Navrhovaný stav'!D15+'Navrhovaný stav'!D16)","v":6.92},{"$f":"Z8*'Stávající stav'!C4","v":27.4724},{"$f":"'Navrhovaný stav'!D17+2*('Navrhovaný stav'!D15+'Navrhovaný stav'!D16)","v":6.92},{"$f":"AB8*'Stávající stav'!C4","v":27.4724}]
[null,"Stěna zdivo",{"$f":"INDIRECT(ADDRESS(ROW(B9),$C$4))","v":8.74},{"$f":"INDIRECT(ADDRESS(ROW(B9),$C$4+1))","v":32.136800000000001},{"$f":"D9","v":32.136800000000001},{"$f":"'Navrhovaný stav'!D15+'Navrhovaný stav'!D16+'Navrhovaný stav'!D17+'Navrhovaný stav'!D15","v":5.26},{"$f":"F9*'Stávající stav'!C4-('Navrhovaný stav'!D39+'Navrhovaný stav'!E39+'Navrhovaný stav'!F39+'Navrhovaný stav'!G39)-$D$44","v":18.321200000000001},{"$f":"'Navrhovaný stav'!D15+'Navrhovaný stav'!D16+'Navrhovaný stav'!D17+'Navrhovaný stav'!D15","v":5.26},{"$f":"H9*'Stávající stav'!C4-('Navrhovaný stav'!D39+'Navrhovaný stav'!E39+'Navrhovaný stav'!F39+'Navrhovaný stav'!G39)-$D$44","v":18.321200000000001},{"$f":"'Navrhovaný stav'!D15+'Navrhovaný stav'!D16+'Navrhovaný stav'!D17-'Navrhovaný stav'!D14+'Navrhovaný stav'!D15","v":3.8600000000000003},{"$f":"J9*'Stávající stav'!C4-('Navrhovaný stav'!D39+'Navrhovaný stav'!E39+'Navrhovaný stav'!F39+'Navrhovaný stav'!G39)-$D$44","v":12.763200000000001},{"$f":"'Navrhovaný stav'!D16+ (2*('Navrhovaný stav'!D15+'Navrhovaný stav'!D17))","v":7},{"$f":"L9*'Stávající stav'!C4-('Navrhovaný stav'!D39+'Navrhovaný stav'!E39+'Navrhovaný stav'!F39+'Navrhovaný stav'!G39)-$D$44","v":25.229000000000003},{"$f":"'Navrhovaný stav'!D16+ (2*('Navrhovaný stav'!D15+'Navrhovaný stav'!D17))","v":7},{"$f":"N9*'Stávající stav'!C4-('Navrhovaný stav'!D39+'Navrhovaný stav'!E39+'Navrhovaný stav'!F39+'Navrhovaný stav'!G39)-$D$44","v":25.229000000000003},{"$f":"'Navrhovaný stav'!D16+ (2*('Navrhovaný stav'!D15+'Navrhovaný stav'!D17))","v":7},{"$f":"P9*'Stávající stav'!C4-('Navrhovaný stav'!D39+'Navrhovaný stav'!E39+'Navrhovaný stav'!F39+'Navrhovaný stav'!G39)-$D$44","v":25.229000000000003},{"$f":"'Navrhovaný stav'!D15+(2*('Navrhovaný stav'!D15+'Navrhovaný stav'!D16+'Navrhovaný stav'!D17))","v":9.59},{"$f":"R9*'Stávající stav'!C4-('Navrhovaný stav'!D39+'Navrhovaný stav'!E39+'Navrhovaný stav'!F39+'Navrhovaný stav'!G39)-$D$44","v":35.511299999999999},{"$f":"'Navrhovaný stav'!D15+(2*('Navrhovaný stav'!D15+'Navrhovaný stav'!D16+'Navrhovaný stav'!D17))","v":9.59},{"$f":"T9*'Stávající stav'!C4-('Navrhovaný stav'!D39+'Navrhovaný stav'!E39+'Navrhovaný stav'!F39+'Navrhovaný stav'!G39)-$D$44","v":35.511299999999999},{"$f":"(2*'Navrhovaný stav'!D15)+(3*'Navrhovaný stav'!D17)+'Navrhovaný stav'!D16","v":8.74},{"$f":"V9*'Stávající stav'!C4-('Navrhovaný stav'!D39+'Navrhovaný stav'!E39+'Navrhovaný stav'!F39+'Navrhovaný stav'!G39)-$D$44","v":32.136800000000001},{"$f":"(2*'Navrhovaný stav'!D15)+(3*'Navrhovaný stav'!D17)+'Navrhovaný stav'!D16","v":8.74},{"$f":"X9*'Stávající stav'!C4-('Navrhovaný stav'!D39+'Navrhovaný stav'!E39+'Navrhovaný stav'!F39+'Navrhovaný stav'!G39)-$D$44","v":32.136800000000001},{"$f":"'Navrhovaný stav'!D17+'Navrhovaný stav'!D17-'Navrhovaný stav'!D14+'Navrhovaný stav'!D15","v":3.0100000000000002},{"$f":"Z9*'Stávající stav'!C4-('Navrhovaný stav'!D39+'Navrhovaný stav'!E39+'Navrhovaný stav'!F39+'Navrhovaný stav'!G39)-$D$44","v":9.3887000000000018},{"$f":"'Navrhovaný stav'!D17+'Navrhovaný stav'!D17-'Navrhovaný stav'!D14+'Navrhovaný stav'!D15","v":3.0100000000000002},{"$f":"AB9*'Stávající stav'!C4-('Navrhovaný stav'!D39+'Navrhovaný stav'!E39+'Navrhovaný stav'!F39+'Navrhovaný stav'!G39)-$D$44","v":9.3887000000000018}]
[null,"Stěna obklad",11.46,{"$f":"INDIRECT(ADDRESS(ROW(B10),$C$4+1))-D46","v":19.359000000000002},{"$f":"D10-D49+E58","v":17.560500000000001},{"$f":"2*('Navrhovaný stav'!D14+'Navrhovaný stav'!D15+'Navrhovaný stav'!D16+'Navrhovaný stav'!D17)","v":11.46},{"$f":"F10*'Navrhovaný stav'!C34-('Navrhovaný stav'!D39+'Navrhovaný stav'!E39+'Navrhovaný stav'!F39+'Navrhovaný stav'!G39)","v":20.359000000000002},{"$f":"2*('Navrhovaný stav'!D14+'Navrhovaný stav'!D15+'Navrhovaný stav'!D16+'Navrhovaný stav'!D17)","v":11.46},{"$f":"H10*'Navrhovaný stav'!C34-('Navrhovaný stav'!D39+'Navrhovaný stav'!E39+'Navrhovaný stav'!F39+'Navrhovaný stav'!G39)","v":20.359000000000002},{"$f":"2*('Navrhovaný stav'!D15+'Navrhovaný stav'!D16+'Navrhovaný stav'!D17)","v":8.66},{"$f":"J10*'Navrhovaný stav'!C34-('Navrhovaný stav'!D39-'Navrhovaný stav'!E39-'Navrhovaný stav'!F39-'Navrhovaný stav'!G39)","v":17.123000000000001},{"$f":"2*('Navrhovaný stav'!D14+'Navrhovaný stav'!D15+'Navrhovaný stav'!D16+'Navrhovaný stav'!D17)","v":11.46},{"$f":"L10*'Navrhovaný stav'!C34-('Navrhovaný stav'!D39+'Navrhovaný stav'!E39+'Navrhovaný stav'!F39+'Navrhovaný stav'!G39)","v":20.359000000000002},{"$f":"2*('Navrhovaný stav'!D14+'Navrhovaný stav'!D15+'Navrhovaný stav'!D16+'Navrhovaný stav'!D17)","v":11.46},{"$f":"N10*'Navrhovaný stav'!C34-('Navrhovaný stav'!D39+'Navrhovaný stav'!E39+'Navrhovaný stav'!F39+'Navrhovaný stav'!G39)","v":20.359000000000002},{"$f":"2*('Navrhovaný stav'!D14+'Navrhovaný stav'!D15+'Navrhovaný stav'!D16+'Navrhovaný stav'!D17)","v":11.46},{"$f":"P10*'Navrhovaný stav'!C34-('Navrhovaný stav'!D39+'Navrhovaný stav'!E39+'Navrhovaný stav'!F39+'Navrhovaný stav'!G39)","v":20.359000000000002},{"$f":"2*('Navrhovaný stav'!D14+'Navrhovaný stav'!D15+'Navrhovaný stav'!D16+'Navrhovaný stav'!D17)","v":11.46},{"$f":"R10*'Navrhovaný stav'!C34-('Navrhovaný stav'!D39+'Navrhovaný stav'!E39+'Navrhovaný stav'!F39+'Navrhovaný stav'!G39)","v":20.359000000000002},{"$f":"2*('Navrhovaný stav'!D14+'Navrhovaný stav'!D15+'Navrhovaný stav'!D16+'Navrhovaný stav'!D17)","v":11.46},{"$f":"T10*'Navrhovaný stav'!C34-('Navrhovaný stav'!D39+'Navrhovaný stav'!E39+'Navrhovaný stav'!F39+'Navrhovaný stav'!G39)","v":20.359000000000002},{"$f":"2*('Navrhovaný stav'!D14+'Navrhovaný stav'!D15+'Navrhovaný stav'!D16+'Navrhovaný stav'!D17)","v":11.46},{"$f":"V10*'Navrhovaný stav'!C34-('Navrhovaný stav'!D39+'Navrhovaný stav'!E39+'Navrhovaný stav'!F39+'Navrhovaný stav'!G39)","v":20.359000000000002},{"$f":"2*('Navrhovaný stav'!D14+'Navrhovaný stav'!D15+'Navrhovaný stav'!D16+'Navrhovaný stav'!D17)","v":11.46},{"$f":"X10*'Navrhovaný stav'!C34-('Navrhovaný stav'!D39+'Navrhovaný stav'!E39+'Navrhovaný stav'!F39+'Navrhovaný stav'!G39)","v":20.359000000000002},{"$f":"'Navrhovaný stav'!D17+'Navrhovaný stav'!D17-'Navrhovaný stav'!D14+'Navrhovaný stav'!D15+('Navrhovaný stav'!D15+'Navrhovaný stav'!D16)+'Navrhovaný stav'!D16+'Navrhovaný stav'!D14","v":8.66},{"$f":"Z10*'Navrhovaný stav'!C34-('Navrhovaný stav'!D39+'Navrhovaný stav'!E39+'Navrhovaný stav'!F39+'Navrhovaný stav'!G39)","v":14.759},{"$f":"'Navrhovaný stav'!D17+'Navrhovaný stav'!D17-'Navrhovaný stav'!D14+'Navrhovaný stav'!D15+('Navrhovaný stav'!D15+'Navrhovaný stav'!D16)+'Navrhovaný stav'!D16+'Navrhovaný stav'!D14","v":8.66},{"$f":"AB10*'Navrhovaný stav'!C34-('Navrhovaný stav'!D39+'Navrhovaný stav'!E39+'Navrhovaný stav'!F39+'Navrhovaný stav'!G39)","v":14.759}]
[null,"Malba/omítka vnitřek panel",2.59,{"$f":"INDIRECT(ADDRESS(ROW(B11),$C$4+1))","v":5.1023000000000005},{"$f":"D11","v":5.1023000000000005},{"$f":"'Navrhovaný stav'!D17+'Navrhovaný stav'!D18+'Navrhovaný stav'!D14","v":4.8},{"$f":"F11*('Stávající stav'!C4-'Navrhovaný stav'!C34)","v":9.4560000000000013},{"$f":"'Navrhovaný stav'!D17+'Navrhovaný stav'!D18+'Navrhovaný stav'!D14","v":4.8},{"$f":"H11*('Stávající stav'!C4-'Navrhovaný stav'!C34)","v":9.4560000000000013},{"$f":"'Navrhovaný stav'!D17+'Navrhovaný stav'!D18+'Navrhovaný stav'!D14","v":4.8},{"$f":"J11*('Stávající stav'!C4-'Navrhovaný stav'!C34)","v":9.4560000000000013},{"$f":"'Navrhovaný stav'!D14+'Navrhovaný stav'!D18","v":3.0599999999999996},{"$f":"L11*('Stávající stav'!C4-'Navrhovaný stav'!C34)","v":6.0282},{"$f":"'Navrhovaný stav'!D14+'Navrhovaný stav'!D18","v":3.0599999999999996},{"$f":"N11*('Stávající stav'!C4-'Navrhovaný stav'!C34)","v":6.0282},{"$f":"'Navrhovaný stav'!D14+'Navrhovaný stav'!D18","v":3.0599999999999996},{"$f":"P11*('Stávající stav'!C4-'Navrhovaný stav'!C34)","v":6.0282},{"$f":"'Navrhovaný stav'!D14","v":1.4},{"$f":"R11*('Stávající stav'!C4-'Navrhovaný stav'!C34)","v":2.758},{"$f":"'Navrhovaný stav'!D14","v":1.4},{"$f":"T11*('Stávající stav'!C4-'Navrhovaný stav'!C34)","v":2.758},{"$f":"'Navrhovaný stav'!D15+'Navrhovaný stav'!D16","v":2.59},{"$f":"V11*('Stávající stav'!C4-'Navrhovaný stav'!C34)","v":5.1023000000000005},{"$f":"'Navrhovaný stav'!D15+'Navrhovaný stav'!D16","v":2.59},{"$f":"X11*('Stávající stav'!C4-'Navrhovaný stav'!C34)","v":5.1023000000000005},{"$f":"'Navrhovaný stav'!D15+'Navrhovaný stav'!D16+'Navrhovaný stav'!D14+'Navrhovaný stav'!D16","v":5.6499999999999995},{"$f":"Z11*('Stávající stav'!C4-'Navrhovaný stav'!C34)","v":11.1305},{"$f":"'Navrhovaný stav'!D15+'Navrhovaný stav'!D16+'Navrhovaný stav'!D14+'Navrhovaný stav'!D16","v":5.6499999999999995},{"$f":"AB11*('Stávající stav'!C4-'Navrhovaný stav'!C34)","v":11.1305}]
[null,"Malba/omítka vnitřek zdivo pomocný",11.46,22.576200000000004,22.576200000000004,{"$f":"2*('Navrhovaný stav'!D14+'Navrhovaný stav'!D15+'Navrhovaný stav'!D16+'Navrhovaný stav'!D17)","v":11.46},{"$f":"F12*('Stávající stav'!C4-'Navrhovaný stav'!C34)","v":22.576200000000004},{"$f":"2*('Navrhovaný stav'!D14+'Navrhovaný stav'!D15+'Navrhovaný stav'!D16+'Navrhovaný stav'!D17)","v":11.46},{"$f":"H12*('Stávající stav'!C4-'Navrhovaný stav'!C34)","v":22.576200000000004},{"$f":"2*('Navrhovaný stav'!D15+'Navrhovaný stav'!D16+'Navrhovaný stav'!D17)","v":8.66},{"$f":"J12*('Stávající stav'!C4-'Navrhovaný stav'!C34)","v":17.060200000000002},{"$f":"2*('Navrhovaný stav'!D14+'Navrhovaný stav'!D15+'Navrhovaný stav'!D16+'Navrhovaný stav'!D17)","v":11.46},{"$f":"L12*('Stávající stav'!C4-'Navrhovaný stav'!C34)","v":22.576200000000004},{"$f":"2*('Navrhovaný stav'!D14+'Navrhovaný stav'!D15+'Navrhovaný stav'!D16+'Navrhovaný stav'!D17)","v":11.46},{"$f":"N12*('Stávající stav'!C4-'Navrhovaný stav'!C34)","v":22.576200000000004},{"$f":"2*('Navrhovaný stav'!D14+'Navrhovaný stav'!D15+'Navrhovaný stav'!D16+'Navrhovaný stav'!D17)","v":11.46},{"$f":"P12*('Stávající stav'!C4-'Navrhovaný stav'!C34)","v":22.576200000000004},{"$f":"2*('Navrhovaný stav'!D14+'Navrhovaný stav'!D15+'Navrhovaný stav'!D16+'Navrhovaný stav'!D17)","v":11.46},{"$f":"R12*('Stávající stav'!C4-'Navrhovaný stav'!C34)","v":22.576200000000004},{"$f":"2*('Navrhovaný stav'!D14+'Navrhovaný stav'!D15+'Navrhovaný stav'!D16+'Navrhovaný stav'!D17)","v":11.46},{"$f":"T12*('Stávající stav'!C4-'Navrhovaný stav'!C34)","v":22.576200000000004},{"$f":"2*('Navrhovaný stav'!D14+'Navrhovaný stav'!D15+'Navrhovaný stav'!D16+'Navrhovaný stav'!D17)","v":11.46},{"$f":"V12*('Stávající stav'!C4-'Navrhovaný stav'!C34)","v":22.576200000000004},{"$f":"2*('Navrhovaný stav'!D14+'Navrhovaný stav'!D15+'Navrhovaný stav'!D16+'Navrhovaný stav'!D17)","v":11.46},{"$f":"X12*('Stávající stav'!C4-'Navrhovaný stav'!C34)","v":22.576200000000004},{"$f":"'Navrhovaný stav'!D15+'Navrhovaný stav'!D16+'Navrhovaný stav'!D14+'Navrhovaný stav'!D16+'Navrhovaný stav'!D17+'Navrhovaný stav'!D15+'Navrhovaný stav'!D17-'Navrhovaný stav'!D14","v":8.66},{"$f":"Z12*('Stávající stav'!C4-'Navrhovaný stav'!C34)","v":17.060200000000002},{"$f":"'Navrhovaný stav'!D15+'Navrhovaný stav'!D16+'Navrhovaný stav'!D14+'Navrhovaný stav'!D16+'Navrhovaný stav'!D17+'Navrhovaný stav'!D15+'Navrhovaný stav'!D17-'Navrhovaný stav'!D14","v":8.66},{"$f":"AB12*('Stávající stav'!C4-'Navrhovaný stav'!C34)","v":17.060200000000002}]
[null,"Malba/omítka vnitřek zdivo",8.870000000000001,17.473900000000004,{"$f":"D13+F58","v":17.473900000000004},{"$f":"F12-F11","v":6.660000000000001},{"$f":"G12-G11","v":13.120200000000002},{"$f":"H12-H11","v":6.660000000000001},13.120200000000002,3.8600000000000003,7.6042000000000005,8.4000000000000021,16.548000000000002,8.4000000000000021,16.548000000000002,8.4000000000000021,16.548000000000002,10.06,19.818200000000004,10.06,19.818200000000004,8.870000000000001,17.473900000000004,8.870000000000001,17.473900000000004,3.0100000000000007,5.9297000000000022,3.0100000000000007,5.9297000000000022]
[null,"Malba/omítka zevnějšek",6.07,21.536900000000003,21.536900000000003,{"$f":"'Navrhovaný stav'!D15+'Navrhovaný stav'!D16","v":2.59},{"$f":"F14*'Stávající stav'!C4-('Navrhovaný stav'!D39+'Navrhovaný stav'!E39+'Navrhovaný stav'!F39+'Navrhovaný stav'!G39)","v":7.7212999999999994},{"$f":"'Navrhovaný stav'!D15+'Navrhovaný stav'!D16","v":2.59},{"$f":"H14*'Stávající stav'!C4-('Navrhovaný stav'!D39+'Navrhovaný stav'!E39+'Navrhovaný stav'!F39+'Navrhovaný stav'!G39)","v":7.7212999999999994},{"$f":"'Navrhovaný stav'!D15+'Navrhovaný stav'!D16","v":2.59},{"$f":"J14*'Stávající stav'!C4-('Navrhovaný stav'!D39+'Navrhovaný stav'!E39+'Navrhovaný stav'!F39+'Navrhovaný stav'!G39)","v":7.7212999999999994},{"$f":"'Navrhovaný stav'!D15+'Navrhovaný stav'!D16+'Navrhovaný stav'!D17","v":4.33},{"$f":"L14*'Stávající stav'!C4-('Navrhovaný stav'!D39+'Navrhovaný stav'!E39+'Navrhovaný stav'!F39+'Navrhovaný stav'!G39)","v":14.629100000000001},{"$f":"'Navrhovaný stav'!D15+'Navrhovaný stav'!D16+'Navrhovaný stav'!D17","v":4.33},{"$f":"N14*'Stávající stav'!C4-('Navrhovaný stav'!D39+'Navrhovaný stav'!E39+'Navrhovaný stav'!F39+'Navrhovaný stav'!G39)","v":14.629100000000001},{"$f":"'Navrhovaný stav'!D15+'Navrhovaný stav'!D16+'Navrhovaný stav'!D17","v":4.33},{"$f":"P14*'Stávající stav'!C4-('Navrhovaný stav'!D39+'Navrhovaný stav'!E39+'Navrhovaný stav'!F39+'Navrhovaný stav'!G39)","v":14.629100000000001},{"$f":"2*('Navrhovaný stav'!D15+'Navrhovaný stav'!D16)+'Navrhovaný stav'!D17","v":6.92},{"$f":"R14*'Stávající stav'!C4-('Navrhovaný stav'!D39+'Navrhovaný stav'!E39+'Navrhovaný stav'!F39+'Navrhovaný stav'!G39)","v":24.9114},{"$f":"2*('Navrhovaný stav'!D15+'Navrhovaný stav'!D16)+'Navrhovaný stav'!D17","v":6.92},{"$f":"T14*'Stávající stav'!C4-('Navrhovaný stav'!D39+'Navrhovaný stav'!E39+'Navrhovaný stav'!F39+'Navrhovaný stav'!G39)","v":24.9114},{"$f":"(2*'Navrhovaný stav'!D17)+'Navrhovaný stav'!D15+'Navrhovaný stav'!D16","v":6.07},{"$f":"V14*'Stávající stav'!C4-('Navrhovaný stav'!D39+'Navrhovaný stav'!E39+'Navrhovaný stav'!F39+'Navrhovaný stav'!G39)","v":21.536900000000003},{"$f":"(2*'Navrhovaný stav'!D17)+'Navrhovaný stav'!D15+'Navrhovaný stav'!D16","v":6.07},{"$f":"X14*'Stávající stav'!C4-('Navrhovaný stav'!D39+'Navrhovaný stav'!E39+'Navrhovaný stav'!F39+'Navrhovaný stav'!G39)","v":21.536900000000003},{"$f":"'Navrhovaný stav'!D17","v":1.74},{"$f":"Z14*'Stávající stav'!C4-('Navrhovaný stav'!D39+'Navrhovaný stav'!E39+'Navrhovaný stav'!F39+'Navrhovaný stav'!G39)","v":4.3468},{"$f":"'Navrhovaný stav'!D17","v":1.74},{"$f":"AB14*'Stávající stav'!C4-('Navrhovaný stav'!D39+'Navrhovaný stav'!E39+'Navrhovaný stav'!F39+'Navrhovaný stav'!G39)","v":4.3468}]
[null,"Podlaha",0,2.7318000000000002,2.7318000000000002,null,{"$f":"('Navrhovaný stav'!D14*'Navrhovaný stav'!D15)+('Navrhovaný stav'!D16*'Navrhovaný stav'!D17)-('zařizovací předměty'!F23*'zařizovací předměty'!G23)-('zařizovací předměty'!F27*'zařizovací předměty'!G27)","v":2.7318000000000002},null,{"$f":"('Navrhovaný stav'!D14*'Navrhovaný stav'!D15)+('Navrhovaný stav'!D16*'Navrhovaný stav'!D17)-('zařizovací předměty'!F23*'zařizovací předměty'!G23)","v":2.8629000000000002},null,{"$f":"('Navrhovaný stav'!D14*'Navrhovaný stav'!D15)+('Navrhovaný stav'!D16*'Navrhovaný stav'!D17)-('zařizovací předměty'!F27*'zařizovací předměty'!G27)","v":4.0593000000000004},null,{"$f":"('Navrhovaný stav'!D14*'Navrhovaný stav'!D15)+('Navrhovaný stav'!D16*'Navrhovaný stav'!D17)-('zařizovací předměty'!F23*'zařizovací předměty'!G23)-('zařizovací předměty'!F27*'zařizovací předměty'!G27)","v":2.7318000000000002},null,{"$f":"('Navrhovaný stav'!D14*'Navrhovaný stav'!D15)+('Navrhovaný stav'!D16*'Navrhovaný stav'!D17)-('zařizovací předměty'!F23*'zařizovací předměty'!G23)-('zařizovací předměty'!F27*'zařizovací předměty'!G27)","v":2.7318000000000002},null,{"$f":"('Navrhovaný stav'!D14*'Navrhovaný stav'!D15)+('Navrhovaný stav'!D16*'Navrhovaný stav'!D17)-('zařizovací předměty'!F23*'zařizovací předměty'!G23)-('zařizovací předměty'!F27*'zařizovací předměty'!G27)","v":2.7318000000000002},null,{"$f":"('Navrhovaný stav'!D14*'Navrhovaný stav'!D15)+('Navrhovaný stav'!D16*'Navrhovaný stav'!D17)-('zařizovací předměty'!F23*'zařizovací předměty'!G23)-('zařizovací předměty'!F27*'zařizovací předměty'!G27)","v":2.7318000000000002},null,{"$f":"('Navrhovaný stav'!D14*'Navrhovaný stav'!D15)+('Navrhovaný stav'!D16*'Navrhovaný stav'!D17)-('zařizovací předměty'!F23*'zařizovací předměty'!G23)-('zařizovací předměty'!F27*'zařizovací předměty'!G27)","v":2.7318000000000002},null,{"$f":"('Navrhovaný stav'!D14*'Navrhovaný stav'!D15)+('Navrhovaný stav'!D16*'Navrhovaný stav'!D17)-('zařizovací předměty'!F23*'zařizovací předměty'!G23)-('zařizovací předměty'!F27*'zařizovací předměty'!G27)","v":2.7318000000000002},null,{"$f":"('Navrhovaný stav'!D14*'Navrhovaný stav'!D15)+('Navrhovaný stav'!D16*'Navrhovaný stav'!D17)-('zařizovací předměty'!F23*'zařizovací předměty'!G23)-('zařizovací předměty'!F27*'zařizovací předměty'!G27)","v":2.7318000000000002},null,{"$f":"('Navrhovaný stav'!D14*'Navrhovaný stav'!D15)+('Navrhovaný stav'!D16*'Navrhovaný stav'!D17)-('zařizovací předměty'!F23*'zařizovací předměty'!G23)-('zařizovací předměty'!F27*'zařizovací předměty'!G27)","v":2.7318000000000002},null,{"$f":"('Navrhovaný stav'!D14*'Navrhovaný stav'!D15)+('Navrhovaný stav'!D16*'Navrhovaný stav'!D17)-('zařizovací předměty'!F23*'zařizovací předměty'!G23)-('zařizovací předměty'!F27*'zařizovací předměty'!G27)","v":2.7318000000000002}]
[null,"Strop",0,4.1904000000000003,4.1904000000000003,null,{"$f":"('Navrhovaný stav'!D16*'Navrhovaný stav'!D17)+('Navrhovaný stav'!D14*'Navrhovaný stav'!D15)","v":4.1904000000000003},null,{"$f":"('Navrhovaný stav'!D16*'Navrhovaný stav'!D17)+('Navrhovaný stav'!D14*'Navrhovaný stav'!D15)","v":4.1904000000000003},null,{"$f":"('Navrhovaný stav'!D16*'Navrhovaný stav'!D17)+('Navrhovaný stav'!D14*'Navrhovaný stav'!D15)","v":4.1904000000000003},null,{"$f":"('Navrhovaný stav'!D16*'Navrhovaný stav'!D17)+('Navrhovaný stav'!D14*'Navrhovaný stav'!D15)","v":4.1904000000000003},null,{"$f":"('Navrhovaný stav'!D16*'Navrhovaný stav'!D17)+('Navrhovaný stav'!D14*'Navrhovaný stav'!D15)","v":4.1904000000000003},null,{"$f":"('Navrhovaný stav'!D16*'Navrhovaný stav'!D17)+('Navrhovaný stav'!D14*'Navrhovaný stav'!D15)","v":4.1904000000000003},null,{"$f":"('Navrhovaný stav'!D16*'Navrhovaný stav'!D17)+('Navrhovaný stav'!D14*'Navrhovaný stav'!D15)","v":4.1904000000000003},null,{"$f":"('Navrhovaný stav'!D16*'Navrhovaný stav'!D17)+('Navrhovaný stav'!D14*'Navrhovaný stav'!D15)","v":4.1904000000000003},null,{"$f":"('Navrhovaný stav'!D16*'Navrhovaný stav'!D17)+('Navrhovaný stav'!D14*'Navrhovaný stav'!D15)","v":4.1904000000000003},null,{"$f":"('Navrhovaný stav'!D16*'Navrhovaný stav'!D17)+('Navrhovaný stav'!D14*'Navrhovaný stav'!D15)","v":4.1904000000000003},null,{"$f":"('Navrhovaný stav'!D16*'Navrhovaný stav'!D17)+('Navrhovaný stav'!D14*'Navrhovaný stav'!D15)","v":4.1904000000000003},null,{"$f":"('Navrhovaný stav'!D16*'Navrhovaný stav'!D17)+('Navrhovaný stav'!D14*'Navrhovaný stav'!D15)","v":4.1904000000000003}]
[null,"Vana rovná podezdívka",1.77,0.97350000000000014,0.97350000000000014,{"$f":"'zařizovací předměty'!F23","v":1.77},{"$f":"0.55*F17","v":0.97350000000000014},{"$f":"'zařizovací předměty'!F23","v":1.77},{"$f":"0.55*H17","v":0.97350000000000014},{"$f":"'zařizovací předměty'!F23","v":1.77},{"$f":"0.55*F17","v":0.97350000000000014},{"$f":"'zařizovací předměty'!F23","v":1.77},{"$f":"0.55*L17","v":0.97350000000000014},{"$f":"'zařizovací předměty'!F23","v":1.77},{"$f":"0.55*J17","v":0.97350000000000014},{"$f":"'zařizovací předměty'!F23","v":1.77},{"$f":"P17*0.55","v":0.97350000000000014},{"$f":"'zařizovací předměty'!F23","v":1.77},{"$f":"R17*0.55","v":0.97350000000000014},{"$f":"'zařizovací předměty'!F23","v":1.77},{"$f":"T17*0.55","v":0.97350000000000014},{"$f":"'zařizovací předměty'!F23","v":1.77},{"$f":"V17*0.55","v":0.97350000000000014},{"$f":"'zařizovací předměty'!F23","v":1.77},{"$f":"0.55*X17","v":0.97350000000000014},{"$f":"'zařizovací předměty'!F23","v":1.77},{"$f":"Z17*0.55","v":0.97350000000000014},{"$f":"'zařizovací předměty'!F23","v":1.77},{"$f":"AB17*0.55","v":0.97350000000000014}]
[null,"Vana rovná odečet obklad",3.27,1.7985000000000002,1.7985000000000002,{"$f":"2*'zařizovací předměty'!G23+'zařizovací předměty'!F23","v":3.27},{"$f":"0.55*F18","v":1.7985000000000002},{"$f":"2*'zařizovací předměty'!G23+'zařizovací předměty'!F23","v":3.27},{"$f":"0.55*H18","v":1.7985000000000002},{"$f":"2*'zařizovací předměty'!G23+'zařizovací předměty'!F23","v":3.27},{"$f":"J18*0.55","v":1.7985000000000002},{"$f":"2*'zařizovací předměty'!G23+'zařizovací předměty'!F23","v":3.27},{"$f":"0.55*L18","v":1.7985000000000002},{"$f":"2*'zařizovací předměty'!G23+'zařizovací předměty'!F23","v":3.27},{"$f":"N18*0.55","v":1.7985000000000002},{"$f":"2*'zařizovací předměty'!G23+'zařizovací předměty'!F23","v":3.27},{"$f":"P18*0.55","v":1.7985000000000002},{"$f":"2*'zařizovací předměty'!G23+'zařizovací předměty'!F23","v":3.27},{"$f":"0.55*R18","v":1.7985000000000002},{"$f":"2*'zařizovací předměty'!G23+'zařizovací předměty'!F23","v":3.27},{"$f":"T18*0.55","v":1.7985000000000002},{"$f":"2*'zařizovací předměty'!G23+'zařizovací předměty'!F23","v":3.27},{"$f":"V18*0.55","v":1.7985000000000002},{"$f":"2*'zařizovací předměty'!G23+'zařizovací předměty'!F23","v":3.27},{"$f":"X18*0.55","v":1.7985000000000002},{"$f":"2*'zařizovací předměty'!G23+'zařizovací předměty'!F23","v":3.27},{"$f":"Z18*0.55","v":1.7985000000000002},{"$f":"2*'zařizovací předměty'!G23+'zařizovací předměty'!F23","v":3.27},{"$f":"AB18*0.55","v":1.7985000000000002}]
[null,"Vana rohová podezdívka",0,0.64762500000000001,0.64762500000000001,null,{"$f":"F31*0.55","v":0.64762500000000001},null,{"$f":"F31*0.55","v":0.64762500000000001},null,{"$f":"F31*0.55","v":0.64762500000000001},null,{"$f":"F31*0.55","v":0.64762500000000001},null,{"$f":"F31*0.55","v":0.64762500000000001},{"$f":"2*3.14*'zařizovací předměty'!G23*0.25","v":1.1775},{"$f":"P19*0.55","v":0.64762500000000001},null,{"$f":"F31*0.55","v":0.64762500000000001},null,{"$f":"F31*0.55","v":0.64762500000000001},null,{"$f":"F31*0.55","v":0.64762500000000001},null,{"$f":"F31*0.55","v":0.64762500000000001},{"$f":"2*3.14*'zařizovací předměty'!G23*0.25","v":1.1775},{"$f":"Z19*0.55","v":0.64762500000000001},null,{"$f":"F31*0.55","v":0.64762500000000001}]
[null,"Vana rohová odečet obklad",0,1.3860000000000001,1.3860000000000001,null,{"$f":"F32*0.55","v":1.3860000000000001},null,{"$f":"F32*0.55","v":1.3860000000000001},null,{"$f":"F32*0.55","v":1.3860000000000001},null,{"$f":"F32*0.55","v":1.3860000000000001},null,{"$f":"F32*0.55","v":1.3860000000000001},{"$f":"'zařizovací předměty'!F23+'zařizovací předměty'!G23","v":2.52},{"$f":"P20*0.55","v":1.3860000000000001},null,{"$f":"F32*0.55","v":1.3860000000000001},null,{"$f":"F32*0.55","v":1.3860000000000001},null,{"$f":"F32*0.55","v":1.3860000000000001},null,{"$f":"F32*0.55","v":1.3860000000000001},{"$f":"'zařizovací předměty'!F23+'zařizovací předměty'!G23","v":2.52},{"$f":"Z20*0.55","v":1.3860000000000001},null,{"$f":"F32*0.55","v":1.3860000000000001}]
[null,"Geberit přizdívka",0.93,1.1160000000000001,1.1160000000000001,{"$f":"'Navrhovaný stav'!D15","v":0.93},{"$f":"F21*1.2","v":1.1160000000000001},{"$f":"'Navrhovaný stav'!D15","v":0.93},{"$f":"H21*1.2","v":1.1160000000000001},{"$f":"'Navrhovaný stav'!D15","v":0.93},{"$f":"J21*1.2","v":1.1160000000000001},{"$f":"'Navrhovaný stav'!D15","v":0.93},{"$f":"1.2*L21","v":1.1160000000000001},{"$f":"'Navrhovaný stav'!D15","v":0.93},{"$f":"N21*1.2","v":1.1160000000000001},{"$f":"'Navrhovaný stav'!D15","v":0.93},{"$f":"P21*1.2","v":1.1160000000000001},{"$f":"'Navrhovaný stav'!D15","v":0.93},{"$f":"R21*1.2","v":1.1160000000000001},{"$f":"'Navrhovaný stav'!D15","v":0.93},{"$f":"T21*1.2","v":1.1160000000000001},{"$f":"'Navrhovaný stav'!D15","v":0.93},{"$f":"V21*1.2","v":1.1160000000000001},{"$f":"'Navrhovaný stav'!D15","v":0.93},{"$f":"X21*1.2","v":1.1160000000000001},{"$f":"'Navrhovaný stav'!D15","v":0.93},{"$f":"1.2*Z21","v":1.1160000000000001},{"$f":"'Navrhovaný stav'!D15","v":0.93},{"$f":"AB21*1.2","v":1.1160000000000001}]
[null,"Izolace podlaha",0,3.8778000000000006,3.8778000000000006,null,{"$f":"F12*0.1+G15","v":3.8778000000000006},null,{"$f":"H12*0.1+I15","v":4.0089000000000006},null,{"$f":"J12*0.1+K15","v":4.9253},null,{"$f":"L12*0.1+M15","v":3.8778000000000006},null,{"$f":"N12*0.1+O15","v":3.8778000000000006},null,{"$f":"P12*0.1+Q15","v":3.8778000000000006},null,{"$f":"R12*0.1+S15","v":3.8778000000000006},null,{"$f":"T12*0.1+U15","v":3.8778000000000006},null,{"$f":"V12*0.1+W15","v":3.8778000000000006},null,{"$f":"X12*0.1+Y15","v":3.8778000000000006},null,{"$f":"Z12*0.1+AA15","v":3.5978000000000003},null,{"$f":"AB12*0.1+AC15","v":3.5978000000000003}]
[null,"Izolace stěny",5.07,10.14,{"$f":"D23+G58","v":10.14},{"$f":"'Navrhovaný stav'!F85+'Navrhovaný stav'!G85+'Navrhovaný stav'!G85+1+'Navrhovaný stav'!F92+'Navrhovaný stav'!G92","v":5.07},{"$f":"F23*'Navrhovaný stav'!C34","v":10.14},{"$f":"'Navrhovaný stav'!F85+'Navrhovaný stav'!G85+'Navrhovaný stav'!G85+1+'Navrhovaný stav'!F92+'Navrhovaný stav'!G92","v":5.07},{"$f":"H23*'Navrhovaný stav'!C34","v":10.14},{"$f":"'Navrhovaný stav'!F85+'Navrhovaný stav'!G85+'Navrhovaný stav'!G85+1+'Navrhovaný stav'!F92+'Navrhovaný stav'!G92","v":5.07},{"$f":"J23*'Navrhovaný stav'!C34","v":10.14},{"$f":"'Navrhovaný stav'!F85+'Navrhovaný stav'!G85+'Navrhovaný stav'!G85+1+'Navrhovaný stav'!F92+'Navrhovaný stav'!G92","v":5.07},{"$f":"L23*'Navrhovaný stav'!C34","v":10.14},{"$f":"'Navrhovaný stav'!F85+'Navrhovaný stav'!G85+'Navrhovaný stav'!G85+1+'Navrhovaný stav'!F92+'Navrhovaný stav'!G92","v":5.07},{"$f":"N23*'Navrhovaný stav'!C34","v":10.14},{"$f":"'Navrhovaný stav'!F85+'Navrhovaný stav'!G85+'Navrhovaný stav'!G85+1+'Navrhovaný stav'!F92+'Navrhovaný stav'!G92","v":5.07},{"$f":"P23*'Navrhovaný stav'!C34","v":10.14},{"$f":"'Navrhovaný stav'!F85+'Navrhovaný stav'!G85+'Navrhovaný stav'!G85+1+'Navrhovaný stav'!F92+'Navrhovaný stav'!G92","v":5.07},{"$f":"R23*'Navrhovaný stav'!C34","v":10.14},{"$f":"'Navrhovaný stav'!F85+'Navrhovaný stav'!G85+'Navrhovaný stav'!G85+1+'Navrhovaný stav'!F92+'Navrhovaný stav'!G92","v":5.07},{"$f":"T23*'Navrhovaný stav'!C34","v":10.14},{"$f":"'Navrhovaný stav'!F85+'Navrhovaný stav'!G85+'Navrhovaný stav'!G85+1+'Navrhovaný stav'!F92+'Navrhovaný stav'!G92","v":5.07},{"$f":"V23*'Navrhovaný stav'!C34","v":10.14},{"$f":"'Navrhovaný stav'!F85+'Navrhovaný stav'!G85+'Navrhovaný stav'!G85+1+'Navrhovaný stav'!F92+'Navrhovaný stav'!G92","v":5.07},{"$f":"X23*'Navrhovaný stav'!C34","v":10.14},{"$f":"'Navrhovaný stav'!F85+'Navrhovaný stav'!G85+'Navrhovaný stav'!G85+1+'Navrhovaný stav'!F92+'Navrhovaný stav'!G92","v":5.07},{"$f":"Z23*'Navrhovaný stav'!C34","v":10.14},{"$f":"'Navrhovaný stav'!F85+'Navrhovaný stav'!G85+'Navrhovaný stav'!G85+1+'Navrhovaný stav'!F92+'Navrhovaný stav'!G92","v":5.07},{"$f":"AB23*'Navrhovaný stav'!C34","v":10.14}]
[null,"Sprcha s přizděnou stěnou-zdivo",0.56999999999999995,2.2629000000000001,2.2629000000000001,{"$f":"'Navrhovaný stav'!G92","v":0.56999999999999995},{"$f":"F24*'Stávající stav'!C4","v":2.2629000000000001},{"$f":"'Navrhovaný stav'!G92","v":0.56999999999999995},{"$f":"H24*'Stávající stav'!C4","v":2.2629000000000001},{"$f":"'Navrhovaný stav'!G92","v":0.56999999999999995},{"$f":"J24*'Stávající stav'!C4","v":2.2629000000000001},{"$f":"'Navrhovaný stav'!G92","v":0.56999999999999995},{"$f":"L24*'Stávající stav'!C4","v":2.2629000000000001},{"$f":"'Navrhovaný stav'!G92","v":0.56999999999999995},{"$f":"N24*'Stávající stav'!C4","v":2.2629000000000001},{"$f":"'Navrhovaný stav'!G92","v":0.56999999999999995},{"$f":"P24*'Stávající stav'!C4","v":2.2629000000000001},{"$f":"'Navrhovaný stav'!G92","v":0.56999999999999995},{"$f":"R24*'Stávající stav'!C4","v":2.2629000000000001},{"$f":"'Navrhovaný stav'!G92","v":0.56999999999999995},{"$f":"T24*'Stávající stav'!C4","v":2.2629000000000001},{"$f":"'Navrhovaný stav'!G92","v":0.56999999999999995},{"$f":"V24*'Stávající stav'!C4","v":2.2629000000000001},{"$f":"'Navrhovaný stav'!G92","v":0.56999999999999995},{"$f":"X24*'Stávající stav'!C4","v":2.2629000000000001},{"$f":"'Navrhovaný stav'!G92","v":0.56999999999999995},{"$f":"Z24*'Stávající stav'!C4","v":2.2629000000000001},{"$f":"'Navrhovaný stav'!G92","v":0.56999999999999995},{"$f":"AB24*'Stávající stav'!C4","v":2.2629000000000001}]
[null,"Sprcha s přizděnou stěnou-obklad",0.56999999999999995,2.2799999999999998,2.2799999999999998,{"$f":"'Navrhovaný stav'!G92","v":0.56999999999999995},{"$f":"2*F25*'Navrhovaný stav'!C34","v":2.2799999999999998},{"$f":"'Navrhovaný stav'!G92","v":0.56999999999999995},{"$f":"H25*2*'Navrhovaný stav'!C34","v":2.2799999999999998},{"$f":"'Navrhovaný stav'!G92","v":0.56999999999999995},{"$f":"J25*2*'Navrhovaný stav'!C34","v":2.2799999999999998},{"$f":"'Navrhovaný stav'!G92","v":0.56999999999999995},{"$f":"L25*2*'Navrhovaný stav'!C34","v":2.2799999999999998},{"$f":"'Navrhovaný stav'!G92","v":0.56999999999999995},{"$f":"N25*2*'Navrhovaný stav'!C34","v":2.2799999999999998},{"$f":"'Navrhovaný stav'!G92","v":0.56999999999999995},{"$f":"P25*2*'Navrhovaný stav'!C34","v":2.2799999999999998},{"$f":"'Navrhovaný stav'!G92","v":0.56999999999999995},{"$f":"R25*2*'Navrhovaný stav'!C34","v":2.2799999999999998},{"$f":"'Navrhovaný stav'!G92","v":0.56999999999999995},{"$f":"T25*2*'Navrhovaný stav'!C34","v":2.2799999999999998},{"$f":"'Navrhovaný stav'!G92","v":0.56999999999999995},{"$f":"V25*2*'Navrhovaný stav'!C34","v":2.2799999999999998},{"$f":"'Navrhovaný stav'!G92","v":0.56999999999999995},{"$f":"X25*2*'Navrhovaný stav'!C34","v":2.2799999999999998},{"$f":"'Navrhovaný stav'!G92","v":0.56999999999999995},{"$f":"Z25*2*'Navrhovaný stav'!C34","v":2.2799999999999998},{"$f":"'Navrhovaný stav'!G92","v":0.56999999999999995},{"$f":"AB25*2*'Navrhovaný stav'!C34","v":2.2799999999999998}]
[null,"Mimo vzorový půdorys",0,0,0]
[null,"Sprcha s přizděnou stěnou-zdivo",0,0,0,{"$f":"2*'zařizovací předměty'!G27","v":1.1399999999999999},{"$f":"F27*'Stávající stav'!C4","v":4.5258000000000003},{"$f":"2*'zařizovací předměty'!G27","v":1.1399999999999999},{"$f":"H27*'Stávající stav'!C4","v":4.5258000000000003},{"$f":"2*'zařizovací předměty'!G27","v":1.1399999999999999},{"$f":"J27*'Stávající stav'!C4","v":4.5258000000000003}]
[null,"Sprcha s přizděnou stěnou-obklad",0,0,0,{"$f":"2*'zařizovací předměty'!G27","v":1.1399999999999999},{"$f":"F28*'Navrhovaný stav'!C34","v":2.2799999999999998},{"$f":"2*'zařizovací předměty'!G27","v":1.1399999999999999},{"$f":"H28*'Navrhovaný stav'!C34","v":2.2799999999999998},{"$f":"2*'zařizovací předměty'!G27","v":1.1399999999999999},{"$f":"J28*'Navrhovaný stav'!C34","v":2.2799999999999998}]
[null,"Vana rovná podezdívka",0,0,0,null,null,null,null,{"$f":"'zařizovací předměty'!F33","v":0},{"$f":"J29*0.55","v":0}]
[null,"Vana rovná odečet obklad",0,0,0,null,null,null,null,{"$f":"2*'zařizovací předměty'!G33+'zařizovací předměty'!F23","v":1.77},{"$f":"J30*0.55","v":0.97350000000000014}]
[null,"Vana rohová podezdívka",0,0,0,{"$f":"2*3.14*'zařizovací předměty'!G23*0.25","v":1.1775},{"$f":"F31*0.55","v":0.64762500000000001},{"$f":"2*3.14*'zařizovací předměty'!G23*0.25","v":1.1775},{"$f":"H31*0.55","v":0.64762500000000001},{"$f":"2*3.14*'zařizovací předměty'!G23*0.25","v":1.1775},{"$f":"J31*0.55","v":0.64762500000000001}]
[null,"Vana rohová odečet obklad",0,0,0,{"$f":"'zařizovací předměty'!F23+'zařizovací předměty'!G23","v":2.52},{"$f":"F32*0.55","v":1.3860000000000001},{"$f":"'zařizovací předměty'!F23+'zařizovací předměty'!G23","v":2.52},{"$f":"H32*0.55","v":1.3860000000000001},{"$f":"'zařizovací předměty'!F23+'zařizovací předměty'!G23","v":2.52},{"$f":"J32*0.55","v":1.3860000000000001}]
[null,"Počet dveří",null,null,null,{"$f":"'Navrhovaný stav'!D38+'Navrhovaný stav'!E38+'Navrhovaný stav'!F38+'Navrhovaný stav'!G38","v":0}]
[null,"Plocha dveří",null,null,null,{"$f":"'Navrhovaný stav'!D39+'Navrhovaný stav'!E39+'Navrhovaný stav'!F39+'Navrhovaný stav'!G39","v":2.5609999999999999}]
[]
[]
[null,"VŽDY"]
[]
[null,"Ukazka vyjimky",null,{"$f":"IF(ISNUMBER(SEARCH(\"OBLOŽKOVÉ\",INDEX('Zařizovací předměty - pomocný'!A3:A18,'Rozpočet-scénář'!C9),1)),0.8,0)","v":0}]
[null,"Technistone",null,{"$f":"IF(ISNUMBER(SEARCH(\"TECHNISTONE\",INDEX('Zařizovací předměty - pomocný'!BL3:BL6,'Rozpočet-scénář'!C28)))=TRUE(),1,0)","v":0}]
[null,"Ytong",null,{"$f":"IF(ISNUMBER(SEARCH(\"YTONG\",INDEX('Zařizovací předměty - pomocný'!BL3:BL6,'Rozpočet-scénář'!C28)))=TRUE(),1,0)","v":1},"DVEŘE 1 -obložková zárubeň",{"$f":"IF(ISNUMBER(SEARCH(\"OBLO\",INDEX('Zařizovací předměty - pomocný'!A3:A40,'Rozpočet-scénář'!C9)))=TRUE(),1,0)","v":0}]
[null,"Porotherm",null,{"$f":"IF(ISNUMBER(SEARCH(\"POROTHERM\",INDEX('Zařizovací předměty - pomocný'!BL3:BL6,'Rozpočet-scénář'!C28)))=TRUE(),1,0)","v":0},"DVEŘE 1 -oblozkova zárubeň",{"$f":"IF(ISNUMBER(SEARCH(\"OBLO\",INDEX('Zařizovací předměty - pomocný'!A3:A40,'Rozpočet-scénář'!C17)))=TRUE(),1,0)","v":1},"Počet překladů"]
[null,"Je zdivo Ytong či Porotherm",null,{"$f":"IF(OR(D41=1,D42=1),1,0)","v":1},"Je nutny preklad pro dane zdivo?",{"$f":"IF(AND(OR(F41=1,F42=1),D43=1),1,0)","v":1},{"$f":"IF(F43=1,+F41*'Navrhovaný stav'!F48+'Navrhovaný stav - pomocný'!F42,0)","v":1}]
[null,"POMOCNa HODNOTA PRO DVERE",null,{"$f":"('Navrhovaný stav'!D38*('Navrhovaný stav'!D35+10)+'Navrhovaný stav'!E38*('Navrhovaný stav'!E37+10)+'Navrhovaný stav'!F38*('Navrhovaný stav'!F37+10)+'Navrhovaný stav'!G38*('Navrhovaný stav'!G37+10))/100*1.97*D43","v":0}]
["VANA",null,null,null,"rovna",null,"rohova"]
[null,"obklad - uvazuje se s vanou?",null,{"$f":"IF('Navrhovaný stav'!$D$83=TRUE,1,0)","v":1}]
[null,"Obklad odečíst když je vana s krycim panelem",null,{"$f":"IF(ISNUMBER(SEARCH(\"PANEL\",INDEX('Zařizovací předměty - pomocný'!BX3:BX6,'Rozpočet-scénář'!C10)))=TRUE(),1,0)","v":0},{"$f":"E18+D47*0.55*'Navrhovaný stav'!F85","v":1.7985000000000002},null,{"$f":" E20-IF(D47=0, 2*3.1415926*0.25*0.55*'Navrhovaný stav'!G85,0)","v":0.73804652625}]
[null,"Je rohova vana?",null,{"$f":"IF(ISNUMBER(SEARCH(\"ROHOVÁ\",INDEX('Zařizovací předměty - pomocný'!BX3:BX6,'Rozpočet-scénář'!C10)))=TRUE(),1,0)*D46","v":0}]
[null,"Vysledna uvazovana hodnota odectu",null,{"$f":"IF(D48=1,G47,E47)*D46","v":1.7985000000000002}]
[]
[null,"Dveře1",{"$f":"INDEX('Zařizovací předměty - pomocný'!A3:A18,'Rozpočet-scénář'!C9)","v":"DVEŘE POUZDROVÉ 70 cm SDK"},null,{"$f":"'Navrhovaný stav'!D36","v":1}]
[null,"Dveře2",{"$f":"INDEX('Zařizovací předměty - pomocný'!A3:A18,'Rozpočet-scénář'!C17)","v":"DVEŘE OBLOŽKOVÉ ZÁRUBNĚ 60 cm"},null,{"$f":"'Navrhovaný stav'!F36","v":1}]
[]
[]
[]
["SPRCHA"]
[null,"obklad - uvazovat sprchu?",null,{"$f":"IF('Navrhovaný stav'!$D$90=TRUE,1,0)","v":1},"obklad","malba","izolace"]
[null,"Sprcha zdena?",null,{"$f":"IF(ISNUMBER(SEARCH(\"ZDĚNÁ\",INDEX('Zařizovací předměty - pomocný'!CA3:CA6,'Rozpočet-scénář'!C14)))=TRUE(),1,0)","v":0},{"$f":"D58*E25","v":0},{"$f":"D58*('Navrhovaný stav - pomocný'!C25*2*('Stávající stav'!C4-'Navrhovaný stav'!C34))","v":0},{"$f":"D58*(C25*'Navrhovaný stav'!C34)","v":0}]
[]
[]
[]
["STANDARD","Zvoleny standard",null,1]
[]
[]
[]
[null,null,"podstandard","standard","nadstandard","výsledek"]
[null,"dveře",1500,5000,8000,{"$f":"INDEX(C67:E67,,$D$62)","v":1500}]
[null,"obklad",350,650,1000,{"$f":"INDEX(C68:E68,,$D$62)","v":350}]
[null,"dlažba",350,650,1000,350]
[null,"WC",2500,7500,7500,2500]
[null,"Bidet",2500,2500,5300,2500]
[null,"Vana",4000,6500,8000,4000]
[null,"Sprcha",2000,4000,8000,2000]
[null,"Sprchová zástěna",5000,7500,10000,5000]
[null,"Umyvadlo",2000,4000,8000,2000]
[null,"Otopný žebřík",2000,2500,4000,2000]
[null,"Elektro",7000,9000,11000,7000]
[null,"Kování",350,750,1100,350]
[]
["BATERIE","bidetová",1500,2000,3000,1500]
[null,"vanová",2000,4000,7000,2000]
[null,"sprchová",2000,4000,8000,2000]
[null,"umyvadlová",1800,3000,6000,1800]
[]
[]
[]
[]
[]
[]
[]
[]
[]
[]
[]
[]
[]
[]
[]
[]
[]
[]
[]
[]
[]
[]
[null,null,null,null,null,"Půdorys 1",null,null,null,null,null,"Půdorys 2",null,null,null,null,null,"Půdorys 3",null,null,null,"Půdorys 4",null,null,null,"Půdorys 5"]
[null,null,null,null,null,"Varianta 1",null,"Varianta 2",null,"Varianta 3",null,"Varianata 1",null,"Varianta 2",null,"Varianta 3",null,"Varinata 1",null,"Varianta 2",null,"Varianta 1",null,"Varianta 2",null,"Varianata 1",null,"Varianta 2"]
[null,null,null,null,null,"Délka",null,"Délka","Plocha","Délka","Plocha","Délka","Plocha","Délka","Plocha","Délka","Plocha","Délka","Plocha","Délka","Plocha","Délka","Plocha","Délka","Plocha","Délka","Plocha","Délka","Plocha"]
[null,"Stěna panel",null,null,null,{"$f":"'Navrhovaný stav'!#REF!+'Navrhovaný stav'!#REF!+'Navrhovaný stav'!#REF!+'Navrhovaný stav'!#REF!","v":{"$error":"#REF!"}},null,{"$f":"'Navrhovaný stav'!#REF!+'Navrhovaný stav'!#REF!+'Navrhovaný stav'!#REF!+'Navrhovaný stav'!#REF!","v":{"$error":"#REF!"}},{"$f":"H109*'Stávající stav'!C93","v":{"$error":"#REF!"}},{"$f":"'Navrhovaný stav'!#REF!+'Navrhovaný stav'!#REF!+'Navrhovaný stav'!#REF!+'Navrhovaný stav'!#REF!","v":{"$error":"#REF!"}},{"$f":"J109*'Stávající stav'!C93","v":{"$error":"#REF!"}},{"$f":"'Navrhovaný stav'!#REF!+'Navrhovaný stav'!#REF!+'Navrhovaný stav'!#REF!","v":{"$error":"#REF!"}},{"$f":"L109*'Stávající stav'!C93","v":{"$error":"#REF!"}},{"$f":"'Navrhovaný stav'!#REF!+'Navrhovaný stav'!#REF!+'Navrhovaný stav'!#REF!","v":{"$error":"#REF!"}},{"$f":"N109*'Stávající stav'!C93","v":{"$error":"#REF!"}},{"$f":"'Navrhovaný stav'!#REF!+'Navrhovaný stav'!#REF!+'Navrhovaný stav'!#REF!","v":{"$error":"#REF!"}},{"$f":"P109*'Stávající stav'!C93","v":{"$error":"#REF!"}},{"$f":"'Navrhovaný stav'!#REF!","v":{"$error":"#REF!"}},{"$f":"R109*'Stávající stav'!C93","v":{"$error":"#REF!"}},{"$f":"'Navrhovaný stav'!#REF!","v":{"$error":"#REF!"}},{"$f":"T109*'Stávající stav'!C93","v":{"$error":"#REF!"}},{"$f":"'Navrhovaný stav'!#REF!+'Navrhovaný stav'!#REF!","v":{"$error":"#REF!"}},{"$f":"V109*'Stávající stav'!C93","v":{"$error":"#REF!"}},{"$f":"'Navrhovaný stav'!#REF!+'Navrhovaný stav'!#REF!","v":{"$error":"#REF!"}},{"$f":"X109*'Stávající stav'!C93","v":{"$error":"#REF!"}},{"$f":"'Navrhovaný stav'!#REF!+2*('Navrhovaný stav'!#REF!+'Navrhovaný stav'!#REF!)","v":{"$error":"#REF!"}},{"$f":"Z109*'Stávající stav'!C93","v":{"$error":"#REF!"}},{"$f":"'Navrhovaný stav'!#REF!+2*('Navrhovaný stav'!#REF!+'Navrhovaný stav'!#REF!)","v":{"$error":"#REF!"}},{"$f":"AB109*'Stávající stav'!C93","v":{"$error":"#REF!"}}]
[null,"Stěna zdivo",null,null,null,{"$f":"'Navrhovaný stav'!#REF!+'Navrhovaný stav'!#REF!+'Navrhovaný stav'!#REF!+'Navrhovaný stav'!#REF!","v":{"$error":"#REF!"}},null,{"$f":"'Navrhovaný stav'!#REF!+'Navrhovaný stav'!#REF!+'Navrhovaný stav'!#REF!+'Navrhovaný stav'!#REF!","v":{"$error":"#REF!"}},{"$f":"H110*'Stávající stav'!C93-('Navrhovaný stav'!#REF!+'Navrhovaný stav'!#REF!+'Navrhovaný stav'!#REF!+'Navrhovaný stav'!#REF!)","v":{"$error":"#REF!"}},{"$f":"'Navrhovaný stav'!#REF!+'Navrhovaný stav'!#REF!+'Navrhovaný stav'!#REF!-'Navrhovaný stav'!#REF!+'Navrhovaný stav'!#REF!","v":{"$error":"#REF!"}},{"$f":"J110*'Stávající stav'!C93-('Navrhovaný stav'!#REF!+'Navrhovaný stav'!#REF!+'Navrhovaný stav'!#REF!+'Navrhovaný stav'!#REF!)","v":{"$error":"#REF!"}},{"$f":"'Navrhovaný stav'!#REF!+ (2*('Navrhovaný stav'!#REF!+'Navrhovaný stav'!#REF!))","v":{"$error":"#REF!"}},{"$f":"L110*'Stávající stav'!C93-('Navrhovaný stav'!#REF!+'Navrhovaný stav'!#REF!+'Navrhovaný stav'!#REF!+'Navrhovaný stav'!#REF!)","v":{"$error":"#REF!"}},{"$f":"'Navrhovaný stav'!#REF!+ (2*('Navrhovaný stav'!#REF!+'Navrhovaný stav'!#REF!))","v":{"$error":"#REF!"}},{"$f":"N110*'Stávající stav'!C93-('Navrhovaný stav'!#REF!+'Navrhovaný stav'!#REF!+'Navrhovaný stav'!#REF!+'Navrhovaný stav'!#REF!)","v":{"$error":"#REF!"}},{"$f":"'Navrhovaný stav'!#REF!+ (2*('Navrhovaný stav'!#REF!+'Navrhovaný stav'!#REF!))","v":{"$error":"#REF!"}},{"$f":"P110*'Stávající stav'!C93-('Navrhovaný stav'!#REF!+'Navrhovaný stav'!#REF!+'Navrhovaný stav'!#REF!+'Navrhovaný stav'!#REF!)","v":{"$error":"#REF!"}},{"$f":"'Navrhovaný stav'!#REF!+(2*('Navrhovaný stav'!#REF!+'Navrhovaný stav'!#REF!+'Navrhovaný stav'!#REF!))","v":{"$error":"#REF!"}},{"$f":"R110*'Stávající stav'!C93-('Navrhovaný stav'!#REF!+'Navrhovaný stav'!#REF!+'Navrhovaný stav'!#REF!+'Navrhovaný stav'!#REF!)","v":{"$error":"#REF!"}},{"$f":"'Navrhovaný stav'!#REF!+(2*('Navrhovaný stav'!#REF!+'Navrhovaný stav'!#REF!+'Navrhovaný stav'!#REF!))","v":{"$error":"#REF!"}},{"$f":"T110*'Stávající stav'!C93-('Navrhovaný stav'!#REF!+'Navrhovaný stav'!#REF!+'Navrhovaný stav'!#REF!+'Navrhovaný stav'!#REF!)","v":{"$error":"#REF!"}},{"$f":"(2*'Navrhovaný stav'!#REF!)+(3*'Navrhovaný stav'!#REF!)+'Navrhovaný stav'!#REF!","v":{"$error":"#REF!"}},{"$f":"V110*'Stávající stav'!C93-('Navrhovaný stav'!#REF!+'Navrhovaný stav'!#REF!+'Navrhovaný stav'!#REF!+'Navrhovaný stav'!#REF!)","v":{"$error":"#REF!"}},{"$f":"(2*'Navrhovaný stav'!#REF!)+(3*'Navrhovaný stav'!#REF!)+'Navrhovaný stav'!#REF!","v":{"$error":"#REF!"}},{"$f":"X110*'Stávající stav'!C93-('Navrhovaný stav'!#REF!+'Navrhovaný stav'!#REF!+'Navrhovaný stav'!#REF!+'Navrhovaný stav'!#REF!)","v":{"$error":"#REF!"}},{"$f":"'Navrhovaný stav'!#REF!+'Navrhovaný stav'!#REF!-'Navrhovaný stav'!#REF!+'Navrhovaný stav'!#REF!","v":{"$error":"#REF!"}},{"$f":"Z110*'Stávající stav'!C93-('Navrhovaný stav'!#REF!+'Navrhovaný stav'!#REF!+'Navrhovaný stav'!#REF!+'Navrhovaný stav'!#REF!)","v":{"$error":"#REF!"}},{"$f":"2*('Navrhovaný stav'!#REF!+'Navrhovaný stav'!#REF!)+'Navrhovaný stav'!#REF!","v":{"$error":"#REF!"}},{"$f":"AB110*'Stávající stav'!C93-('Navrhovaný stav'!#REF!+'Navrhovaný stav'!#REF!+'Navrhovaný stav'!#REF!+'Navrhovaný stav'!#REF!)","v":{"$error":"#REF!"}}]
[null,"Stěna obklad",null,null,null,{"$f":"2*('Navrhovaný stav'!#REF!+'Navrhovaný stav'!#REF!+'Navrhovaný stav'!#REF!+'Navrhovaný stav'!#REF!)","v":{"$error":"#REF!"}},null,{"$f":"2*('Navrhovaný stav'!#REF!+'Navrhovaný stav'!#REF!+'Navrhovaný stav'!#REF!+'Navrhovaný stav'!#REF!)","v":{"$error":"#REF!"}},{"$f":"H111*'Navrhovaný stav'!#REF!-('Navrhovaný stav'!#REF!+'Navrhovaný stav'!#REF!+'Navrhovaný stav'!#REF!+'Navrhovaný stav'!#REF!)","v":{"$error":"#REF!"}},{"$f":"2*('Navrhovaný stav'!#REF!+'Navrhovaný stav'!#REF!+'Navrhovaný stav'!#REF!)","v":{"$error":"#REF!"}},{"$f":"J111*'Navrhovaný stav'!#REF!-('Navrhovaný stav'!#REF!-'Navrhovaný stav'!#REF!-'Navrhovaný stav'!#REF!-'Navrhovaný stav'!#REF!)","v":{"$error":"#REF!"}},{"$f":"2*('Navrhovaný stav'!#REF!+'Navrhovaný stav'!#REF!+'Navrhovaný stav'!#REF!+'Navrhovaný stav'!#REF!)","v":{"$error":"#REF!"}},{"$f":"L111*'Navrhovaný stav'!#REF!-('Navrhovaný stav'!#REF!+'Navrhovaný stav'!#REF!+'Navrhovaný stav'!#REF!+'Navrhovaný stav'!#REF!)","v":{"$error":"#REF!"}},{"$f":"2*('Navrhovaný stav'!#REF!+'Navrhovaný stav'!#REF!+'Navrhovaný stav'!#REF!+'Navrhovaný stav'!#REF!)","v":{"$error":"#REF!"}},{"$f":"N111*'Navrhovaný stav'!#REF!-('Navrhovaný stav'!#REF!+'Navrhovaný stav'!#REF!+'Navrhovaný stav'!#REF!+'Navrhovaný stav'!#REF!)","v":{"$error":"#REF!"}},{"$f":"2*('Navrhovaný stav'!#REF!+'Navrhovaný stav'!#REF!+'Navrhovaný stav'!#REF!+'Navrhovaný stav'!#REF!)","v":{"$error":"#REF!"}},{"$f":"P111*'Navrhovaný stav'!#REF!-('Navrhovaný stav'!#REF!+'Navrhovaný stav'!#REF!+'Navrhovaný stav'!#REF!+'Navrhovaný stav'!#REF!)","v":{"$error":"#REF!"}},{"$f":"2*('Navrhovaný stav'!#REF!+'Navrhovaný stav'!#REF!+'Navrhovaný stav'!#REF!+'Navrhovaný stav'!#REF!)","v":{"$error":"#REF!"}},{"$f":"R111*'Navrhovaný stav'!#REF!-('Navrhovaný stav'!#REF!+'Navrhovaný stav'!#REF!+'Navrhovaný stav'!#REF!+'Navrhovaný stav'!#REF!)","v":{"$error":"#REF!"}},{"$f":"2*('Navrhovaný stav'!#REF!+'Navrhovaný stav'!#REF!+'Navrhovaný stav'!#REF!+'Navrhovaný stav'!#REF!)","v":{"$error":"#REF!"}},{"$f":"T111*'Navrhovaný stav'!#REF!-('Navrhovaný stav'!#REF!+'Navrhovaný stav'!#REF!+'Navrhovaný stav'!#REF!+'Navrhovaný stav'!#REF!)","v":{"$error":"#REF!"}},{"$f":"2*('Navrhovaný stav'!#REF!+'Navrhovaný stav'!#REF!+'Navrhovaný stav'!#REF!+'Navrhovaný stav'!#REF!)","v":{"$error":"#REF!"}},{"$f":"V111*'Navrhovaný stav'!#REF!-('Navrhovaný stav'!#REF!+'Navrhovaný stav'!#REF!+'Navrhovaný stav'!#REF!+'Navrhovaný stav'!#REF!)","v":{"$error":"#REF!"}},{"$f":"2*('Navrhovaný stav'!#REF!+'Navrhovaný stav'!#REF!+'Navrhovaný stav'!#REF!+'Navrhovaný stav'!#REF!)","v":{"$error":"#REF!"}},{"$f":"X111*'Navrhovaný stav'!#REF!-('Navrhovaný stav'!#REF!+'Navrhovaný stav'!#REF!+'Navrhovaný stav'!#REF!+'Navrhovaný stav'!#REF!)","v":{"$error":"#REF!"}},{"$f":"'Navrhovaný stav'!#REF!+'Navrhovaný stav'!#REF!-'Navrhovaný stav'!#REF!+'Navrhovaný stav'!#REF!+('Navrhovaný stav'!#REF!+'Navrhovaný stav'!#REF!)+'Navrhovaný stav'!#REF!+'Navrhovaný stav'!#REF!","v":{"$error":"#REF!"}},{"$f":"Z111*'Navrhovaný stav'!#REF!-('Navrhovaný stav'!#REF!+'Navrhovaný stav'!#REF!+'Navrhovaný stav'!#REF!+'Navrhovaný stav'!#REF!)","v":{"$error":"#REF!"}},{"$f":"2*('Navrhovaný stav'!#REF!+'Navrhovaný stav'!#REF!)+'Navrhovaný stav'!#REF!","v":{"$error":"#REF!"}},{"$f":"AB111*'Navrhovaný stav'!#REF!-('Navrhovaný stav'!#REF!+'Navrhovaný stav'!#REF!+'Navrhovaný stav'!#REF!+'Navrhovaný stav'!#REF!)","v":{"$error":"#REF!"}}]
[null,"Malba/omítka vnitřek panel",null,null,null,{"$f":"'Navrhovaný stav'!#REF!+'Navrhovaný stav'!#REF!+'Navrhovaný stav'!#REF!","v":{"$error":"#REF!"}},null,{"$f":"'Navrhovaný stav'!#REF!+'Navrhovaný stav'!#REF!+'Navrhovaný stav'!#REF!","v":{"$error":"#REF!"}},{"$f":"H112*('Stávající stav'!C93-'Navrhovaný stav'!#REF!)","v":{"$error":"#REF!"}},{"$f":"'Navrhovaný stav'!#REF!+'Navrhovaný stav'!#REF!+'Navrhovaný stav'!#REF!","v":{"$error":"#REF!"}},{"$f":"J112*('Stávající stav'!C93-'Navrhovaný stav'!#REF!)","v":{"$error":"#REF!"}},{"$f":"'Navrhovaný stav'!#REF!+'Navrhovaný stav'!#REF!","v":{"$error":"#REF!"}},{"$f":"L112*('Stávající stav'!C93-'Navrhovaný stav'!#REF!)","v":{"$error":"#REF!"}},{"$f":"'Navrhovaný stav'!#REF!+'Navrhovaný stav'!#REF!","v":{"$error":"#REF!"}},{"$f":"N112*('Stávající stav'!C93-'Navrhovaný stav'!#REF!)","v":{"$error":"#REF!"}},{"$f":"'Navrhovaný stav'!#REF!+'Navrhovaný stav'!#REF!","v":{"$error":"#REF!"}},{"$f":"P112*('Stávající stav'!C93-'Navrhovaný stav'!#REF!)","v":{"$error":"#REF!"}},{"$f":"'Navrhovaný stav'!#REF!","v":{"$error":"#REF!"}},{"$f":"R112*('Stávající stav'!C93-'Navrhovaný stav'!#REF!)","v":{"$error":"#REF!"}},{"$f":"'Navrhovaný stav'!#REF!","v":{"$error":"#REF!"}},{"$f":"T112*('Stávající stav'!C93-'Navrhovaný stav'!#REF!)","v":{"$error":"#REF!"}},{"$f":"'Navrhovaný stav'!#REF!+'Navrhovaný stav'!#REF!","v":{"$error":"#REF!"}},{"$f":"V112*('Stávající stav'!C93-'Navrhovaný stav'!#REF!)","v":{"$error":"#REF!"}},{"$f":"'Navrhovaný stav'!#REF!+'Navrhovaný stav'!#REF!","v":{"$error":"#REF!"}},{"$f":"X112*('Stávající stav'!C93-'Navrhovaný stav'!#REF!)","v":{"$error":"#REF!"}},{"$f":"'Navrhovaný stav'!#REF!+'Navrhovaný stav'!#REF!+'Navrhovaný stav'!#REF!+'Navrhovaný stav'!#REF!","v":{"$error":"#REF!"}},{"$f":"Z112*('Stávající stav'!C93-'Navrhovaný stav'!#REF!)","v":{"$error":"#REF!"}},{"$f":"'Navrhovaný stav'!#REF!+'Navrhovaný stav'!#REF!+'Navrhovaný stav'!#REF!+'Navrhovaný stav'!#REF!","v":{"$error":"#REF!"}},{"$f":"AB112*('Stávající stav'!C93-'Navrhovaný stav'!#REF!)","v":{"$error":"#REF!"}}]
[null,"Malba/omítka vnitřek zdivo pomocný",null,null,null,{"$f":"2*('Navrhovaný stav'!#REF!+'Navrhovaný stav'!#REF!+'Navrhovaný stav'!#REF!+'Navrhovaný stav'!#REF!)","v":{"$error":"#REF!"}},null,{"$f":"2*('Navrhovaný stav'!#REF!+'Navrhovaný stav'!#REF!+'Navrhovaný stav'!#REF!+'Navrhovaný stav'!#REF!)","v":{"$error":"#REF!"}},{"$f":"H113*('Stávající stav'!C93-'Navrhovaný stav'!#REF!)","v":{"$error":"#REF!"}},{"$f":"2*('Navrhovaný stav'!#REF!+'Navrhovaný stav'!#REF!+'Navrhovaný stav'!#REF!)","v":{"$error":"#REF!"}},{"$f":"J113*('Stávající stav'!C93-'Navrhovaný stav'!#REF!)","v":{"$error":"#REF!"}},{"$f":"2*('Navrhovaný stav'!#REF!+'Navrhovaný stav'!#REF!+'Navrhovaný stav'!#REF!+'Navrhovaný stav'!#REF!)","v":{"$error":"#REF!"}},{"$f":"L113*('Stávající stav'!C93-'Navrhovaný stav'!#REF!)","v":{"$error":"#REF!"}},{"$f":"2*('Navrhovaný stav'!#REF!+'Navrhovaný stav'!#REF!+'Navrhovaný stav'!#REF!+'Navrhovaný stav'!#REF!)","v":{"$error":"#REF!"}},{"$f":"N113*('Stávající stav'!C93-'Navrhovaný stav'!#REF!)","v":{"$error":"#REF!"}},{"$f":"2*('Navrhovaný stav'!#REF!+'Navrhovaný stav'!#REF!+'Navrhovaný stav'!#REF!+'Navrhovaný stav'!#REF!)","v":{"$error":"#REF!"}},{"$f":"P113*('Stávající stav'!C93-'Navrhovaný stav'!#REF!)","v":{"$error":"#REF!"}},{"$f":"2*('Navrhovaný stav'!#REF!+'Navrhovaný stav'!#REF!+'Navrhovaný stav'!#REF!+'Navrhovaný stav'!#REF!)","v":{"$error":"#REF!"}},{"$f":"R113*('Stávající stav'!C93-'Navrhovaný stav'!#REF!)","v":{"$error":"#REF!"}},{"$f":"2*('Navrhovaný stav'!#REF!+'Navrhovaný stav'!#REF!+'Navrhovaný stav'!#REF!+'Navrhovaný stav'!#REF!)","v":{"$error":"#REF!"}},{"$f":"T113*('Stávající stav'!C93-'Navrhovaný stav'!#REF!)","v":{"$error":"#REF!"}},{"$f":"2*('Navrhovaný stav'!#REF!+'Navrhovaný stav'!#REF!+'Navrhovaný stav'!#REF!+'Navrhovaný stav'!#REF!)","v":{"$error":"#REF!"}},{"$f":"V113*('Stávající stav'!C93-'Navrhovaný stav'!#REF!)","v":{"$error":"#REF!"}},{"$f":"2*('Navrhovaný stav'!#REF!+'Navrhovaný stav'!#REF!+'Navrhovaný stav'!#REF!+'Navrhovaný stav'!#REF!)","v":{"$error":"#REF!"}},{"$f":"X113*('Stávající stav'!C93-'Navrhovaný stav'!#REF!)","v":{"$error":"#REF!"}},{"$f":"'Navrhovaný stav'!#REF!+'Navrhovaný stav'!#REF!+'Navrhovaný stav'!#REF!+'Navrhovaný stav'!#REF!+'Navrhovaný stav'!#REF!+'Navrhovaný stav'!#REF!+'Navrhovaný stav'!#REF!-'Navrhovaný stav'!#REF!","v":{"$error":"#REF!"}},{"$f":"Z113*('Stávající stav'!C93-'Navrhovaný stav'!#REF!)","v":{"$error":"#REF!"}},{"$f":"2*('Navrhovaný stav'!#REF!+'Navrhovaný stav'!#REF!)+'Navrhovaný stav'!#REF!","v":{"$error":"#REF!"}},{"$f":"AB113*('Stávající stav'!C93-'Navrhovaný stav'!#REF!)","v":{"$error":"#REF!"}}]
[null,"Malba/omítka vnitřek zdivo",null,null,null,{"$f":"F113-F112","v":{"$error":"#REF!"}},null,{"$f":"H113-H112","v":{"$error":"#REF!"}},{"$error":"#REF!"},{"$error":"#REF!"},{"$error":"#REF!"},{"$error":"#REF!"},{"$error":"#REF!"},{"$error":"#REF!"},{"$error":"#REF!"},{"$error":"#REF!"},{"$error":"#REF!"},{"$error":"#REF!"},{"$error":"#REF!"},{"$error":"#REF!"},{"$error":"#REF!"},{"$error":"#REF!"},{"$error":"#REF!"},{"$error":"#REF!"},{"$error":"#REF!"},{"$error":"#REF!"},{"$error":"#REF!"},{"$error":"#REF!"},{"$error":"#REF!"}]
[null,"Malba/omítka zevnějšek",null,null,null,{"$f":"'Navrhovaný stav'!#REF!+'Navrhovaný stav'!#REF!","v":{"$error":"#REF!"}},null,{"$f":"'Navrhovaný stav'!#REF!+'Navrhovaný stav'!#REF!","v":{"$error":"#REF!"}},{"$f":"H115*'Stávající stav'!C93-('Navrhovaný stav'!#REF!+'Navrhovaný stav'!#REF!+'Navrhovaný stav'!#REF!+'Navrhovaný stav'!#REF!)","v":{"$error":"#REF!"}},{"$f":"'Navrhovaný stav'!#REF!+'Navrhovaný stav'!#REF!","v":{"$error":"#REF!"}},{"$f":"J115*'Stávající stav'!C93-('Navrhovaný stav'!#REF!+'Navrhovaný stav'!#REF!+'Navrhovaný stav'!#REF!+'Navrhovaný stav'!#REF!)","v":{"$error":"#REF!"}},{"$f":"'Navrhovaný stav'!#REF!+'Navrhovaný stav'!#REF!+'Navrhovaný stav'!#REF!","v":{"$error":"#REF!"}},{"$f":"L115*'Stávající stav'!C93-('Navrhovaný stav'!#REF!+'Navrhovaný stav'!#REF!+'Navrhovaný stav'!#REF!+'Navrhovaný stav'!#REF!)","v":{"$error":"#REF!"}},{"$f":"'Navrhovaný stav'!#REF!+'Navrhovaný stav'!#REF!+'Navrhovaný stav'!#REF!","v":{"$error":"#REF!"}},{"$f":"N115*'Stávající stav'!C93-('Navrhovaný stav'!#REF!+'Navrhovaný stav'!#REF!+'Navrhovaný stav'!#REF!+'Navrhovaný stav'!#REF!)","v":{"$error":"#REF!"}},{"$f":"'Navrhovaný stav'!#REF!+'Navrhovaný stav'!#REF!+'Navrhovaný stav'!#REF!","v":{"$error":"#REF!"}},{"$f":"P115*'Stávající stav'!C93-('Navrhovaný stav'!#REF!+'Navrhovaný stav'!#REF!+'Navrhovaný stav'!#REF!+'Navrhovaný stav'!#REF!)","v":{"$error":"#REF!"}},{"$f":"2*('Navrhovaný stav'!#REF!+'Navrhovaný stav'!#REF!)+'Navrhovaný stav'!#REF!","v":{"$error":"#REF!"}},{"$f":"R115*'Stávající stav'!C93-('Navrhovaný stav'!#REF!+'Navrhovaný stav'!#REF!+'Navrhovaný stav'!#REF!+'Navrhovaný stav'!#REF!)","v":{"$error":"#REF!"}},{"$f":"2*('Navrhovaný stav'!#REF!+'Navrhovaný stav'!#REF!)+'Navrhovaný stav'!#REF!","v":{"$error":"#REF!"}},{"$f":"T115*'Stávající stav'!C93-('Navrhovaný stav'!#REF!+'Navrhovaný stav'!#REF!+'Navrhovaný stav'!#REF!+'Navrhovaný stav'!#REF!)","v":{"$error":"#REF!"}},{"$f":"(2*'Navrhovaný stav'!#REF!)+'Navrhovaný stav'!#REF!+'Navrhovaný stav'!#REF!","v":{"$error":"#REF!"}},{"$f":"V115*'Stávající stav'!C93-('Navrhovaný stav'!#REF!+'Navrhovaný stav'!#REF!+'Navrhovaný stav'!#REF!+'Navrhovaný stav'!#REF!)","v":{"$error":"#REF!"}},{"$f":"(2*'Navrhovaný stav'!#REF!)+'Navrhovaný stav'!#REF!+'Navrhovaný stav'!#REF!","v":{"$error":"#REF!"}},{"$f":"X115*'Stávající stav'!C93-('Navrhovaný stav'!#REF!+'Navrhovaný stav'!#REF!+'Navrhovaný stav'!#REF!+'Navrhovaný stav'!#REF!)","v":{"$error":"#REF!"}},{"$f":"'Navrhovaný stav'!#REF!","v":{"$error":"#REF!"}},{"$f":"Z115*'Stávající stav'!C93-('Navrhovaný stav'!#REF!+'Navrhovaný stav'!#REF!+'Navrhovaný stav'!#REF!+'Navrhovaný stav'!#REF!)","v":{"$error":"#REF!"}},{"$f":"'Navrhovaný stav'!#REF!","v":{"$error":"#REF!"}},{"$f":"AB115*'Stávající stav'!C93-('Navrhovaný stav'!#REF!+'Navrhovaný stav'!#REF!+'Navrhovaný stav'!#REF!+'Navrhovaný stav'!#REF!)","v":{"$error":"#REF!"}}]
[null,"Podlaha",null,null,null,null,null,null,{"$f":"('Navrhovaný stav'!#REF!*'Navrhovaný stav'!#REF!)+('Navrhovaný stav'!#REF!*'Navrhovaný stav'!#REF!)-('zařizovací předměty'!F139*'zařizovací předměty'!G139)","v":{"$error":"#REF!"}},null,{"$f":"('Navrhovaný stav'!#REF!*'Navrhovaný stav'!#REF!)+('Navrhovaný stav'!#REF!*'Navrhovaný stav'!#REF!)-('zařizovací předměty'!F142*'zařizovací předměty'!G142)","v":{"$error":"#REF!"}},null,{"$f":"('Navrhovaný stav'!#REF!*'Navrhovaný stav'!#REF!)+('Navrhovaný stav'!#REF!*'Navrhovaný stav'!#REF!)-('zařizovací předměty'!F139*'zařizovací předměty'!G139)-('zařizovací předměty'!F142*'zařizovací předměty'!G142)","v":{"$error":"#REF!"}},null,{"$f":"('Navrhovaný stav'!#REF!*'Navrhovaný stav'!#REF!)+('Navrhovaný stav'!#REF!*'Navrhovaný stav'!#REF!)-('zařizovací předměty'!F139*'zařizovací předměty'!G139)-('zařizovací předměty'!F142*'zařizovací předměty'!G142)","v":{"$error":"#REF!"}},null,{"$f":"('Navrhovaný stav'!#REF!*'Navrhovaný stav'!#REF!)+('Navrhovaný stav'!#REF!*'Navrhovaný stav'!#REF!)-('zařizovací předměty'!F139*'zařizovací předměty'!G139)-('zařizovací předměty'!F142*'zařizovací předměty'!G142)","v":{"$error":"#REF!"}},null,{"$f":"('Navrhovaný stav'!#REF!*'Navrhovaný stav'!#REF!)+('Navrhovaný stav'!#REF!*'Navrhovaný stav'!#REF!)-('zařizovací předměty'!F139*'zařizovací předměty'!G139)-('zařizovací předměty'!F142*'zařizovací předměty'!G142)","v":{"$error":"#REF!"}},null,{"$f":"('Navrhovaný stav'!#REF!*'Navrhovaný stav'!#REF!)+('Navrhovaný stav'!#REF!*'Navrhovaný stav'!#REF!)-('zařizovací předměty'!F139*'zařizovací předměty'!G139)-('zařizovací předměty'!F142*'zařizovací předměty'!G142)","v":{"$error":"#REF!"}},null,null,null,{"$f":"('Navrhovaný stav'!#REF!*'Navrhovaný stav'!#REF!)+('Navrhovaný stav'!#REF!*'Navrhovaný stav'!#REF!)-('zařizovací předměty'!F139*'zařizovací předměty'!G139)-('zařizovací předměty'!F142*'zařizovací předměty'!G142)","v":{"$error":"#REF!"}},null,{"$f":"('Navrhovaný stav'!#REF!*'Navrhovaný stav'!#REF!)+('Navrhovaný stav'!#REF!*'Navrhovaný stav'!#REF!)-('zařizovací předměty'!F139*'zařizovací předměty'!G139)-('zařizovací předměty'!F142*'zařizovací předměty'!G142)","v":{"$error":"#REF!"}},null,{"$f":"('Navrhovaný stav'!#REF!*'Navrhovaný stav'!#REF!)+('Navrhovaný stav'!#REF!*'Navrhovaný stav'!#REF!)-('zařizovací předměty'!F139*'zařizovací předměty'!G139)-('zařizovací předměty'!F142*'zařizovací předměty'!G142)","v":{"$error":"#REF!"}}]
[null,"Strop",null,null,null,null,null,null,{"$f":"('Navrhovaný stav'!#REF!*'Navrhovaný stav'!#REF!)+('Navrhovaný stav'!#REF!*'Navrhovaný stav'!#REF!)","v":{"$error":"#REF!"}},null,{"$f":"('Navrhovaný stav'!#REF!*'Navrhovaný stav'!#REF!)+('Navrhovaný stav'!#REF!*'Navrhovaný stav'!#REF!)","v":{"$error":"#REF!"}},null,{"$f":"('Navrhovaný stav'!#REF!*'Navrhovaný stav'!#REF!)+('Navrhovaný stav'!#REF!*'Navrhovaný stav'!#REF!)","v":{"$error":"#REF!"}},null,{"$f":"('Navrhovaný stav'!#REF!*'Navrhovaný stav'!#REF!)+('Navrhovaný stav'!#REF!*'Navrhovaný stav'!#REF!)","v":{"$error":"#REF!"}},null,{"$f":"('Navrhovaný stav'!#REF!*'Navrhovaný stav'!#REF!)+('Navrhovaný stav'!#REF!*'Navrhovaný stav'!#REF!)","v":{"$error":"#REF!"}},null,{"$f":"('Navrhovaný stav'!#REF!*'Navrhovaný stav'!#REF!)+('Navrhovaný stav'!#REF!*'Navrhovaný stav'!#REF!)","v":{"$error":"#REF!"}},null,{"$f":"('Navrhovaný stav'!#REF!*'Navrhovaný stav'!#REF!)+('Navrhovaný stav'!#REF!*'Navrhovaný stav'!#REF!)","v":{"$error":"#REF!"}},null,null,null,{"$f":"('Navrhovaný stav'!#REF!*'Navrhovaný stav'!#REF!)+('Navrhovaný stav'!#REF!*'Navrhovaný stav'!#REF!)","v":{"$error":"#REF!"}},null,{"$f":"('Navrhovaný stav'!#REF!*'Navrhovaný stav'!#REF!)+('Navrhovaný stav'!#REF!*'Navrhovaný stav'!#REF!)","v":{"$error":"#REF!"}},null,{"$f":"('Navrhovaný stav'!#REF!*'Navrhovaný stav'!#REF!)+('Navrhovaný stav'!#REF!*'Navrhovaný stav'!#REF!)","v":{"$error":"#REF!"}}]
[null,"Vana rovná podezdívka",null,null,null,{"$f":"'zařizovací předměty'!F139","v":0},null,{"$f":"'zařizovací předměty'!F139","v":0},{"$f":"0.55*H118","v":0},null,null,{"$f":"'zařizovací předměty'!F139","v":0},{"$f":"0.55*L118","v":0},null,null,null,null,{"$f":"'zařizovací předměty'!F139","v":0},{"$f":"R118*0.55","v":0},null,null,null,null,{"$f":"'zařizovací předměty'!F139","v":0},{"$f":"0.55*X118","v":0}]
[null,"Vana rovná odečet obklad",null,null,null,{"$f":"2*'zařizovací předměty'!G139+'zařizovací předměty'!F139","v":0},null,{"$f":"2*'zařizovací předměty'!G139+'zařizovací předměty'!F139","v":0},{"$f":"0.55*H119","v":0},null,null,{"$f":"2*'zařizovací předměty'!G139+'zařizovací předměty'!F139","v":0},{"$f":"0.55*L119","v":0},null,null,null,null,{"$f":"2*'zařizovací předměty'!G139+'zařizovací předměty'!F139","v":0},{"$f":"0.55*R119","v":0},null,null,null,null,{"$f":"2*'zařizovací předměty'!G139+'zařizovací předměty'!F139","v":0},{"$f":"X119*0.55","v":0}]
[null,"Vana rohová podezdívka",null,null,null,null,null,null,null,null,null,null,null,null,null,{"$f":"2*3.14*'zařizovací předměty'!G139*0.25","v":0},{"$f":"P120*0.55","v":0},null,null,null,null,null,null,null,null,{"$f":"2*3.14*'zařizovací předměty'!G139*0.25","v":0},{"$f":"Z120*0.55","v":0}]
[null,"Vana rohová odečet obklad",null,null,null,null,null,null,null,null,null,null,null,null,null,{"$f":"'zařizovací předměty'!F139+'zařizovací předměty'!G139","v":0},{"$f":"P121*0.55","v":0},null,null,null,null,null,null,null,null,{"$f":"'zařizovací předměty'!F139+'zařizovací předměty'!G139","v":0},{"$f":"Z121*0.55","v":0}]
[null,"Geberit přizdívka",null,null,null,{"$f":"'Navrhovaný stav'!#REF!","v":{"$error":"#REF!"}},null,{"$f":"'Navrhovaný stav'!#REF!","v":{"$error":"#REF!"}},{"$f":"H122*1.2","v":{"$error":"#REF!"}},{"$f":"'Navrhovaný stav'!#REF!","v":{"$error":"#REF!"}},{"$f":"J122*1.2","v":{"$error":"#REF!"}},{"$f":"'Navrhovaný stav'!#REF!","v":{"$error":"#REF!"}},{"$f":"1.2*L122","v":{"$error":"#REF!"}},{"$f":"'Navrhovaný stav'!#REF!","v":{"$error":"#REF!"}},{"$f":"N122*1.2","v":{"$error":"#REF!"}},{"$f":"'Navrhovaný stav'!#REF!","v":{"$error":"#REF!"}},{"$f":"P122*1.2","v":{"$error":"#REF!"}},{"$f":"'Navrhovaný stav'!#REF!","v":{"$error":"#REF!"}},{"$f":"R122*1.2","v":{"$error":"#REF!"}},{"$f":"'Navrhovaný stav'!#REF!","v":{"$error":"#REF!"}},{"$f":"T122*1.2","v":{"$error":"#REF!"}},null,null,{"$f":"'Navrhovaný stav'!#REF!","v":{"$error":"#REF!"}},{"$f":"X122*1.2","v":{"$error":"#REF!"}},{"$f":"'Navrhovaný stav'!#REF!","v":{"$error":"#REF!"}},{"$f":"1.2*Z122","v":{"$error":"#REF!"}}]
[null,"Mimo vzorový půdorys"]
[null,"Sprcha s přizděnou stěnou-zdivo",null,null,null,{"$f":"2*'zařizovací předměty'!G142","v":0},null,{"$f":"2*'zařizovací předměty'!G142","v":0},{"$f":"H124*'Stávající stav'!C93","v":0},{"$f":"2*'zařizovací předměty'!G142","v":0},{"$f":"J124*'Stávající stav'!C93","v":0}]
[null,"Sprcha s přizděnou stěnou-obklad",null,null,null,{"$f":"2*'zařizovací předměty'!G142","v":0},null,{"$f":"2*'zařizovací předměty'!G142","v":0},{"$f":"H125*'Navrhovaný stav'!#REF!","v":{"$error":"#REF!"}},{"$f":"2*'zařizovací předměty'!G142","v":0},{"$f":"J125*'Navrhovaný stav'!#REF!","v":{"$error":"#REF!"}}]
[null,"Vana rovná podezdívka",null,null,null,null,null,null,null,{"$f":"'zařizovací předměty'!F145","v":0},{"$f":"J126*0.55","v":0}]
[null,"Vana rovná odečet obklad",null,null,null,null,null,null,null,{"$f":"2*'zařizovací předměty'!G145+'zařizovací předměty'!F139","v":0},{"$f":"J127*0.55","v":0}]
[null,"Vana rohová podezdívka",null,null,null,{"$f":"2*3.14*'zařizovací předměty'!G139*0.25","v":0},null,{"$f":"2*3.14*'zařizovací předměty'!G139*0.25","v":0},{"$f":"H128*0.55","v":0},{"$f":"2*3.14*'zařizovací předměty'!G139*0.25","v":0},{"$f":"J128*0.55","v":0}]
[null,"Vana rohová odečet obklad",null,null,null,{"$f":"'zařizovací předměty'!F139+'zařizovací předměty'!G139","v":0},null,{"$f":"'zařizovací předměty'!F139+'zařizovací předměty'!G139","v":0},{"$f":"H129*0.55","v":0},{"$f":"'zařizovací předměty'!F139+'zařizovací předměty'!G139","v":0},{"$f":"J129*0.55","v":0}]
[null,"Počet dveří",null,null,null,{"$f":"'Navrhovaný stav'!#REF!+'Navrhovaný stav'!#REF!+'Navrhovaný stav'!#REF!+'Navrhovaný stav'!#REF!","v":{"$error":"#REF!"}}]
[null,"Plocha dveří",null,null,null,{"$f":"'Navrhovaný stav'!#REF!+'Navrhovaný stav'!#REF!+'Navrhovaný stav'!#REF!+'Navrhovaný stav'!#REF!","v":{"$error":"#REF!"}}]
[null,"Plocha pouzdra 2x"]
[]
[null,"VŽDY"]

{"sheet":"Rozpočet-scénář","index":9,"n_rows":38,"n_cols":10,"rows_kept":38,"cut":false,"hidden":true,"merged":[[3,3,3,4],[3,5,3,8]]}
[]
["nastavit z listu zarizovaci predmety"]
[]
[null,null,null,"Seznam balíčků",null,"balíčky"]
["Balíček","podkategorie","hodnota ze seznamu","Sloupec textu","Sloupec řádku","řádka v balíčkách","sloupec s jednotkovou cenou","Počet řádek od nadpisu k cenové položce","Číslo řádku"]
[{"$f":"IF(A33=\"\",\"Dlažba\",\"\")","v":"Dlažba"},"práce",5,"G","H",{"$f":"INDEX(INDIRECT(\"'Zařizovací předměty - pomocný'!\" & E6 & \"3:\" & E6 & \"42\"),C6)","v":412},"F",3,{"$f":"H6+F6","v":415}]
[{"$f":"IF(A32=\"\",\"Obklad\",\"\")","v":"Obklad"},"práce",3,"D","E",{"$f":"INDEX(INDIRECT(\"'Zařizovací předměty - pomocný'!\" & E7 & \"3:\" & E7 & \"42\"),C7)","v":311},"F",3,314]
[{"$f":"IF('Navrhovaný stav'!D76=TRUE(),\"Bidet\",\"\")","v":""},null,2,"M","N",503,"F",null,503]
["Dveře",null,14,"A","B",{"$f":"INDEX(INDIRECT(\"'Zařizovací předměty - pomocný'!\" & E9 & \"3:\" & E9 & \"42\"),C9)","v":264},"F",7,271]
[{"$f":"IF('Navrhovaný stav'!D83=TRUE,\"Vana\",\"\")","v":"Vana"},null,1]
["Umyvadlo",null,1,"V","W",{"$f":"INDEX(INDIRECT(\"'Zařizovací předměty - pomocný'!\" & E11 & \"3:\" & E11 & \"42\"),C11)","v":507},null,null,507]
["WC",null,2,"J","K",{"$f":"INDEX(INDIRECT(\"'Zařizovací předměty - pomocný'!\" & E12 & \"3:\" & E12 & \"42\"),C12)","v":493}]
["Podhled",null,1,"V","W",507,"F",null,507]
[{"$f":"IF('Navrhovaný stav'!D90=TRUE,\"Sprcha\",\"\")","v":"Sprcha"},null,3,"S","T",460,"F",null,460]
["Stěrka",null,1,null,null,null,"F",null,0]
["Izolace",null,1,null,null,null,"F",null,0]
["Dveře2",null,5,"A","B",{"$f":"INDEX(INDIRECT(\"'Zařizovací předměty - pomocný'!\" & E17 & \"3:\" & E17 & \"42\"),C17)","v":117},"F",7,124]
["Demontáž BJ",null,1,"AH","AI",164,"F",null,164]
[{"$f":"IF('Stávající stav - pomocný'!C5=1,\"Demontáž vana\",\"\")","v":"Demontáž vana"},null,1,"AK","AL",175,"F",null,175]
[{"$f":"IF('Stávající stav - pomocný'!C8=1,\"Demontáž umyvadlo\",\"\")","v":"Demontáž umyvadlo"}]
[{"$f":"IF('Stávající stav - pomocný'!C7=1,\"Demontáž WC\",\"\")","v":""},null,1,"AQ","AR",183,"F",null,183]
[{"$f":"IF('Stávající stav - pomocný'!C6=1,\"Demontáž sprcha\",\"\")","v":""},null,1,"AT","AU",187,"F",null,187]
["Podlahy"]
[null,null,1,"AZ","BA",58,"F",null,58]
["Elektro",null,1,"BC","BD",499,"F",null,499]
["Kanalizace",null,1,"BF","BG",503,"F",null,503]
["Vodovod",null,1,"BI","BJ",507,"F",null,507]
["Materiál",null,2,"BL","BM",3,"F",9,12]
[{"$f":"IF('Navrhovaný stav - pomocný'!F43=1,\"Překlad\",\"\")","v":"Překlad"},null,{"$f":"'zařizovací předměty'!D76","v":"1"},null,null,null,null,null,null,"nemazat…nevpisovat"]
["SDK podhled",null,{"$f":"IF('Navrhovaný stav'!D111=TRUE(),1,2)","v":1}]
[{"$f":"IF('Navrhovaný stav'!D115=TRUE(),\"Podlahové topení\",\"\")","v":"Podlahové topení"},null,{"$f":"IF(A31<>\"\",1,\"\")","v":1}]
[{"$f":"IF('Navrhovaný stav - pomocný'!D40=1,\"TECHNISTONE LIGHT OBKLAD\",\"\")","v":""}]
[{"$f":"IF(A32<>\"\",\"TECHNISTONE LIGHT DLAŽBA\",\"\")","v":""},null,{"$f":"IF(A33<>\"\",1,\"\")","v":""}]
[{"$f":"IF('Navrhovaný stav'!D107=TRUE(),\"Otopný žebřík\",\"\")","v":"Otopný žebřík"},null,{"$f":"IF(A34<>\"\",1,\"\")","v":1}]
[{"$f":"IF('Navrhovaný stav'!D83=TRUE,\"Baterie vanová\",\"\")","v":"Baterie vanová"},null,1,"BX","BY"]
[{"$f":"IF('Navrhovaný stav'!D90=TRUE,\"Baterie sprchová\",\"\")","v":"Baterie sprchová"},null,3,"CA","CB"]
["Baterie umyvadlová",null,3]
[{"$f":"IF('Navrhovaný stav'!D76=TRUE(),\"Baterie bidetová\",\"\")","v":""},null,2]

{"sheet":"Stávající stav - pomocný","index":10,"n_rows":19,"n_cols":14,"rows_kept":19,"cut":false,"hidden":true,"merged":[[14,4,14,5],[14,6,14,7],[14,8,14,9],[14,10,14,11],[14,12,14,13]]}
[]
[]
[]
[null,"Polozka","vysledek"]
[null,"Vana",1,{"$f":"IF(C5=1,TRUE,FALSE)","v":true},{"$f":"IF(C5=1,1,0)","v":1}]
[null,"Sprcha",2,{"$f":"IF(C6=1,TRUE,FALSE)","v":false},{"$f":"IF(C6=1,1,0)","v":0}]
[null,"WC",2,{"$f":"IF(C7=1,TRUE,FALSE)","v":false},{"$f":"IF(C7=1,1,0)","v":0}]
[null,"Umyvadlo",1,{"$f":"IF(C8=1,TRUE,FALSE)","v":true},{"$f":"IF(C8=1,1,0)","v":1}]
[]
[]
[]
[]
[]
[]
[null,null,null,null,"Půdorys",null,"Půdorys 2",null,"Půdorys 3",null,"Půdorys 4",null,"Půdorys 5"]
[null,null,null,null,"Délka","Plocha","Délka","Plocha","Délka","Plocha","Délka","Plocha","Délka","Plocha"]
[null,null,null,"Bourání stěn",{"$f":"'Stávající stav'!D17+('Stávající stav'!D18+'Stávající stav'!D19)*2+(2*'Stávající stav'!D20)","v":11.5},{"$f":"E17*'Stávající stav'!C4","v":45.655000000000001},{"$f":"'Stávající stav'!D17+('Stávající stav'!D18+'Stávající stav'!D19)*2+(2*'Stávající stav'!D20)","v":11.5},{"$f":"G17*'Stávající stav'!C4","v":45.655000000000001},{"$f":"'Stávající stav'!D17+('Stávající stav'!D18+'Stávající stav'!D19)*2+(2*'Stávající stav'!D20)","v":11.5},{"$f":"I17*'Stávající stav'!C4","v":45.655000000000001},{"$f":"'Stávající stav'!D17+('Stávající stav'!D18+'Stávající stav'!D19)*2+(2*'Stávající stav'!D20)","v":11.5},{"$f":"K17*'Stávající stav'!C4","v":45.655000000000001},{"$f":"'Stávající stav'!D17+('Stávající stav'!D18+'Stávající stav'!D19)*2+(2*'Stávající stav'!D20)","v":11.5},{"$f":"M17*'Stávající stav'!C4","v":45.655000000000001}]
[null,null,null,"Podlaha/strop",null,{"$f":"('Stávající stav'!D17*'Stávající stav'!D18)+('Stávající stav'!D19*'Stávající stav'!D20)","v":5.3263999999999996},null,{"$f":"('Stávající stav'!D17*'Stávající stav'!D18)+('Stávající stav'!D19*'Stávající stav'!D20)","v":5.3263999999999996},null,{"$f":"('Stávající stav'!D17*'Stávající stav'!D18)+('Stávající stav'!D19*'Stávající stav'!D20)","v":5.3263999999999996},null,{"$f":"('Stávající stav'!D17*'Stávající stav'!D18)+('Stávající stav'!D19*'Stávající stav'!D20)","v":5.3263999999999996},null,{"$f":"('Stávající stav'!D17*'Stávající stav'!D18)+('Stávající stav'!D19*'Stávající stav'!D20)","v":5.3263999999999996}]
[null,null,null,"Dveře (počet)",{"$f":"'Stávající stav'!C41+'Stávající stav'!D41+'Stávající stav'!E41+'Stávající stav'!F41","v":4},{"$f":"E19*1.97","v":7.88},{"$f":"'Stávající stav'!C41+'Stávající stav'!D41+'Stávající stav'!E41+'Stávající stav'!F41","v":4},{"$f":"G19*1.97","v":7.88},{"$f":"'Stávající stav'!C41+'Stávající stav'!D41+'Stávající stav'!E41+'Stávající stav'!F41","v":4},{"$f":"I19*1.97","v":7.88},{"$f":"'Stávající stav'!C41+'Stávající stav'!D41+'Stávající stav'!E41+'Stávající stav'!F41","v":4},{"$f":"K19*1.97","v":7.88},{"$f":"'Stávající stav'!C41+'Stávající stav'!D41+'Stávající stav'!E41+'Stávající stav'!F41","v":4},{"$f":"M19*1.97","v":7.88}]

{"sheet":"zařizovací předměty","index":11,"n_rows":97,"n_cols":13,"rows_kept":97,"cut":false,"hidden":true,"merged":[]}
[null,"Dveře"]
[null,null,null,null,null,"Počet (ks)","Vlastní počet (ks)","Orientační cena (Kč/ks)","Vlastní cena (Kč/ks)",null,"Použitý počet (ks)","Použitá cena (Kč/ks)","Celková cena (Kč)"]
[null,null,null,null,null,{"$f":"'Navrhovaný stav'!G50","v":2},{"$f":"'Navrhovaný stav'!G48","v":0},{"$f":"'Navrhovaný stav'!H48","v":0},{"$f":"'Navrhovaný stav'!I48","v":0},null,{"$f":"'Navrhovaný stav'!K48","v":2},{"$f":"'Navrhovaný stav'!L48","v":1500},{"$f":"K3*L3","v":3000}]
[]
[null,"Obklad"]
[null,null,null,null,null,"Počet (m2)","Vlastní počet (m2)","Orientační cena (Kč/m2)","Vlastní cena (Kč/m2)",null,"Použitý počet (m2)","Použitá cena (Kč/m2)","Celková cena (Kč)"]
[null,null,true,null,null,{"$f":"'Navrhovaný stav'!F60","v":17.560500000000001},{"$f":"'Navrhovaný stav'!G60","v":20.170000000000002},{"$f":"'Navrhovaný stav'!H60","v":350},{"$f":"'Navrhovaný stav'!I60","v":300},null,{"$f":"'Navrhovaný stav'!K60","v":22.187000000000005},{"$f":"'Navrhovaný stav'!L60","v":300},{"$f":"'Navrhovaný stav'!M60","v":6656.1000000000013}]
[]
[null,"Dlažba"]
[null,null,null,null,null,"Počet (m2)","Vlastní počet (m2)","Orientační cena (Kč/m2)","Vlastní cena (Kč/m2)",null,"Použitý počet (m2)","Použitá cena (Kč/m2)","Celková cena (Kč)"]
[null,null,true,null,null,{"$f":"'Navrhovaný stav'!F67","v":2.7318000000000002},{"$f":"'Navrhovaný stav'!G67","v":0},{"$f":"'Navrhovaný stav'!H67","v":350},{"$f":"'Navrhovaný stav'!I67","v":"330"},null,{"$f":"'Navrhovaný stav'!K67","v":3.0049800000000007},{"$f":"'Navrhovaný stav'!L67","v":"330"},{"$f":"'Navrhovaný stav'!M67","v":991.64340000000027}]
[]
[null,"WC"]
[null,null,null,null,null,"Počet (ks)","Vlastní počet (ks)","Orientační cena (Kč/ks)","Vlastní cena (Kč/ks)",null,"Použitý počet (m2)","Použitá cena (Kč/m2)","Celková cena (Kč)"]
[null,null,null,null,null,{"$f":"'Navrhovaný stav'!F74","v":1},{"$f":"'Navrhovaný stav'!G74","v":0},{"$f":"'Navrhovaný stav'!H74","v":2500},{"$f":"'Navrhovaný stav'!I74","v":0},null,{"$f":"'Navrhovaný stav'!K74","v":1},{"$f":"'Navrhovaný stav'!L74","v":2500},{"$f":"K15*L15","v":2500}]
[]
[null,"Bidet"]
[null,null,null,null,null,"Počet (ks)","Vlastní počet (ks)","Orientační cena (Kč/ks)","Vlastní cena (Kč/ks)",null,"Použitý počet (m2)","Použitá cena (Kč/m2)","Celková cena (Kč)"]
[null,null,null,null,null,{"$f":"'Navrhovaný stav'!F78","v":1},{"$f":"'Navrhovaný stav'!G78","v":0},{"$f":"'Navrhovaný stav'!H78","v":2500},{"$f":"'Navrhovaný stav'!I78","v":0},null,{"$f":"'Navrhovaný stav'!K78","v":1},{"$f":"'Navrhovaný stav'!L78","v":2500},{"$f":"K19*L19","v":2500}]
[]
[null,"Vana"]
[null,null,true,"Počet (ks)","Vlastní počet (ks)","Délka [m]","Šířka [m]","Orientační cena (Kč/ks)","Vlastní cena (Kč/ks)",null,"Použitý počet (m2)","Použitá cena (Kč/m2)","Celková cena (Kč)"]
[null,null,null,{"$f":"'Navrhovaný stav'!D85","v":1},1,{"$f":"'Navrhovaný stav'!F85","v":1.77},{"$f":"'Navrhovaný stav'!G85","v":0.75},{"$f":"'Navrhovaný stav'!H85","v":4000},{"$f":"'Navrhovaný stav'!I85","v":0},null,{"$f":"'Navrhovaný stav'!K85","v":1},{"$f":"'Navrhovaný stav'!L85","v":4000},{"$f":"'Navrhovaný stav'!M85","v":4000}]
[]
[null,"Sprcha"]
[null,null,null,"Počet (ks)","Vlastní počet (ks)","Délka [m]","Šířka [m]","Orientační cena (Kč/m2)","Vlastní cena (Kč/ks)",null,"Použitý počet (m2)","Použitá cena (Kč/m2)","Celková cena (Kč)"]
[null,null,null,{"$f":"'Navrhovaný stav'!D92","v":1},{"$f":"'Navrhovaný stav'!E92","v":0},{"$f":"'Navrhovaný stav'!F92","v":0.23},{"$f":"'Navrhovaný stav'!G92","v":0.56999999999999995},{"$f":"'Navrhovaný stav'!H92","v":2000},{"$f":"'Navrhovaný stav'!I92","v":"340"},null,{"$f":"'Navrhovaný stav'!K92","v":1},{"$f":"'Navrhovaný stav'!L92","v":"340"},{"$f":"'Navrhovaný stav'!M92","v":340}]
[]
[null,{"$f":"'Navrhovaný stav'!B100","v":"Umyvadlo"},null,null,null,{"$f":"'Navrhovaný stav'!F100","v":0},{"$f":"'Navrhovaný stav'!G100","v":0},{"$f":"'Navrhovaný stav'!H100","v":0},{"$f":"'Navrhovaný stav'!I100","v":0},null,{"$f":"'Navrhovaný stav'!K100","v":0},{"$f":"'Navrhovaný stav'!L100","v":0},{"$f":"'Navrhovaný stav'!M100","v":0}]
[null,null,null,null,null,{"$f":"'Navrhovaný stav'!F101","v":"Počet (ks)"},{"$f":"'Navrhovaný stav'!G101","v":"Vlastní počet (ks)"},{"$f":"'Navrhovaný stav'!H101","v":"Orientační cena (Kč/ks)"},{"$f":"'Navrhovaný stav'!I101","v":"Vlastní cena (Kč/ks)"},null,{"$f":"'Navrhovaný stav'!K101","v":"Použitý počet (ks)"},{"$f":"'Navrhovaný stav'!L101","v":"Použitá cena (Kč/ks)"},{"$f":"'Navrhovaný stav'!M101","v":"Celková cena (Kč)"}]
[null,null,null,null,null,{"$f":"'Navrhovaný stav'!F102","v":1},{"$f":"'Navrhovaný stav'!G102","v":0},{"$f":"'Navrhovaný stav'!H102","v":2000},{"$f":"'Navrhovaný stav'!I102","v":0},null,{"$f":"'Navrhovaný stav'!K102","v":1},{"$f":"'Navrhovaný stav'!L102","v":2000},{"$f":"'Navrhovaný stav'!M102","v":2000}]
[]
[null,"SDK podhled"]
[]
[]
[null,"Podlahové topení"]
[null,null,"Ano"]
[]
[null,"Otopný žebřík"]
[null,null,"Ano"]
[]
[null,"Demontáž BJ"]
[null,null,"Vždy"]
[]
[null,"Demontáž vana"]
[null,null,"Vždy"]
[]
[null,"Demontáž umyvadlo"]
[null,null,"Vždy"]
[]
[null,"Demontáž WC"]
[null,null,"Vždy"]
[]
[null,"Demontáž sprcha"]
[null,null,"Vždy"]
[]
[null,"Podlahy"]
[null,null,"Vždy"]
[]
[null,"Izolace"]
[null,null,"Vždy"]
[]
[null,"Elektro"]
[null,null,"Vždy"]
[]
[null,"Kanalizace"]
[null,null,"Vždy"]
[]
[null,"Vodovod"]
[null,null,"Vždy"]
[]
[null,"Materiál"]
[]
[]
[null,"Překlad"]
[null,null,{"$f":"IF('Navrhovaný stav - pomocný'!D41=1,\"YTONG\",\"\")&IF('Navrhovaný stav - pomocný'!D42=1,\"POROTHERM\",\"\")","v":"YTONG"},{"$f":"IF('Navrhovaný stav - pomocný'!D41=1,\"1\",\"\")&IF('Navrhovaný stav - pomocný'!D42=1,\"2\",\"\")","v":"1"}]
[]
[null,"TECHNISTONE LIGHT OBKLAD"]
[]
[]
[null,"TECHNISTONE LIGHT DLAŽBA"]
[]
[]
[]
[null,"BATERIE VANOVÁ"]
[]
[]
[]
[null,"BATERIE SPRCHOVÁ"]
[]
[]
[]
[null,"BATERIE UMYVADLOVÁ"]
[]
[]
[]
[null,"BATERIE BIDETOVÁ"]

{"sheet":"kros seznam","index":12,"n_rows":281,"n_cols":12,"rows_kept":281,"cut":false,"hidden":true,"merged":[]}
[null,"TV","Kód položky","Popis","MJ","Množství","J. cena indexovaná","Index ceny","Celková cena","Hmotnost celkem","Suť celkem","Nh celkem"]
[null,"D","HSV","Práce a dodávky HSV",null,null,null,null,1150,0.21468999999999999,0,1.131]
[null,"D","3","Svislé a kompletní konstrukce",null,null,null,null,1150,0.21468999999999999,0,1.131]
[null,"K","317144115","Překlad dl 1740 mm (pouzdrové dveře š. 60cm)","kus",1,560,1,560,2.3800000000000002E-2,0,0.63600000000000001]
[null,"K","317144116","Překlad 1990 mm (pouzdrové dveře š 70cm)","kus",1,616,1,616,2.7089999999999999E-2,0,0.64600000000000002]
[null,"K","317144117","Překlad dl 2240 mm (pouzdrové dveře š. 80cm)","kus",1,660,1,660,3.039E-2,0,0.64600000000000002]
[null,"K","317144118","Překlad dl 2490 mm (pouzdrové dveře š. 90cm)","kus",1,704,1,704,3.3680000000000002E-2,0,0.66600000000000004]
[null,"K","317142321","Překlady nenosné přímé z pórobetonu Ytong v příčkách tl 125 mm pro světlost otvoru do 1010 mm","kus",1,414,1,414,3.304E-2,0,0.23200000000000001]
[null,"K","317168111","Překlad keramický plochý š 11,5 cm dl 100 cm","kus",1,206,1,206,1.7260000000000001E-2,0,0.23799999999999999]
[null,"K","342248112","Příčky POROTHERM tl 115 mm pevnosti P 10 na MVC","m2",1,540,1,540,0.12681000000000001,0,0.61599999999999999]
[null,"K","342272148","Příčky tl 50 mm z pórobetonových přesných příčkovek objemové hmotnosti 500 kg/m3","m2",1,351,1,351,4.0969999999999999E-2,0,0.45900000000000002]
[null,"K","342272423","Příčky tl 125 mm z pórobetonových přesných příčkovek objemové hmotnosti 500 kg/m3","m2",1,610,1,610,8.788E-2,0,0.51500000000000001]
[null,"K","346244352","Obezdívka koupelnových van ploch rovných tl 50 mm z pórobetonových přesných příčkovek hladkých Ytong","m2",1,462,1,462,4.9630000000000001E-2,0,0.80500000000000005]
[null,"K","346244356","Obezdívka koupelnových van ploch zaoblených tl 50 mm z pórobetonových příčkovek hladkých Ytong","m2",1,573,1,573,5.3659999999999999E-2,0,1.153]
[null,"K",346272111,"Přizdívky tl 50 mm z pórobetonových přesných příčkovek Ytong objemové hmotnosti 500 kg/m3","m2",1,398,1,398,4.1500000000000002E-2,0]
[null,"D","6","Úpravy povrchů, podlahy a osazování výplní",null,null,null,null,213.2,3.0530000000000002E-2,0,0.26800000000000002]
[null,"K","610991111","Zakrývání vnitřních a vnějších výplní otvorů, předmětů a konstrukcí folií a páskou","m2",1,30.6,1,30.6,9.0000000000000006E-5,0,7.8E-2]
[null,"K",611471620,"Vyspravení vnitřních prefabrikovaných stěn stěrkovou hmotou do 20 % plochy","m2",1,45.2,1,45.2,1.5399999999999999E-3,0,7.8E-2]
[null,"K",611471621,"Vyspravení vnitřních prefabrikovaných stropů stěrkovou hmotou do 20 % plochy","m2",1,45.2,1,45.2,1.5399999999999999E-3,0,7.8E-2]
[null,"K","612471411","Tenkovrstvá úprava vnitřních stěn tl do 3 mm aktivovaným štukem","m2",1,81.010000000000005,1,80.010000000000005,4.5044999999999998E-3,0,0.25]
[null,"K",614471412,"Tenkovrstvá úprava vnitřních panelů tl do 3 mm aktivovaným štukem (strop)","m2",1,81.010000000000005,1,80.010000000000005,4.5044999999999998E-3,0,0.25]
[null,"K","612474115","Vnitřní omítka pórobetonových stěn tl 8 mm ze suché směsi Ytong","m2",1,180,1,180,9.5999999999999992E-3,0,0.40799999999999997]
[null,"K","612478111","Vnitřní omítka stěn tl 10 mm ze suché směsi POROTHERM UNIVERSAL","m2",1,334,1,334,1.6969999999999999E-2,0,0.51300000000000001]
[null,"K","612481113","Potažení vnitřních stěn sklovláknitým pletivem vypnutým včetně přibití strun","m2",1,104,1,104,8.5999999999999998E-4,0,0.23]
[null,"K","612473181","Vnitřní omítka zdiva vápenocementová ze suchých směsí hladká","m2",1,161,1,161,3.0360000000000002E-2,0,0.19]
[null,"K","612473185","Příplatek k vnitřní omítce zdiva vápenocementové ze suchých směsí za zabudované omítníky","m2",1,21.6,1,21.6,8.0000000000000007E-5,0,0]
[null,"K","611421133","Vnitřní omítka vápenná nebo vápenocementová stropů rovných štuková","m2",1,310,1,310,5.126E-2,0,0.84699999999999998]
[null,"K","612473182","Vnitřní omítka zdiva vápenocementová ze suchých směsí štuková","m2",1,249,1,249,3.4970000000000001E-2,0,0.40799999999999997]
[null,"K","642942111","Osazování zárubní nebo rámů dveřních kovových do 2,5 m2 na MC","kus",1,211,1,211,1.6979999999999999E-2,0,0.754]
[null,"M","553311000","zárubeň ocelová pro běžné zdění H 95 600 L/P","kus",1,577,1,577,1.0200000000000001E-2]
[null,"M","553311020","zárubeň ocelová pro běžné zdění H 95 700 L/P","kus",1,588,1,588,1.04E-2]
[null,"M","553311040","zárubeň ocelová pro běžné zdění H 95 800 L/P","kus",1,600,1,600,1.06E-2]
[null,"M","553311060"," zárubeň ocelová pro běžné zdění H 95 900 L/P","kus",1,614,1,614,1.0800000000000001E-2]
[null,"K","642946111"," Osazování pouzdra posuvných dveří s jednou kapsou pro jedno křídlo šířky do 800 mm do zděné příčky","kus",1,879,1,879,5.3620000000000001E-2,0,3.3809999999999998]
[null,"M","553316100"," pouzdro stavební STANDARD S700-060 600 mm","kus",1,5590,1,5590,3.4000000000000002E-2]
[null,"M","553316110"," pouzdro stavební STANDARD S700-070 700 mm","kus",1,5970,1,5970,3.6999999999999998E-2]
[null,"M","553316120"," pouzdro stavební STANDARD S700-080 800 mm","kus",1,6370,1,6370,4.2500000000000003E-2]
[null,"K","642946112"," Osazování pouzdra posuvných dveří s jednou kapsou pro jedno křídlo šířky do 1200 mm do zděné příčky","kus",1,1060,1,1060,5.3620000000000001E-2,0,4.1139999999999999]
[null,"M","553316130"," pouzdro stavební STANDARD S700-090 900 mm","kus",1,6740,1,6740,4.4999999999999998E-2]
[null,"K","631311114"," Mazanina tl do 80 mm z betonu prostého tř. C 16/20","m3",1,3230,1,3230,2.2563399999999998,0,3.2130000000000001]
[null,"K","631319171"," Příplatek k mazanině tl do 80 mm za stržení povrchu spodní vrstvy před vložením výztuže","m3",1,212,1,212,0,0,0.82]
[null,"K","631362021"," Výztuž mazanin svařovanými sítěmi Kari","t",1,28100,1,28100,1.0530600000000001,0,15.231]
[null,"D","9","Ostatní konstrukce a práce-bourání",null,null,null,null,161.6,4.0000000000000003E-5,0,0.442]
[null,"K","979011111","Svislá doprava suti a vybouraných hmot za prvé podlaží","t",0.10303486000000001,260,null,null,null,null,9.613152438E-2]
[null,"K","979011121","Svislá doprava suti a vybouraných hmot ZKD podlaží","t",0.10303486000000001,112,null,null,null,null,4.1213944000000002E-2]
[null,"K","979081111","Odvoz suti a vybouraných hmot na skládku do 1 km","t",0.104,365,1,37.96,0,0,5.0959999999999998E-2]
[null,"K","979081121","Odvoz suti a vybouraných hmot na skládku ZKD 1 km přes 1 km","t",0.104,13.8,1,1.44,0,0,0]
[null,"K","979082111","Vnitrostaveništní vodorovná doprava suti a vybouraných hmot do 10 m","t",0.104,217,1,22.57,0,0,9.7968E-2]
[null,"K","979082121","Vnitrostaveništní vodorovná doprava suti a vybouraných hmot ZKD 5 m přes 10 m","t",0.104,24.2,1,2.52,0,0,1.0919999999999999E-2]
[null,"K","979098231","Poplatek za uložení stavebního směsného odpadu na skládce (skládkovné)","t",0.104,1190,1,123.76,0,0,0]
[null,"D","99","Přesun hmot",null,null,null,null,161.6,4.0000000000000003E-5,0,0.442]
[null,"K","998011031"," Přesun hmot pro budovy z bloků výšky do 6 m","t",0,180,1,0,0,0,0]
[null,"K","998011032","Přesun hmot pro budovy z bloků výšky do 12 m","t",0,213,1,0,0,0,0]
[null,"K","998011033","Přesun hmot pro budovy z bloků výšky do 24 m","t",0,228,1,0,0,0,0]
[null,"K","998011034","Přesun hmot pro budovy z bloků výšky do 36 m","t",0,471,1,0,0,0,0]
[null,"K","998011035","Přesun hmot pro budovy z bloků výšky do 45 m","t",0,512,1,0,0,0,0]
[null,"K","949121111","Lešení lehké pomocné kozové dílcové o výšce lešeňové podlahy do 1,2 m","m2",1,89.7,1,89.7,0,0,0.13400000000000001]
[null,"K","952901111","Vyčištění budov bytové a občanské výstavby při výšce podlaží do 4 m","m2",1,71.900000000000006,1,71.900000000000006,4.0000000000000003E-5,0,0.308]
[null,"D","PSV","Práce a dodávky PSV",null,null,null,null,648.91999999999996,9.4599999999999997E-3,0,0.563218]
[null,"D","711","Izolace proti vodě, vlhkosti a plynům",null,null,null,null,648.91999999999996,9.4599999999999997E-3,0,0.563218]
[null,"K","711493112","Izolace proti podpovrchové a tlakové vodě vodorovná SCHOMBURG těsnicí stěrkou AQUAFIN-1K","m2",1,295,1,295,4.4999999999999997E-3,0,0.22]
[null,"K","711493122","Izolace proti podpovrchové a tlakové vodě svislá SCHOMBURG těsnicí stěrkou AQUAFIN-1K","m2",1,329,1,329,4.96E-3,0,0.3]
[null,"K","998711101","Přesun hmot pro izolace proti vodě, vlhkosti a plynům v objektech výšky do 6 m","t",8.9999999999999993E-3,875,1,7.88,0,0,1.4102999999999999E-2]
[null,"K","998711102","Přesun hmot pro izolace proti vodě, vlhkosti a plynům v objektech výšky do 12 m","t",8.9999999999999993E-3,919,1,8.27,0,0,1.4382000000000001E-2]
[null,"K","998711103","Přesun hmot pro izolace proti vodě, vlhkosti a plynům v objektech výšky do 60 m","t",8.9999999999999993E-3,974,1,8.77,0,0,1.4733E-2]
[null,"D","713","Izolace tepelné",null,null,null,null,81.06,6.0959999999999996E-4,0,9.7324999999999995E-2]
[null,"K","713121211","Montáž izolace tepelné podlah volně kladenými okrajovými pásky","m",1,12.5]
[null,"M","631402730","pásek okrajový ROCKWOOL STEPROCK š 80 mm tl.12 mm","m",1,12.2]
[null,"K","713121111","Montáž izolace tepelné podlah volně kladenými rohožemi, pásy, dílci, deskami 1 vrstva","m2",1,16.7,1,16.7,0,0,0.06]
[null,"M","283766310","deska polystyrénová pro snížení kročejového hluku POLYFON-EPS T 3500 1000x500x20mm","m2",1.02,42,1,42.84,4.8959999999999997E-4]
[null,"K","713191132","Překrytí izolace tepelné separační fólií tl 0,2 mm u podlah, střech nebo vrchem stropů","m2",1,15.3,1,15.3,1.2E-4,0,2.5000000000000001E-2]
[null,"K","998713101","Přesun hmot pro izolace tepelné v objektech v do 6 m","t",1E-3,795,1,0.8,0,0,1.74E-3]
[null,"K","998713102","Přesun hmot pro izolace tepelné v objektech v do 12 m","t",1E-3,870,1,0.87,0,0,1.8309999999999999E-3]
[null,"K","998713103","Přesun hmot pro izolace tepelné v objektech v do 24 m","t",1E-3,972,1,0.97,0,0,1.9659999999999999E-3]
[null,"K","998713104","Přesun hmot pro izolace tepelné v objektech v do 36 m","t",1E-3,1070,1,1.07,0,0,2.0990000000000002E-3]
[null,"K","998713105","Přesun hmot pro izolace tepelné v objektech v do 48 m","t",1E-3,1200,1,1.2,0,0,2.2780000000000001E-3]
[null,"K","998713106","Přesun hmot pro izolace tepelné v objektech v do 60 m","t",1E-3,1310,1,1.31,0,0,2.4109999999999999E-3]
[null,"D","721","Zdravotechnika - vnitřní kanalizace"]
[null,"K","721X","Potrubí kanalizační plastové D+M","soubor",1,6000,1,6000,0,0,0]
[null,"D","722","Zdravotechnika - vnitřní vodovod"]
[null,"K","722X","Potrubí vodovodní plastové D+M","soubor",1,6000,1,6000,0,0,0]
[null,"D","725","Zdravotechnika - zařizovací předměty",null,null,null,null,40690,6.5320000000000003E-2,0,15.08]
[null,"K","725822612","Baterie umyvadlová stojánková páková D+M","soubor",1,{"$f":"'Navrhovaný stav'!L88","v":2000},null,null,2E-3]
[null,"K","725822633","Baterie umyvadlová stojánková klasická D+M","soubor",1,{"$f":"'Navrhovaný stav'!L88","v":2000},null,null,2E-3]
[null,"K","725822654","Baterie umyvadlová termostatická D+M","soubor",1,{"$f":"'Navrhovaný stav'!L88","v":2000},null,null,2E-3]
[null,"K","725823112","Baterie bidetová páková D+M","soubor",1,{"$f":"'Navrhovaný stav'!L81","v":"4000"},null,null,2E-3]
[null,"K","725823122","Baterie bidetová klasická D+M","soubor",1,{"$f":"'Navrhovaný stav'!L81","v":"4000"},null,null,2E-3]
[null,"K","725831315","Baterie vanová páková D+M","soubor",1,{"$f":"'Navrhovaný stav'!L88","v":2000},null,null,2E-3]
[null,"K","725831321","Baterie vanová klasická D+M","soubor",1,{"$f":"'Navrhovaný stav'!L88","v":2000},null,null,2E-3]
[null,"K","725831322","Baterie vanová termostatická D+M","soubor",1,{"$f":"'Navrhovaný stav'!L88","v":2000},null,null,2E-3]
[null,"K","725841311","Baterie sprchová pákové D+M","soubor",1,{"$f":"'Navrhovaný stav'!L98","v":2000},null,null,2E-3]
[null,"K","725841312","Baterie sprchová klasická D+M","soubor",1,{"$f":"'Navrhovaný stav'!L98","v":2000},null,null,2E-3]
[null,"K","725841333","Baterie sprchová zápustná s přepínačem a pevnou sprchou D+M","soubor",1,{"$f":"'Navrhovaný stav'!L98","v":2000},null,null,2E-3]
[null,"K","725841354","Baterie sprchové automatické s termostatickým ventilem a sprchovou růžicí D+M","soubor",1,{"$f":"'Navrhovaný stav'!L98","v":2000},null,null,2E-3]
[null,"K","725211602","Umyvadlo keramické D+M","soubor",1,1740,1,1740,1.5520000000000001E-2,0,1.1000000000000001]
[null,"K","725241112","Vanička sprchová akrylátová čtvercová D+M","soubor",1,5350,1,5350,1.3809999999999999E-2,0,2.54]
[null,"K","725243111","Box sprchový masážní a parní D+M","soubor",1,29100,1,29100,4.1169999999999998E-2,0,11.04]
[null,"K","725245103","Zástěna sprchová jednokřídlá D+M","soubor",1,6240,1,6240,1.034E-2,0,1.5]
[null,"K","725241142","Vanička sprchová akrylátová čtvrtkruhová D+M","soubor",1,5350,1,5350,1.3809999999999999E-2,0,2.54]
[null,"K","725245192"," Zástěna sprchová zásuvná čtvrtkruh D+M","soubor",1,9020,1,9020,1.5339999999999999E-2,0,2.5]
[null,"K","725112002","Klozet keramický standardní s hlubokým splachováním odpad svislý D+M","soubor",1,2180,1,2180,1.1849999999999999E-2,0,0.95]
[null,"K","725112X","Geberit D+M","soubor",1,7495,1,7495,2.52E-2,0,2.5]
[null,"K","725231201","Bidet keramický klasický bez bidetové soupravy D+M","soubor",1,2440,1,2440,1.389E-2,0,1.3]
[null,"K","725231203","Bidet keramický závěsný bez bidetové soupravy D+M","soubor",1,5260,1,5260,1.6840000000000001E-2,0,1.4]
[null,"K","725222116","Vana bez armatur výtokových akrylátová se zápachovou uzávěrkou D+M","soubor",1,7190,1,7190,1.9099999999999999E-2,0,2.4620000000000002]
[null,"K","725222153"," Vana bez armatur výtokových akrylátová se zápachovou uzávěrkou rohová D+M","soubor",1,11500,1,11500,2.9100000000000001E-2,0,2.4620000000000002]
[null,"K","998725101","Přesun hmot pro zařizovací předměty v objektech v do 6 m","t",4.8000000000000001E-2,547,1,26.26,0,0,7.2816000000000006E-2]
[null,"K","998725102","Přesun hmot pro zařizovací předměty v objektech v do 12 m","t",4.8000000000000001E-2,574,1,27.55,0,0,7.5504000000000002E-2]
[null,"K","998725103","Přesun hmot pro zařizovací předměty v objektech v do 24 m","t",4.8000000000000001E-2,600,1,28.8,0,0,7.8191999999999998E-2]
[null,"K","998725104","Přesun hmot pro zařizovací předměty v objektech v do 36 m","t",4.8000000000000001E-2,690,1,33.119999999999997,0,0,8.3664000000000002E-2]
[null,"K","998725105","Přesun hmot pro zařizovací předměty v objektech v do 48 m","t",4.8000000000000001E-2,747,1,35.86,0,0,8.9039999999999994E-2]
[null,"K","998725106","Přesun hmot pro zařizovací předměty v objektech v do 60 m","t",4.8000000000000001E-2,804,1,38.590000000000003,0,0,9.4464000000000006E-2]
[null,"K","725110811","Demontáž klozetů splachovací s nádrží","soubor",9.1999999999999998E-2,153,1,14.08,0,1.7783600000000001E-3,5.0416000000000002E-2]
[null,"K","725210821","Demontáž umyvadel bez výtokových armatur","soubor",9.1999999999999998E-2,101,1,9.2899999999999991,0,1.79032E-3,3.3304E-2]
[null,"K","725220832","Demontáž van litinová volná","soubor",9.1999999999999998E-2,112,1,10.3,0,8.7492000000000004E-3,3.7075999999999998E-2]
[null,"K",725240812,"Demontáž vaniček sprchových bez výtokových armatur","soubor",1,107,1,107,0,2.5000000000000001E-2,0.38300000000000001]
[null,"K","725590811","Přemístění vnitrostaveništní demontovaných pro zařizovací předměty v objektech výšky do 6 m","t",9.1999999999999998E-2,1080,1,99.36,0,0,0.29154799999999997]
[null,"K","725590812","Přemístění vnitrostaveništní demontovaných pro zařizovací předměty v objektech výšky do 12 m","t",9.1999999999999998E-2,1320,1,121.44,0,0,0.36524000000000001]
[null,"K","725590813","Přemístění vnitrostaveništní demontovaných pro zařizovací předměty v objektech výšky do 24 m","t",9.1999999999999998E-2,1550,1,142.6,0,0,0.43902400000000003]
[null,"K","725590814","Přemístění vnitrostaveništní demontovaných pro zařizovací předměty v objektech výšky do 36 m","t",9.1999999999999998E-2,1800,1,165.6,0,0,0.51510800000000001]
[null,"K","725590815","Přemístění vnitrostaveništní demontovaných pro zařizovací předměty v objektech výšky do 48 m","t",9.1999999999999998E-2,2100,1,193.2,0,0,0.58926000000000001]
[null,"K","725590816","Přemístění vnitrostaveništní demontovaných pro zařizovací předměty v objektech výšky nad 48 m","t",9.1999999999999998E-2,2350,1,216.2,0,0,0.66497600000000001]
[null,"D","735","Ústřední vytápění - otopná tělesa"]
[null,"K","735152112","Otopné těleso panelové D+M","kus",1,2500,1,2500,0,0,0]
[null,"K","735X","Podlahové vytápění - topné rohože D+M","m2",1,1400,1,1400,0,0,0]
[null,"K","998735101","Přesun hmot pro otopná tělesa v objektech v do 6 m","t",0,857,1,0,0,0,0]
[null,"K","998735102","Přesun hmot pro otopná tělesa v objektech v do 12 m","t",0,884,1,0,0,0,0]
[null,"K","998735103","Přesun hmot pro otopná tělesa v objektech v do 24 m","t",0,889,1,0,0,0,0]
[null,"K","998735104","Přesun hmot pro otopná tělesa v objektech v do 36 m","t",0,899,1,0,0,0,0]
[null,"K","998735105","Přesun hmot pro otopná tělesa v objektech v do 48 m","t",0,909,1,0,0,0,0]
[null,"K","998735106","Přesun hmot pro otopná tělesa v objektech v do 60 m","t",0,919,1,0,0,0,0]
[null,"D","763","Konstrukce montované z desek, dílců a panelů",null,null,null,null,574,1.3140000000000001E-2,0,0.96799999999999997]
[null,"K","763131714","SDK podhled základní penetrační nátěr","m2",1,23.7,1,23.7,0,0,0.04]
[null,"K","763111717","SDK příčka základní penetrační nátěr","m2",1,41.8,1,41.8,2.0000000000000001E-4,0,6.4000000000000001E-2]
[null,"K","763111811","Demontáž SDK příčky s jednoduchou ocelovou nosnou konstrukcí opláštění jednoduché","m2",1,55.2,1,55.2,0,3.175E-2,0.19800000000000001]
[null,"K","763131831","Demontáž SDK podhledu s jednovrstvou nosnou kcí z ocelových profilů opláštění jednoduché","m2",1,61.6,1,61.6,0,1.7250000000000001E-2,0.221]
[null,"K","763151811","Demontáž jedné vrstvy desek SDK podlaha","m2",1,34.9,1,34.9,0,2.4750000000000001E-2,0.125]
[null,"K","763181811","Demontáž jednokřídlové kovové zárubně v do 2,75 m SDK příčka","kus",1,83.7,1,83.7,0,1.6899999999999998E-2,0.3]
[null,"K","763111434","SDK příčka tl 125 mm profil CW+UW 75 desky 2xH2 12,5 TI 75 mm EI 60 Rw 53 dB","m2",1,1170,1,1170,4.7620000000000003E-2,0,1.296]
[null,"K","763131451","SDK podhled deska 1xH2 12,5 bez TI dvouvrstvá spodní kce profil CD+UD","m2",1,574,1,574,1.3140000000000001E-2,0,0.96799999999999997]
[null,"K","763183111","Montáž pouzdra posuvných dveří s jednou kapsou pro jedno křídlo šířky do 800 mm do SDK příčky","kus",1,888,1,888,0,0,2.7519999999999998]
[null,"M","553316100","pouzdro stavební STANDARD S700-060 600 mm","kus",1,5590,1,5590,3.4000000000000002E-2]
[null,"M","553316110","pouzdro stavební STANDARD S700-070 700 mm","kus",1,5970,1,5970,3.6999999999999998E-2]
[null,"M","553316120","pouzdro stavební STANDARD S700-080 800 mm","kus",1,6370,1,6370,4.2500000000000003E-2]
[null,"K","763183112","Montáž pouzdra posuvných dveří s jednou kapsou pro jedno křídlo šířky do 1200 mm do SDK příčky","kus",1,1120,1,1120,0,0,3.47]
[null,"M","553316130","pouzdro stavební STANDARD S700-090 900 mm","kus",1,6740,1,6740,4.4999999999999998E-2]
[null,null,763,"Konstrukce montované z desek, dílců a panelů - Technistone"]
[null,"K","763111X1","Technistone předstěna - rastr, PUR, montáž","m2",1,710,1,710,0.2]
[null,"K","763111X2","Technistone - obkladový kámen","m2",1,2750,1,2750,3.4000000000000002E-2]
[null,"K","763111X3","Technistone stěna - rastr, PUR, montáž","m2",1,938,1,938,0.04]
[null,"K","998763301","Přesun hmot pro sádrokartonové konstrukce v objektech v do 6 m","t",2.3E-2,782,1,17.989999999999998,0,0,4.9680000000000002E-2]
[null,"K","998763302","Přesun hmot pro sádrokartonové konstrukce v objektech v do 12 m","t",2.3E-2,857,1,19.71,0,0,5.4969999999999998E-2]
[null,"K","998763303","Přesun hmot pro sádrokartonové konstrukce v objektech v do 24 m","t",2.3E-2,884,1,20.329999999999998,0,0,5.6579999999999998E-2]
[null,"K","998763304","Přesun hmot pro sádrokartonové konstrukce v objektech v do 36 m","t",2.3E-2,943,1,21.69,0,0,5.7615E-2]
[null,"K","998763305","Přesun hmot pro sádrokartonové konstrukce v objektech v do 48 m","t",2.3E-2,999,1,22.98,0,0,6.1134000000000001E-2]
[null,"K","998763306","Přesun hmot pro sádrokartonové konstrukce v objektech v do 60 m","t",2.3E-2,1030,1,23.69,0,0,6.1984999999999998E-2]
[null,"D","776","Podlahy povlakové",null,null,null,null,71.099999999999994,0,1E-3,0.255]
[null,"K","776511820","Demontáž povlakových podlah lepených s podložkou","m2",1,71.099999999999994,1,71.099999999999994,0,1E-3,0.255]
[null,"D","766","Konstrukce truhlářské",null,null,null,null,24630.04,0.14044999999999999,0,12.25184]
[null,"K","766X","Dveřního kování D+M","kus",1,{"$f":"'Navrhovaný stav'!L56","v":350},1,1000,0,0,0]
[null,"K","766691914","Vyvěšení nebo zavěšení dřevěných křídel dveří pl do 2 m2","kus",1,21.1,1,21.1,0,2.4E-2,0.05]
[null,"K","766660001","Montáž dveřních křídel otvíravých 1křídlových š do 0,8 m do ocelové zárubně","kus",1,526,1,526,0,0,1.6819999999999999]
[null,"M","611617130","dveře vnitřní 1křídlové 60x197 cm","kus",1,2200,1,2200,1.2999999999999999E-2]
[null,"M","611617170","dveře vnitřní 1křídlové 70x197 cm","kus",1,2200,1,2200,1.4E-2]
[null,"M","611617210","dveře vnitřní 1křídlové 80x197 cm ","kus",1,2260,1,2260,1.6E-2]
[null,"K","766660002","Montáž dveřních křídel otvíravých 1křídlových š přes 0,8 m do ocelové zárubně","kus",1,571,1,571,0,0,1.825]
[null,"M","611617250","dveře vnitřní 90x197 cm","kus",1,2280,1,2280,1.9E-2]
[null,"K","766660171","Montáž dveřních křídel otvíravých 1křídlových š do 0,8 m do obložkové zárubně","kus",1,538,1,538,0,0,1.8049999999999999]
[null,"M","611617130","dveře vnitřní 1křídlové 60x197 cm","kus",1,2200,1,2200,1.2999999999999999E-2]
[null,"M","611617170","dveře vnitřní 1křídlové 70x197 cm","kus",1,2200,1,2200,1.4E-2]
[null,"M","611617210","dveře vnitřní 1křídlové 80x197 cm","kus",1,2260,1,2260,1.6E-2]
[null,"K","766660172","Montáž dveřních křídel otvíravých 1křídlových š přes 0,8 m do obložkové zárubně","kus",1,574,1,574,0,0,1.956]
[null,"M","611617250","dveře vnitřní 1křídlové 90x197 cm","kus",1,2280,1,2280,1.9E-2]
[null,"K","766682111","Montáž zárubní obložkových pro dveře jednokřídlové tl stěny do 170 mm","kus",1,945,1,945,4.4999999999999999E-4,0,2.9249999999999998]
[null,"M","611822580"," zárubeň obložková pro dveře 1křídlové 60,70,80,90x197 cm, tl. 8 - 17 cm","kus",1,2870,1,2870,1.6E-2]
[null,"K","998766101","Přesun hmot pro konstrukce truhlářské v objektech v do 6 m","t",0.14000000000000001,629,1,88.06,0,0,0.31569999999999998]
[null,"K","998766102","Přesun hmot pro konstrukce truhlářské v objektech v do 12 m","t",0.14000000000000001,853,1,119.42,0,0,0.33894000000000002]
[null,"K","998766103","Přesun hmot pro konstrukce truhlářské v objektech v do 24 m","t",0.14000000000000001,865,1,121.1,0,0,0.34258]
[null,"K","998766104","Přesun hmot pro konstrukce truhlářské v objektech v do 36 m","t",0.14000000000000001,928,1,129.91999999999999,0,0,0.34916000000000003]
[null,"K","998766105","Přesun hmot pro konstrukce truhlářské v objektech v do 48 m","t",0.14000000000000001,940,1,131.6,0,0,0.3528]
[null,"K","998766106","Přesun hmot pro konstrukce truhlářské v objektech v do 60 m","t",0.14000000000000001,971,1,135.94,0,0,0.35965999999999998]
[null,"D","771","Podlahy z dlaždic",null,null,null,null,9347.67,0.2346,0,9.3202449999999999]
[null,"K","771574112","Montáž podlah keramických režných hladkých lepených flexibilním lepidlem do 9 ks/m2","m2",1,260,1,260,3.6600000000000001E-3,0,0.52200000000000002]
[null,"M","597611420","dlaždice keramické do 9 ks/m2","m2",1.1000000000000001,563,1,619.29999999999995,2.4750000000000001E-2]
[null,"K","771574113","Montáž podlah keramických režných hladkých lepených flexibilním lepidlem do 12 ks/m2","m2",1,269,1,269,3.6700000000000001E-3,0,0.55000000000000004]
[null,"M","597611600","dlaždice keramické do 12 ks/m2","m2",1.1000000000000001,429,1,471.9,2.112E-2]
[null,"K","771574114","Montáž podlah keramických režných hladkých lepených flexibilním lepidlem do 19 ks/m2","m2",1,273,1,273,3.7200000000000002E-3,0,0.56100000000000005]
[null,"M","597611200","dlaždice keramické do 19 ks/m2","m2",1.1000000000000001,384,1,422.4,1.9800000000000002E-2]
[null,"K","771574115","Montáž podlah keramických režných hladkých lepených flexibilním lepidlem do 22 ks/m2","m2",1,278,1,278,3.4499999999999999E-3,0,0.59799999999999998]
[null,"M","597610350","dlaždice keramické do 22 ks/m2","m2",1.1000000000000001,346,1,380.6,1.3860000000000001E-2]
[null,"K","771574116","Montáž podlah keramických režných hladkých lepených flexibilním lepidlem do 25 ks/m2","m2",1,284,1,284,3.5000000000000001E-3,0,0.61299999999999999]
[null,"M","597610690","dlaždice keramické do 25 ks/m2","m2",1.1000000000000001,409,1,449.9,1.342E-2]
[null,"K","771574117","Montáž podlah keramických režných hladkých lepených flexibilním lepidlem do 35 ks/m2","m2",1,290,1,290,3.62E-3,0,0.62]
[null,"M","597611230","dlaždice keramické do 35 ks/m2","m2",1.1000000000000001,410,1,451,1.9800000000000002E-2]
[null,"K","771574118","Montáž podlah keramických režných hladkých lepených flexibilním lepidlem do 45 ks/m2","m2",1,297,1,297,3.7599999999999999E-3,0,0.63]
[null,"M","597611510","dlaždice keramické RAKO do 45 ks/m2","m2",1.1000000000000001,460,1,506,1.7049999999999999E-2]
[null,"K","771574119","Montáž podlah keramických režných hladkých lepených flexibilním lepidlem do 50 ks/m2","m2",1,306,1,306,3.9199999999999999E-3,0,0.64300000000000002]
[null,"M","597611550","dlaždice keramické do 50 ks/m2","m2",1.1000000000000001,252,1,277.2,1.7049999999999999E-2]
[null,"K","771574120","Montáž podlah keramických režných hladkých lepených flexibilním lepidlem do 85 ks/m2","m2",1,318,1,318,4.1599999999999996E-3,0,0.66200000000000003]
[null,"M","597611560","dlaždice keramické do 85 ks/m2","m2",1.1000000000000001,210,1,231,1.7049999999999999E-2]
[null,"K","771574121","Montáž podlah keramických režných hladkých lepených flexibilním lepidlem do 100 ks/m2","m2",1,332,1,332,4.3699999999999998E-3,0,0.68500000000000005]
[null,"M","597610210","dlaždice keramické do 100 ks/m2","m2",1.1000000000000001,267,1,293.7,1.298E-2]
[null,"K","771579191","Příplatek k montáž podlah keramických za plochu do 5 m2","m2",1,9.39,1,9.39,0,0,0.03]
[null,"K","771579192","Příplatek k montáž podlah keramických za omezený prostor","m2",1,51.9,1,51.9,0,0,0.16600000000000001]
[null,"K","771584123","Montáž podlah z mozaiky glazované lepené flexibilním lepidlem","m2",1,355,1,355,5.7000000000000002E-3,0,0.63500000000000001]
[null,"M","597611790","mozaika keramická (2,3 x 2,3) RAKO - koupelny ARDE (barevná) 30 x 30 x 0,6 cm I. j.","m2",1.1000000000000001,953,1,1048.3,1.4189999999999999E-2]
[null,"K","771589191","Příplatek k montáž podlah z mozaiky za plochu do 5 m2","m2",1,40.700000000000003,1,40.700000000000003,0,0,0.13]
[null,"K","771589192","Příplatek k montáž podlah z mozaiky za omezený prostor","m2",1,82,1,82,0,0,0.26200000000000001]
[null,"K","998771101","Přesun hmot pro podlahy z dlaždic v objektech v do 6 m","t",0.23499999999999999,446,1,104.81,0,0,0.37552999999999997]
[null,"K","998771102","Přesun hmot pro podlahy z dlaždic v objektech v do 12 m","t",0.23499999999999999,479,1,112.57,0,0,0.29727500000000001]
[null,"K","998771103","Přesun hmot pro podlahy z dlaždic v objektech v do 24 m","t",0.23499999999999999,501,1,117.74,0,0,0.30667499999999998]
[null,"K","998771104","Přesun hmot pro podlahy z dlaždic v objektech v do 36 m","t",0.23499999999999999,545,1,128.08000000000001,0,0,0.32571]
[null,"K","998771105","Přesun hmot pro podlahy z dlaždic v objektech v do 48 m","t",0.23499999999999999,589,1,138.41999999999999,0,0,0.34450999999999998]
[null,"K","998771106","Přesun hmot pro podlahy z dlaždic v objektech v do 60 m","t",0.23499999999999999,633,1,148.76,0,0,0.36354500000000001]
[null,"D","772","Podlahy z kamene",null,null,null,null,811.34,0.1075,0,1.4241440000000001]
[null,"K","772521140","Kladení dlažby z kamene pravoúhlých desek a dlaždic tl do 30 mm","m2",1,615,1,615,0.1075,0,0.89300000000000002]
[null,"M","583X1","Technistone Light - dlažba","m2",1,2750,1,2750,3.4000000000000002E-2]
[null,"K","998772101","Přesun hmot pro podlahy z kamene v objektech v do 6 m","t",0.108,466,1,50.33,0,0,0.18035999999999999]
[null,"K","998772102","Přesun hmot pro podlahy z kamene v objektech v do 12 m","t",0.108,563,1,60.8,0,0,0.152388]
[null,"K","998772103","Přesun hmot pro podlahy z kamene v objektech v do 60 m","t",0.108,789,1,85.21,0,0,0.19839599999999999]
[null,"D","781","Dokončovací práce - obklady keramické",null,null,null,null,10396.530000000001,0.18956319999999999,0,14.30973]
[null,"K","781494511","Plastové profily ukončovací lepené flexibilním lepidlem","m",1,92.7,1,92.7,0,0,0.16]
[null,"K","781474112","Montáž obkladů vnitřních keramických hladkých do 12 ks/m2 lepených flexibilním lepidlem","m2",1,271,1,271,2.8999999999999998E-3,0,0.61199999999999999]
[null,"M","597610000","obkládačky keramické do 12 ks/m2","m2",1.04,366,1,380.64,1.2272E-2]
[null,"K","781474113","Montáž obkladů vnitřních keramických hladkých do 19 ks/m2 lepených flexibilním lepidlem","m2",1,283,1,283,3.0000000000000001E-3,0,0.64100000000000001]
[null,"M","597611200","obkládačky keramické do 19 ks/m2","m2",1.04,384,1,399.36,1.8720000000000001E-2]
[null,"K","781474114","Montáž obkladů vnitřních keramických hladkých do 22 ks/m2 lepených flexibilním lepidlem","m2",1,298,1,298,3.0000000000000001E-3,0,0.68600000000000005]
[null,"M","597610350","obkládačky keramické do 22 ks/m2","m2",1.04,346,1,359.84,1.3103999999999999E-2]
[null,"K","781474115","Montáž obkladů vnitřních keramických hladkých do 25 ks/m2 lepených flexibilním lepidlem","m2",1,317,1,317,3.0000000000000001E-3,0,0.746]
[null,"M","597610690","obkládačky keramické do 25 ks/m2","m2",1.04,409,1,425.36,1.2688E-2]
[null,"K","781474116","Montáž obkladů vnitřních keramických hladkých do 35 ks/m2 lepených flexibilním lepidlem","m2",1,331,1,331,3.0999999999999999E-3,0,0.78200000000000003]
[null,"M","597610700","obkládačky keramické do 35 ks/m2","m2",1.04,334,1,347.36,1.2688E-2]
[null,"K","781474117","Montáž obkladů vnitřních keramických hladkých do 45 ks/m2 lepených flexibilním lepidlem","m2",1,344,1,344,3.2000000000000002E-3,0,0.81399999999999995]
[null,"M","597611450","obkládačky keramické do 45 ks/m2","m2",1.04,354,1,368.16,1.6119999999999999E-2]
[null,"K","781474118","Montáž obkladů vnitřních keramických hladkých do 50 ks/m2 lepených flexibilním lepidlem","m2",1,360,1,360,3.2499999999999999E-3,0,0.85799999999999998]
[null,"M","597611550","obkládačky keramické do 50 ks/m2","m2",1.04,252,1,262.08,1.6119999999999999E-2]
[null,"K","781474119","Montáž obkladů vnitřních keramických hladkých do 85 ks/m2 lepených flexibilním lepidlem","m2",1,442,1,442,2.9499999999999999E-3,0,1.1399999999999999]
[null,"M","597611560","obkládačky  keramické do 85 ks/m2","m2",1.04,210,1,218.4,1.6119999999999999E-2]
[null,"K","781479191","Příplatek k montáži obkladů vnitřních keramických hladkých za plochu do 10 m2","m2",1,40.700000000000003,1,40.700000000000003,0,0,0.13]
[null,"K","781479192","Příplatek k montáži obkladů vnitřních keramických hladkých za omezený prostor","m2",0,192,1,0,0,0,0]
[null,"C","781484111","Montáž obkladů vnitřních z mozaiky 50x50 mm lepených flexibilním lepidlem","m2",1,463,1,463,5.7000000000000002E-3,0,0.96899999999999997]
[null,"M","597611700","mozaika keramická 50 x 50 mm","kus",1.04,120,1,124.8,1.2064000000000001E-3]
[null,"K","781484112","Montáž obkladů vnitřních z mozaiky 46,5x46,5 mm lepených flexibilním lepidlem","m2",1,466,1,466,5.7000000000000002E-3,0,0.97899999999999998]
[null,"M","597612650","mozaika keramická 46,5 x 46,5 mm","kus",1.04,186,1,193.44,1.196E-3]
[null,"K","781484113","Montáž obkladů vnitřních z mozaiky 40x40 mm lepených flexibilním lepidlem","m2",1,480,1,480,5.7000000000000002E-3,0,1.02]
[null,"M","597611709","mozaika keramická 40 x 40 mm","kus",1.04,120,1,124.8,1.2064000000000001E-3]
[null,"K","781484114","Montáž obkladů vnitřních z mozaiky 25x25 mm lepených flexibilním lepidlem","m2",1,500,1,500,6.0000000000000001E-3,0,1.0569999999999999]
[null,"M","597611790","mozaika keramická 25 x 25 mm","m2",1.04,953,1,991.12,1.3416000000000001E-2]
[null,"K","781484115","Montáž obkladů vnitřních z mozaiky20x20 mm lepených flexibilním lepidlem","m2",1,508,1,508,6.0000000000000001E-3,0,1.081]
[null,"M","597612360","mozaika keramická 20 x 20 mm","kus",1.04,120,1,124.8,1.2064000000000001E-3]
[null,"K","781489191","Příplatek k montáži obkladů vnitřních z mozaiky za plochu do 10 m2","m2",1,138,1,138,0,0,0.44]
[null,"K","781489192","Příplatek k montáži obkladů vnitřních z mozaiky za omezený prostor","m2",1,228,1,228,0,0,0.72699999999999998]
[null,"K","781493610","Montáž vanových plastových dvířek lepených s uchycením na magnet","kus",1,87.1,1,87.1,0,0,0.25]
[null,"K","781495115","Spárování vnitřních obkladů silikonem","m",1,33.299999999999997,1,33.299999999999997,3.0000000000000001E-5,0,5.5E-2]
[null,"K","998781101","Přesun hmot pro obklady keramické v objektech v do 6 m","t",0.19,446,1,84.74,0,0,0.30362]
[null,"K","998781102","Přesun hmot pro obklady keramické v objektech v do 12 m","t",0.19,479,1,91.01,0,0,0.24035000000000001]
[null,"K","998781103","Přesun hmot pro obklady keramické v objektech v do 24 m","t",0.19,501,1,95.19,0,0,0.24795]
[null,"K","998781104","Přesun hmot pro obklady keramické v objektech v do 36 m","t",0.19,545,1,103.55,0,0,0.26334000000000002]
[null,"K","998781105","Přesun hmot pro obklady keramické v objektech v do 48 m","t",0.19,589,1,111.91,0,0,0.27854000000000001]
[null,"K","998781106","Přesun hmot pro obklady keramické v objektech v do 60 m","t",0.19,633,1,120.27,0,0,0.29393000000000002]
[null,"D","782","Dokončovací práce - obklady z kamene",null,null,null,null,162.84,6.6398400000000002E-3,0,0.41620600000000002]
[null,"K","782111120","Montáž obkladu kámen měkký stěn řemínky tloušťky do 25 mm se zednickou výpomocí","m2",0.108,1390,1,150.12,6.6398400000000002E-3,0,0.38178000000000001]
[null,"M","583X2","Technistone Light - obklad","m2",1,2750,1,2750,3.4000000000000002E-2]
[null,"K","998782101","Přesun hmot pro obklady kamenné v objektech v do 6 m","t",7.0000000000000001E-3,466,1,3.26,0,0,1.1690000000000001E-2]
[null,"K","998782102","Přesun hmot pro obklady kamenné v objektech v do 12 m","t",7.0000000000000001E-3,563,1,3.94,0,0,9.8770000000000004E-3]
[null,"K","998782103","Přesun hmot pro obklady kamenné v objektech v do 60 m","t",7.0000000000000001E-3,789,1,5.52,0,0,1.2859000000000001E-2]
[null,"D","783","Dokončovací práce - nátěry",null,null,null,null,249,7.5000000000000002E-4,0,0.42399999999999999]
[null,"K",783221112,"Nátěry syntetické KDK barva dražší lesklý povrch 1x antikorozní, 1x základní, 2x email","m2",1,249,1,249,7.5000000000000002E-4,0,0.42399999999999999]
[null,"D","784","Dokončovací práce - malby",null,null,null,null,15.9,1.6000000000000001E-4,0,4.1000000000000002E-2]
[null,"K","784453601","Malby směsi PRIMALEX tekuté hlinkové bílé dvojnásobné v místnostech v do 3,8 m","m2",1,15.9,1,15.9,1.6000000000000001E-4,0,4.1000000000000002E-2]
[null,"D","M","Práce a dodávky M",null,null,null,null,935.4,0,0,2.0760000000000001]
[null,"D","21-M","Elektromontáže"]
[null,"K","2100X","Elektro D+M","soubor",1,7500,1,5000,0,0,0]
[null,"D","46-M","Zemní práce při extr.mont.pracích",null,null,null,null,935.4,0,0,2.0760000000000001]
[null,"K","979082111","Vnitrostaveništní vodorovná doprava suti a vybouraných hmot do 10 m","t",0.10303486000000001,217,null,null,null,null,9.7058838120000004E-2]
[null,"K","979081111","Odvoz suti a vybouraných hmot na skládku do 1 km","t",0.10303486000000001,365,null,null,null,null,5.0487081400000001E-2]
[null,"K","979081121","Odvoz suti a vybouraných hmot na skládku ZKD 1 km přes 1 km","t",0.10303486000000001,13.8,null,null,null,null,0]
[null,"K","979011111","Svislá doprava suti a vybouraných hmot za prvé podlaží","t",0.10303486000000001,260,null,null,null,null,9.613152438E-2]
[null,"K","979011121","Svislá doprava suti a vybouraných hmot ZKD podlaží","t",0.10303486000000001,112,null,null,null,null,4.1213944000000002E-2]
[null,"K","979098231","Poplatek za uložení stavebního směsného odpadu na skládce (skládkovné)","t",0.10303486000000001,1190,null,null,null,null,0]
[null,"K","979082121","Vnitrostaveništní vodorovná doprava suti a vybouraných hmot ZKD 5 m přes 10 m","t",0.10303486000000001,24.2,null,null,null,null,1.08186603E-2]

{"sheet":"Zařizovací předměty - pomocný","index":13,"n_rows":18,"n_cols":86,"rows_kept":18,"cut":false,"hidden":true,"merged":[]}
["Dveře",null,null,"Obklad",null,null,"Dlažba",null,null,"WC",null,null,"Bidet",null,null,"Vana",null,null,"Sprcha",null,null,"Umyvadlo",null,null,"SDK podhled",null,null,"Podlahové topení",null,null,"Otopný žebřík",null,null,"Demontáž BJ",null,null,"Demontáž vana",null,null,"Demontáž umyvadlo",null,null,"Demontáž WC",null,null,"Demontáž sprcha",null,null,"Podlahy",null,null,"Izolace",null,null,"Elektro",null,null,"Kanalizace",null,null,"Vodovod",null,null,"Materiál",null,null,"Překlad",null,null,"TECHNISTONE LIGHT OBKLAD",null,null,"TECHNISTONE LIGHT DLAŽBA",null,null,"BATERIE VANOVÁ",null,null,"BATERIE SPRCHOVÁ",null,null,"BATERIE UMYVADLOVÁ",null,null,"BATERIE BIDETOVÁ"]
["Název","Č.řádku",null,"Název","Č.řádku",null,"Název","Č.řádku",null,"Název","Č.řádku",null,"Název","Č.řádku",null,"Název","Č.řádku",null,"Název","Č.řádku",null,"Název","Č.řádku",null,"Název","Č.řádku",null,"Název","Č.řádku",null,"Název","Č.řádku",null,"Název","Č.řádku",null,"Název","Č.řádku",null,"Název","Č.řádku",null,"Název","Č.řádku",null,"Název","Č.řádku",null,"Název","Č.řádku",null,"Název","Č.řádku",null,"Název","Č.řádku",null,"Název","Č.řádku",null,"Název","Č.řádku",null,"Název","Č.řádku",null,"Název","Č.řádku",null,"Název","Č.řádku",null,"Název","Č.řádku",null,"Název","Č.řádku",null,"Název","Č.řádku",null,"Název","Č.řádku",null,"Název","Č.řádku"]
["DVEŘE OCELOVÉ ZÁRUBNĚ 60 cm",69,null,"OBKLAD DO 12ks/m2",297,null,"DLAŽBA DO 9ks/m2",388,null,"WC STANDARD",489,null,"BIDET KLASICKÝ",499,null,"VANA ROVNÁ PODEZDĚNÁ",469,null,"SPRCHA ZDĚNÁ S VANIČKOU",448,null,"UMYVADLO",507,null,"SDK PODHLED ANO",157,null,"PODLAHOVÉ TOPENÍ",511,null,"OTOPNÝ ŽEBŘÍK",515,null,"DEMONTÁŽ BJ",171,null,"DEMONTÁŽ VANA",182,null,"DEMONTÁŽ UMYVADLO",187,null,"DEMONTÁŽ WC",192,null,"DEMONTÁŽ SPRCHA",196,null,"PODLAHY",52,null,"IZOLACE",64,null,"ELEKTRO",519,null,"KANALIZACE",523,null,"VODOVOD",527,null,"MATERIÁL POROTHERM",3,null,"PŘEKLAD YTONG",149,null,"TECHNISTONE LIGHT OBKLAD",42,null,"TECHNISTONE LIGHT DLAŽBA",47,null,"BATERIE VANOVÁ PÁKOVÁ",551,null,"BATERIE SPRCHOVÁ PÁKOVÁ",563,null,"BATERIE UMYVADLOVÁ STOJÁNKOVÁ PÁKOVÁ",531,null,"BATERIE BIDETOVÁ PÁKOVÁ",543]
["DVEŘE OCELOVÉ ZÁRUBNĚ 70 cm",81,null,"OBKLAD DO 19ks/m2",304,null,"DLAŽBA DO 12ks/m2",394,null,"WC GEBERIT",493,null,"BIDET ZÁVĚSNÝ",503,null,"VANA ROVNÁ S KRYCÍM PANELEM",475,null,"SPRCHA SE ČTVERCOVOU VANIČKOU",455,null,null,null,null,"SDK PODHLED NE",164,null,null,null,null,null,null,null,null,null,null,null,null,null,null,null,null,null,null,null,null,null,null,null,null,null,null,null,null,null,null,null,null,null,null,null,null,null,"MATERIÁL YTONG",13,null,"PŘEKLAD POROTHERM",153,null,null,null,null,null,null,null,"BATERIE VANOVÁ KLASICKÁ",555,null,"BATERIE SPRCHOVÁ KLASICKÁ",567,null,"BATERIE UMYVADLOVÁ STOJÁNKOVÁ KLASICKÁ",535,null,"BATERIE BIDETOVÁ KLASICKÁ",547]
["DVEŘE OCELOVÉ ZÁRUBNĚ 80 cm",93,null,"OBKLAD DO 22ks/m2",311,null,"DLAŽBA DO 19ks/m2",400,null,null,null,null,null,null,null,"VANA ROHOVÁ PODEZDĚNÁ",479,null,"SPRCHA SPRCHOVÝ BOX",460,null,null,null,null,null,null,null,null,null,null,null,null,null,null,null,null,null,null,null,null,null,null,null,null,null,null,null,null,null,null,null,null,null,null,null,null,null,null,null,null,null,null,null,"MATERIÁL SÁDROKARTON",24,null,null,null,null,null,null,null,null,null,null,"BATERIE VANOVÁ TERMOSTATICKÁ",559,null,"BATERIE SPRCHOVÁ ZÁPUSTNÁ S PEVNOU SPRCHOU",571,null,"BATERIE UMYVADLOVÁ TERMOSTATICKÁ",539]
["DVEŘE OCELOVÉ ZÁRUBNĚ 90 cm",105,null,"OBKLAD DO 25ks/m2",318,null,"DLAŽBA DO 22ks/m2",406,null,null,null,null,null,null,null,"VANA ROHOVÁ S KRYCÍM PANELEM",485,null,"SPRCHA ČTVRTKRUHOVÁ",464,null,null,null,null,null,null,null,null,null,null,null,null,null,null,null,null,null,null,null,null,null,null,null,null,null,null,null,null,null,null,null,null,null,null,null,null,null,null,null,null,null,null,null,"MATERIÁL TECHNISTONE LIGHT",34,null,null,null,null,null,null,null,null,null,null,null,null,null,"BATERIE SPRCHOVÁ TERMOSTATICKÁ",575]
["DVEŘE OBLOŽKOVÉ ZÁRUBNĚ 60 cm",117,null,"OBKLAD DO 35ks/m2",325,null,"DLAŽBA DO 25ks/m2",412]
["DVEŘE OBLOŽKOVÉ ZÁRUBNĚ 70 cm",125,null,"OBKLAD DO 45ks/m2",332,null,"DLAŽBA DO 35ks/m2",418]
["DVEŘE OBLOŽKOVÉ ZÁRUBNĚ 80 cm",133,null,"OBKLAD DO 50ks/m2",339,null,"DLAŽBA DO 45ks/m2",424]
["DVEŘE OBLOŽKOVÉ ZÁRUBNĚ 90 cm",141,null,"OBKLAD DO 85ks/m2",346,null,"DLAŽBA DO 50ks/m2",430]
["DVEŘE POUZDROVÉ 60 cm ZDIVO",201,null,"OBKLAD MOZAIKA 50x50mm",353,null,"DLAŽBA DO 85ks/m2",436]
["DVEŘE POUZDROVÉ 70 cm ZDIVO",214,null,"OBKLAD MOZAIKA 46,5x46,5mm",360,null,"DLAŽBA DO 100ks/m2",442]
["DVEŘE POUZDROVÉ 80 cm ZDIVO",227,null,"OBKLAD MOZAIKA 40x40mm",367]
["DVEŘE POUZDROVÉ 90 cm ZDIVO",240,null,"OBKLAD MOZAIKA 25x25mm",374]
["DVEŘE POUZDROVÉ 60 cm SDK",253,null,"OBKLAD MOZAIKA 20x20mm",381]
["DVEŘE POUZDROVÉ 70 cm SDK",264]
["DVEŘE POUZDROVÉ 80 cm SDK",275]
["DVEŘE POUZDROVÉ 90 cm SDK",286]

{"sheet":"Objemy prací","index":14,"n_rows":85,"n_cols":7,"rows_kept":85,"cut":false,"hidden":true,"merged":[[0,0,0,4]]}
["Výkaz objemu prací"]
[]
[null,{"$f":"'Hlavní stránka'!C8","v":"Název"},{"$f":"'Hlavní stránka'!E8","v":"Rekonstrukce bytového jádra VVÚ ETA"}]
[null,{"$f":"'Hlavní stránka'!C12","v":"Ulice"},{"$f":"'Hlavní stránka'!E12","v":"Na výšínách 99"}]
[null,{"$f":"'Hlavní stránka'!C14","v":"Město"},{"$f":"'Hlavní stránka'!E14","v":"Praha 12"}]
[null,{"$f":"'Hlavní stránka'!C16","v":"PSČ"},{"$f":"'Hlavní stránka'!E16","v":"12000"}]
[]
[]
["TV","Kód položky","Popis","MJ","Množství","J.cena","Celk.cena"]
["D",3,"Svislé a kompletní konstrukce"]
["K",346272111,"Přizdívky tl 50 mm z pórobetonových přesných příčkovek Ytong objemové hmotnosti 500 kg/m3","m2",1.1160000000000001]
["K","342272423","Příčky tl 125 mm z pórobetonových přesných příčkovek objemové hmotnosti 500 kg/m3","m2",32.136800000000001]
["K","346244352","Obezdívka koupelnových van ploch rovných tl 50 mm z pórobetonových přesných příčkovek hladkých Ytong","m2",0.97350000000000014]
["D",6,"Úpravy povrchů, podlahy a osazování výplní"]
["K",611471620,"Vyspravení vnitřních prefabrikovaných stěn stěrkovou hmotou do 20 % plochy","m2",10.282299999999999]
["K","612471411","Tenkovrstvá úprava vnitřních stěn tl do 3 mm aktivovaným štukem","m2",10.282299999999999]
["K","612474115","Vnitřní omítka pórobetonových stěn tl 8 mm ze suché směsi Ytong","m2",32.136800000000001]
["K","612481113","Potažení vnitřních stěn sklovláknitým pletivem vypnutým včetně přibití strun","m2",32.136800000000001]
["D",9,"Ostatní konstrukce a práce-bourání"]
["K","979081111","Odvoz suti a vybouraných hmot na skládku do 1 km","t",1.8517906500000001]
["K","979081121","Odvoz suti a vybouraných hmot na skládku ZKD 1 km přes 1 km","t",1.8517906500000001]
["K","979082111","Vnitrostaveništní vodorovná doprava suti a vybouraných hmot do 10 m","t",1.84218145]
["K","979082121","Vnitrostaveništní vodorovná doprava suti a vybouraných hmot ZKD 5 m přes 10 m","t",1.84218145]
["K","979098231","Poplatek za uložení stavebního směsného odpadu na skládce (skládkovné)","t",1.8517906500000001]
["D",99,"Přesun hmot"]
["K","949121111","Lešení lehké pomocné kozové dílcové o výšce lešeňové podlahy do 1,2 m","m2",4.1904000000000003]
["K","952901111","Vyčištění budov bytové a občanské výstavby při výšce podlaží do 4 m","m2",4.1904000000000003]
["K","998011031"," Přesun hmot pro budovy z bloků výšky do 6 m","t",3.3209694953500004]
["D",711,"Izolace proti vodě, vlhkosti a plynům"]
["K","711493112","Izolace proti podpovrchové a tlakové vodě vodorovná SCHOMBURG těsnicí stěrkou AQUAFIN-1K","m2",3.8778000000000006]
["K","711493122","Izolace proti podpovrchové a tlakové vodě svislá SCHOMBURG těsnicí stěrkou AQUAFIN-1K","m2",10.14]
["K","998711101","Přesun hmot pro izolace proti vodě, vlhkosti a plynům v objektech výšky do 6 m","t",6.7744499999999999E-2]
["D",721,"Zdravotechnika - vnitřní kanalizace"]
["K","721X","Potrubí kanalizační plastové D+M","soubor",1]
["D",722,"Zdravotechnika - vnitřní vodovod"]
["K","722X","Potrubí vodovodní plastové D+M","soubor",1]
["D",725,"Zdravotechnika - zařizovací předměty"]
["K",725820802,"Demontáž baterie stojánkové","soubor",1]
["K","725112X","Geberit D+M","soubor",1]
["K","725211602","Umyvadlo keramické D+M","soubor",1]
["K","725220832","Demontáž van litinová volná","soubor",1]
["K","725222116","Vana bez armatur výtokových akrylátová se zápachovou uzávěrkou D+M","soubor",1]
["K","725243111","Box sprchový masážní a parní D+M","soubor",1]
["K","725590811","Přemístění vnitrostaveništní demontovaných pro zařizovací předměty v objektech výšky do 6 m","t",9.6092E-3]
["K","725822654","Baterie umyvadlová termostatická D+M","soubor",1]
["K","725831315","Baterie vanová páková D+M","soubor",1]
["K","725841333","Baterie sprchová zápustná s přepínačem a pevnou sprchou D+M","soubor",1]
["K","998725101","Přesun hmot pro zařizovací předměty v objektech v do 6 m","t",0.10699]
["D",735,"Ústřední vytápění - otopná tělesa"]
["K","735152112","Otopné těleso panelové D+M","kus",1]
["K","735X","Podlahové vytápění - topné rohože D+M","m2",1]
["D",763,"Konstrukce montované z desek, dílců a panelů"]
["M","553316110","pouzdro stavební STANDARD S700-070 700 mm","kus",1]
["K","763111811","Demontáž SDK příčky s jednoduchou ocelovou nosnou konstrukcí opláštění jednoduché","m2",45.655000000000001]
["K","763131451","SDK podhled deska 1xH2 12,5 bez TI dvouvrstvá spodní kce profil CD+UD","m2",4.1904000000000003]
["K","763131714","SDK podhled základní penetrační nátěr","m2",4.1904000000000003]
["K","763131831","Demontáž SDK podhledu s jednovrstvou nosnou kcí z ocelových profilů opláštění jednoduché","m2",5.3263999999999996]
["K","763151811","Demontáž jedné vrstvy desek SDK podlaha","m2",5.3263999999999996]
["K","763181811","Demontáž jednokřídlové kovové zárubně v do 2,75 m SDK příčka","kus",4]
["K","763183111","Montáž pouzdra posuvných dveří s jednou kapsou pro jedno křídlo šířky do 800 mm do SDK příčky","kus",1]
["K","998763301","Přesun hmot pro sádrokartonové konstrukce v objektech v do 6 m","t",9.2061855999999997E-2]
["D",766,"Konstrukce truhlářské"]
["M","611617170","dveře vnitřní 1křídlové 70x197 cm","kus",1]
["M","611822580"," zárubeň obložková pro dveře 1křídlové 60,70,80,90x197 cm, tl. 8 - 17 cm","kus",1]
["K","766660171","Montáž dveřních křídel otvíravých 1křídlových š do 0,8 m do obložkové zárubně","kus",1]
["K","766682111","Montáž zárubní obložkových pro dveře jednokřídlové tl stěny do 170 mm","kus",1]
["K","766691914","Vyvěšení nebo zavěšení dřevěných křídel dveří pl do 2 m2","kus",4]
["K","766X","Dveřního kování D+M","kus",1]
["K","998766101","Přesun hmot pro konstrukce truhlářské v objektech v do 6 m","t",3.0449999999999998E-2]
["D",771,"Podlahy z dlaždic"]
["M","597610690","dlaždice keramické do 25 ks/m2","m2",3.0049800000000007]
["K","771574116","Montáž podlah keramických režných hladkých lepených flexibilním lepidlem do 25 ks/m2","m2",2.7318000000000002]
["K","771579191","Příplatek k montáž podlah keramických za plochu do 5 m2","m2",2.7318000000000002]
["K","998771101","Přesun hmot pro podlahy z dlaždic v objektech v do 6 m","t",4.988813160000001E-2]
["D",776,"Podlahy povlakové"]
["K","776511820","Demontáž povlakových podlah lepených s podložkou","m2",5.3263999999999996]
["D",781,"Dokončovací práce - obklady keramické"]
["M","597610350","obkládačky keramické do 22 ks/m2","m2",22.187000000000005]
["K","781474114","Montáž obkladů vnitřních keramických hladkých do 22 ks/m2 lepených flexibilním lepidlem","m2",20.170000000000002]
["K","781494511","Plastové profily ukončovací lepené flexibilním lepidlem","m",11.46]
["K","998781101","Přesun hmot pro obklady keramické v objektech v do 6 m","t",0.35124844800000005]
["D",784,"Dokončovací práce - malby"]
["K","784453601","Malby směsi PRIMALEX tekuté hlinkové bílé dvojnásobné v místnostech v do 3,8 m","m2",48.3035]
["D","21-M","Elektromontáže"]
["K","2100X","Elektro D+M","soubor",1]